{"text_format":"1","workbook":"xlsx","n_sheets":17,"sheets":["Tipo1 - Info Fideicomiso","Tipo2 - Info Fideicomitente","Tipo3 - Info Beneficiario","Validacion","LogErrores","Copia","Instructivo","TablaResumen","Versionador","Vigencia","Tipos-Subtipos-Fideicomiso","HomologacionDireccion","CIIU","Tipos Documento identidad","Departamentos - Municipios","Tipos de participación","Tipos Obligado"],"not_rendered":{"charts":0,"images":0,"macros":1,"external_links":0,"defined_names":59,"comments":0,"pivot_tables":1},"unopened":[],"bounds":{"document_bytes":16777216,"sheet_cells":100000,"rows_first":2000,"rows_last":500,"rows_between":2000,"halvings":0,"cell_chars":16384,"cell_head_chars":4096},"cells_cut":0,"cells_raw":0,"read":"whole","date_system":"1900"}

{"sheet":"Tipo1 - Info Fideicomiso","index":0,"n_rows":2001,"n_cols":12,"rows_kept":2001,"cut":false,"hidden":false,"merged":[]}
["Vigencia","NumeroFideicomiso","TipoFideicomiso","Tipo de fideicomiso","SubtipoFideicomiso","Subtipo de Fideicomiso","IngresoBrutosFueraJurisdiccion","IngresoBrutosJurisdiccion","CodigoCIIU","Descripción Código CIIU","FechaConstitucionFideicomiso(AAAAMMDD)","FechaFinalizacionFideicomiso(AAAAMMDD)"]
[null,null,3,null,32,null,null,null,null,{"$f":"IFERROR(VLOOKUP(I2,CIIU!A:B,2,0),\"\")","v":""}]
[null,null,2,null,21,null,null,null,null,{"$f":"IFERROR(VLOOKUP(I3,CIIU!A:B,2,0),\"\")","v":""}]
[null,null,2,null,21,null,null,null,null,{"$f":"IFERROR(VLOOKUP(I4,CIIU!A:B,2,0),\"\")","v":""}]
[null,null,2,null,21,null,null,null,null,{"$f":"IFERROR(VLOOKUP(I5,CIIU!A:B,2,0),\"\")","v":""}]
[null,null,2,null,21,null,null,null,null,{"$f":"IFERROR(VLOOKUP(I6,CIIU!A:B,2,0),\"\")","v":""}]
[null,null,2,null,21,null,null,null,null,{"$f":"IFERROR(VLOOKUP(I7,CIIU!A:B,2,0),\"\")","v":""}]
[null,null,2,null,21,null,null,null,null,{"$f":"IFERROR(VLOOKUP(I8,CIIU!A:B,2,0),\"\")","v":""}]
[null,null,2,null,21,null,null,null,null,{"$f":"IFERROR(VLOOKUP(I9,CIIU!A:B,2,0),\"\")","v":""}]
[null,null,2,null,21,null,null,null,null,{"$f":"IFERROR(VLOOKUP(I10,CIIU!A:B,2,0),\"\")","v":""}]
[null,null,2,null,21,null,null,null,null,{"$f":"IFERROR(VLOOKUP(I11,CIIU!A:B,2,0),\"\")","v":""}]
[null,null,3,null,31,null,null,null,null,{"$f":"IFERROR(VLOOKUP(I12,CIIU!A:B,2,0),\"\")","v":""}]
[null,null,3,null,31,null,null,null,null,{"$f":"IFERROR(VLOOKUP(I13,CIIU!A:B,2,0),\"\")","v":""}]
[null,null,3,null,31,null,null,null,null,{"$f":"IFERROR(VLOOKUP(I14,CIIU!A:B,2,0),\"\")","v":""}]
[null,null,3,null,31,null,null,null,null,{"$f":"IFERROR(VLOOKUP(I15,CIIU!A:B,2,0),\"\")","v":""}]
[null,null,3,null,31,null,null,null,null,{"$f":"IFERROR(VLOOKUP(I16,CIIU!A:B,2,0),\"\")","v":""}]
[null,null,4,null,43,null,null,null,null,{"$f":"IFERROR(VLOOKUP(I17,CIIU!A:B,2,0),\"\")","v":""}]
[null,null,1,null,18,null,null,null,null,{"$f":"IFERROR(VLOOKUP(I18,CIIU!A:B,2,0),\"\")","v":""}]
[null,null,1,null,18,null,null,null,null,{"$f":"IFERROR(VLOOKUP(I19,CIIU!A:B,2,0),\"\")","v":""}]
[null,null,2,null,21,null,null,null,null,{"$f":"IFERROR(VLOOKUP(I20,CIIU!A:B,2,0),\"\")","v":""}]
[null,null,2,null,21,null,null,null,null,{"$f":"IFERROR(VLOOKUP(I21,CIIU!A:B,2,0),\"\")","v":""}]
[null,null,2,null,21,null,null,null,null,{"$f":"IFERROR(VLOOKUP(I22,CIIU!A:B,2,0),\"\")","v":""}]
[null,null,2,null,21,null,null,null,null,{"$f":"IFERROR(VLOOKUP(I23,CIIU!A:B,2,0),\"\")","v":""}]
[null,null,2,null,21,null,null,null,null,{"$f":"IFERROR(VLOOKUP(I24,CIIU!A:B,2,0),\"\")","v":""}]
[null,null,2,null,21,null,null,null,null,{"$f":"IFERROR(VLOOKUP(I25,CIIU!A:B,2,0),\"\")","v":""}]
[null,null,2,null,21,null,null,null,null,{"$f":"IFERROR(VLOOKUP(I26,CIIU!A:B,2,0),\"\")","v":""}]
[null,null,2,null,21,null,null,null,null,{"$f":"IFERROR(VLOOKUP(I27,CIIU!A:B,2,0),\"\")","v":""}]
[null,null,2,null,21,null,null,null,null,{"$f":"IFERROR(VLOOKUP(I28,CIIU!A:B,2,0),\"\")","v":""}]
[null,null,2,null,21,null,null,null,null,{"$f":"IFERROR(VLOOKUP(I29,CIIU!A:B,2,0),\"\")","v":""}]
[null,null,2,null,21,null,null,null,null,{"$f":"IFERROR(VLOOKUP(I30,CIIU!A:B,2,0),\"\")","v":""}]
[null,null,2,null,21,null,null,null,null,{"$f":"IFERROR(VLOOKUP(I31,CIIU!A:B,2,0),\"\")","v":""}]
[null,null,2,null,21,null,null,null,null,{"$f":"IFERROR(VLOOKUP(I32,CIIU!A:B,2,0),\"\")","v":""}]
[null,null,2,null,21,null,null,null,null,{"$f":"IFERROR(VLOOKUP(I33,CIIU!A:B,2,0),\"\")","v":""}]
[null,null,2,null,21,null,null,null,null,{"$f":"IFERROR(VLOOKUP(I34,CIIU!A:B,2,0),\"\")","v":""}]
[null,null,2,null,21,null,null,null,null,{"$f":"IFERROR(VLOOKUP(I35,CIIU!A:B,2,0),\"\")","v":""}]
[null,null,2,null,21,null,null,null,null,{"$f":"IFERROR(VLOOKUP(I36,CIIU!A:B,2,0),\"\")","v":""}]
[null,null,3,null,31,null,null,null,null,{"$f":"IFERROR(VLOOKUP(I37,CIIU!A:B,2,0),\"\")","v":""}]
[null,null,2,null,21,null,null,null,null,{"$f":"IFERROR(VLOOKUP(I38,CIIU!A:B,2,0),\"\")","v":""}]
[null,null,2,null,21,null,null,null,null,{"$f":"IFERROR(VLOOKUP(I39,CIIU!A:B,2,0),\"\")","v":""}]
[null,null,3,null,31,null,null,null,null,{"$f":"IFERROR(VLOOKUP(I40,CIIU!A:B,2,0),\"\")","v":""}]
[null,null,3,null,31,null,null,null,null,{"$f":"IFERROR(VLOOKUP(I41,CIIU!A:B,2,0),\"\")","v":""}]
[null,null,3,null,31,null,null,null,null,{"$f":"IFERROR(VLOOKUP(I42,CIIU!A:B,2,0),\"\")","v":""}]
[null,null,3,null,31,null,null,null,null,{"$f":"IFERROR(VLOOKUP(I43,CIIU!A:B,2,0),\"\")","v":""}]
[null,null,3,null,31,null,null,null,null,{"$f":"IFERROR(VLOOKUP(I44,CIIU!A:B,2,0),\"\")","v":""}]
[null,null,3,null,31,null,null,null,null,{"$f":"IFERROR(VLOOKUP(I45,CIIU!A:B,2,0),\"\")","v":""}]
[null,null,3,null,31,null,null,null,null,{"$f":"IFERROR(VLOOKUP(I46,CIIU!A:B,2,0),\"\")","v":""}]
[null,null,3,null,31,null,null,null,null,{"$f":"IFERROR(VLOOKUP(I47,CIIU!A:B,2,0),\"\")","v":""}]
[null,null,3,null,31,null,null,null,null,{"$f":"IFERROR(VLOOKUP(I48,CIIU!A:B,2,0),\"\")","v":""}]
[null,null,3,null,31,null,null,null,null,{"$f":"IFERROR(VLOOKUP(I49,CIIU!A:B,2,0),\"\")","v":""}]
[null,null,3,null,31,null,null,null,null,{"$f":"IFERROR(VLOOKUP(I50,CIIU!A:B,2,0),\"\")","v":""}]
[null,null,3,null,31,null,null,null,null,{"$f":"IFERROR(VLOOKUP(I51,CIIU!A:B,2,0),\"\")","v":""}]
[null,null,3,null,31,null,null,null,null,{"$f":"IFERROR(VLOOKUP(I52,CIIU!A:B,2,0),\"\")","v":""}]
[null,null,3,null,31,null,null,null,null,{"$f":"IFERROR(VLOOKUP(I53,CIIU!A:B,2,0),\"\")","v":""}]
[null,null,3,null,31,null,null,null,null,{"$f":"IFERROR(VLOOKUP(I54,CIIU!A:B,2,0),\"\")","v":""}]
[null,null,3,null,31,null,null,null,null,{"$f":"IFERROR(VLOOKUP(I55,CIIU!A:B,2,0),\"\")","v":""}]
[null,null,4,null,43,null,null,null,null,{"$f":"IFERROR(VLOOKUP(I56,CIIU!A:B,2,0),\"\")","v":""}]
[null,null,4,null,42,null,null,null,null,{"$f":"IFERROR(VLOOKUP(I57,CIIU!A:B,2,0),\"\")","v":""}]
[null,null,4,null,42,null,null,null,null,{"$f":"IFERROR(VLOOKUP(I58,CIIU!A:B,2,0),\"\")","v":""}]
[null,null,4,null,43,null,null,null,null,{"$f":"IFERROR(VLOOKUP(I59,CIIU!A:B,2,0),\"\")","v":""}]
[null,null,4,null,43,null,null,null,null,{"$f":"IFERROR(VLOOKUP(I60,CIIU!A:B,2,0),\"\")","v":""}]
[null,null,4,null,43,null,null,null,null,{"$f":"IFERROR(VLOOKUP(I61,CIIU!A:B,2,0),\"\")","v":""}]
[null,null,4,null,43,null,null,null,null,{"$f":"IFERROR(VLOOKUP(I62,CIIU!A:B,2,0),\"\")","v":""}]
[null,null,4,null,43,null,null,null,null,{"$f":"IFERROR(VLOOKUP(I63,CIIU!A:B,2,0),\"\")","v":""}]
[null,null,4,null,42,null,null,null,null,{"$f":"IFERROR(VLOOKUP(I64,CIIU!A:B,2,0),\"\")","v":""}]
[null,null,4,null,43,null,null,null,null,{"$f":"IFERROR(VLOOKUP(I65,CIIU!A:B,2,0),\"\")","v":""}]
[null,null,null,null,null,null,null,null,null,{"$f":"IFERROR(VLOOKUP(I66,CIIU!A:B,2,0),\"\")","v":""}]
[null,null,null,null,null,null,null,null,null,{"$f":"IFERROR(VLOOKUP(I67,CIIU!A:B,2,0),\"\")","v":""}]
[null,null,null,null,null,null,null,null,null,{"$f":"IFERROR(VLOOKUP(I68,CIIU!A:B,2,0),\"\")","v":""}]
[null,null,null,null,null,null,null,null,null,{"$f":"IFERROR(VLOOKUP(I69,CIIU!A:B,2,0),\"\")","v":""}]
[null,null,null,null,null,null,null,null,null,{"$f":"IFERROR(VLOOKUP(I70,CIIU!A:B,2,0),\"\")","v":""}]
[null,null,null,null,null,null,null,null,null,{"$f":"IFERROR(VLOOKUP(I71,CIIU!A:B,2,0),\"\")","v":""}]
[null,null,null,null,null,null,null,null,null,{"$f":"IFERROR(VLOOKUP(I72,CIIU!A:B,2,0),\"\")","v":""}]
[null,null,null,null,null,null,null,null,null,{"$f":"IFERROR(VLOOKUP(I73,CIIU!A:B,2,0),\"\")","v":""}]
[null,null,null,null,null,null,null,null,null,{"$f":"IFERROR(VLOOKUP(I74,CIIU!A:B,2,0),\"\")","v":""}]
[null,null,null,null,null,null,null,null,null,{"$f":"IFERROR(VLOOKUP(I75,CIIU!A:B,2,0),\"\")","v":""}]
[null,null,null,null,null,null,null,null,null,{"$f":"IFERROR(VLOOKUP(I76,CIIU!A:B,2,0),\"\")","v":""}]
[null,null,null,null,null,null,null,null,null,{"$f":"IFERROR(VLOOKUP(I77,CIIU!A:B,2,0),\"\")","v":""}]
[null,null,null,null,null,null,null,null,null,{"$f":"IFERROR(VLOOKUP(I78,CIIU!A:B,2,0),\"\")","v":""}]
[null,null,null,null,null,null,null,null,null,{"$f":"IFERROR(VLOOKUP(I79,CIIU!A:B,2,0),\"\")","v":""}]
[null,null,null,null,null,null,null,null,null,{"$f":"IFERROR(VLOOKUP(I80,CIIU!A:B,2,0),\"\")","v":""}]
[null,null,null,null,null,null,null,null,null,{"$f":"IFERROR(VLOOKUP(I81,CIIU!A:B,2,0),\"\")","v":""}]
[null,null,null,null,null,null,null,null,null,{"$f":"IFERROR(VLOOKUP(I82,CIIU!A:B,2,0),\"\")","v":""}]
[null,null,null,null,null,null,null,null,null,{"$f":"IFERROR(VLOOKUP(I83,CIIU!A:B,2,0),\"\")","v":""}]
[null,null,null,null,null,null,null,null,null,{"$f":"IFERROR(VLOOKUP(I84,CIIU!A:B,2,0),\"\")","v":""}]
[null,null,null,null,null,null,null,null,null,{"$f":"IFERROR(VLOOKUP(I85,CIIU!A:B,2,0),\"\")","v":""}]
[null,null,null,null,null,null,null,null,null,{"$f":"IFERROR(VLOOKUP(I86,CIIU!A:B,2,0),\"\")","v":""}]
[null,null,null,null,null,null,null,null,null,{"$f":"IFERROR(VLOOKUP(I87,CIIU!A:B,2,0),\"\")","v":""}]
[null,null,null,null,null,null,null,null,null,{"$f":"IFERROR(VLOOKUP(I88,CIIU!A:B,2,0),\"\")","v":""}]
[null,null,null,null,null,null,null,null,null,{"$f":"IFERROR(VLOOKUP(I89,CIIU!A:B,2,0),\"\")","v":""}]
[null,null,null,null,null,null,null,null,null,{"$f":"IFERROR(VLOOKUP(I90,CIIU!A:B,2,0),\"\")","v":""}]
[null,null,null,null,null,null,null,null,null,{"$f":"IFERROR(VLOOKUP(I91,CIIU!A:B,2,0),\"\")","v":""}]
[null,null,null,null,null,null,null,null,null,{"$f":"IFERROR(VLOOKUP(I92,CIIU!A:B,2,0),\"\")","v":""}]
[null,null,null,null,null,null,null,null,null,{"$f":"IFERROR(VLOOKUP(I93,CIIU!A:B,2,0),\"\")","v":""}]
[null,null,null,null,null,null,null,null,null,{"$f":"IFERROR(VLOOKUP(I94,CIIU!A:B,2,0),\"\")","v":""}]
[null,null,null,null,null,null,null,null,null,{"$f":"IFERROR(VLOOKUP(I95,CIIU!A:B,2,0),\"\")","v":""}]
[null,null,null,null,null,null,null,null,null,{"$f":"IFERROR(VLOOKUP(I96,CIIU!A:B,2,0),\"\")","v":""}]
[null,null,null,null,null,null,null,null,null,{"$f":"IFERROR(VLOOKUP(I97,CIIU!A:B,2,0),\"\")","v":""}]
[null,null,null,null,null,null,null,null,null,{"$f":"IFERROR(VLOOKUP(I98,CIIU!A:B,2,0),\"\")","v":""}]
[null,null,null,null,null,null,null,null,null,{"$f":"IFERROR(VLOOKUP(I99,CIIU!A:B,2,0),\"\")","v":""}]
[null,null,null,null,null,null,null,null,null,{"$f":"IFERROR(VLOOKUP(I100,CIIU!A:B,2,0),\"\")","v":""}]
[null,null,null,null,null,null,null,null,null,{"$f":"IFERROR(VLOOKUP(I101,CIIU!A:B,2,0),\"\")","v":""}]
[null,null,null,null,null,null,null,null,null,{"$f":"IFERROR(VLOOKUP(I102,CIIU!A:B,2,0),\"\")","v":""}]
[null,null,null,null,null,null,null,null,null,{"$f":"IFERROR(VLOOKUP(I103,CIIU!A:B,2,0),\"\")","v":""}]
[null,null,null,null,null,null,null,null,null,{"$f":"IFERROR(VLOOKUP(I104,CIIU!A:B,2,0),\"\")","v":""}]
[null,null,null,null,null,null,null,null,null,{"$f":"IFERROR(VLOOKUP(I105,CIIU!A:B,2,0),\"\")","v":""}]
[null,null,null,null,null,null,null,null,null,{"$f":"IFERROR(VLOOKUP(I106,CIIU!A:B,2,0),\"\")","v":""}]
[null,null,null,null,null,null,null,null,null,{"$f":"IFERROR(VLOOKUP(I107,CIIU!A:B,2,0),\"\")","v":""}]
[null,null,null,null,null,null,null,null,null,{"$f":"IFERROR(VLOOKUP(I108,CIIU!A:B,2,0),\"\")","v":""}]
[null,null,null,null,null,null,null,null,null,{"$f":"IFERROR(VLOOKUP(I109,CIIU!A:B,2,0),\"\")","v":""}]
[null,null,null,null,null,null,null,null,null,{"$f":"IFERROR(VLOOKUP(I110,CIIU!A:B,2,0),\"\")","v":""}]
[null,null,null,null,null,null,null,null,null,{"$f":"IFERROR(VLOOKUP(I111,CIIU!A:B,2,0),\"\")","v":""}]
[null,null,null,null,null,null,null,null,null,{"$f":"IFERROR(VLOOKUP(I112,CIIU!A:B,2,0),\"\")","v":""}]
[null,null,null,null,null,null,null,null,null,{"$f":"IFERROR(VLOOKUP(I113,CIIU!A:B,2,0),\"\")","v":""}]
[null,null,null,null,null,null,null,null,null,{"$f":"IFERROR(VLOOKUP(I114,CIIU!A:B,2,0),\"\")","v":""}]
[null,null,null,null,null,null,null,null,null,{"$f":"IFERROR(VLOOKUP(I115,CIIU!A:B,2,0),\"\")","v":""}]
[null,null,null,null,null,null,null,null,null,{"$f":"IFERROR(VLOOKUP(I116,CIIU!A:B,2,0),\"\")","v":""}]
[null,null,null,null,null,null,null,null,null,{"$f":"IFERROR(VLOOKUP(I117,CIIU!A:B,2,0),\"\")","v":""}]
[null,null,null,null,null,null,null,null,null,{"$f":"IFERROR(VLOOKUP(I118,CIIU!A:B,2,0),\"\")","v":""}]
[null,null,null,null,null,null,null,null,null,{"$f":"IFERROR(VLOOKUP(I119,CIIU!A:B,2,0),\"\")","v":""}]
[null,null,null,null,null,null,null,null,null,{"$f":"IFERROR(VLOOKUP(I120,CIIU!A:B,2,0),\"\")","v":""}]
[null,null,null,null,null,null,null,null,null,{"$f":"IFERROR(VLOOKUP(I121,CIIU!A:B,2,0),\"\")","v":""}]
[null,null,null,null,null,null,null,null,null,{"$f":"IFERROR(VLOOKUP(I122,CIIU!A:B,2,0),\"\")","v":""}]
[null,null,null,null,null,null,null,null,null,{"$f":"IFERROR(VLOOKUP(I123,CIIU!A:B,2,0),\"\")","v":""}]
[null,null,null,null,null,null,null,null,null,{"$f":"IFERROR(VLOOKUP(I124,CIIU!A:B,2,0),\"\")","v":""}]
[null,null,null,null,null,null,null,null,null,{"$f":"IFERROR(VLOOKUP(I125,CIIU!A:B,2,0),\"\")","v":""}]
[null,null,null,null,null,null,null,null,null,{"$f":"IFERROR(VLOOKUP(I126,CIIU!A:B,2,0),\"\")","v":""}]
[null,null,null,null,null,null,null,null,null,{"$f":"IFERROR(VLOOKUP(I127,CIIU!A:B,2,0),\"\")","v":""}]
[null,null,null,null,null,null,null,null,null,{"$f":"IFERROR(VLOOKUP(I128,CIIU!A:B,2,0),\"\")","v":""}]
[null,null,null,null,null,null,null,null,null,{"$f":"IFERROR(VLOOKUP(I129,CIIU!A:B,2,0),\"\")","v":""}]
[null,null,null,null,null,null,null,null,null,{"$f":"IFERROR(VLOOKUP(I130,CIIU!A:B,2,0),\"\")","v":""}]
[null,null,null,null,null,null,null,null,null,{"$f":"IFERROR(VLOOKUP(I131,CIIU!A:B,2,0),\"\")","v":""}]
[null,null,null,null,null,null,null,null,null,{"$f":"IFERROR(VLOOKUP(I132,CIIU!A:B,2,0),\"\")","v":""}]
[null,null,null,null,null,null,null,null,null,{"$f":"IFERROR(VLOOKUP(I133,CIIU!A:B,2,0),\"\")","v":""}]
[null,null,null,null,null,null,null,null,null,{"$f":"IFERROR(VLOOKUP(I134,CIIU!A:B,2,0),\"\")","v":""}]
[null,null,null,null,null,null,null,null,null,{"$f":"IFERROR(VLOOKUP(I135,CIIU!A:B,2,0),\"\")","v":""}]
[null,null,null,null,null,null,null,null,null,{"$f":"IFERROR(VLOOKUP(I136,CIIU!A:B,2,0),\"\")","v":""}]
[null,null,null,null,null,null,null,null,null,{"$f":"IFERROR(VLOOKUP(I137,CIIU!A:B,2,0),\"\")","v":""}]
[null,null,null,null,null,null,null,null,null,{"$f":"IFERROR(VLOOKUP(I138,CIIU!A:B,2,0),\"\")","v":""}]
[null,null,null,null,null,null,null,null,null,{"$f":"IFERROR(VLOOKUP(I139,CIIU!A:B,2,0),\"\")","v":""}]
[null,null,null,null,null,null,null,null,null,{"$f":"IFERROR(VLOOKUP(I140,CIIU!A:B,2,0),\"\")","v":""}]
[null,null,null,null,null,null,null,null,null,{"$f":"IFERROR(VLOOKUP(I141,CIIU!A:B,2,0),\"\")","v":""}]
[null,null,null,null,null,null,null,null,null,{"$f":"IFERROR(VLOOKUP(I142,CIIU!A:B,2,0),\"\")","v":""}]
[null,null,null,null,null,null,null,null,null,{"$f":"IFERROR(VLOOKUP(I143,CIIU!A:B,2,0),\"\")","v":""}]
[null,null,null,null,null,null,null,null,null,{"$f":"IFERROR(VLOOKUP(I144,CIIU!A:B,2,0),\"\")","v":""}]
[null,null,null,null,null,null,null,null,null,{"$f":"IFERROR(VLOOKUP(I145,CIIU!A:B,2,0),\"\")","v":""}]
[null,null,null,null,null,null,null,null,null,{"$f":"IFERROR(VLOOKUP(I146,CIIU!A:B,2,0),\"\")","v":""}]
[null,null,null,null,null,null,null,null,null,{"$f":"IFERROR(VLOOKUP(I147,CIIU!A:B,2,0),\"\")","v":""}]
[null,null,null,null,null,null,null,null,null,{"$f":"IFERROR(VLOOKUP(I148,CIIU!A:B,2,0),\"\")","v":""}]
[null,null,null,null,null,null,null,null,null,{"$f":"IFERROR(VLOOKUP(I149,CIIU!A:B,2,0),\"\")","v":""}]
[null,null,null,null,null,null,null,null,null,{"$f":"IFERROR(VLOOKUP(I150,CIIU!A:B,2,0),\"\")","v":""}]
[null,null,null,null,null,null,null,null,null,{"$f":"IFERROR(VLOOKUP(I151,CIIU!A:B,2,0),\"\")","v":""}]
[null,null,null,null,null,null,null,null,null,{"$f":"IFERROR(VLOOKUP(I152,CIIU!A:B,2,0),\"\")","v":""}]
[null,null,null,null,null,null,null,null,null,{"$f":"IFERROR(VLOOKUP(I153,CIIU!A:B,2,0),\"\")","v":""}]
[null,null,null,null,null,null,null,null,null,{"$f":"IFERROR(VLOOKUP(I154,CIIU!A:B,2,0),\"\")","v":""}]
[null,null,null,null,null,null,null,null,null,{"$f":"IFERROR(VLOOKUP(I155,CIIU!A:B,2,0),\"\")","v":""}]
[null,null,null,null,null,null,null,null,null,{"$f":"IFERROR(VLOOKUP(I156,CIIU!A:B,2,0),\"\")","v":""}]
[null,null,null,null,null,null,null,null,null,{"$f":"IFERROR(VLOOKUP(I157,CIIU!A:B,2,0),\"\")","v":""}]
[null,null,null,null,null,null,null,null,null,{"$f":"IFERROR(VLOOKUP(I158,CIIU!A:B,2,0),\"\")","v":""}]
[null,null,null,null,null,null,null,null,null,{"$f":"IFERROR(VLOOKUP(I159,CIIU!A:B,2,0),\"\")","v":""}]
[null,null,null,null,null,null,null,null,null,{"$f":"IFERROR(VLOOKUP(I160,CIIU!A:B,2,0),\"\")","v":""}]
[null,null,null,null,null,null,null,null,null,{"$f":"IFERROR(VLOOKUP(I161,CIIU!A:B,2,0),\"\")","v":""}]
[null,null,null,null,null,null,null,null,null,{"$f":"IFERROR(VLOOKUP(I162,CIIU!A:B,2,0),\"\")","v":""}]
[null,null,null,null,null,null,null,null,null,{"$f":"IFERROR(VLOOKUP(I163,CIIU!A:B,2,0),\"\")","v":""}]
[null,null,null,null,null,null,null,null,null,{"$f":"IFERROR(VLOOKUP(I164,CIIU!A:B,2,0),\"\")","v":""}]
[null,null,null,null,null,null,null,null,null,{"$f":"IFERROR(VLOOKUP(I165,CIIU!A:B,2,0),\"\")","v":""}]
[null,null,null,null,null,null,null,null,null,{"$f":"IFERROR(VLOOKUP(I166,CIIU!A:B,2,0),\"\")","v":""}]
[null,null,null,null,null,null,null,null,null,{"$f":"IFERROR(VLOOKUP(I167,CIIU!A:B,2,0),\"\")","v":""}]
[null,null,null,null,null,null,null,null,null,{"$f":"IFERROR(VLOOKUP(I168,CIIU!A:B,2,0),\"\")","v":""}]
[null,null,null,null,null,null,null,null,null,{"$f":"IFERROR(VLOOKUP(I169,CIIU!A:B,2,0),\"\")","v":""}]
[null,null,null,null,null,null,null,null,null,{"$f":"IFERROR(VLOOKUP(I170,CIIU!A:B,2,0),\"\")","v":""}]
[null,null,null,null,null,null,null,null,null,{"$f":"IFERROR(VLOOKUP(I171,CIIU!A:B,2,0),\"\")","v":""}]
[null,null,null,null,null,null,null,null,null,{"$f":"IFERROR(VLOOKUP(I172,CIIU!A:B,2,0),\"\")","v":""}]
[null,null,null,null,null,null,null,null,null,{"$f":"IFERROR(VLOOKUP(I173,CIIU!A:B,2,0),\"\")","v":""}]
[null,null,null,null,null,null,null,null,null,{"$f":"IFERROR(VLOOKUP(I174,CIIU!A:B,2,0),\"\")","v":""}]
[null,null,null,null,null,null,null,null,null,{"$f":"IFERROR(VLOOKUP(I175,CIIU!A:B,2,0),\"\")","v":""}]
[null,null,null,null,null,null,null,null,null,{"$f":"IFERROR(VLOOKUP(I176,CIIU!A:B,2,0),\"\")","v":""}]
[null,null,null,null,null,null,null,null,null,{"$f":"IFERROR(VLOOKUP(I177,CIIU!A:B,2,0),\"\")","v":""}]
[null,null,null,null,null,null,null,null,null,{"$f":"IFERROR(VLOOKUP(I178,CIIU!A:B,2,0),\"\")","v":""}]
[null,null,null,null,null,null,null,null,null,{"$f":"IFERROR(VLOOKUP(I179,CIIU!A:B,2,0),\"\")","v":""}]
[null,null,null,null,null,null,null,null,null,{"$f":"IFERROR(VLOOKUP(I180,CIIU!A:B,2,0),\"\")","v":""}]
[null,null,null,null,null,null,null,null,null,{"$f":"IFERROR(VLOOKUP(I181,CIIU!A:B,2,0),\"\")","v":""}]
[null,null,null,null,null,null,null,null,null,{"$f":"IFERROR(VLOOKUP(I182,CIIU!A:B,2,0),\"\")","v":""}]
[null,null,null,null,null,null,null,null,null,{"$f":"IFERROR(VLOOKUP(I183,CIIU!A:B,2,0),\"\")","v":""}]
[null,null,null,null,null,null,null,null,null,{"$f":"IFERROR(VLOOKUP(I184,CIIU!A:B,2,0),\"\")","v":""}]
[null,null,null,null,null,null,null,null,null,{"$f":"IFERROR(VLOOKUP(I185,CIIU!A:B,2,0),\"\")","v":""}]
[null,null,null,null,null,null,null,null,null,{"$f":"IFERROR(VLOOKUP(I186,CIIU!A:B,2,0),\"\")","v":""}]
[null,null,null,null,null,null,null,null,null,{"$f":"IFERROR(VLOOKUP(I187,CIIU!A:B,2,0),\"\")","v":""}]
[null,null,null,null,null,null,null,null,null,{"$f":"IFERROR(VLOOKUP(I188,CIIU!A:B,2,0),\"\")","v":""}]
[null,null,null,null,null,null,null,null,null,{"$f":"IFERROR(VLOOKUP(I189,CIIU!A:B,2,0),\"\")","v":""}]
[null,null,null,null,null,null,null,null,null,{"$f":"IFERROR(VLOOKUP(I190,CIIU!A:B,2,0),\"\")","v":""}]
[null,null,null,null,null,null,null,null,null,{"$f":"IFERROR(VLOOKUP(I191,CIIU!A:B,2,0),\"\")","v":""}]
[null,null,null,null,null,null,null,null,null,{"$f":"IFERROR(VLOOKUP(I192,CIIU!A:B,2,0),\"\")","v":""}]
[null,null,null,null,null,null,null,null,null,{"$f":"IFERROR(VLOOKUP(I193,CIIU!A:B,2,0),\"\")","v":""}]
[null,null,null,null,null,null,null,null,null,{"$f":"IFERROR(VLOOKUP(I194,CIIU!A:B,2,0),\"\")","v":""}]
[null,null,null,null,null,null,null,null,null,{"$f":"IFERROR(VLOOKUP(I195,CIIU!A:B,2,0),\"\")","v":""}]
[null,null,null,null,null,null,null,null,null,{"$f":"IFERROR(VLOOKUP(I196,CIIU!A:B,2,0),\"\")","v":""}]
[null,null,null,null,null,null,null,null,null,{"$f":"IFERROR(VLOOKUP(I197,CIIU!A:B,2,0),\"\")","v":""}]
[null,null,null,null,null,null,null,null,null,{"$f":"IFERROR(VLOOKUP(I198,CIIU!A:B,2,0),\"\")","v":""}]
[null,null,null,null,null,null,null,null,null,{"$f":"IFERROR(VLOOKUP(I199,CIIU!A:B,2,0),\"\")","v":""}]
[null,null,null,null,null,null,null,null,null,{"$f":"IFERROR(VLOOKUP(I200,CIIU!A:B,2,0),\"\")","v":""}]
[null,null,null,null,null,null,null,null,null,{"$f":"IFERROR(VLOOKUP(I201,CIIU!A:B,2,0),\"\")","v":""}]
[null,null,null,null,null,null,null,null,null,{"$f":"IFERROR(VLOOKUP(I202,CIIU!A:B,2,0),\"\")","v":""}]
[null,null,null,null,null,null,null,null,null,{"$f":"IFERROR(VLOOKUP(I203,CIIU!A:B,2,0),\"\")","v":""}]
[null,null,null,null,null,null,null,null,null,{"$f":"IFERROR(VLOOKUP(I204,CIIU!A:B,2,0),\"\")","v":""}]
[null,null,null,null,null,null,null,null,null,{"$f":"IFERROR(VLOOKUP(I205,CIIU!A:B,2,0),\"\")","v":""}]
[null,null,null,null,null,null,null,null,null,{"$f":"IFERROR(VLOOKUP(I206,CIIU!A:B,2,0),\"\")","v":""}]
[null,null,null,null,null,null,null,null,null,{"$f":"IFERROR(VLOOKUP(I207,CIIU!A:B,2,0),\"\")","v":""}]
[null,null,null,null,null,null,null,null,null,{"$f":"IFERROR(VLOOKUP(I208,CIIU!A:B,2,0),\"\")","v":""}]
[null,null,null,null,null,null,null,null,null,{"$f":"IFERROR(VLOOKUP(I209,CIIU!A:B,2,0),\"\")","v":""}]
[null,null,null,null,null,null,null,null,null,{"$f":"IFERROR(VLOOKUP(I210,CIIU!A:B,2,0),\"\")","v":""}]
[null,null,null,null,null,null,null,null,null,{"$f":"IFERROR(VLOOKUP(I211,CIIU!A:B,2,0),\"\")","v":""}]
[null,null,null,null,null,null,null,null,null,{"$f":"IFERROR(VLOOKUP(I212,CIIU!A:B,2,0),\"\")","v":""}]
[null,null,null,null,null,null,null,null,null,{"$f":"IFERROR(VLOOKUP(I213,CIIU!A:B,2,0),\"\")","v":""}]
[null,null,null,null,null,null,null,null,null,{"$f":"IFERROR(VLOOKUP(I214,CIIU!A:B,2,0),\"\")","v":""}]
[null,null,null,null,null,null,null,null,null,{"$f":"IFERROR(VLOOKUP(I215,CIIU!A:B,2,0),\"\")","v":""}]
[null,null,null,null,null,null,null,null,null,{"$f":"IFERROR(VLOOKUP(I216,CIIU!A:B,2,0),\"\")","v":""}]
[null,null,null,null,null,null,null,null,null,{"$f":"IFERROR(VLOOKUP(I217,CIIU!A:B,2,0),\"\")","v":""}]
[null,null,null,null,null,null,null,null,null,{"$f":"IFERROR(VLOOKUP(I218,CIIU!A:B,2,0),\"\")","v":""}]
[null,null,null,null,null,null,null,null,null,{"$f":"IFERROR(VLOOKUP(I219,CIIU!A:B,2,0),\"\")","v":""}]
[null,null,null,null,null,null,null,null,null,{"$f":"IFERROR(VLOOKUP(I220,CIIU!A:B,2,0),\"\")","v":""}]
[null,null,null,null,null,null,null,null,null,{"$f":"IFERROR(VLOOKUP(I221,CIIU!A:B,2,0),\"\")","v":""}]
[null,null,null,null,null,null,null,null,null,{"$f":"IFERROR(VLOOKUP(I222,CIIU!A:B,2,0),\"\")","v":""}]
[null,null,null,null,null,null,null,null,null,{"$f":"IFERROR(VLOOKUP(I223,CIIU!A:B,2,0),\"\")","v":""}]
[null,null,null,null,null,null,null,null,null,{"$f":"IFERROR(VLOOKUP(I224,CIIU!A:B,2,0),\"\")","v":""}]
[null,null,null,null,null,null,null,null,null,{"$f":"IFERROR(VLOOKUP(I225,CIIU!A:B,2,0),\"\")","v":""}]
[null,null,null,null,null,null,null,null,null,{"$f":"IFERROR(VLOOKUP(I226,CIIU!A:B,2,0),\"\")","v":""}]
[null,null,null,null,null,null,null,null,null,{"$f":"IFERROR(VLOOKUP(I227,CIIU!A:B,2,0),\"\")","v":""}]
[null,null,null,null,null,null,null,null,null,{"$f":"IFERROR(VLOOKUP(I228,CIIU!A:B,2,0),\"\")","v":""}]
[null,null,null,null,null,null,null,null,null,{"$f":"IFERROR(VLOOKUP(I229,CIIU!A:B,2,0),\"\")","v":""}]
[null,null,null,null,null,null,null,null,null,{"$f":"IFERROR(VLOOKUP(I230,CIIU!A:B,2,0),\"\")","v":""}]
[null,null,null,null,null,null,null,null,null,{"$f":"IFERROR(VLOOKUP(I231,CIIU!A:B,2,0),\"\")","v":""}]
[null,null,null,null,null,null,null,null,null,{"$f":"IFERROR(VLOOKUP(I232,CIIU!A:B,2,0),\"\")","v":""}]
[null,null,null,null,null,null,null,null,null,{"$f":"IFERROR(VLOOKUP(I233,CIIU!A:B,2,0),\"\")","v":""}]
[null,null,null,null,null,null,null,null,null,{"$f":"IFERROR(VLOOKUP(I234,CIIU!A:B,2,0),\"\")","v":""}]
[null,null,null,null,null,null,null,null,null,{"$f":"IFERROR(VLOOKUP(I235,CIIU!A:B,2,0),\"\")","v":""}]
[null,null,null,null,null,null,null,null,null,{"$f":"IFERROR(VLOOKUP(I236,CIIU!A:B,2,0),\"\")","v":""}]
[null,null,null,null,null,null,null,null,null,{"$f":"IFERROR(VLOOKUP(I237,CIIU!A:B,2,0),\"\")","v":""}]
[null,null,null,null,null,null,null,null,null,{"$f":"IFERROR(VLOOKUP(I238,CIIU!A:B,2,0),\"\")","v":""}]
[null,null,null,null,null,null,null,null,null,{"$f":"IFERROR(VLOOKUP(I239,CIIU!A:B,2,0),\"\")","v":""}]
[null,null,null,null,null,null,null,null,null,{"$f":"IFERROR(VLOOKUP(I240,CIIU!A:B,2,0),\"\")","v":""}]
[null,null,null,null,null,null,null,null,null,{"$f":"IFERROR(VLOOKUP(I241,CIIU!A:B,2,0),\"\")","v":""}]
[null,null,null,null,null,null,null,null,null,{"$f":"IFERROR(VLOOKUP(I242,CIIU!A:B,2,0),\"\")","v":""}]
[null,null,null,null,null,null,null,null,null,{"$f":"IFERROR(VLOOKUP(I243,CIIU!A:B,2,0),\"\")","v":""}]
[null,null,null,null,null,null,null,null,null,{"$f":"IFERROR(VLOOKUP(I244,CIIU!A:B,2,0),\"\")","v":""}]
[null,null,null,null,null,null,null,null,null,{"$f":"IFERROR(VLOOKUP(I245,CIIU!A:B,2,0),\"\")","v":""}]
[null,null,null,null,null,null,null,null,null,{"$f":"IFERROR(VLOOKUP(I246,CIIU!A:B,2,0),\"\")","v":""}]
[null,null,null,null,null,null,null,null,null,{"$f":"IFERROR(VLOOKUP(I247,CIIU!A:B,2,0),\"\")","v":""}]
[null,null,null,null,null,null,null,null,null,{"$f":"IFERROR(VLOOKUP(I248,CIIU!A:B,2,0),\"\")","v":""}]
[null,null,null,null,null,null,null,null,null,{"$f":"IFERROR(VLOOKUP(I249,CIIU!A:B,2,0),\"\")","v":""}]
[null,null,null,null,null,null,null,null,null,{"$f":"IFERROR(VLOOKUP(I250,CIIU!A:B,2,0),\"\")","v":""}]
[null,null,null,null,null,null,null,null,null,{"$f":"IFERROR(VLOOKUP(I251,CIIU!A:B,2,0),\"\")","v":""}]
[null,null,null,null,null,null,null,null,null,{"$f":"IFERROR(VLOOKUP(I252,CIIU!A:B,2,0),\"\")","v":""}]
[null,null,null,null,null,null,null,null,null,{"$f":"IFERROR(VLOOKUP(I253,CIIU!A:B,2,0),\"\")","v":""}]
[null,null,null,null,null,null,null,null,null,{"$f":"IFERROR(VLOOKUP(I254,CIIU!A:B,2,0),\"\")","v":""}]
[null,null,null,null,null,null,null,null,null,{"$f":"IFERROR(VLOOKUP(I255,CIIU!A:B,2,0),\"\")","v":""}]
[null,null,null,null,null,null,null,null,null,{"$f":"IFERROR(VLOOKUP(I256,CIIU!A:B,2,0),\"\")","v":""}]
[null,null,null,null,null,null,null,null,null,{"$f":"IFERROR(VLOOKUP(I257,CIIU!A:B,2,0),\"\")","v":""}]
[null,null,null,null,null,null,null,null,null,{"$f":"IFERROR(VLOOKUP(I258,CIIU!A:B,2,0),\"\")","v":""}]
[null,null,null,null,null,null,null,null,null,{"$f":"IFERROR(VLOOKUP(I259,CIIU!A:B,2,0),\"\")","v":""}]
[null,null,null,null,null,null,null,null,null,{"$f":"IFERROR(VLOOKUP(I260,CIIU!A:B,2,0),\"\")","v":""}]
[null,null,null,null,null,null,null,null,null,{"$f":"IFERROR(VLOOKUP(I261,CIIU!A:B,2,0),\"\")","v":""}]
[null,null,null,null,null,null,null,null,null,{"$f":"IFERROR(VLOOKUP(I262,CIIU!A:B,2,0),\"\")","v":""}]
[null,null,null,null,null,null,null,null,null,{"$f":"IFERROR(VLOOKUP(I263,CIIU!A:B,2,0),\"\")","v":""}]
[null,null,null,null,null,null,null,null,null,{"$f":"IFERROR(VLOOKUP(I264,CIIU!A:B,2,0),\"\")","v":""}]
[null,null,null,null,null,null,null,null,null,{"$f":"IFERROR(VLOOKUP(I265,CIIU!A:B,2,0),\"\")","v":""}]
[null,null,null,null,null,null,null,null,null,{"$f":"IFERROR(VLOOKUP(I266,CIIU!A:B,2,0),\"\")","v":""}]
[null,null,null,null,null,null,null,null,null,{"$f":"IFERROR(VLOOKUP(I267,CIIU!A:B,2,0),\"\")","v":""}]
[null,null,null,null,null,null,null,null,null,{"$f":"IFERROR(VLOOKUP(I268,CIIU!A:B,2,0),\"\")","v":""}]
[null,null,null,null,null,null,null,null,null,{"$f":"IFERROR(VLOOKUP(I269,CIIU!A:B,2,0),\"\")","v":""}]
[null,null,null,null,null,null,null,null,null,{"$f":"IFERROR(VLOOKUP(I270,CIIU!A:B,2,0),\"\")","v":""}]
[null,null,null,null,null,null,null,null,null,{"$f":"IFERROR(VLOOKUP(I271,CIIU!A:B,2,0),\"\")","v":""}]
[null,null,null,null,null,null,null,null,null,{"$f":"IFERROR(VLOOKUP(I272,CIIU!A:B,2,0),\"\")","v":""}]
[null,null,null,null,null,null,null,null,null,{"$f":"IFERROR(VLOOKUP(I273,CIIU!A:B,2,0),\"\")","v":""}]
[null,null,null,null,null,null,null,null,null,{"$f":"IFERROR(VLOOKUP(I274,CIIU!A:B,2,0),\"\")","v":""}]
[null,null,null,null,null,null,null,null,null,{"$f":"IFERROR(VLOOKUP(I275,CIIU!A:B,2,0),\"\")","v":""}]
[null,null,null,null,null,null,null,null,null,{"$f":"IFERROR(VLOOKUP(I276,CIIU!A:B,2,0),\"\")","v":""}]
[null,null,null,null,null,null,null,null,null,{"$f":"IFERROR(VLOOKUP(I277,CIIU!A:B,2,0),\"\")","v":""}]
[null,null,null,null,null,null,null,null,null,{"$f":"IFERROR(VLOOKUP(I278,CIIU!A:B,2,0),\"\")","v":""}]
[null,null,null,null,null,null,null,null,null,{"$f":"IFERROR(VLOOKUP(I279,CIIU!A:B,2,0),\"\")","v":""}]
[null,null,null,null,null,null,null,null,null,{"$f":"IFERROR(VLOOKUP(I280,CIIU!A:B,2,0),\"\")","v":""}]
[null,null,null,null,null,null,null,null,null,{"$f":"IFERROR(VLOOKUP(I281,CIIU!A:B,2,0),\"\")","v":""}]
[null,null,null,null,null,null,null,null,null,{"$f":"IFERROR(VLOOKUP(I282,CIIU!A:B,2,0),\"\")","v":""}]
[null,null,null,null,null,null,null,null,null,{"$f":"IFERROR(VLOOKUP(I283,CIIU!A:B,2,0),\"\")","v":""}]
[null,null,null,null,null,null,null,null,null,{"$f":"IFERROR(VLOOKUP(I284,CIIU!A:B,2,0),\"\")","v":""}]
[null,null,null,null,null,null,null,null,null,{"$f":"IFERROR(VLOOKUP(I285,CIIU!A:B,2,0),\"\")","v":""}]
[null,null,null,null,null,null,null,null,null,{"$f":"IFERROR(VLOOKUP(I286,CIIU!A:B,2,0),\"\")","v":""}]
[null,null,null,null,null,null,null,null,null,{"$f":"IFERROR(VLOOKUP(I287,CIIU!A:B,2,0),\"\")","v":""}]
[null,null,null,null,null,null,null,null,null,{"$f":"IFERROR(VLOOKUP(I288,CIIU!A:B,2,0),\"\")","v":""}]
[null,null,null,null,null,null,null,null,null,{"$f":"IFERROR(VLOOKUP(I289,CIIU!A:B,2,0),\"\")","v":""}]
[null,null,null,null,null,null,null,null,null,{"$f":"IFERROR(VLOOKUP(I290,CIIU!A:B,2,0),\"\")","v":""}]
[null,null,null,null,null,null,null,null,null,{"$f":"IFERROR(VLOOKUP(I291,CIIU!A:B,2,0),\"\")","v":""}]
[null,null,null,null,null,null,null,null,null,{"$f":"IFERROR(VLOOKUP(I292,CIIU!A:B,2,0),\"\")","v":""}]
[null,null,null,null,null,null,null,null,null,{"$f":"IFERROR(VLOOKUP(I293,CIIU!A:B,2,0),\"\")","v":""}]
[null,null,null,null,null,null,null,null,null,{"$f":"IFERROR(VLOOKUP(I294,CIIU!A:B,2,0),\"\")","v":""}]
[null,null,null,null,null,null,null,null,null,{"$f":"IFERROR(VLOOKUP(I295,CIIU!A:B,2,0),\"\")","v":""}]
[null,null,null,null,null,null,null,null,null,{"$f":"IFERROR(VLOOKUP(I296,CIIU!A:B,2,0),\"\")","v":""}]
[null,null,null,null,null,null,null,null,null,{"$f":"IFERROR(VLOOKUP(I297,CIIU!A:B,2,0),\"\")","v":""}]
[null,null,null,null,null,null,null,null,null,{"$f":"IFERROR(VLOOKUP(I298,CIIU!A:B,2,0),\"\")","v":""}]
[null,null,null,null,null,null,null,null,null,{"$f":"IFERROR(VLOOKUP(I299,CIIU!A:B,2,0),\"\")","v":""}]
[null,null,null,null,null,null,null,null,null,{"$f":"IFERROR(VLOOKUP(I300,CIIU!A:B,2,0),\"\")","v":""}]
[null,null,null,null,null,null,null,null,null,{"$f":"IFERROR(VLOOKUP(I301,CIIU!A:B,2,0),\"\")","v":""}]
[null,null,null,null,null,null,null,null,null,{"$f":"IFERROR(VLOOKUP(I302,CIIU!A:B,2,0),\"\")","v":""}]
[null,null,null,null,null,null,null,null,null,{"$f":"IFERROR(VLOOKUP(I303,CIIU!A:B,2,0),\"\")","v":""}]
[null,null,null,null,null,null,null,null,null,{"$f":"IFERROR(VLOOKUP(I304,CIIU!A:B,2,0),\"\")","v":""}]
[null,null,null,null,null,null,null,null,null,{"$f":"IFERROR(VLOOKUP(I305,CIIU!A:B,2,0),\"\")","v":""}]
[null,null,null,null,null,null,null,null,null,{"$f":"IFERROR(VLOOKUP(I306,CIIU!A:B,2,0),\"\")","v":""}]
[null,null,null,null,null,null,null,null,null,{"$f":"IFERROR(VLOOKUP(I307,CIIU!A:B,2,0),\"\")","v":""}]
[null,null,null,null,null,null,null,null,null,{"$f":"IFERROR(VLOOKUP(I308,CIIU!A:B,2,0),\"\")","v":""}]
[null,null,null,null,null,null,null,null,null,{"$f":"IFERROR(VLOOKUP(I309,CIIU!A:B,2,0),\"\")","v":""}]
[null,null,null,null,null,null,null,null,null,{"$f":"IFERROR(VLOOKUP(I310,CIIU!A:B,2,0),\"\")","v":""}]
[null,null,null,null,null,null,null,null,null,{"$f":"IFERROR(VLOOKUP(I311,CIIU!A:B,2,0),\"\")","v":""}]
[null,null,null,null,null,null,null,null,null,{"$f":"IFERROR(VLOOKUP(I312,CIIU!A:B,2,0),\"\")","v":""}]
[null,null,null,null,null,null,null,null,null,{"$f":"IFERROR(VLOOKUP(I313,CIIU!A:B,2,0),\"\")","v":""}]
[null,null,null,null,null,null,null,null,null,{"$f":"IFERROR(VLOOKUP(I314,CIIU!A:B,2,0),\"\")","v":""}]
[null,null,null,null,null,null,null,null,null,{"$f":"IFERROR(VLOOKUP(I315,CIIU!A:B,2,0),\"\")","v":""}]
[null,null,null,null,null,null,null,null,null,{"$f":"IFERROR(VLOOKUP(I316,CIIU!A:B,2,0),\"\")","v":""}]
[null,null,null,null,null,null,null,null,null,{"$f":"IFERROR(VLOOKUP(I317,CIIU!A:B,2,0),\"\")","v":""}]
[null,null,null,null,null,null,null,null,null,{"$f":"IFERROR(VLOOKUP(I318,CIIU!A:B,2,0),\"\")","v":""}]
[null,null,null,null,null,null,null,null,null,{"$f":"IFERROR(VLOOKUP(I319,CIIU!A:B,2,0),\"\")","v":""}]
[null,null,null,null,null,null,null,null,null,{"$f":"IFERROR(VLOOKUP(I320,CIIU!A:B,2,0),\"\")","v":""}]
[null,null,null,null,null,null,null,null,null,{"$f":"IFERROR(VLOOKUP(I321,CIIU!A:B,2,0),\"\")","v":""}]
[null,null,null,null,null,null,null,null,null,{"$f":"IFERROR(VLOOKUP(I322,CIIU!A:B,2,0),\"\")","v":""}]
[null,null,null,null,null,null,null,null,null,{"$f":"IFERROR(VLOOKUP(I323,CIIU!A:B,2,0),\"\")","v":""}]
[null,null,null,null,null,null,null,null,null,{"$f":"IFERROR(VLOOKUP(I324,CIIU!A:B,2,0),\"\")","v":""}]
[null,null,null,null,null,null,null,null,null,{"$f":"IFERROR(VLOOKUP(I325,CIIU!A:B,2,0),\"\")","v":""}]
[null,null,null,null,null,null,null,null,null,{"$f":"IFERROR(VLOOKUP(I326,CIIU!A:B,2,0),\"\")","v":""}]
[null,null,null,null,null,null,null,null,null,{"$f":"IFERROR(VLOOKUP(I327,CIIU!A:B,2,0),\"\")","v":""}]
[null,null,null,null,null,null,null,null,null,{"$f":"IFERROR(VLOOKUP(I328,CIIU!A:B,2,0),\"\")","v":""}]
[null,null,null,null,null,null,null,null,null,{"$f":"IFERROR(VLOOKUP(I329,CIIU!A:B,2,0),\"\")","v":""}]
[null,null,null,null,null,null,null,null,null,{"$f":"IFERROR(VLOOKUP(I330,CIIU!A:B,2,0),\"\")","v":""}]
[null,null,null,null,null,null,null,null,null,{"$f":"IFERROR(VLOOKUP(I331,CIIU!A:B,2,0),\"\")","v":""}]
[null,null,null,null,null,null,null,null,null,{"$f":"IFERROR(VLOOKUP(I332,CIIU!A:B,2,0),\"\")","v":""}]
[null,null,null,null,null,null,null,null,null,{"$f":"IFERROR(VLOOKUP(I333,CIIU!A:B,2,0),\"\")","v":""}]
[null,null,null,null,null,null,null,null,null,{"$f":"IFERROR(VLOOKUP(I334,CIIU!A:B,2,0),\"\")","v":""}]
[null,null,null,null,null,null,null,null,null,{"$f":"IFERROR(VLOOKUP(I335,CIIU!A:B,2,0),\"\")","v":""}]
[null,null,null,null,null,null,null,null,null,{"$f":"IFERROR(VLOOKUP(I336,CIIU!A:B,2,0),\"\")","v":""}]
[null,null,null,null,null,null,null,null,null,{"$f":"IFERROR(VLOOKUP(I337,CIIU!A:B,2,0),\"\")","v":""}]
[null,null,null,null,null,null,null,null,null,{"$f":"IFERROR(VLOOKUP(I338,CIIU!A:B,2,0),\"\")","v":""}]
[null,null,null,null,null,null,null,null,null,{"$f":"IFERROR(VLOOKUP(I339,CIIU!A:B,2,0),\"\")","v":""}]
[null,null,null,null,null,null,null,null,null,{"$f":"IFERROR(VLOOKUP(I340,CIIU!A:B,2,0),\"\")","v":""}]
[null,null,null,null,null,null,null,null,null,{"$f":"IFERROR(VLOOKUP(I341,CIIU!A:B,2,0),\"\")","v":""}]
[null,null,null,null,null,null,null,null,null,{"$f":"IFERROR(VLOOKUP(I342,CIIU!A:B,2,0),\"\")","v":""}]
[null,null,null,null,null,null,null,null,null,{"$f":"IFERROR(VLOOKUP(I343,CIIU!A:B,2,0),\"\")","v":""}]
[null,null,null,null,null,null,null,null,null,{"$f":"IFERROR(VLOOKUP(I344,CIIU!A:B,2,0),\"\")","v":""}]
[null,null,null,null,null,null,null,null,null,{"$f":"IFERROR(VLOOKUP(I345,CIIU!A:B,2,0),\"\")","v":""}]
[null,null,null,null,null,null,null,null,null,{"$f":"IFERROR(VLOOKUP(I346,CIIU!A:B,2,0),\"\")","v":""}]
[null,null,null,null,null,null,null,null,null,{"$f":"IFERROR(VLOOKUP(I347,CIIU!A:B,2,0),\"\")","v":""}]
[null,null,null,null,null,null,null,null,null,{"$f":"IFERROR(VLOOKUP(I348,CIIU!A:B,2,0),\"\")","v":""}]
[null,null,null,null,null,null,null,null,null,{"$f":"IFERROR(VLOOKUP(I349,CIIU!A:B,2,0),\"\")","v":""}]
[null,null,null,null,null,null,null,null,null,{"$f":"IFERROR(VLOOKUP(I350,CIIU!A:B,2,0),\"\")","v":""}]
[null,null,null,null,null,null,null,null,null,{"$f":"IFERROR(VLOOKUP(I351,CIIU!A:B,2,0),\"\")","v":""}]
[null,null,null,null,null,null,null,null,null,{"$f":"IFERROR(VLOOKUP(I352,CIIU!A:B,2,0),\"\")","v":""}]
[null,null,null,null,null,null,null,null,null,{"$f":"IFERROR(VLOOKUP(I353,CIIU!A:B,2,0),\"\")","v":""}]
[null,null,null,null,null,null,null,null,null,{"$f":"IFERROR(VLOOKUP(I354,CIIU!A:B,2,0),\"\")","v":""}]
[null,null,null,null,null,null,null,null,null,{"$f":"IFERROR(VLOOKUP(I355,CIIU!A:B,2,0),\"\")","v":""}]
[null,null,null,null,null,null,null,null,null,{"$f":"IFERROR(VLOOKUP(I356,CIIU!A:B,2,0),\"\")","v":""}]
[null,null,null,null,null,null,null,null,null,{"$f":"IFERROR(VLOOKUP(I357,CIIU!A:B,2,0),\"\")","v":""}]
[null,null,null,null,null,null,null,null,null,{"$f":"IFERROR(VLOOKUP(I358,CIIU!A:B,2,0),\"\")","v":""}]
[null,null,null,null,null,null,null,null,null,{"$f":"IFERROR(VLOOKUP(I359,CIIU!A:B,2,0),\"\")","v":""}]
[null,null,null,null,null,null,null,null,null,{"$f":"IFERROR(VLOOKUP(I360,CIIU!A:B,2,0),\"\")","v":""}]
[null,null,null,null,null,null,null,null,null,{"$f":"IFERROR(VLOOKUP(I361,CIIU!A:B,2,0),\"\")","v":""}]
[null,null,null,null,null,null,null,null,null,{"$f":"IFERROR(VLOOKUP(I362,CIIU!A:B,2,0),\"\")","v":""}]
[null,null,null,null,null,null,null,null,null,{"$f":"IFERROR(VLOOKUP(I363,CIIU!A:B,2,0),\"\")","v":""}]
[null,null,null,null,null,null,null,null,null,{"$f":"IFERROR(VLOOKUP(I364,CIIU!A:B,2,0),\"\")","v":""}]
[null,null,null,null,null,null,null,null,null,{"$f":"IFERROR(VLOOKUP(I365,CIIU!A:B,2,0),\"\")","v":""}]
[null,null,null,null,null,null,null,null,null,{"$f":"IFERROR(VLOOKUP(I366,CIIU!A:B,2,0),\"\")","v":""}]
[null,null,null,null,null,null,null,null,null,{"$f":"IFERROR(VLOOKUP(I367,CIIU!A:B,2,0),\"\")","v":""}]
[null,null,null,null,null,null,null,null,null,{"$f":"IFERROR(VLOOKUP(I368,CIIU!A:B,2,0),\"\")","v":""}]
[null,null,null,null,null,null,null,null,null,{"$f":"IFERROR(VLOOKUP(I369,CIIU!A:B,2,0),\"\")","v":""}]
[null,null,null,null,null,null,null,null,null,{"$f":"IFERROR(VLOOKUP(I370,CIIU!A:B,2,0),\"\")","v":""}]
[null,null,null,null,null,null,null,null,null,{"$f":"IFERROR(VLOOKUP(I371,CIIU!A:B,2,0),\"\")","v":""}]
[null,null,null,null,null,null,null,null,null,{"$f":"IFERROR(VLOOKUP(I372,CIIU!A:B,2,0),\"\")","v":""}]
[null,null,null,null,null,null,null,null,null,{"$f":"IFERROR(VLOOKUP(I373,CIIU!A:B,2,0),\"\")","v":""}]
[null,null,null,null,null,null,null,null,null,{"$f":"IFERROR(VLOOKUP(I374,CIIU!A:B,2,0),\"\")","v":""}]
[null,null,null,null,null,null,null,null,null,{"$f":"IFERROR(VLOOKUP(I375,CIIU!A:B,2,0),\"\")","v":""}]
[null,null,null,null,null,null,null,null,null,{"$f":"IFERROR(VLOOKUP(I376,CIIU!A:B,2,0),\"\")","v":""}]
[null,null,null,null,null,null,null,null,null,{"$f":"IFERROR(VLOOKUP(I377,CIIU!A:B,2,0),\"\")","v":""}]
[null,null,null,null,null,null,null,null,null,{"$f":"IFERROR(VLOOKUP(I378,CIIU!A:B,2,0),\"\")","v":""}]
[null,null,null,null,null,null,null,null,null,{"$f":"IFERROR(VLOOKUP(I379,CIIU!A:B,2,0),\"\")","v":""}]
[null,null,null,null,null,null,null,null,null,{"$f":"IFERROR(VLOOKUP(I380,CIIU!A:B,2,0),\"\")","v":""}]
[null,null,null,null,null,null,null,null,null,{"$f":"IFERROR(VLOOKUP(I381,CIIU!A:B,2,0),\"\")","v":""}]
[null,null,null,null,null,null,null,null,null,{"$f":"IFERROR(VLOOKUP(I382,CIIU!A:B,2,0),\"\")","v":""}]
[null,null,null,null,null,null,null,null,null,{"$f":"IFERROR(VLOOKUP(I383,CIIU!A:B,2,0),\"\")","v":""}]
[null,null,null,null,null,null,null,null,null,{"$f":"IFERROR(VLOOKUP(I384,CIIU!A:B,2,0),\"\")","v":""}]
[null,null,null,null,null,null,null,null,null,{"$f":"IFERROR(VLOOKUP(I385,CIIU!A:B,2,0),\"\")","v":""}]
[null,null,null,null,null,null,null,null,null,{"$f":"IFERROR(VLOOKUP(I386,CIIU!A:B,2,0),\"\")","v":""}]
[null,null,null,null,null,null,null,null,null,{"$f":"IFERROR(VLOOKUP(I387,CIIU!A:B,2,0),\"\")","v":""}]
[null,null,null,null,null,null,null,null,null,{"$f":"IFERROR(VLOOKUP(I388,CIIU!A:B,2,0),\"\")","v":""}]
[null,null,null,null,null,null,null,null,null,{"$f":"IFERROR(VLOOKUP(I389,CIIU!A:B,2,0),\"\")","v":""}]
[null,null,null,null,null,null,null,null,null,{"$f":"IFERROR(VLOOKUP(I390,CIIU!A:B,2,0),\"\")","v":""}]
[null,null,null,null,null,null,null,null,null,{"$f":"IFERROR(VLOOKUP(I391,CIIU!A:B,2,0),\"\")","v":""}]
[null,null,null,null,null,null,null,null,null,{"$f":"IFERROR(VLOOKUP(I392,CIIU!A:B,2,0),\"\")","v":""}]
[null,null,null,null,null,null,null,null,null,{"$f":"IFERROR(VLOOKUP(I393,CIIU!A:B,2,0),\"\")","v":""}]
[null,null,null,null,null,null,null,null,null,{"$f":"IFERROR(VLOOKUP(I394,CIIU!A:B,2,0),\"\")","v":""}]
[null,null,null,null,null,null,null,null,null,{"$f":"IFERROR(VLOOKUP(I395,CIIU!A:B,2,0),\"\")","v":""}]
[null,null,null,null,null,null,null,null,null,{"$f":"IFERROR(VLOOKUP(I396,CIIU!A:B,2,0),\"\")","v":""}]
[null,null,null,null,null,null,null,null,null,{"$f":"IFERROR(VLOOKUP(I397,CIIU!A:B,2,0),\"\")","v":""}]
[null,null,null,null,null,null,null,null,null,{"$f":"IFERROR(VLOOKUP(I398,CIIU!A:B,2,0),\"\")","v":""}]
[null,null,null,null,null,null,null,null,null,{"$f":"IFERROR(VLOOKUP(I399,CIIU!A:B,2,0),\"\")","v":""}]
[null,null,null,null,null,null,null,null,null,{"$f":"IFERROR(VLOOKUP(I400,CIIU!A:B,2,0),\"\")","v":""}]
[null,null,null,null,null,null,null,null,null,{"$f":"IFERROR(VLOOKUP(I401,CIIU!A:B,2,0),\"\")","v":""}]
[null,null,null,null,null,null,null,null,null,{"$f":"IFERROR(VLOOKUP(I402,CIIU!A:B,2,0),\"\")","v":""}]
[null,null,null,null,null,null,null,null,null,{"$f":"IFERROR(VLOOKUP(I403,CIIU!A:B,2,0),\"\")","v":""}]
[null,null,null,null,null,null,null,null,null,{"$f":"IFERROR(VLOOKUP(I404,CIIU!A:B,2,0),\"\")","v":""}]
[null,null,null,null,null,null,null,null,null,{"$f":"IFERROR(VLOOKUP(I405,CIIU!A:B,2,0),\"\")","v":""}]
[null,null,null,null,null,null,null,null,null,{"$f":"IFERROR(VLOOKUP(I406,CIIU!A:B,2,0),\"\")","v":""}]
[null,null,null,null,null,null,null,null,null,{"$f":"IFERROR(VLOOKUP(I407,CIIU!A:B,2,0),\"\")","v":""}]
[null,null,null,null,null,null,null,null,null,{"$f":"IFERROR(VLOOKUP(I408,CIIU!A:B,2,0),\"\")","v":""}]
[null,null,null,null,null,null,null,null,null,{"$f":"IFERROR(VLOOKUP(I409,CIIU!A:B,2,0),\"\")","v":""}]
[null,null,null,null,null,null,null,null,null,{"$f":"IFERROR(VLOOKUP(I410,CIIU!A:B,2,0),\"\")","v":""}]
[null,null,null,null,null,null,null,null,null,{"$f":"IFERROR(VLOOKUP(I411,CIIU!A:B,2,0),\"\")","v":""}]
[null,null,null,null,null,null,null,null,null,{"$f":"IFERROR(VLOOKUP(I412,CIIU!A:B,2,0),\"\")","v":""}]
[null,null,null,null,null,null,null,null,null,{"$f":"IFERROR(VLOOKUP(I413,CIIU!A:B,2,0),\"\")","v":""}]
[null,null,null,null,null,null,null,null,null,{"$f":"IFERROR(VLOOKUP(I414,CIIU!A:B,2,0),\"\")","v":""}]
[null,null,null,null,null,null,null,null,null,{"$f":"IFERROR(VLOOKUP(I415,CIIU!A:B,2,0),\"\")","v":""}]
[null,null,null,null,null,null,null,null,null,{"$f":"IFERROR(VLOOKUP(I416,CIIU!A:B,2,0),\"\")","v":""}]
[null,null,null,null,null,null,null,null,null,{"$f":"IFERROR(VLOOKUP(I417,CIIU!A:B,2,0),\"\")","v":""}]
[null,null,null,null,null,null,null,null,null,{"$f":"IFERROR(VLOOKUP(I418,CIIU!A:B,2,0),\"\")","v":""}]
[null,null,null,null,null,null,null,null,null,{"$f":"IFERROR(VLOOKUP(I419,CIIU!A:B,2,0),\"\")","v":""}]
[null,null,null,null,null,null,null,null,null,{"$f":"IFERROR(VLOOKUP(I420,CIIU!A:B,2,0),\"\")","v":""}]
[null,null,null,null,null,null,null,null,null,{"$f":"IFERROR(VLOOKUP(I421,CIIU!A:B,2,0),\"\")","v":""}]
[null,null,null,null,null,null,null,null,null,{"$f":"IFERROR(VLOOKUP(I422,CIIU!A:B,2,0),\"\")","v":""}]
[null,null,null,null,null,null,null,null,null,{"$f":"IFERROR(VLOOKUP(I423,CIIU!A:B,2,0),\"\")","v":""}]
[null,null,null,null,null,null,null,null,null,{"$f":"IFERROR(VLOOKUP(I424,CIIU!A:B,2,0),\"\")","v":""}]
[null,null,null,null,null,null,null,null,null,{"$f":"IFERROR(VLOOKUP(I425,CIIU!A:B,2,0),\"\")","v":""}]
[null,null,null,null,null,null,null,null,null,{"$f":"IFERROR(VLOOKUP(I426,CIIU!A:B,2,0),\"\")","v":""}]
[null,null,null,null,null,null,null,null,null,{"$f":"IFERROR(VLOOKUP(I427,CIIU!A:B,2,0),\"\")","v":""}]
[null,null,null,null,null,null,null,null,null,{"$f":"IFERROR(VLOOKUP(I428,CIIU!A:B,2,0),\"\")","v":""}]
[null,null,null,null,null,null,null,null,null,{"$f":"IFERROR(VLOOKUP(I429,CIIU!A:B,2,0),\"\")","v":""}]
[null,null,null,null,null,null,null,null,null,{"$f":"IFERROR(VLOOKUP(I430,CIIU!A:B,2,0),\"\")","v":""}]
[null,null,null,null,null,null,null,null,null,{"$f":"IFERROR(VLOOKUP(I431,CIIU!A:B,2,0),\"\")","v":""}]
[null,null,null,null,null,null,null,null,null,{"$f":"IFERROR(VLOOKUP(I432,CIIU!A:B,2,0),\"\")","v":""}]
[null,null,null,null,null,null,null,null,null,{"$f":"IFERROR(VLOOKUP(I433,CIIU!A:B,2,0),\"\")","v":""}]
[null,null,null,null,null,null,null,null,null,{"$f":"IFERROR(VLOOKUP(I434,CIIU!A:B,2,0),\"\")","v":""}]
[null,null,null,null,null,null,null,null,null,{"$f":"IFERROR(VLOOKUP(I435,CIIU!A:B,2,0),\"\")","v":""}]
[null,null,null,null,null,null,null,null,null,{"$f":"IFERROR(VLOOKUP(I436,CIIU!A:B,2,0),\"\")","v":""}]
[null,null,null,null,null,null,null,null,null,{"$f":"IFERROR(VLOOKUP(I437,CIIU!A:B,2,0),\"\")","v":""}]
[null,null,null,null,null,null,null,null,null,{"$f":"IFERROR(VLOOKUP(I438,CIIU!A:B,2,0),\"\")","v":""}]
[null,null,null,null,null,null,null,null,null,{"$f":"IFERROR(VLOOKUP(I439,CIIU!A:B,2,0),\"\")","v":""}]
[null,null,null,null,null,null,null,null,null,{"$f":"IFERROR(VLOOKUP(I440,CIIU!A:B,2,0),\"\")","v":""}]
[null,null,null,null,null,null,null,null,null,{"$f":"IFERROR(VLOOKUP(I441,CIIU!A:B,2,0),\"\")","v":""}]
[null,null,null,null,null,null,null,null,null,{"$f":"IFERROR(VLOOKUP(I442,CIIU!A:B,2,0),\"\")","v":""}]
[null,null,null,null,null,null,null,null,null,{"$f":"IFERROR(VLOOKUP(I443,CIIU!A:B,2,0),\"\")","v":""}]
[null,null,null,null,null,null,null,null,null,{"$f":"IFERROR(VLOOKUP(I444,CIIU!A:B,2,0),\"\")","v":""}]
[null,null,null,null,null,null,null,null,null,{"$f":"IFERROR(VLOOKUP(I445,CIIU!A:B,2,0),\"\")","v":""}]
[null,null,null,null,null,null,null,null,null,{"$f":"IFERROR(VLOOKUP(I446,CIIU!A:B,2,0),\"\")","v":""}]
[null,null,null,null,null,null,null,null,null,{"$f":"IFERROR(VLOOKUP(I447,CIIU!A:B,2,0),\"\")","v":""}]
[null,null,null,null,null,null,null,null,null,{"$f":"IFERROR(VLOOKUP(I448,CIIU!A:B,2,0),\"\")","v":""}]
[null,null,null,null,null,null,null,null,null,{"$f":"IFERROR(VLOOKUP(I449,CIIU!A:B,2,0),\"\")","v":""}]
[null,null,null,null,null,null,null,null,null,{"$f":"IFERROR(VLOOKUP(I450,CIIU!A:B,2,0),\"\")","v":""}]
[null,null,null,null,null,null,null,null,null,{"$f":"IFERROR(VLOOKUP(I451,CIIU!A:B,2,0),\"\")","v":""}]
[null,null,null,null,null,null,null,null,null,{"$f":"IFERROR(VLOOKUP(I452,CIIU!A:B,2,0),\"\")","v":""}]
[null,null,null,null,null,null,null,null,null,{"$f":"IFERROR(VLOOKUP(I453,CIIU!A:B,2,0),\"\")","v":""}]
[null,null,null,null,null,null,null,null,null,{"$f":"IFERROR(VLOOKUP(I454,CIIU!A:B,2,0),\"\")","v":""}]
[null,null,null,null,null,null,null,null,null,{"$f":"IFERROR(VLOOKUP(I455,CIIU!A:B,2,0),\"\")","v":""}]
[null,null,null,null,null,null,null,null,null,{"$f":"IFERROR(VLOOKUP(I456,CIIU!A:B,2,0),\"\")","v":""}]
[null,null,null,null,null,null,null,null,null,{"$f":"IFERROR(VLOOKUP(I457,CIIU!A:B,2,0),\"\")","v":""}]
[null,null,null,null,null,null,null,null,null,{"$f":"IFERROR(VLOOKUP(I458,CIIU!A:B,2,0),\"\")","v":""}]
[null,null,null,null,null,null,null,null,null,{"$f":"IFERROR(VLOOKUP(I459,CIIU!A:B,2,0),\"\")","v":""}]
[null,null,null,null,null,null,null,null,null,{"$f":"IFERROR(VLOOKUP(I460,CIIU!A:B,2,0),\"\")","v":""}]
[null,null,null,null,null,null,null,null,null,{"$f":"IFERROR(VLOOKUP(I461,CIIU!A:B,2,0),\"\")","v":""}]
[null,null,null,null,null,null,null,null,null,{"$f":"IFERROR(VLOOKUP(I462,CIIU!A:B,2,0),\"\")","v":""}]
[null,null,null,null,null,null,null,null,null,{"$f":"IFERROR(VLOOKUP(I463,CIIU!A:B,2,0),\"\")","v":""}]
[null,null,null,null,null,null,null,null,null,{"$f":"IFERROR(VLOOKUP(I464,CIIU!A:B,2,0),\"\")","v":""}]
[null,null,null,null,null,null,null,null,null,{"$f":"IFERROR(VLOOKUP(I465,CIIU!A:B,2,0),\"\")","v":""}]
[null,null,null,null,null,null,null,null,null,{"$f":"IFERROR(VLOOKUP(I466,CIIU!A:B,2,0),\"\")","v":""}]
[null,null,null,null,null,null,null,null,null,{"$f":"IFERROR(VLOOKUP(I467,CIIU!A:B,2,0),\"\")","v":""}]
[null,null,null,null,null,null,null,null,null,{"$f":"IFERROR(VLOOKUP(I468,CIIU!A:B,2,0),\"\")","v":""}]
[null,null,null,null,null,null,null,null,null,{"$f":"IFERROR(VLOOKUP(I469,CIIU!A:B,2,0),\"\")","v":""}]
[null,null,null,null,null,null,null,null,null,{"$f":"IFERROR(VLOOKUP(I470,CIIU!A:B,2,0),\"\")","v":""}]
[null,null,null,null,null,null,null,null,null,{"$f":"IFERROR(VLOOKUP(I471,CIIU!A:B,2,0),\"\")","v":""}]
[null,null,null,null,null,null,null,null,null,{"$f":"IFERROR(VLOOKUP(I472,CIIU!A:B,2,0),\"\")","v":""}]
[null,null,null,null,null,null,null,null,null,{"$f":"IFERROR(VLOOKUP(I473,CIIU!A:B,2,0),\"\")","v":""}]
[null,null,null,null,null,null,null,null,null,{"$f":"IFERROR(VLOOKUP(I474,CIIU!A:B,2,0),\"\")","v":""}]
[null,null,null,null,null,null,null,null,null,{"$f":"IFERROR(VLOOKUP(I475,CIIU!A:B,2,0),\"\")","v":""}]
[null,null,null,null,null,null,null,null,null,{"$f":"IFERROR(VLOOKUP(I476,CIIU!A:B,2,0),\"\")","v":""}]
[null,null,null,null,null,null,null,null,null,{"$f":"IFERROR(VLOOKUP(I477,CIIU!A:B,2,0),\"\")","v":""}]
[null,null,null,null,null,null,null,null,null,{"$f":"IFERROR(VLOOKUP(I478,CIIU!A:B,2,0),\"\")","v":""}]
[null,null,null,null,null,null,null,null,null,{"$f":"IFERROR(VLOOKUP(I479,CIIU!A:B,2,0),\"\")","v":""}]
[null,null,null,null,null,null,null,null,null,{"$f":"IFERROR(VLOOKUP(I480,CIIU!A:B,2,0),\"\")","v":""}]
[null,null,null,null,null,null,null,null,null,{"$f":"IFERROR(VLOOKUP(I481,CIIU!A:B,2,0),\"\")","v":""}]
[null,null,null,null,null,null,null,null,null,{"$f":"IFERROR(VLOOKUP(I482,CIIU!A:B,2,0),\"\")","v":""}]
[null,null,null,null,null,null,null,null,null,{"$f":"IFERROR(VLOOKUP(I483,CIIU!A:B,2,0),\"\")","v":""}]
[null,null,null,null,null,null,null,null,null,{"$f":"IFERROR(VLOOKUP(I484,CIIU!A:B,2,0),\"\")","v":""}]
[null,null,null,null,null,null,null,null,null,{"$f":"IFERROR(VLOOKUP(I485,CIIU!A:B,2,0),\"\")","v":""}]
[null,null,null,null,null,null,null,null,null,{"$f":"IFERROR(VLOOKUP(I486,CIIU!A:B,2,0),\"\")","v":""}]
[null,null,null,null,null,null,null,null,null,{"$f":"IFERROR(VLOOKUP(I487,CIIU!A:B,2,0),\"\")","v":""}]
[null,null,null,null,null,null,null,null,null,{"$f":"IFERROR(VLOOKUP(I488,CIIU!A:B,2,0),\"\")","v":""}]
[null,null,null,null,null,null,null,null,null,{"$f":"IFERROR(VLOOKUP(I489,CIIU!A:B,2,0),\"\")","v":""}]
[null,null,null,null,null,null,null,null,null,{"$f":"IFERROR(VLOOKUP(I490,CIIU!A:B,2,0),\"\")","v":""}]
[null,null,null,null,null,null,null,null,null,{"$f":"IFERROR(VLOOKUP(I491,CIIU!A:B,2,0),\"\")","v":""}]
[null,null,null,null,null,null,null,null,null,{"$f":"IFERROR(VLOOKUP(I492,CIIU!A:B,2,0),\"\")","v":""}]
[null,null,null,null,null,null,null,null,null,{"$f":"IFERROR(VLOOKUP(I493,CIIU!A:B,2,0),\"\")","v":""}]
[null,null,null,null,null,null,null,null,null,{"$f":"IFERROR(VLOOKUP(I494,CIIU!A:B,2,0),\"\")","v":""}]
[null,null,null,null,null,null,null,null,null,{"$f":"IFERROR(VLOOKUP(I495,CIIU!A:B,2,0),\"\")","v":""}]
[null,null,null,null,null,null,null,null,null,{"$f":"IFERROR(VLOOKUP(I496,CIIU!A:B,2,0),\"\")","v":""}]
[null,null,null,null,null,null,null,null,null,{"$f":"IFERROR(VLOOKUP(I497,CIIU!A:B,2,0),\"\")","v":""}]
[null,null,null,null,null,null,null,null,null,{"$f":"IFERROR(VLOOKUP(I498,CIIU!A:B,2,0),\"\")","v":""}]
[null,null,null,null,null,null,null,null,null,{"$f":"IFERROR(VLOOKUP(I499,CIIU!A:B,2,0),\"\")","v":""}]
[null,null,null,null,null,null,null,null,null,{"$f":"IFERROR(VLOOKUP(I500,CIIU!A:B,2,0),\"\")","v":""}]
[null,null,null,null,null,null,null,null,null,{"$f":"IFERROR(VLOOKUP(I501,CIIU!A:B,2,0),\"\")","v":""}]
[null,null,null,null,null,null,null,null,null,{"$f":"IFERROR(VLOOKUP(I502,CIIU!A:B,2,0),\"\")","v":""}]
[null,null,null,null,null,null,null,null,null,{"$f":"IFERROR(VLOOKUP(I503,CIIU!A:B,2,0),\"\")","v":""}]
[null,null,null,null,null,null,null,null,null,{"$f":"IFERROR(VLOOKUP(I504,CIIU!A:B,2,0),\"\")","v":""}]
[null,null,null,null,null,null,null,null,null,{"$f":"IFERROR(VLOOKUP(I505,CIIU!A:B,2,0),\"\")","v":""}]
[null,null,null,null,null,null,null,null,null,{"$f":"IFERROR(VLOOKUP(I506,CIIU!A:B,2,0),\"\")","v":""}]
[null,null,null,null,null,null,null,null,null,{"$f":"IFERROR(VLOOKUP(I507,CIIU!A:B,2,0),\"\")","v":""}]
[null,null,null,null,null,null,null,null,null,{"$f":"IFERROR(VLOOKUP(I508,CIIU!A:B,2,0),\"\")","v":""}]
[null,null,null,null,null,null,null,null,null,{"$f":"IFERROR(VLOOKUP(I509,CIIU!A:B,2,0),\"\")","v":""}]
[null,null,null,null,null,null,null,null,null,{"$f":"IFERROR(VLOOKUP(I510,CIIU!A:B,2,0),\"\")","v":""}]
[null,null,null,null,null,null,null,null,null,{"$f":"IFERROR(VLOOKUP(I511,CIIU!A:B,2,0),\"\")","v":""}]
[null,null,null,null,null,null,null,null,null,{"$f":"IFERROR(VLOOKUP(I512,CIIU!A:B,2,0),\"\")","v":""}]
[null,null,null,null,null,null,null,null,null,{"$f":"IFERROR(VLOOKUP(I513,CIIU!A:B,2,0),\"\")","v":""}]
[null,null,null,null,null,null,null,null,null,{"$f":"IFERROR(VLOOKUP(I514,CIIU!A:B,2,0),\"\")","v":""}]
[null,null,null,null,null,null,null,null,null,{"$f":"IFERROR(VLOOKUP(I515,CIIU!A:B,2,0),\"\")","v":""}]
[null,null,null,null,null,null,null,null,null,{"$f":"IFERROR(VLOOKUP(I516,CIIU!A:B,2,0),\"\")","v":""}]
[null,null,null,null,null,null,null,null,null,{"$f":"IFERROR(VLOOKUP(I517,CIIU!A:B,2,0),\"\")","v":""}]
[null,null,null,null,null,null,null,null,null,{"$f":"IFERROR(VLOOKUP(I518,CIIU!A:B,2,0),\"\")","v":""}]
[null,null,null,null,null,null,null,null,null,{"$f":"IFERROR(VLOOKUP(I519,CIIU!A:B,2,0),\"\")","v":""}]
[null,null,null,null,null,null,null,null,null,{"$f":"IFERROR(VLOOKUP(I520,CIIU!A:B,2,0),\"\")","v":""}]
[null,null,null,null,null,null,null,null,null,{"$f":"IFERROR(VLOOKUP(I521,CIIU!A:B,2,0),\"\")","v":""}]
[null,null,null,null,null,null,null,null,null,{"$f":"IFERROR(VLOOKUP(I522,CIIU!A:B,2,0),\"\")","v":""}]
[null,null,null,null,null,null,null,null,null,{"$f":"IFERROR(VLOOKUP(I523,CIIU!A:B,2,0),\"\")","v":""}]
[null,null,null,null,null,null,null,null,null,{"$f":"IFERROR(VLOOKUP(I524,CIIU!A:B,2,0),\"\")","v":""}]
[null,null,null,null,null,null,null,null,null,{"$f":"IFERROR(VLOOKUP(I525,CIIU!A:B,2,0),\"\")","v":""}]
[null,null,null,null,null,null,null,null,null,{"$f":"IFERROR(VLOOKUP(I526,CIIU!A:B,2,0),\"\")","v":""}]
[null,null,null,null,null,null,null,null,null,{"$f":"IFERROR(VLOOKUP(I527,CIIU!A:B,2,0),\"\")","v":""}]
[null,null,null,null,null,null,null,null,null,{"$f":"IFERROR(VLOOKUP(I528,CIIU!A:B,2,0),\"\")","v":""}]
[null,null,null,null,null,null,null,null,null,{"$f":"IFERROR(VLOOKUP(I529,CIIU!A:B,2,0),\"\")","v":""}]
[null,null,null,null,null,null,null,null,null,{"$f":"IFERROR(VLOOKUP(I530,CIIU!A:B,2,0),\"\")","v":""}]
[null,null,null,null,null,null,null,null,null,{"$f":"IFERROR(VLOOKUP(I531,CIIU!A:B,2,0),\"\")","v":""}]
[null,null,null,null,null,null,null,null,null,{"$f":"IFERROR(VLOOKUP(I532,CIIU!A:B,2,0),\"\")","v":""}]
[null,null,null,null,null,null,null,null,null,{"$f":"IFERROR(VLOOKUP(I533,CIIU!A:B,2,0),\"\")","v":""}]
[null,null,null,null,null,null,null,null,null,{"$f":"IFERROR(VLOOKUP(I534,CIIU!A:B,2,0),\"\")","v":""}]
[null,null,null,null,null,null,null,null,null,{"$f":"IFERROR(VLOOKUP(I535,CIIU!A:B,2,0),\"\")","v":""}]
[null,null,null,null,null,null,null,null,null,{"$f":"IFERROR(VLOOKUP(I536,CIIU!A:B,2,0),\"\")","v":""}]
[null,null,null,null,null,null,null,null,null,{"$f":"IFERROR(VLOOKUP(I537,CIIU!A:B,2,0),\"\")","v":""}]
[null,null,null,null,null,null,null,null,null,{"$f":"IFERROR(VLOOKUP(I538,CIIU!A:B,2,0),\"\")","v":""}]
[null,null,null,null,null,null,null,null,null,{"$f":"IFERROR(VLOOKUP(I539,CIIU!A:B,2,0),\"\")","v":""}]
[null,null,null,null,null,null,null,null,null,{"$f":"IFERROR(VLOOKUP(I540,CIIU!A:B,2,0),\"\")","v":""}]
[null,null,null,null,null,null,null,null,null,{"$f":"IFERROR(VLOOKUP(I541,CIIU!A:B,2,0),\"\")","v":""}]
[null,null,null,null,null,null,null,null,null,{"$f":"IFERROR(VLOOKUP(I542,CIIU!A:B,2,0),\"\")","v":""}]
[null,null,null,null,null,null,null,null,null,{"$f":"IFERROR(VLOOKUP(I543,CIIU!A:B,2,0),\"\")","v":""}]
[null,null,null,null,null,null,null,null,null,{"$f":"IFERROR(VLOOKUP(I544,CIIU!A:B,2,0),\"\")","v":""}]
[null,null,null,null,null,null,null,null,null,{"$f":"IFERROR(VLOOKUP(I545,CIIU!A:B,2,0),\"\")","v":""}]
[null,null,null,null,null,null,null,null,null,{"$f":"IFERROR(VLOOKUP(I546,CIIU!A:B,2,0),\"\")","v":""}]
[null,null,null,null,null,null,null,null,null,{"$f":"IFERROR(VLOOKUP(I547,CIIU!A:B,2,0),\"\")","v":""}]
[null,null,null,null,null,null,null,null,null,{"$f":"IFERROR(VLOOKUP(I548,CIIU!A:B,2,0),\"\")","v":""}]
[null,null,null,null,null,null,null,null,null,{"$f":"IFERROR(VLOOKUP(I549,CIIU!A:B,2,0),\"\")","v":""}]
[null,null,null,null,null,null,null,null,null,{"$f":"IFERROR(VLOOKUP(I550,CIIU!A:B,2,0),\"\")","v":""}]
[null,null,null,null,null,null,null,null,null,{"$f":"IFERROR(VLOOKUP(I551,CIIU!A:B,2,0),\"\")","v":""}]
[null,null,null,null,null,null,null,null,null,{"$f":"IFERROR(VLOOKUP(I552,CIIU!A:B,2,0),\"\")","v":""}]
[null,null,null,null,null,null,null,null,null,{"$f":"IFERROR(VLOOKUP(I553,CIIU!A:B,2,0),\"\")","v":""}]
[null,null,null,null,null,null,null,null,null,{"$f":"IFERROR(VLOOKUP(I554,CIIU!A:B,2,0),\"\")","v":""}]
[null,null,null,null,null,null,null,null,null,{"$f":"IFERROR(VLOOKUP(I555,CIIU!A:B,2,0),\"\")","v":""}]
[null,null,null,null,null,null,null,null,null,{"$f":"IFERROR(VLOOKUP(I556,CIIU!A:B,2,0),\"\")","v":""}]
[null,null,null,null,null,null,null,null,null,{"$f":"IFERROR(VLOOKUP(I557,CIIU!A:B,2,0),\"\")","v":""}]
[null,null,null,null,null,null,null,null,null,{"$f":"IFERROR(VLOOKUP(I558,CIIU!A:B,2,0),\"\")","v":""}]
[null,null,null,null,null,null,null,null,null,{"$f":"IFERROR(VLOOKUP(I559,CIIU!A:B,2,0),\"\")","v":""}]
[null,null,null,null,null,null,null,null,null,{"$f":"IFERROR(VLOOKUP(I560,CIIU!A:B,2,0),\"\")","v":""}]
[null,null,null,null,null,null,null,null,null,{"$f":"IFERROR(VLOOKUP(I561,CIIU!A:B,2,0),\"\")","v":""}]
[null,null,null,null,null,null,null,null,null,{"$f":"IFERROR(VLOOKUP(I562,CIIU!A:B,2,0),\"\")","v":""}]
[null,null,null,null,null,null,null,null,null,{"$f":"IFERROR(VLOOKUP(I563,CIIU!A:B,2,0),\"\")","v":""}]
[null,null,null,null,null,null,null,null,null,{"$f":"IFERROR(VLOOKUP(I564,CIIU!A:B,2,0),\"\")","v":""}]
[null,null,null,null,null,null,null,null,null,{"$f":"IFERROR(VLOOKUP(I565,CIIU!A:B,2,0),\"\")","v":""}]
[null,null,null,null,null,null,null,null,null,{"$f":"IFERROR(VLOOKUP(I566,CIIU!A:B,2,0),\"\")","v":""}]
[null,null,null,null,null,null,null,null,null,{"$f":"IFERROR(VLOOKUP(I567,CIIU!A:B,2,0),\"\")","v":""}]
[null,null,null,null,null,null,null,null,null,{"$f":"IFERROR(VLOOKUP(I568,CIIU!A:B,2,0),\"\")","v":""}]
[null,null,null,null,null,null,null,null,null,{"$f":"IFERROR(VLOOKUP(I569,CIIU!A:B,2,0),\"\")","v":""}]
[null,null,null,null,null,null,null,null,null,{"$f":"IFERROR(VLOOKUP(I570,CIIU!A:B,2,0),\"\")","v":""}]
[null,null,null,null,null,null,null,null,null,{"$f":"IFERROR(VLOOKUP(I571,CIIU!A:B,2,0),\"\")","v":""}]
[null,null,null,null,null,null,null,null,null,{"$f":"IFERROR(VLOOKUP(I572,CIIU!A:B,2,0),\"\")","v":""}]
[null,null,null,null,null,null,null,null,null,{"$f":"IFERROR(VLOOKUP(I573,CIIU!A:B,2,0),\"\")","v":""}]
[null,null,null,null,null,null,null,null,null,{"$f":"IFERROR(VLOOKUP(I574,CIIU!A:B,2,0),\"\")","v":""}]
[null,null,null,null,null,null,null,null,null,{"$f":"IFERROR(VLOOKUP(I575,CIIU!A:B,2,0),\"\")","v":""}]
[null,null,null,null,null,null,null,null,null,{"$f":"IFERROR(VLOOKUP(I576,CIIU!A:B,2,0),\"\")","v":""}]
[null,null,null,null,null,null,null,null,null,{"$f":"IFERROR(VLOOKUP(I577,CIIU!A:B,2,0),\"\")","v":""}]
[null,null,null,null,null,null,null,null,null,{"$f":"IFERROR(VLOOKUP(I578,CIIU!A:B,2,0),\"\")","v":""}]
[null,null,null,null,null,null,null,null,null,{"$f":"IFERROR(VLOOKUP(I579,CIIU!A:B,2,0),\"\")","v":""}]
[null,null,null,null,null,null,null,null,null,{"$f":"IFERROR(VLOOKUP(I580,CIIU!A:B,2,0),\"\")","v":""}]
[null,null,null,null,null,null,null,null,null,{"$f":"IFERROR(VLOOKUP(I581,CIIU!A:B,2,0),\"\")","v":""}]
[null,null,null,null,null,null,null,null,null,{"$f":"IFERROR(VLOOKUP(I582,CIIU!A:B,2,0),\"\")","v":""}]
[null,null,null,null,null,null,null,null,null,{"$f":"IFERROR(VLOOKUP(I583,CIIU!A:B,2,0),\"\")","v":""}]
[null,null,null,null,null,null,null,null,null,{"$f":"IFERROR(VLOOKUP(I584,CIIU!A:B,2,0),\"\")","v":""}]
[null,null,null,null,null,null,null,null,null,{"$f":"IFERROR(VLOOKUP(I585,CIIU!A:B,2,0),\"\")","v":""}]
[null,null,null,null,null,null,null,null,null,{"$f":"IFERROR(VLOOKUP(I586,CIIU!A:B,2,0),\"\")","v":""}]
[null,null,null,null,null,null,null,null,null,{"$f":"IFERROR(VLOOKUP(I587,CIIU!A:B,2,0),\"\")","v":""}]
[null,null,null,null,null,null,null,null,null,{"$f":"IFERROR(VLOOKUP(I588,CIIU!A:B,2,0),\"\")","v":""}]
[null,null,null,null,null,null,null,null,null,{"$f":"IFERROR(VLOOKUP(I589,CIIU!A:B,2,0),\"\")","v":""}]
[null,null,null,null,null,null,null,null,null,{"$f":"IFERROR(VLOOKUP(I590,CIIU!A:B,2,0),\"\")","v":""}]
[null,null,null,null,null,null,null,null,null,{"$f":"IFERROR(VLOOKUP(I591,CIIU!A:B,2,0),\"\")","v":""}]
[null,null,null,null,null,null,null,null,null,{"$f":"IFERROR(VLOOKUP(I592,CIIU!A:B,2,0),\"\")","v":""}]
[null,null,null,null,null,null,null,null,null,{"$f":"IFERROR(VLOOKUP(I593,CIIU!A:B,2,0),\"\")","v":""}]
[null,null,null,null,null,null,null,null,null,{"$f":"IFERROR(VLOOKUP(I594,CIIU!A:B,2,0),\"\")","v":""}]
[null,null,null,null,null,null,null,null,null,{"$f":"IFERROR(VLOOKUP(I595,CIIU!A:B,2,0),\"\")","v":""}]
[null,null,null,null,null,null,null,null,null,{"$f":"IFERROR(VLOOKUP(I596,CIIU!A:B,2,0),\"\")","v":""}]
[null,null,null,null,null,null,null,null,null,{"$f":"IFERROR(VLOOKUP(I597,CIIU!A:B,2,0),\"\")","v":""}]
[null,null,null,null,null,null,null,null,null,{"$f":"IFERROR(VLOOKUP(I598,CIIU!A:B,2,0),\"\")","v":""}]
[null,null,null,null,null,null,null,null,null,{"$f":"IFERROR(VLOOKUP(I599,CIIU!A:B,2,0),\"\")","v":""}]
[null,null,null,null,null,null,null,null,null,{"$f":"IFERROR(VLOOKUP(I600,CIIU!A:B,2,0),\"\")","v":""}]
[null,null,null,null,null,null,null,null,null,{"$f":"IFERROR(VLOOKUP(I601,CIIU!A:B,2,0),\"\")","v":""}]
[null,null,null,null,null,null,null,null,null,{"$f":"IFERROR(VLOOKUP(I602,CIIU!A:B,2,0),\"\")","v":""}]
[null,null,null,null,null,null,null,null,null,{"$f":"IFERROR(VLOOKUP(I603,CIIU!A:B,2,0),\"\")","v":""}]
[null,null,null,null,null,null,null,null,null,{"$f":"IFERROR(VLOOKUP(I604,CIIU!A:B,2,0),\"\")","v":""}]
[null,null,null,null,null,null,null,null,null,{"$f":"IFERROR(VLOOKUP(I605,CIIU!A:B,2,0),\"\")","v":""}]
[null,null,null,null,null,null,null,null,null,{"$f":"IFERROR(VLOOKUP(I606,CIIU!A:B,2,0),\"\")","v":""}]
[null,null,null,null,null,null,null,null,null,{"$f":"IFERROR(VLOOKUP(I607,CIIU!A:B,2,0),\"\")","v":""}]
[null,null,null,null,null,null,null,null,null,{"$f":"IFERROR(VLOOKUP(I608,CIIU!A:B,2,0),\"\")","v":""}]
[null,null,null,null,null,null,null,null,null,{"$f":"IFERROR(VLOOKUP(I609,CIIU!A:B,2,0),\"\")","v":""}]
[null,null,null,null,null,null,null,null,null,{"$f":"IFERROR(VLOOKUP(I610,CIIU!A:B,2,0),\"\")","v":""}]
[null,null,null,null,null,null,null,null,null,{"$f":"IFERROR(VLOOKUP(I611,CIIU!A:B,2,0),\"\")","v":""}]
[null,null,null,null,null,null,null,null,null,{"$f":"IFERROR(VLOOKUP(I612,CIIU!A:B,2,0),\"\")","v":""}]
[null,null,null,null,null,null,null,null,null,{"$f":"IFERROR(VLOOKUP(I613,CIIU!A:B,2,0),\"\")","v":""}]
[null,null,null,null,null,null,null,null,null,{"$f":"IFERROR(VLOOKUP(I614,CIIU!A:B,2,0),\"\")","v":""}]
[null,null,null,null,null,null,null,null,null,{"$f":"IFERROR(VLOOKUP(I615,CIIU!A:B,2,0),\"\")","v":""}]
[null,null,null,null,null,null,null,null,null,{"$f":"IFERROR(VLOOKUP(I616,CIIU!A:B,2,0),\"\")","v":""}]
[null,null,null,null,null,null,null,null,null,{"$f":"IFERROR(VLOOKUP(I617,CIIU!A:B,2,0),\"\")","v":""}]
[null,null,null,null,null,null,null,null,null,{"$f":"IFERROR(VLOOKUP(I618,CIIU!A:B,2,0),\"\")","v":""}]
[null,null,null,null,null,null,null,null,null,{"$f":"IFERROR(VLOOKUP(I619,CIIU!A:B,2,0),\"\")","v":""}]
[null,null,null,null,null,null,null,null,null,{"$f":"IFERROR(VLOOKUP(I620,CIIU!A:B,2,0),\"\")","v":""}]
[null,null,null,null,null,null,null,null,null,{"$f":"IFERROR(VLOOKUP(I621,CIIU!A:B,2,0),\"\")","v":""}]
[null,null,null,null,null,null,null,null,null,{"$f":"IFERROR(VLOOKUP(I622,CIIU!A:B,2,0),\"\")","v":""}]
[null,null,null,null,null,null,null,null,null,{"$f":"IFERROR(VLOOKUP(I623,CIIU!A:B,2,0),\"\")","v":""}]
[null,null,null,null,null,null,null,null,null,{"$f":"IFERROR(VLOOKUP(I624,CIIU!A:B,2,0),\"\")","v":""}]
[null,null,null,null,null,null,null,null,null,{"$f":"IFERROR(VLOOKUP(I625,CIIU!A:B,2,0),\"\")","v":""}]
[null,null,null,null,null,null,null,null,null,{"$f":"IFERROR(VLOOKUP(I626,CIIU!A:B,2,0),\"\")","v":""}]
[null,null,null,null,null,null,null,null,null,{"$f":"IFERROR(VLOOKUP(I627,CIIU!A:B,2,0),\"\")","v":""}]
[null,null,null,null,null,null,null,null,null,{"$f":"IFERROR(VLOOKUP(I628,CIIU!A:B,2,0),\"\")","v":""}]
[null,null,null,null,null,null,null,null,null,{"$f":"IFERROR(VLOOKUP(I629,CIIU!A:B,2,0),\"\")","v":""}]
[null,null,null,null,null,null,null,null,null,{"$f":"IFERROR(VLOOKUP(I630,CIIU!A:B,2,0),\"\")","v":""}]
[null,null,null,null,null,null,null,null,null,{"$f":"IFERROR(VLOOKUP(I631,CIIU!A:B,2,0),\"\")","v":""}]
[null,null,null,null,null,null,null,null,null,{"$f":"IFERROR(VLOOKUP(I632,CIIU!A:B,2,0),\"\")","v":""}]
[null,null,null,null,null,null,null,null,null,{"$f":"IFERROR(VLOOKUP(I633,CIIU!A:B,2,0),\"\")","v":""}]
[null,null,null,null,null,null,null,null,null,{"$f":"IFERROR(VLOOKUP(I634,CIIU!A:B,2,0),\"\")","v":""}]
[null,null,null,null,null,null,null,null,null,{"$f":"IFERROR(VLOOKUP(I635,CIIU!A:B,2,0),\"\")","v":""}]
[null,null,null,null,null,null,null,null,null,{"$f":"IFERROR(VLOOKUP(I636,CIIU!A:B,2,0),\"\")","v":""}]
[null,null,null,null,null,null,null,null,null,{"$f":"IFERROR(VLOOKUP(I637,CIIU!A:B,2,0),\"\")","v":""}]
[null,null,null,null,null,null,null,null,null,{"$f":"IFERROR(VLOOKUP(I638,CIIU!A:B,2,0),\"\")","v":""}]
[null,null,null,null,null,null,null,null,null,{"$f":"IFERROR(VLOOKUP(I639,CIIU!A:B,2,0),\"\")","v":""}]
[null,null,null,null,null,null,null,null,null,{"$f":"IFERROR(VLOOKUP(I640,CIIU!A:B,2,0),\"\")","v":""}]
[null,null,null,null,null,null,null,null,null,{"$f":"IFERROR(VLOOKUP(I641,CIIU!A:B,2,0),\"\")","v":""}]
[null,null,null,null,null,null,null,null,null,{"$f":"IFERROR(VLOOKUP(I642,CIIU!A:B,2,0),\"\")","v":""}]
[null,null,null,null,null,null,null,null,null,{"$f":"IFERROR(VLOOKUP(I643,CIIU!A:B,2,0),\"\")","v":""}]
[null,null,null,null,null,null,null,null,null,{"$f":"IFERROR(VLOOKUP(I644,CIIU!A:B,2,0),\"\")","v":""}]
[null,null,null,null,null,null,null,null,null,{"$f":"IFERROR(VLOOKUP(I645,CIIU!A:B,2,0),\"\")","v":""}]
[null,null,null,null,null,null,null,null,null,{"$f":"IFERROR(VLOOKUP(I646,CIIU!A:B,2,0),\"\")","v":""}]
[null,null,null,null,null,null,null,null,null,{"$f":"IFERROR(VLOOKUP(I647,CIIU!A:B,2,0),\"\")","v":""}]
[null,null,null,null,null,null,null,null,null,{"$f":"IFERROR(VLOOKUP(I648,CIIU!A:B,2,0),\"\")","v":""}]
[null,null,null,null,null,null,null,null,null,{"$f":"IFERROR(VLOOKUP(I649,CIIU!A:B,2,0),\"\")","v":""}]
[null,null,null,null,null,null,null,null,null,{"$f":"IFERROR(VLOOKUP(I650,CIIU!A:B,2,0),\"\")","v":""}]
[null,null,null,null,null,null,null,null,null,{"$f":"IFERROR(VLOOKUP(I651,CIIU!A:B,2,0),\"\")","v":""}]
[null,null,null,null,null,null,null,null,null,{"$f":"IFERROR(VLOOKUP(I652,CIIU!A:B,2,0),\"\")","v":""}]
[null,null,null,null,null,null,null,null,null,{"$f":"IFERROR(VLOOKUP(I653,CIIU!A:B,2,0),\"\")","v":""}]
[null,null,null,null,null,null,null,null,null,{"$f":"IFERROR(VLOOKUP(I654,CIIU!A:B,2,0),\"\")","v":""}]
[null,null,null,null,null,null,null,null,null,{"$f":"IFERROR(VLOOKUP(I655,CIIU!A:B,2,0),\"\")","v":""}]
[null,null,null,null,null,null,null,null,null,{"$f":"IFERROR(VLOOKUP(I656,CIIU!A:B,2,0),\"\")","v":""}]
[null,null,null,null,null,null,null,null,null,{"$f":"IFERROR(VLOOKUP(I657,CIIU!A:B,2,0),\"\")","v":""}]
[null,null,null,null,null,null,null,null,null,{"$f":"IFERROR(VLOOKUP(I658,CIIU!A:B,2,0),\"\")","v":""}]
[null,null,null,null,null,null,null,null,null,{"$f":"IFERROR(VLOOKUP(I659,CIIU!A:B,2,0),\"\")","v":""}]
[null,null,null,null,null,null,null,null,null,{"$f":"IFERROR(VLOOKUP(I660,CIIU!A:B,2,0),\"\")","v":""}]
[null,null,null,null,null,null,null,null,null,{"$f":"IFERROR(VLOOKUP(I661,CIIU!A:B,2,0),\"\")","v":""}]
[null,null,null,null,null,null,null,null,null,{"$f":"IFERROR(VLOOKUP(I662,CIIU!A:B,2,0),\"\")","v":""}]
[null,null,null,null,null,null,null,null,null,{"$f":"IFERROR(VLOOKUP(I663,CIIU!A:B,2,0),\"\")","v":""}]
[null,null,null,null,null,null,null,null,null,{"$f":"IFERROR(VLOOKUP(I664,CIIU!A:B,2,0),\"\")","v":""}]
[null,null,null,null,null,null,null,null,null,{"$f":"IFERROR(VLOOKUP(I665,CIIU!A:B,2,0),\"\")","v":""}]
[null,null,null,null,null,null,null,null,null,{"$f":"IFERROR(VLOOKUP(I666,CIIU!A:B,2,0),\"\")","v":""}]
[null,null,null,null,null,null,null,null,null,{"$f":"IFERROR(VLOOKUP(I667,CIIU!A:B,2,0),\"\")","v":""}]
[null,null,null,null,null,null,null,null,null,{"$f":"IFERROR(VLOOKUP(I668,CIIU!A:B,2,0),\"\")","v":""}]
[null,null,null,null,null,null,null,null,null,{"$f":"IFERROR(VLOOKUP(I669,CIIU!A:B,2,0),\"\")","v":""}]
[null,null,null,null,null,null,null,null,null,{"$f":"IFERROR(VLOOKUP(I670,CIIU!A:B,2,0),\"\")","v":""}]
[null,null,null,null,null,null,null,null,null,{"$f":"IFERROR(VLOOKUP(I671,CIIU!A:B,2,0),\"\")","v":""}]
[null,null,null,null,null,null,null,null,null,{"$f":"IFERROR(VLOOKUP(I672,CIIU!A:B,2,0),\"\")","v":""}]
[null,null,null,null,null,null,null,null,null,{"$f":"IFERROR(VLOOKUP(I673,CIIU!A:B,2,0),\"\")","v":""}]
[null,null,null,null,null,null,null,null,null,{"$f":"IFERROR(VLOOKUP(I674,CIIU!A:B,2,0),\"\")","v":""}]
[null,null,null,null,null,null,null,null,null,{"$f":"IFERROR(VLOOKUP(I675,CIIU!A:B,2,0),\"\")","v":""}]
[null,null,null,null,null,null,null,null,null,{"$f":"IFERROR(VLOOKUP(I676,CIIU!A:B,2,0),\"\")","v":""}]
[null,null,null,null,null,null,null,null,null,{"$f":"IFERROR(VLOOKUP(I677,CIIU!A:B,2,0),\"\")","v":""}]
[null,null,null,null,null,null,null,null,null,{"$f":"IFERROR(VLOOKUP(I678,CIIU!A:B,2,0),\"\")","v":""}]
[null,null,null,null,null,null,null,null,null,{"$f":"IFERROR(VLOOKUP(I679,CIIU!A:B,2,0),\"\")","v":""}]
[null,null,null,null,null,null,null,null,null,{"$f":"IFERROR(VLOOKUP(I680,CIIU!A:B,2,0),\"\")","v":""}]
[null,null,null,null,null,null,null,null,null,{"$f":"IFERROR(VLOOKUP(I681,CIIU!A:B,2,0),\"\")","v":""}]
[null,null,null,null,null,null,null,null,null,{"$f":"IFERROR(VLOOKUP(I682,CIIU!A:B,2,0),\"\")","v":""}]
[null,null,null,null,null,null,null,null,null,{"$f":"IFERROR(VLOOKUP(I683,CIIU!A:B,2,0),\"\")","v":""}]
[null,null,null,null,null,null,null,null,null,{"$f":"IFERROR(VLOOKUP(I684,CIIU!A:B,2,0),\"\")","v":""}]
[null,null,null,null,null,null,null,null,null,{"$f":"IFERROR(VLOOKUP(I685,CIIU!A:B,2,0),\"\")","v":""}]
[null,null,null,null,null,null,null,null,null,{"$f":"IFERROR(VLOOKUP(I686,CIIU!A:B,2,0),\"\")","v":""}]
[null,null,null,null,null,null,null,null,null,{"$f":"IFERROR(VLOOKUP(I687,CIIU!A:B,2,0),\"\")","v":""}]
[null,null,null,null,null,null,null,null,null,{"$f":"IFERROR(VLOOKUP(I688,CIIU!A:B,2,0),\"\")","v":""}]
[null,null,null,null,null,null,null,null,null,{"$f":"IFERROR(VLOOKUP(I689,CIIU!A:B,2,0),\"\")","v":""}]
[null,null,null,null,null,null,null,null,null,{"$f":"IFERROR(VLOOKUP(I690,CIIU!A:B,2,0),\"\")","v":""}]
[null,null,null,null,null,null,null,null,null,{"$f":"IFERROR(VLOOKUP(I691,CIIU!A:B,2,0),\"\")","v":""}]
[null,null,null,null,null,null,null,null,null,{"$f":"IFERROR(VLOOKUP(I692,CIIU!A:B,2,0),\"\")","v":""}]
[null,null,null,null,null,null,null,null,null,{"$f":"IFERROR(VLOOKUP(I693,CIIU!A:B,2,0),\"\")","v":""}]
[null,null,null,null,null,null,null,null,null,{"$f":"IFERROR(VLOOKUP(I694,CIIU!A:B,2,0),\"\")","v":""}]
[null,null,null,null,null,null,null,null,null,{"$f":"IFERROR(VLOOKUP(I695,CIIU!A:B,2,0),\"\")","v":""}]
[null,null,null,null,null,null,null,null,null,{"$f":"IFERROR(VLOOKUP(I696,CIIU!A:B,2,0),\"\")","v":""}]
[null,null,null,null,null,null,null,null,null,{"$f":"IFERROR(VLOOKUP(I697,CIIU!A:B,2,0),\"\")","v":""}]
[null,null,null,null,null,null,null,null,null,{"$f":"IFERROR(VLOOKUP(I698,CIIU!A:B,2,0),\"\")","v":""}]
[null,null,null,null,null,null,null,null,null,{"$f":"IFERROR(VLOOKUP(I699,CIIU!A:B,2,0),\"\")","v":""}]
[null,null,null,null,null,null,null,null,null,{"$f":"IFERROR(VLOOKUP(I700,CIIU!A:B,2,0),\"\")","v":""}]
[null,null,null,null,null,null,null,null,null,{"$f":"IFERROR(VLOOKUP(I701,CIIU!A:B,2,0),\"\")","v":""}]
[null,null,null,null,null,null,null,null,null,{"$f":"IFERROR(VLOOKUP(I702,CIIU!A:B,2,0),\"\")","v":""}]
[null,null,null,null,null,null,null,null,null,{"$f":"IFERROR(VLOOKUP(I703,CIIU!A:B,2,0),\"\")","v":""}]
[null,null,null,null,null,null,null,null,null,{"$f":"IFERROR(VLOOKUP(I704,CIIU!A:B,2,0),\"\")","v":""}]
[null,null,null,null,null,null,null,null,null,{"$f":"IFERROR(VLOOKUP(I705,CIIU!A:B,2,0),\"\")","v":""}]
[null,null,null,null,null,null,null,null,null,{"$f":"IFERROR(VLOOKUP(I706,CIIU!A:B,2,0),\"\")","v":""}]
[null,null,null,null,null,null,null,null,null,{"$f":"IFERROR(VLOOKUP(I707,CIIU!A:B,2,0),\"\")","v":""}]
[null,null,null,null,null,null,null,null,null,{"$f":"IFERROR(VLOOKUP(I708,CIIU!A:B,2,0),\"\")","v":""}]
[null,null,null,null,null,null,null,null,null,{"$f":"IFERROR(VLOOKUP(I709,CIIU!A:B,2,0),\"\")","v":""}]
[null,null,null,null,null,null,null,null,null,{"$f":"IFERROR(VLOOKUP(I710,CIIU!A:B,2,0),\"\")","v":""}]
[null,null,null,null,null,null,null,null,null,{"$f":"IFERROR(VLOOKUP(I711,CIIU!A:B,2,0),\"\")","v":""}]
[null,null,null,null,null,null,null,null,null,{"$f":"IFERROR(VLOOKUP(I712,CIIU!A:B,2,0),\"\")","v":""}]
[null,null,null,null,null,null,null,null,null,{"$f":"IFERROR(VLOOKUP(I713,CIIU!A:B,2,0),\"\")","v":""}]
[null,null,null,null,null,null,null,null,null,{"$f":"IFERROR(VLOOKUP(I714,CIIU!A:B,2,0),\"\")","v":""}]
[null,null,null,null,null,null,null,null,null,{"$f":"IFERROR(VLOOKUP(I715,CIIU!A:B,2,0),\"\")","v":""}]
[null,null,null,null,null,null,null,null,null,{"$f":"IFERROR(VLOOKUP(I716,CIIU!A:B,2,0),\"\")","v":""}]
[null,null,null,null,null,null,null,null,null,{"$f":"IFERROR(VLOOKUP(I717,CIIU!A:B,2,0),\"\")","v":""}]
[null,null,null,null,null,null,null,null,null,{"$f":"IFERROR(VLOOKUP(I718,CIIU!A:B,2,0),\"\")","v":""}]
[null,null,null,null,null,null,null,null,null,{"$f":"IFERROR(VLOOKUP(I719,CIIU!A:B,2,0),\"\")","v":""}]
[null,null,null,null,null,null,null,null,null,{"$f":"IFERROR(VLOOKUP(I720,CIIU!A:B,2,0),\"\")","v":""}]
[null,null,null,null,null,null,null,null,null,{"$f":"IFERROR(VLOOKUP(I721,CIIU!A:B,2,0),\"\")","v":""}]
[null,null,null,null,null,null,null,null,null,{"$f":"IFERROR(VLOOKUP(I722,CIIU!A:B,2,0),\"\")","v":""}]
[null,null,null,null,null,null,null,null,null,{"$f":"IFERROR(VLOOKUP(I723,CIIU!A:B,2,0),\"\")","v":""}]
[null,null,null,null,null,null,null,null,null,{"$f":"IFERROR(VLOOKUP(I724,CIIU!A:B,2,0),\"\")","v":""}]
[null,null,null,null,null,null,null,null,null,{"$f":"IFERROR(VLOOKUP(I725,CIIU!A:B,2,0),\"\")","v":""}]
[null,null,null,null,null,null,null,null,null,{"$f":"IFERROR(VLOOKUP(I726,CIIU!A:B,2,0),\"\")","v":""}]
[null,null,null,null,null,null,null,null,null,{"$f":"IFERROR(VLOOKUP(I727,CIIU!A:B,2,0),\"\")","v":""}]
[null,null,null,null,null,null,null,null,null,{"$f":"IFERROR(VLOOKUP(I728,CIIU!A:B,2,0),\"\")","v":""}]
[null,null,null,null,null,null,null,null,null,{"$f":"IFERROR(VLOOKUP(I729,CIIU!A:B,2,0),\"\")","v":""}]
[null,null,null,null,null,null,null,null,null,{"$f":"IFERROR(VLOOKUP(I730,CIIU!A:B,2,0),\"\")","v":""}]
[null,null,null,null,null,null,null,null,null,{"$f":"IFERROR(VLOOKUP(I731,CIIU!A:B,2,0),\"\")","v":""}]
[null,null,null,null,null,null,null,null,null,{"$f":"IFERROR(VLOOKUP(I732,CIIU!A:B,2,0),\"\")","v":""}]
[null,null,null,null,null,null,null,null,null,{"$f":"IFERROR(VLOOKUP(I733,CIIU!A:B,2,0),\"\")","v":""}]
[null,null,null,null,null,null,null,null,null,{"$f":"IFERROR(VLOOKUP(I734,CIIU!A:B,2,0),\"\")","v":""}]
[null,null,null,null,null,null,null,null,null,{"$f":"IFERROR(VLOOKUP(I735,CIIU!A:B,2,0),\"\")","v":""}]
[null,null,null,null,null,null,null,null,null,{"$f":"IFERROR(VLOOKUP(I736,CIIU!A:B,2,0),\"\")","v":""}]
[null,null,null,null,null,null,null,null,null,{"$f":"IFERROR(VLOOKUP(I737,CIIU!A:B,2,0),\"\")","v":""}]
[null,null,null,null,null,null,null,null,null,{"$f":"IFERROR(VLOOKUP(I738,CIIU!A:B,2,0),\"\")","v":""}]
[null,null,null,null,null,null,null,null,null,{"$f":"IFERROR(VLOOKUP(I739,CIIU!A:B,2,0),\"\")","v":""}]
[null,null,null,null,null,null,null,null,null,{"$f":"IFERROR(VLOOKUP(I740,CIIU!A:B,2,0),\"\")","v":""}]
[null,null,null,null,null,null,null,null,null,{"$f":"IFERROR(VLOOKUP(I741,CIIU!A:B,2,0),\"\")","v":""}]
[null,null,null,null,null,null,null,null,null,{"$f":"IFERROR(VLOOKUP(I742,CIIU!A:B,2,0),\"\")","v":""}]
[null,null,null,null,null,null,null,null,null,{"$f":"IFERROR(VLOOKUP(I743,CIIU!A:B,2,0),\"\")","v":""}]
[null,null,null,null,null,null,null,null,null,{"$f":"IFERROR(VLOOKUP(I744,CIIU!A:B,2,0),\"\")","v":""}]
[null,null,null,null,null,null,null,null,null,{"$f":"IFERROR(VLOOKUP(I745,CIIU!A:B,2,0),\"\")","v":""}]
[null,null,null,null,null,null,null,null,null,{"$f":"IFERROR(VLOOKUP(I746,CIIU!A:B,2,0),\"\")","v":""}]
[null,null,null,null,null,null,null,null,null,{"$f":"IFERROR(VLOOKUP(I747,CIIU!A:B,2,0),\"\")","v":""}]
[null,null,null,null,null,null,null,null,null,{"$f":"IFERROR(VLOOKUP(I748,CIIU!A:B,2,0),\"\")","v":""}]
[null,null,null,null,null,null,null,null,null,{"$f":"IFERROR(VLOOKUP(I749,CIIU!A:B,2,0),\"\")","v":""}]
[null,null,null,null,null,null,null,null,null,{"$f":"IFERROR(VLOOKUP(I750,CIIU!A:B,2,0),\"\")","v":""}]
[null,null,null,null,null,null,null,null,null,{"$f":"IFERROR(VLOOKUP(I751,CIIU!A:B,2,0),\"\")","v":""}]
[null,null,null,null,null,null,null,null,null,{"$f":"IFERROR(VLOOKUP(I752,CIIU!A:B,2,0),\"\")","v":""}]
[null,null,null,null,null,null,null,null,null,{"$f":"IFERROR(VLOOKUP(I753,CIIU!A:B,2,0),\"\")","v":""}]
[null,null,null,null,null,null,null,null,null,{"$f":"IFERROR(VLOOKUP(I754,CIIU!A:B,2,0),\"\")","v":""}]
[null,null,null,null,null,null,null,null,null,{"$f":"IFERROR(VLOOKUP(I755,CIIU!A:B,2,0),\"\")","v":""}]
[null,null,null,null,null,null,null,null,null,{"$f":"IFERROR(VLOOKUP(I756,CIIU!A:B,2,0),\"\")","v":""}]
[null,null,null,null,null,null,null,null,null,{"$f":"IFERROR(VLOOKUP(I757,CIIU!A:B,2,0),\"\")","v":""}]
[null,null,null,null,null,null,null,null,null,{"$f":"IFERROR(VLOOKUP(I758,CIIU!A:B,2,0),\"\")","v":""}]
[null,null,null,null,null,null,null,null,null,{"$f":"IFERROR(VLOOKUP(I759,CIIU!A:B,2,0),\"\")","v":""}]
[null,null,null,null,null,null,null,null,null,{"$f":"IFERROR(VLOOKUP(I760,CIIU!A:B,2,0),\"\")","v":""}]
[null,null,null,null,null,null,null,null,null,{"$f":"IFERROR(VLOOKUP(I761,CIIU!A:B,2,0),\"\")","v":""}]
[null,null,null,null,null,null,null,null,null,{"$f":"IFERROR(VLOOKUP(I762,CIIU!A:B,2,0),\"\")","v":""}]
[null,null,null,null,null,null,null,null,null,{"$f":"IFERROR(VLOOKUP(I763,CIIU!A:B,2,0),\"\")","v":""}]
[null,null,null,null,null,null,null,null,null,{"$f":"IFERROR(VLOOKUP(I764,CIIU!A:B,2,0),\"\")","v":""}]
[null,null,null,null,null,null,null,null,null,{"$f":"IFERROR(VLOOKUP(I765,CIIU!A:B,2,0),\"\")","v":""}]
[null,null,null,null,null,null,null,null,null,{"$f":"IFERROR(VLOOKUP(I766,CIIU!A:B,2,0),\"\")","v":""}]
[null,null,null,null,null,null,null,null,null,{"$f":"IFERROR(VLOOKUP(I767,CIIU!A:B,2,0),\"\")","v":""}]
[null,null,null,null,null,null,null,null,null,{"$f":"IFERROR(VLOOKUP(I768,CIIU!A:B,2,0),\"\")","v":""}]
[null,null,null,null,null,null,null,null,null,{"$f":"IFERROR(VLOOKUP(I769,CIIU!A:B,2,0),\"\")","v":""}]
[null,null,null,null,null,null,null,null,null,{"$f":"IFERROR(VLOOKUP(I770,CIIU!A:B,2,0),\"\")","v":""}]
[null,null,null,null,null,null,null,null,null,{"$f":"IFERROR(VLOOKUP(I771,CIIU!A:B,2,0),\"\")","v":""}]
[null,null,null,null,null,null,null,null,null,{"$f":"IFERROR(VLOOKUP(I772,CIIU!A:B,2,0),\"\")","v":""}]
[null,null,null,null,null,null,null,null,null,{"$f":"IFERROR(VLOOKUP(I773,CIIU!A:B,2,0),\"\")","v":""}]
[null,null,null,null,null,null,null,null,null,{"$f":"IFERROR(VLOOKUP(I774,CIIU!A:B,2,0),\"\")","v":""}]
[null,null,null,null,null,null,null,null,null,{"$f":"IFERROR(VLOOKUP(I775,CIIU!A:B,2,0),\"\")","v":""}]
[null,null,null,null,null,null,null,null,null,{"$f":"IFERROR(VLOOKUP(I776,CIIU!A:B,2,0),\"\")","v":""}]
[null,null,null,null,null,null,null,null,null,{"$f":"IFERROR(VLOOKUP(I777,CIIU!A:B,2,0),\"\")","v":""}]
[null,null,null,null,null,null,null,null,null,{"$f":"IFERROR(VLOOKUP(I778,CIIU!A:B,2,0),\"\")","v":""}]
[null,null,null,null,null,null,null,null,null,{"$f":"IFERROR(VLOOKUP(I779,CIIU!A:B,2,0),\"\")","v":""}]
[null,null,null,null,null,null,null,null,null,{"$f":"IFERROR(VLOOKUP(I780,CIIU!A:B,2,0),\"\")","v":""}]
[null,null,null,null,null,null,null,null,null,{"$f":"IFERROR(VLOOKUP(I781,CIIU!A:B,2,0),\"\")","v":""}]
[null,null,null,null,null,null,null,null,null,{"$f":"IFERROR(VLOOKUP(I782,CIIU!A:B,2,0),\"\")","v":""}]
[null,null,null,null,null,null,null,null,null,{"$f":"IFERROR(VLOOKUP(I783,CIIU!A:B,2,0),\"\")","v":""}]
[null,null,null,null,null,null,null,null,null,{"$f":"IFERROR(VLOOKUP(I784,CIIU!A:B,2,0),\"\")","v":""}]
[null,null,null,null,null,null,null,null,null,{"$f":"IFERROR(VLOOKUP(I785,CIIU!A:B,2,0),\"\")","v":""}]
[null,null,null,null,null,null,null,null,null,{"$f":"IFERROR(VLOOKUP(I786,CIIU!A:B,2,0),\"\")","v":""}]
[null,null,null,null,null,null,null,null,null,{"$f":"IFERROR(VLOOKUP(I787,CIIU!A:B,2,0),\"\")","v":""}]
[null,null,null,null,null,null,null,null,null,{"$f":"IFERROR(VLOOKUP(I788,CIIU!A:B,2,0),\"\")","v":""}]
[null,null,null,null,null,null,null,null,null,{"$f":"IFERROR(VLOOKUP(I789,CIIU!A:B,2,0),\"\")","v":""}]
[null,null,null,null,null,null,null,null,null,{"$f":"IFERROR(VLOOKUP(I790,CIIU!A:B,2,0),\"\")","v":""}]
[null,null,null,null,null,null,null,null,null,{"$f":"IFERROR(VLOOKUP(I791,CIIU!A:B,2,0),\"\")","v":""}]
[null,null,null,null,null,null,null,null,null,{"$f":"IFERROR(VLOOKUP(I792,CIIU!A:B,2,0),\"\")","v":""}]
[null,null,null,null,null,null,null,null,null,{"$f":"IFERROR(VLOOKUP(I793,CIIU!A:B,2,0),\"\")","v":""}]
[null,null,null,null,null,null,null,null,null,{"$f":"IFERROR(VLOOKUP(I794,CIIU!A:B,2,0),\"\")","v":""}]
[null,null,null,null,null,null,null,null,null,{"$f":"IFERROR(VLOOKUP(I795,CIIU!A:B,2,0),\"\")","v":""}]
[null,null,null,null,null,null,null,null,null,{"$f":"IFERROR(VLOOKUP(I796,CIIU!A:B,2,0),\"\")","v":""}]
[null,null,null,null,null,null,null,null,null,{"$f":"IFERROR(VLOOKUP(I797,CIIU!A:B,2,0),\"\")","v":""}]
[null,null,null,null,null,null,null,null,null,{"$f":"IFERROR(VLOOKUP(I798,CIIU!A:B,2,0),\"\")","v":""}]
[null,null,null,null,null,null,null,null,null,{"$f":"IFERROR(VLOOKUP(I799,CIIU!A:B,2,0),\"\")","v":""}]
[null,null,null,null,null,null,null,null,null,{"$f":"IFERROR(VLOOKUP(I800,CIIU!A:B,2,0),\"\")","v":""}]
[null,null,null,null,null,null,null,null,null,{"$f":"IFERROR(VLOOKUP(I801,CIIU!A:B,2,0),\"\")","v":""}]
[null,null,null,null,null,null,null,null,null,{"$f":"IFERROR(VLOOKUP(I802,CIIU!A:B,2,0),\"\")","v":""}]
[null,null,null,null,null,null,null,null,null,{"$f":"IFERROR(VLOOKUP(I803,CIIU!A:B,2,0),\"\")","v":""}]
[null,null,null,null,null,null,null,null,null,{"$f":"IFERROR(VLOOKUP(I804,CIIU!A:B,2,0),\"\")","v":""}]
[null,null,null,null,null,null,null,null,null,{"$f":"IFERROR(VLOOKUP(I805,CIIU!A:B,2,0),\"\")","v":""}]
[null,null,null,null,null,null,null,null,null,{"$f":"IFERROR(VLOOKUP(I806,CIIU!A:B,2,0),\"\")","v":""}]
[null,null,null,null,null,null,null,null,null,{"$f":"IFERROR(VLOOKUP(I807,CIIU!A:B,2,0),\"\")","v":""}]
[null,null,null,null,null,null,null,null,null,{"$f":"IFERROR(VLOOKUP(I808,CIIU!A:B,2,0),\"\")","v":""}]
[null,null,null,null,null,null,null,null,null,{"$f":"IFERROR(VLOOKUP(I809,CIIU!A:B,2,0),\"\")","v":""}]
[null,null,null,null,null,null,null,null,null,{"$f":"IFERROR(VLOOKUP(I810,CIIU!A:B,2,0),\"\")","v":""}]
[null,null,null,null,null,null,null,null,null,{"$f":"IFERROR(VLOOKUP(I811,CIIU!A:B,2,0),\"\")","v":""}]
[null,null,null,null,null,null,null,null,null,{"$f":"IFERROR(VLOOKUP(I812,CIIU!A:B,2,0),\"\")","v":""}]
[null,null,null,null,null,null,null,null,null,{"$f":"IFERROR(VLOOKUP(I813,CIIU!A:B,2,0),\"\")","v":""}]
[null,null,null,null,null,null,null,null,null,{"$f":"IFERROR(VLOOKUP(I814,CIIU!A:B,2,0),\"\")","v":""}]
[null,null,null,null,null,null,null,null,null,{"$f":"IFERROR(VLOOKUP(I815,CIIU!A:B,2,0),\"\")","v":""}]
[null,null,null,null,null,null,null,null,null,{"$f":"IFERROR(VLOOKUP(I816,CIIU!A:B,2,0),\"\")","v":""}]
[null,null,null,null,null,null,null,null,null,{"$f":"IFERROR(VLOOKUP(I817,CIIU!A:B,2,0),\"\")","v":""}]
[null,null,null,null,null,null,null,null,null,{"$f":"IFERROR(VLOOKUP(I818,CIIU!A:B,2,0),\"\")","v":""}]
[null,null,null,null,null,null,null,null,null,{"$f":"IFERROR(VLOOKUP(I819,CIIU!A:B,2,0),\"\")","v":""}]
[null,null,null,null,null,null,null,null,null,{"$f":"IFERROR(VLOOKUP(I820,CIIU!A:B,2,0),\"\")","v":""}]
[null,null,null,null,null,null,null,null,null,{"$f":"IFERROR(VLOOKUP(I821,CIIU!A:B,2,0),\"\")","v":""}]
[null,null,null,null,null,null,null,null,null,{"$f":"IFERROR(VLOOKUP(I822,CIIU!A:B,2,0),\"\")","v":""}]
[null,null,null,null,null,null,null,null,null,{"$f":"IFERROR(VLOOKUP(I823,CIIU!A:B,2,0),\"\")","v":""}]
[null,null,null,null,null,null,null,null,null,{"$f":"IFERROR(VLOOKUP(I824,CIIU!A:B,2,0),\"\")","v":""}]
[null,null,null,null,null,null,null,null,null,{"$f":"IFERROR(VLOOKUP(I825,CIIU!A:B,2,0),\"\")","v":""}]
[null,null,null,null,null,null,null,null,null,{"$f":"IFERROR(VLOOKUP(I826,CIIU!A:B,2,0),\"\")","v":""}]
[null,null,null,null,null,null,null,null,null,{"$f":"IFERROR(VLOOKUP(I827,CIIU!A:B,2,0),\"\")","v":""}]
[null,null,null,null,null,null,null,null,null,{"$f":"IFERROR(VLOOKUP(I828,CIIU!A:B,2,0),\"\")","v":""}]
[null,null,null,null,null,null,null,null,null,{"$f":"IFERROR(VLOOKUP(I829,CIIU!A:B,2,0),\"\")","v":""}]
[null,null,null,null,null,null,null,null,null,{"$f":"IFERROR(VLOOKUP(I830,CIIU!A:B,2,0),\"\")","v":""}]
[null,null,null,null,null,null,null,null,null,{"$f":"IFERROR(VLOOKUP(I831,CIIU!A:B,2,0),\"\")","v":""}]
[null,null,null,null,null,null,null,null,null,{"$f":"IFERROR(VLOOKUP(I832,CIIU!A:B,2,0),\"\")","v":""}]
[null,null,null,null,null,null,null,null,null,{"$f":"IFERROR(VLOOKUP(I833,CIIU!A:B,2,0),\"\")","v":""}]
[null,null,null,null,null,null,null,null,null,{"$f":"IFERROR(VLOOKUP(I834,CIIU!A:B,2,0),\"\")","v":""}]
[null,null,null,null,null,null,null,null,null,{"$f":"IFERROR(VLOOKUP(I835,CIIU!A:B,2,0),\"\")","v":""}]
[null,null,null,null,null,null,null,null,null,{"$f":"IFERROR(VLOOKUP(I836,CIIU!A:B,2,0),\"\")","v":""}]
[null,null,null,null,null,null,null,null,null,{"$f":"IFERROR(VLOOKUP(I837,CIIU!A:B,2,0),\"\")","v":""}]
[null,null,null,null,null,null,null,null,null,{"$f":"IFERROR(VLOOKUP(I838,CIIU!A:B,2,0),\"\")","v":""}]
[null,null,null,null,null,null,null,null,null,{"$f":"IFERROR(VLOOKUP(I839,CIIU!A:B,2,0),\"\")","v":""}]
[null,null,null,null,null,null,null,null,null,{"$f":"IFERROR(VLOOKUP(I840,CIIU!A:B,2,0),\"\")","v":""}]
[null,null,null,null,null,null,null,null,null,{"$f":"IFERROR(VLOOKUP(I841,CIIU!A:B,2,0),\"\")","v":""}]
[null,null,null,null,null,null,null,null,null,{"$f":"IFERROR(VLOOKUP(I842,CIIU!A:B,2,0),\"\")","v":""}]
[null,null,null,null,null,null,null,null,null,{"$f":"IFERROR(VLOOKUP(I843,CIIU!A:B,2,0),\"\")","v":""}]
[null,null,null,null,null,null,null,null,null,{"$f":"IFERROR(VLOOKUP(I844,CIIU!A:B,2,0),\"\")","v":""}]
[null,null,null,null,null,null,null,null,null,{"$f":"IFERROR(VLOOKUP(I845,CIIU!A:B,2,0),\"\")","v":""}]
[null,null,null,null,null,null,null,null,null,{"$f":"IFERROR(VLOOKUP(I846,CIIU!A:B,2,0),\"\")","v":""}]
[null,null,null,null,null,null,null,null,null,{"$f":"IFERROR(VLOOKUP(I847,CIIU!A:B,2,0),\"\")","v":""}]
[null,null,null,null,null,null,null,null,null,{"$f":"IFERROR(VLOOKUP(I848,CIIU!A:B,2,0),\"\")","v":""}]
[null,null,null,null,null,null,null,null,null,{"$f":"IFERROR(VLOOKUP(I849,CIIU!A:B,2,0),\"\")","v":""}]
[null,null,null,null,null,null,null,null,null,{"$f":"IFERROR(VLOOKUP(I850,CIIU!A:B,2,0),\"\")","v":""}]
[null,null,null,null,null,null,null,null,null,{"$f":"IFERROR(VLOOKUP(I851,CIIU!A:B,2,0),\"\")","v":""}]
[null,null,null,null,null,null,null,null,null,{"$f":"IFERROR(VLOOKUP(I852,CIIU!A:B,2,0),\"\")","v":""}]
[null,null,null,null,null,null,null,null,null,{"$f":"IFERROR(VLOOKUP(I853,CIIU!A:B,2,0),\"\")","v":""}]
[null,null,null,null,null,null,null,null,null,{"$f":"IFERROR(VLOOKUP(I854,CIIU!A:B,2,0),\"\")","v":""}]
[null,null,null,null,null,null,null,null,null,{"$f":"IFERROR(VLOOKUP(I855,CIIU!A:B,2,0),\"\")","v":""}]
[null,null,null,null,null,null,null,null,null,{"$f":"IFERROR(VLOOKUP(I856,CIIU!A:B,2,0),\"\")","v":""}]
[null,null,null,null,null,null,null,null,null,{"$f":"IFERROR(VLOOKUP(I857,CIIU!A:B,2,0),\"\")","v":""}]
[null,null,null,null,null,null,null,null,null,{"$f":"IFERROR(VLOOKUP(I858,CIIU!A:B,2,0),\"\")","v":""}]
[null,null,null,null,null,null,null,null,null,{"$f":"IFERROR(VLOOKUP(I859,CIIU!A:B,2,0),\"\")","v":""}]
[null,null,null,null,null,null,null,null,null,{"$f":"IFERROR(VLOOKUP(I860,CIIU!A:B,2,0),\"\")","v":""}]
[null,null,null,null,null,null,null,null,null,{"$f":"IFERROR(VLOOKUP(I861,CIIU!A:B,2,0),\"\")","v":""}]
[null,null,null,null,null,null,null,null,null,{"$f":"IFERROR(VLOOKUP(I862,CIIU!A:B,2,0),\"\")","v":""}]
[null,null,null,null,null,null,null,null,null,{"$f":"IFERROR(VLOOKUP(I863,CIIU!A:B,2,0),\"\")","v":""}]
[null,null,null,null,null,null,null,null,null,{"$f":"IFERROR(VLOOKUP(I864,CIIU!A:B,2,0),\"\")","v":""}]
[null,null,null,null,null,null,null,null,null,{"$f":"IFERROR(VLOOKUP(I865,CIIU!A:B,2,0),\"\")","v":""}]
[null,null,null,null,null,null,null,null,null,{"$f":"IFERROR(VLOOKUP(I866,CIIU!A:B,2,0),\"\")","v":""}]
[null,null,null,null,null,null,null,null,null,{"$f":"IFERROR(VLOOKUP(I867,CIIU!A:B,2,0),\"\")","v":""}]
[null,null,null,null,null,null,null,null,null,{"$f":"IFERROR(VLOOKUP(I868,CIIU!A:B,2,0),\"\")","v":""}]
[null,null,null,null,null,null,null,null,null,{"$f":"IFERROR(VLOOKUP(I869,CIIU!A:B,2,0),\"\")","v":""}]
[null,null,null,null,null,null,null,null,null,{"$f":"IFERROR(VLOOKUP(I870,CIIU!A:B,2,0),\"\")","v":""}]
[null,null,null,null,null,null,null,null,null,{"$f":"IFERROR(VLOOKUP(I871,CIIU!A:B,2,0),\"\")","v":""}]
[null,null,null,null,null,null,null,null,null,{"$f":"IFERROR(VLOOKUP(I872,CIIU!A:B,2,0),\"\")","v":""}]
[null,null,null,null,null,null,null,null,null,{"$f":"IFERROR(VLOOKUP(I873,CIIU!A:B,2,0),\"\")","v":""}]
[null,null,null,null,null,null,null,null,null,{"$f":"IFERROR(VLOOKUP(I874,CIIU!A:B,2,0),\"\")","v":""}]
[null,null,null,null,null,null,null,null,null,{"$f":"IFERROR(VLOOKUP(I875,CIIU!A:B,2,0),\"\")","v":""}]
[null,null,null,null,null,null,null,null,null,{"$f":"IFERROR(VLOOKUP(I876,CIIU!A:B,2,0),\"\")","v":""}]
[null,null,null,null,null,null,null,null,null,{"$f":"IFERROR(VLOOKUP(I877,CIIU!A:B,2,0),\"\")","v":""}]
[null,null,null,null,null,null,null,null,null,{"$f":"IFERROR(VLOOKUP(I878,CIIU!A:B,2,0),\"\")","v":""}]
[null,null,null,null,null,null,null,null,null,{"$f":"IFERROR(VLOOKUP(I879,CIIU!A:B,2,0),\"\")","v":""}]
[null,null,null,null,null,null,null,null,null,{"$f":"IFERROR(VLOOKUP(I880,CIIU!A:B,2,0),\"\")","v":""}]
[null,null,null,null,null,null,null,null,null,{"$f":"IFERROR(VLOOKUP(I881,CIIU!A:B,2,0),\"\")","v":""}]
[null,null,null,null,null,null,null,null,null,{"$f":"IFERROR(VLOOKUP(I882,CIIU!A:B,2,0),\"\")","v":""}]
[null,null,null,null,null,null,null,null,null,{"$f":"IFERROR(VLOOKUP(I883,CIIU!A:B,2,0),\"\")","v":""}]
[null,null,null,null,null,null,null,null,null,{"$f":"IFERROR(VLOOKUP(I884,CIIU!A:B,2,0),\"\")","v":""}]
[null,null,null,null,null,null,null,null,null,{"$f":"IFERROR(VLOOKUP(I885,CIIU!A:B,2,0),\"\")","v":""}]
[null,null,null,null,null,null,null,null,null,{"$f":"IFERROR(VLOOKUP(I886,CIIU!A:B,2,0),\"\")","v":""}]
[null,null,null,null,null,null,null,null,null,{"$f":"IFERROR(VLOOKUP(I887,CIIU!A:B,2,0),\"\")","v":""}]
[null,null,null,null,null,null,null,null,null,{"$f":"IFERROR(VLOOKUP(I888,CIIU!A:B,2,0),\"\")","v":""}]
[null,null,null,null,null,null,null,null,null,{"$f":"IFERROR(VLOOKUP(I889,CIIU!A:B,2,0),\"\")","v":""}]
[null,null,null,null,null,null,null,null,null,{"$f":"IFERROR(VLOOKUP(I890,CIIU!A:B,2,0),\"\")","v":""}]
[null,null,null,null,null,null,null,null,null,{"$f":"IFERROR(VLOOKUP(I891,CIIU!A:B,2,0),\"\")","v":""}]
[null,null,null,null,null,null,null,null,null,{"$f":"IFERROR(VLOOKUP(I892,CIIU!A:B,2,0),\"\")","v":""}]
[null,null,null,null,null,null,null,null,null,{"$f":"IFERROR(VLOOKUP(I893,CIIU!A:B,2,0),\"\")","v":""}]
[null,null,null,null,null,null,null,null,null,{"$f":"IFERROR(VLOOKUP(I894,CIIU!A:B,2,0),\"\")","v":""}]
[null,null,null,null,null,null,null,null,null,{"$f":"IFERROR(VLOOKUP(I895,CIIU!A:B,2,0),\"\")","v":""}]
[null,null,null,null,null,null,null,null,null,{"$f":"IFERROR(VLOOKUP(I896,CIIU!A:B,2,0),\"\")","v":""}]
[null,null,null,null,null,null,null,null,null,{"$f":"IFERROR(VLOOKUP(I897,CIIU!A:B,2,0),\"\")","v":""}]
[null,null,null,null,null,null,null,null,null,{"$f":"IFERROR(VLOOKUP(I898,CIIU!A:B,2,0),\"\")","v":""}]
[null,null,null,null,null,null,null,null,null,{"$f":"IFERROR(VLOOKUP(I899,CIIU!A:B,2,0),\"\")","v":""}]
[null,null,null,null,null,null,null,null,null,{"$f":"IFERROR(VLOOKUP(I900,CIIU!A:B,2,0),\"\")","v":""}]
[null,null,null,null,null,null,null,null,null,{"$f":"IFERROR(VLOOKUP(I901,CIIU!A:B,2,0),\"\")","v":""}]
[null,null,null,null,null,null,null,null,null,{"$f":"IFERROR(VLOOKUP(I902,CIIU!A:B,2,0),\"\")","v":""}]
[null,null,null,null,null,null,null,null,null,{"$f":"IFERROR(VLOOKUP(I903,CIIU!A:B,2,0),\"\")","v":""}]
[null,null,null,null,null,null,null,null,null,{"$f":"IFERROR(VLOOKUP(I904,CIIU!A:B,2,0),\"\")","v":""}]
[null,null,null,null,null,null,null,null,null,{"$f":"IFERROR(VLOOKUP(I905,CIIU!A:B,2,0),\"\")","v":""}]
[null,null,null,null,null,null,null,null,null,{"$f":"IFERROR(VLOOKUP(I906,CIIU!A:B,2,0),\"\")","v":""}]
[null,null,null,null,null,null,null,null,null,{"$f":"IFERROR(VLOOKUP(I907,CIIU!A:B,2,0),\"\")","v":""}]
[null,null,null,null,null,null,null,null,null,{"$f":"IFERROR(VLOOKUP(I908,CIIU!A:B,2,0),\"\")","v":""}]
[null,null,null,null,null,null,null,null,null,{"$f":"IFERROR(VLOOKUP(I909,CIIU!A:B,2,0),\"\")","v":""}]
[null,null,null,null,null,null,null,null,null,{"$f":"IFERROR(VLOOKUP(I910,CIIU!A:B,2,0),\"\")","v":""}]
[null,null,null,null,null,null,null,null,null,{"$f":"IFERROR(VLOOKUP(I911,CIIU!A:B,2,0),\"\")","v":""}]
[null,null,null,null,null,null,null,null,null,{"$f":"IFERROR(VLOOKUP(I912,CIIU!A:B,2,0),\"\")","v":""}]
[null,null,null,null,null,null,null,null,null,{"$f":"IFERROR(VLOOKUP(I913,CIIU!A:B,2,0),\"\")","v":""}]
[null,null,null,null,null,null,null,null,null,{"$f":"IFERROR(VLOOKUP(I914,CIIU!A:B,2,0),\"\")","v":""}]
[null,null,null,null,null,null,null,null,null,{"$f":"IFERROR(VLOOKUP(I915,CIIU!A:B,2,0),\"\")","v":""}]
[null,null,null,null,null,null,null,null,null,{"$f":"IFERROR(VLOOKUP(I916,CIIU!A:B,2,0),\"\")","v":""}]
[null,null,null,null,null,null,null,null,null,{"$f":"IFERROR(VLOOKUP(I917,CIIU!A:B,2,0),\"\")","v":""}]
[null,null,null,null,null,null,null,null,null,{"$f":"IFERROR(VLOOKUP(I918,CIIU!A:B,2,0),\"\")","v":""}]
[null,null,null,null,null,null,null,null,null,{"$f":"IFERROR(VLOOKUP(I919,CIIU!A:B,2,0),\"\")","v":""}]
[null,null,null,null,null,null,null,null,null,{"$f":"IFERROR(VLOOKUP(I920,CIIU!A:B,2,0),\"\")","v":""}]
[null,null,null,null,null,null,null,null,null,{"$f":"IFERROR(VLOOKUP(I921,CIIU!A:B,2,0),\"\")","v":""}]
[null,null,null,null,null,null,null,null,null,{"$f":"IFERROR(VLOOKUP(I922,CIIU!A:B,2,0),\"\")","v":""}]
[null,null,null,null,null,null,null,null,null,{"$f":"IFERROR(VLOOKUP(I923,CIIU!A:B,2,0),\"\")","v":""}]
[null,null,null,null,null,null,null,null,null,{"$f":"IFERROR(VLOOKUP(I924,CIIU!A:B,2,0),\"\")","v":""}]
[null,null,null,null,null,null,null,null,null,{"$f":"IFERROR(VLOOKUP(I925,CIIU!A:B,2,0),\"\")","v":""}]
[null,null,null,null,null,null,null,null,null,{"$f":"IFERROR(VLOOKUP(I926,CIIU!A:B,2,0),\"\")","v":""}]
[null,null,null,null,null,null,null,null,null,{"$f":"IFERROR(VLOOKUP(I927,CIIU!A:B,2,0),\"\")","v":""}]
[null,null,null,null,null,null,null,null,null,{"$f":"IFERROR(VLOOKUP(I928,CIIU!A:B,2,0),\"\")","v":""}]
[null,null,null,null,null,null,null,null,null,{"$f":"IFERROR(VLOOKUP(I929,CIIU!A:B,2,0),\"\")","v":""}]
[null,null,null,null,null,null,null,null,null,{"$f":"IFERROR(VLOOKUP(I930,CIIU!A:B,2,0),\"\")","v":""}]
[null,null,null,null,null,null,null,null,null,{"$f":"IFERROR(VLOOKUP(I931,CIIU!A:B,2,0),\"\")","v":""}]
[null,null,null,null,null,null,null,null,null,{"$f":"IFERROR(VLOOKUP(I932,CIIU!A:B,2,0),\"\")","v":""}]
[null,null,null,null,null,null,null,null,null,{"$f":"IFERROR(VLOOKUP(I933,CIIU!A:B,2,0),\"\")","v":""}]
[null,null,null,null,null,null,null,null,null,{"$f":"IFERROR(VLOOKUP(I934,CIIU!A:B,2,0),\"\")","v":""}]
[null,null,null,null,null,null,null,null,null,{"$f":"IFERROR(VLOOKUP(I935,CIIU!A:B,2,0),\"\")","v":""}]
[null,null,null,null,null,null,null,null,null,{"$f":"IFERROR(VLOOKUP(I936,CIIU!A:B,2,0),\"\")","v":""}]
[null,null,null,null,null,null,null,null,null,{"$f":"IFERROR(VLOOKUP(I937,CIIU!A:B,2,0),\"\")","v":""}]
[null,null,null,null,null,null,null,null,null,{"$f":"IFERROR(VLOOKUP(I938,CIIU!A:B,2,0),\"\")","v":""}]
[null,null,null,null,null,null,null,null,null,{"$f":"IFERROR(VLOOKUP(I939,CIIU!A:B,2,0),\"\")","v":""}]
[null,null,null,null,null,null,null,null,null,{"$f":"IFERROR(VLOOKUP(I940,CIIU!A:B,2,0),\"\")","v":""}]
[null,null,null,null,null,null,null,null,null,{"$f":"IFERROR(VLOOKUP(I941,CIIU!A:B,2,0),\"\")","v":""}]
[null,null,null,null,null,null,null,null,null,{"$f":"IFERROR(VLOOKUP(I942,CIIU!A:B,2,0),\"\")","v":""}]
[null,null,null,null,null,null,null,null,null,{"$f":"IFERROR(VLOOKUP(I943,CIIU!A:B,2,0),\"\")","v":""}]
[null,null,null,null,null,null,null,null,null,{"$f":"IFERROR(VLOOKUP(I944,CIIU!A:B,2,0),\"\")","v":""}]
[null,null,null,null,null,null,null,null,null,{"$f":"IFERROR(VLOOKUP(I945,CIIU!A:B,2,0),\"\")","v":""}]
[null,null,null,null,null,null,null,null,null,{"$f":"IFERROR(VLOOKUP(I946,CIIU!A:B,2,0),\"\")","v":""}]
[null,null,null,null,null,null,null,null,null,{"$f":"IFERROR(VLOOKUP(I947,CIIU!A:B,2,0),\"\")","v":""}]
[null,null,null,null,null,null,null,null,null,{"$f":"IFERROR(VLOOKUP(I948,CIIU!A:B,2,0),\"\")","v":""}]
[null,null,null,null,null,null,null,null,null,{"$f":"IFERROR(VLOOKUP(I949,CIIU!A:B,2,0),\"\")","v":""}]
[null,null,null,null,null,null,null,null,null,{"$f":"IFERROR(VLOOKUP(I950,CIIU!A:B,2,0),\"\")","v":""}]
[null,null,null,null,null,null,null,null,null,{"$f":"IFERROR(VLOOKUP(I951,CIIU!A:B,2,0),\"\")","v":""}]
[null,null,null,null,null,null,null,null,null,{"$f":"IFERROR(VLOOKUP(I952,CIIU!A:B,2,0),\"\")","v":""}]
[null,null,null,null,null,null,null,null,null,{"$f":"IFERROR(VLOOKUP(I953,CIIU!A:B,2,0),\"\")","v":""}]
[null,null,null,null,null,null,null,null,null,{"$f":"IFERROR(VLOOKUP(I954,CIIU!A:B,2,0),\"\")","v":""}]
[null,null,null,null,null,null,null,null,null,{"$f":"IFERROR(VLOOKUP(I955,CIIU!A:B,2,0),\"\")","v":""}]
[null,null,null,null,null,null,null,null,null,{"$f":"IFERROR(VLOOKUP(I956,CIIU!A:B,2,0),\"\")","v":""}]
[null,null,null,null,null,null,null,null,null,{"$f":"IFERROR(VLOOKUP(I957,CIIU!A:B,2,0),\"\")","v":""}]
[null,null,null,null,null,null,null,null,null,{"$f":"IFERROR(VLOOKUP(I958,CIIU!A:B,2,0),\"\")","v":""}]
[null,null,null,null,null,null,null,null,null,{"$f":"IFERROR(VLOOKUP(I959,CIIU!A:B,2,0),\"\")","v":""}]
[null,null,null,null,null,null,null,null,null,{"$f":"IFERROR(VLOOKUP(I960,CIIU!A:B,2,0),\"\")","v":""}]
[null,null,null,null,null,null,null,null,null,{"$f":"IFERROR(VLOOKUP(I961,CIIU!A:B,2,0),\"\")","v":""}]
[null,null,null,null,null,null,null,null,null,{"$f":"IFERROR(VLOOKUP(I962,CIIU!A:B,2,0),\"\")","v":""}]
[null,null,null,null,null,null,null,null,null,{"$f":"IFERROR(VLOOKUP(I963,CIIU!A:B,2,0),\"\")","v":""}]
[null,null,null,null,null,null,null,null,null,{"$f":"IFERROR(VLOOKUP(I964,CIIU!A:B,2,0),\"\")","v":""}]
[null,null,null,null,null,null,null,null,null,{"$f":"IFERROR(VLOOKUP(I965,CIIU!A:B,2,0),\"\")","v":""}]
[null,null,null,null,null,null,null,null,null,{"$f":"IFERROR(VLOOKUP(I966,CIIU!A:B,2,0),\"\")","v":""}]
[null,null,null,null,null,null,null,null,null,{"$f":"IFERROR(VLOOKUP(I967,CIIU!A:B,2,0),\"\")","v":""}]
[null,null,null,null,null,null,null,null,null,{"$f":"IFERROR(VLOOKUP(I968,CIIU!A:B,2,0),\"\")","v":""}]
[null,null,null,null,null,null,null,null,null,{"$f":"IFERROR(VLOOKUP(I969,CIIU!A:B,2,0),\"\")","v":""}]
[null,null,null,null,null,null,null,null,null,{"$f":"IFERROR(VLOOKUP(I970,CIIU!A:B,2,0),\"\")","v":""}]
[null,null,null,null,null,null,null,null,null,{"$f":"IFERROR(VLOOKUP(I971,CIIU!A:B,2,0),\"\")","v":""}]
[null,null,null,null,null,null,null,null,null,{"$f":"IFERROR(VLOOKUP(I972,CIIU!A:B,2,0),\"\")","v":""}]
[null,null,null,null,null,null,null,null,null,{"$f":"IFERROR(VLOOKUP(I973,CIIU!A:B,2,0),\"\")","v":""}]
[null,null,null,null,null,null,null,null,null,{"$f":"IFERROR(VLOOKUP(I974,CIIU!A:B,2,0),\"\")","v":""}]
[null,null,null,null,null,null,null,null,null,{"$f":"IFERROR(VLOOKUP(I975,CIIU!A:B,2,0),\"\")","v":""}]
[null,null,null,null,null,null,null,null,null,{"$f":"IFERROR(VLOOKUP(I976,CIIU!A:B,2,0),\"\")","v":""}]
[null,null,null,null,null,null,null,null,null,{"$f":"IFERROR(VLOOKUP(I977,CIIU!A:B,2,0),\"\")","v":""}]
[null,null,null,null,null,null,null,null,null,{"$f":"IFERROR(VLOOKUP(I978,CIIU!A:B,2,0),\"\")","v":""}]
[null,null,null,null,null,null,null,null,null,{"$f":"IFERROR(VLOOKUP(I979,CIIU!A:B,2,0),\"\")","v":""}]
[null,null,null,null,null,null,null,null,null,{"$f":"IFERROR(VLOOKUP(I980,CIIU!A:B,2,0),\"\")","v":""}]
[null,null,null,null,null,null,null,null,null,{"$f":"IFERROR(VLOOKUP(I981,CIIU!A:B,2,0),\"\")","v":""}]
[null,null,null,null,null,null,null,null,null,{"$f":"IFERROR(VLOOKUP(I982,CIIU!A:B,2,0),\"\")","v":""}]
[null,null,null,null,null,null,null,null,null,{"$f":"IFERROR(VLOOKUP(I983,CIIU!A:B,2,0),\"\")","v":""}]
[null,null,null,null,null,null,null,null,null,{"$f":"IFERROR(VLOOKUP(I984,CIIU!A:B,2,0),\"\")","v":""}]
[null,null,null,null,null,null,null,null,null,{"$f":"IFERROR(VLOOKUP(I985,CIIU!A:B,2,0),\"\")","v":""}]
[null,null,null,null,null,null,null,null,null,{"$f":"IFERROR(VLOOKUP(I986,CIIU!A:B,2,0),\"\")","v":""}]
[null,null,null,null,null,null,null,null,null,{"$f":"IFERROR(VLOOKUP(I987,CIIU!A:B,2,0),\"\")","v":""}]
[null,null,null,null,null,null,null,null,null,{"$f":"IFERROR(VLOOKUP(I988,CIIU!A:B,2,0),\"\")","v":""}]
[null,null,null,null,null,null,null,null,null,{"$f":"IFERROR(VLOOKUP(I989,CIIU!A:B,2,0),\"\")","v":""}]
[null,null,null,null,null,null,null,null,null,{"$f":"IFERROR(VLOOKUP(I990,CIIU!A:B,2,0),\"\")","v":""}]
[null,null,null,null,null,null,null,null,null,{"$f":"IFERROR(VLOOKUP(I991,CIIU!A:B,2,0),\"\")","v":""}]
[null,null,null,null,null,null,null,null,null,{"$f":"IFERROR(VLOOKUP(I992,CIIU!A:B,2,0),\"\")","v":""}]
[null,null,null,null,null,null,null,null,null,{"$f":"IFERROR(VLOOKUP(I993,CIIU!A:B,2,0),\"\")","v":""}]
[null,null,null,null,null,null,null,null,null,{"$f":"IFERROR(VLOOKUP(I994,CIIU!A:B,2,0),\"\")","v":""}]
[null,null,null,null,null,null,null,null,null,{"$f":"IFERROR(VLOOKUP(I995,CIIU!A:B,2,0),\"\")","v":""}]
[null,null,null,null,null,null,null,null,null,{"$f":"IFERROR(VLOOKUP(I996,CIIU!A:B,2,0),\"\")","v":""}]
[null,null,null,null,null,null,null,null,null,{"$f":"IFERROR(VLOOKUP(I997,CIIU!A:B,2,0),\"\")","v":""}]
[null,null,null,null,null,null,null,null,null,{"$f":"IFERROR(VLOOKUP(I998,CIIU!A:B,2,0),\"\")","v":""}]
[null,null,null,null,null,null,null,null,null,{"$f":"IFERROR(VLOOKUP(I999,CIIU!A:B,2,0),\"\")","v":""}]
[null,null,null,null,null,null,null,null,null,{"$f":"IFERROR(VLOOKUP(I1000,CIIU!A:B,2,0),\"\")","v":""}]
[null,null,null,null,null,null,null,null,null,{"$f":"IFERROR(VLOOKUP(I1001,CIIU!A:B,2,0),\"\")","v":""}]
[null,null,null,null,null,null,null,null,null,{"$f":"IFERROR(VLOOKUP(I1002,CIIU!A:B,2,0),\"\")","v":""}]
[null,null,null,null,null,null,null,null,null,{"$f":"IFERROR(VLOOKUP(I1003,CIIU!A:B,2,0),\"\")","v":""}]
[null,null,null,null,null,null,null,null,null,{"$f":"IFERROR(VLOOKUP(I1004,CIIU!A:B,2,0),\"\")","v":""}]
[null,null,null,null,null,null,null,null,null,{"$f":"IFERROR(VLOOKUP(I1005,CIIU!A:B,2,0),\"\")","v":""}]
[null,null,null,null,null,null,null,null,null,{"$f":"IFERROR(VLOOKUP(I1006,CIIU!A:B,2,0),\"\")","v":""}]
[null,null,null,null,null,null,null,null,null,{"$f":"IFERROR(VLOOKUP(I1007,CIIU!A:B,2,0),\"\")","v":""}]
[null,null,null,null,null,null,null,null,null,{"$f":"IFERROR(VLOOKUP(I1008,CIIU!A:B,2,0),\"\")","v":""}]
[null,null,null,null,null,null,null,null,null,{"$f":"IFERROR(VLOOKUP(I1009,CIIU!A:B,2,0),\"\")","v":""}]
[null,null,null,null,null,null,null,null,null,{"$f":"IFERROR(VLOOKUP(I1010,CIIU!A:B,2,0),\"\")","v":""}]
[null,null,null,null,null,null,null,null,null,{"$f":"IFERROR(VLOOKUP(I1011,CIIU!A:B,2,0),\"\")","v":""}]
[null,null,null,null,null,null,null,null,null,{"$f":"IFERROR(VLOOKUP(I1012,CIIU!A:B,2,0),\"\")","v":""}]
[null,null,null,null,null,null,null,null,null,{"$f":"IFERROR(VLOOKUP(I1013,CIIU!A:B,2,0),\"\")","v":""}]
[null,null,null,null,null,null,null,null,null,{"$f":"IFERROR(VLOOKUP(I1014,CIIU!A:B,2,0),\"\")","v":""}]
[null,null,null,null,null,null,null,null,null,{"$f":"IFERROR(VLOOKUP(I1015,CIIU!A:B,2,0),\"\")","v":""}]
[null,null,null,null,null,null,null,null,null,{"$f":"IFERROR(VLOOKUP(I1016,CIIU!A:B,2,0),\"\")","v":""}]
[null,null,null,null,null,null,null,null,null,{"$f":"IFERROR(VLOOKUP(I1017,CIIU!A:B,2,0),\"\")","v":""}]
[null,null,null,null,null,null,null,null,null,{"$f":"IFERROR(VLOOKUP(I1018,CIIU!A:B,2,0),\"\")","v":""}]
[null,null,null,null,null,null,null,null,null,{"$f":"IFERROR(VLOOKUP(I1019,CIIU!A:B,2,0),\"\")","v":""}]
[null,null,null,null,null,null,null,null,null,{"$f":"IFERROR(VLOOKUP(I1020,CIIU!A:B,2,0),\"\")","v":""}]
[null,null,null,null,null,null,null,null,null,{"$f":"IFERROR(VLOOKUP(I1021,CIIU!A:B,2,0),\"\")","v":""}]
[null,null,null,null,null,null,null,null,null,{"$f":"IFERROR(VLOOKUP(I1022,CIIU!A:B,2,0),\"\")","v":""}]
[null,null,null,null,null,null,null,null,null,{"$f":"IFERROR(VLOOKUP(I1023,CIIU!A:B,2,0),\"\")","v":""}]
[null,null,null,null,null,null,null,null,null,{"$f":"IFERROR(VLOOKUP(I1024,CIIU!A:B,2,0),\"\")","v":""}]
[null,null,null,null,null,null,null,null,null,{"$f":"IFERROR(VLOOKUP(I1025,CIIU!A:B,2,0),\"\")","v":""}]
[null,null,null,null,null,null,null,null,null,{"$f":"IFERROR(VLOOKUP(I1026,CIIU!A:B,2,0),\"\")","v":""}]
[null,null,null,null,null,null,null,null,null,{"$f":"IFERROR(VLOOKUP(I1027,CIIU!A:B,2,0),\"\")","v":""}]
[null,null,null,null,null,null,null,null,null,{"$f":"IFERROR(VLOOKUP(I1028,CIIU!A:B,2,0),\"\")","v":""}]
[null,null,null,null,null,null,null,null,null,{"$f":"IFERROR(VLOOKUP(I1029,CIIU!A:B,2,0),\"\")","v":""}]
[null,null,null,null,null,null,null,null,null,{"$f":"IFERROR(VLOOKUP(I1030,CIIU!A:B,2,0),\"\")","v":""}]
[null,null,null,null,null,null,null,null,null,{"$f":"IFERROR(VLOOKUP(I1031,CIIU!A:B,2,0),\"\")","v":""}]
[null,null,null,null,null,null,null,null,null,{"$f":"IFERROR(VLOOKUP(I1032,CIIU!A:B,2,0),\"\")","v":""}]
[null,null,null,null,null,null,null,null,null,{"$f":"IFERROR(VLOOKUP(I1033,CIIU!A:B,2,0),\"\")","v":""}]
[null,null,null,null,null,null,null,null,null,{"$f":"IFERROR(VLOOKUP(I1034,CIIU!A:B,2,0),\"\")","v":""}]
[null,null,null,null,null,null,null,null,null,{"$f":"IFERROR(VLOOKUP(I1035,CIIU!A:B,2,0),\"\")","v":""}]
[null,null,null,null,null,null,null,null,null,{"$f":"IFERROR(VLOOKUP(I1036,CIIU!A:B,2,0),\"\")","v":""}]
[null,null,null,null,null,null,null,null,null,{"$f":"IFERROR(VLOOKUP(I1037,CIIU!A:B,2,0),\"\")","v":""}]
[null,null,null,null,null,null,null,null,null,{"$f":"IFERROR(VLOOKUP(I1038,CIIU!A:B,2,0),\"\")","v":""}]
[null,null,null,null,null,null,null,null,null,{"$f":"IFERROR(VLOOKUP(I1039,CIIU!A:B,2,0),\"\")","v":""}]
[null,null,null,null,null,null,null,null,null,{"$f":"IFERROR(VLOOKUP(I1040,CIIU!A:B,2,0),\"\")","v":""}]
[null,null,null,null,null,null,null,null,null,{"$f":"IFERROR(VLOOKUP(I1041,CIIU!A:B,2,0),\"\")","v":""}]
[null,null,null,null,null,null,null,null,null,{"$f":"IFERROR(VLOOKUP(I1042,CIIU!A:B,2,0),\"\")","v":""}]
[null,null,null,null,null,null,null,null,null,{"$f":"IFERROR(VLOOKUP(I1043,CIIU!A:B,2,0),\"\")","v":""}]
[null,null,null,null,null,null,null,null,null,{"$f":"IFERROR(VLOOKUP(I1044,CIIU!A:B,2,0),\"\")","v":""}]
[null,null,null,null,null,null,null,null,null,{"$f":"IFERROR(VLOOKUP(I1045,CIIU!A:B,2,0),\"\")","v":""}]
[null,null,null,null,null,null,null,null,null,{"$f":"IFERROR(VLOOKUP(I1046,CIIU!A:B,2,0),\"\")","v":""}]
[null,null,null,null,null,null,null,null,null,{"$f":"IFERROR(VLOOKUP(I1047,CIIU!A:B,2,0),\"\")","v":""}]
[null,null,null,null,null,null,null,null,null,{"$f":"IFERROR(VLOOKUP(I1048,CIIU!A:B,2,0),\"\")","v":""}]
[null,null,null,null,null,null,null,null,null,{"$f":"IFERROR(VLOOKUP(I1049,CIIU!A:B,2,0),\"\")","v":""}]
[null,null,null,null,null,null,null,null,null,{"$f":"IFERROR(VLOOKUP(I1050,CIIU!A:B,2,0),\"\")","v":""}]
[null,null,null,null,null,null,null,null,null,{"$f":"IFERROR(VLOOKUP(I1051,CIIU!A:B,2,0),\"\")","v":""}]
[null,null,null,null,null,null,null,null,null,{"$f":"IFERROR(VLOOKUP(I1052,CIIU!A:B,2,0),\"\")","v":""}]
[null,null,null,null,null,null,null,null,null,{"$f":"IFERROR(VLOOKUP(I1053,CIIU!A:B,2,0),\"\")","v":""}]
[null,null,null,null,null,null,null,null,null,{"$f":"IFERROR(VLOOKUP(I1054,CIIU!A:B,2,0),\"\")","v":""}]
[null,null,null,null,null,null,null,null,null,{"$f":"IFERROR(VLOOKUP(I1055,CIIU!A:B,2,0),\"\")","v":""}]
[null,null,null,null,null,null,null,null,null,{"$f":"IFERROR(VLOOKUP(I1056,CIIU!A:B,2,0),\"\")","v":""}]
[null,null,null,null,null,null,null,null,null,{"$f":"IFERROR(VLOOKUP(I1057,CIIU!A:B,2,0),\"\")","v":""}]
[null,null,null,null,null,null,null,null,null,{"$f":"IFERROR(VLOOKUP(I1058,CIIU!A:B,2,0),\"\")","v":""}]
[null,null,null,null,null,null,null,null,null,{"$f":"IFERROR(VLOOKUP(I1059,CIIU!A:B,2,0),\"\")","v":""}]
[null,null,null,null,null,null,null,null,null,{"$f":"IFERROR(VLOOKUP(I1060,CIIU!A:B,2,0),\"\")","v":""}]
[null,null,null,null,null,null,null,null,null,{"$f":"IFERROR(VLOOKUP(I1061,CIIU!A:B,2,0),\"\")","v":""}]
[null,null,null,null,null,null,null,null,null,{"$f":"IFERROR(VLOOKUP(I1062,CIIU!A:B,2,0),\"\")","v":""}]
[null,null,null,null,null,null,null,null,null,{"$f":"IFERROR(VLOOKUP(I1063,CIIU!A:B,2,0),\"\")","v":""}]
[null,null,null,null,null,null,null,null,null,{"$f":"IFERROR(VLOOKUP(I1064,CIIU!A:B,2,0),\"\")","v":""}]
[null,null,null,null,null,null,null,null,null,{"$f":"IFERROR(VLOOKUP(I1065,CIIU!A:B,2,0),\"\")","v":""}]
[null,null,null,null,null,null,null,null,null,{"$f":"IFERROR(VLOOKUP(I1066,CIIU!A:B,2,0),\"\")","v":""}]
[null,null,null,null,null,null,null,null,null,{"$f":"IFERROR(VLOOKUP(I1067,CIIU!A:B,2,0),\"\")","v":""}]
[null,null,null,null,null,null,null,null,null,{"$f":"IFERROR(VLOOKUP(I1068,CIIU!A:B,2,0),\"\")","v":""}]
[null,null,null,null,null,null,null,null,null,{"$f":"IFERROR(VLOOKUP(I1069,CIIU!A:B,2,0),\"\")","v":""}]
[null,null,null,null,null,null,null,null,null,{"$f":"IFERROR(VLOOKUP(I1070,CIIU!A:B,2,0),\"\")","v":""}]
[null,null,null,null,null,null,null,null,null,{"$f":"IFERROR(VLOOKUP(I1071,CIIU!A:B,2,0),\"\")","v":""}]
[null,null,null,null,null,null,null,null,null,{"$f":"IFERROR(VLOOKUP(I1072,CIIU!A:B,2,0),\"\")","v":""}]
[null,null,null,null,null,null,null,null,null,{"$f":"IFERROR(VLOOKUP(I1073,CIIU!A:B,2,0),\"\")","v":""}]
[null,null,null,null,null,null,null,null,null,{"$f":"IFERROR(VLOOKUP(I1074,CIIU!A:B,2,0),\"\")","v":""}]
[null,null,null,null,null,null,null,null,null,{"$f":"IFERROR(VLOOKUP(I1075,CIIU!A:B,2,0),\"\")","v":""}]
[null,null,null,null,null,null,null,null,null,{"$f":"IFERROR(VLOOKUP(I1076,CIIU!A:B,2,0),\"\")","v":""}]
[null,null,null,null,null,null,null,null,null,{"$f":"IFERROR(VLOOKUP(I1077,CIIU!A:B,2,0),\"\")","v":""}]
[null,null,null,null,null,null,null,null,null,{"$f":"IFERROR(VLOOKUP(I1078,CIIU!A:B,2,0),\"\")","v":""}]
[null,null,null,null,null,null,null,null,null,{"$f":"IFERROR(VLOOKUP(I1079,CIIU!A:B,2,0),\"\")","v":""}]
[null,null,null,null,null,null,null,null,null,{"$f":"IFERROR(VLOOKUP(I1080,CIIU!A:B,2,0),\"\")","v":""}]
[null,null,null,null,null,null,null,null,null,{"$f":"IFERROR(VLOOKUP(I1081,CIIU!A:B,2,0),\"\")","v":""}]
[null,null,null,null,null,null,null,null,null,{"$f":"IFERROR(VLOOKUP(I1082,CIIU!A:B,2,0),\"\")","v":""}]
[null,null,null,null,null,null,null,null,null,{"$f":"IFERROR(VLOOKUP(I1083,CIIU!A:B,2,0),\"\")","v":""}]
[null,null,null,null,null,null,null,null,null,{"$f":"IFERROR(VLOOKUP(I1084,CIIU!A:B,2,0),\"\")","v":""}]
[null,null,null,null,null,null,null,null,null,{"$f":"IFERROR(VLOOKUP(I1085,CIIU!A:B,2,0),\"\")","v":""}]
[null,null,null,null,null,null,null,null,null,{"$f":"IFERROR(VLOOKUP(I1086,CIIU!A:B,2,0),\"\")","v":""}]
[null,null,null,null,null,null,null,null,null,{"$f":"IFERROR(VLOOKUP(I1087,CIIU!A:B,2,0),\"\")","v":""}]
[null,null,null,null,null,null,null,null,null,{"$f":"IFERROR(VLOOKUP(I1088,CIIU!A:B,2,0),\"\")","v":""}]
[null,null,null,null,null,null,null,null,null,{"$f":"IFERROR(VLOOKUP(I1089,CIIU!A:B,2,0),\"\")","v":""}]
[null,null,null,null,null,null,null,null,null,{"$f":"IFERROR(VLOOKUP(I1090,CIIU!A:B,2,0),\"\")","v":""}]
[null,null,null,null,null,null,null,null,null,{"$f":"IFERROR(VLOOKUP(I1091,CIIU!A:B,2,0),\"\")","v":""}]
[null,null,null,null,null,null,null,null,null,{"$f":"IFERROR(VLOOKUP(I1092,CIIU!A:B,2,0),\"\")","v":""}]
[null,null,null,null,null,null,null,null,null,{"$f":"IFERROR(VLOOKUP(I1093,CIIU!A:B,2,0),\"\")","v":""}]
[null,null,null,null,null,null,null,null,null,{"$f":"IFERROR(VLOOKUP(I1094,CIIU!A:B,2,0),\"\")","v":""}]
[null,null,null,null,null,null,null,null,null,{"$f":"IFERROR(VLOOKUP(I1095,CIIU!A:B,2,0),\"\")","v":""}]
[null,null,null,null,null,null,null,null,null,{"$f":"IFERROR(VLOOKUP(I1096,CIIU!A:B,2,0),\"\")","v":""}]
[null,null,null,null,null,null,null,null,null,{"$f":"IFERROR(VLOOKUP(I1097,CIIU!A:B,2,0),\"\")","v":""}]
[null,null,null,null,null,null,null,null,null,{"$f":"IFERROR(VLOOKUP(I1098,CIIU!A:B,2,0),\"\")","v":""}]
[null,null,null,null,null,null,null,null,null,{"$f":"IFERROR(VLOOKUP(I1099,CIIU!A:B,2,0),\"\")","v":""}]
[null,null,null,null,null,null,null,null,null,{"$f":"IFERROR(VLOOKUP(I1100,CIIU!A:B,2,0),\"\")","v":""}]
[null,null,null,null,null,null,null,null,null,{"$f":"IFERROR(VLOOKUP(I1101,CIIU!A:B,2,0),\"\")","v":""}]
[null,null,null,null,null,null,null,null,null,{"$f":"IFERROR(VLOOKUP(I1102,CIIU!A:B,2,0),\"\")","v":""}]
[null,null,null,null,null,null,null,null,null,{"$f":"IFERROR(VLOOKUP(I1103,CIIU!A:B,2,0),\"\")","v":""}]
[null,null,null,null,null,null,null,null,null,{"$f":"IFERROR(VLOOKUP(I1104,CIIU!A:B,2,0),\"\")","v":""}]
[null,null,null,null,null,null,null,null,null,{"$f":"IFERROR(VLOOKUP(I1105,CIIU!A:B,2,0),\"\")","v":""}]
[null,null,null,null,null,null,null,null,null,{"$f":"IFERROR(VLOOKUP(I1106,CIIU!A:B,2,0),\"\")","v":""}]
[null,null,null,null,null,null,null,null,null,{"$f":"IFERROR(VLOOKUP(I1107,CIIU!A:B,2,0),\"\")","v":""}]
[null,null,null,null,null,null,null,null,null,{"$f":"IFERROR(VLOOKUP(I1108,CIIU!A:B,2,0),\"\")","v":""}]
[null,null,null,null,null,null,null,null,null,{"$f":"IFERROR(VLOOKUP(I1109,CIIU!A:B,2,0),\"\")","v":""}]
[null,null,null,null,null,null,null,null,null,{"$f":"IFERROR(VLOOKUP(I1110,CIIU!A:B,2,0),\"\")","v":""}]
[null,null,null,null,null,null,null,null,null,{"$f":"IFERROR(VLOOKUP(I1111,CIIU!A:B,2,0),\"\")","v":""}]
[null,null,null,null,null,null,null,null,null,{"$f":"IFERROR(VLOOKUP(I1112,CIIU!A:B,2,0),\"\")","v":""}]
[null,null,null,null,null,null,null,null,null,{"$f":"IFERROR(VLOOKUP(I1113,CIIU!A:B,2,0),\"\")","v":""}]
[null,null,null,null,null,null,null,null,null,{"$f":"IFERROR(VLOOKUP(I1114,CIIU!A:B,2,0),\"\")","v":""}]
[null,null,null,null,null,null,null,null,null,{"$f":"IFERROR(VLOOKUP(I1115,CIIU!A:B,2,0),\"\")","v":""}]
[null,null,null,null,null,null,null,null,null,{"$f":"IFERROR(VLOOKUP(I1116,CIIU!A:B,2,0),\"\")","v":""}]
[null,null,null,null,null,null,null,null,null,{"$f":"IFERROR(VLOOKUP(I1117,CIIU!A:B,2,0),\"\")","v":""}]
[null,null,null,null,null,null,null,null,null,{"$f":"IFERROR(VLOOKUP(I1118,CIIU!A:B,2,0),\"\")","v":""}]
[null,null,null,null,null,null,null,null,null,{"$f":"IFERROR(VLOOKUP(I1119,CIIU!A:B,2,0),\"\")","v":""}]
[null,null,null,null,null,null,null,null,null,{"$f":"IFERROR(VLOOKUP(I1120,CIIU!A:B,2,0),\"\")","v":""}]
[null,null,null,null,null,null,null,null,null,{"$f":"IFERROR(VLOOKUP(I1121,CIIU!A:B,2,0),\"\")","v":""}]
[null,null,null,null,null,null,null,null,null,{"$f":"IFERROR(VLOOKUP(I1122,CIIU!A:B,2,0),\"\")","v":""}]
[null,null,null,null,null,null,null,null,null,{"$f":"IFERROR(VLOOKUP(I1123,CIIU!A:B,2,0),\"\")","v":""}]
[null,null,null,null,null,null,null,null,null,{"$f":"IFERROR(VLOOKUP(I1124,CIIU!A:B,2,0),\"\")","v":""}]
[null,null,null,null,null,null,null,null,null,{"$f":"IFERROR(VLOOKUP(I1125,CIIU!A:B,2,0),\"\")","v":""}]
[null,null,null,null,null,null,null,null,null,{"$f":"IFERROR(VLOOKUP(I1126,CIIU!A:B,2,0),\"\")","v":""}]
[null,null,null,null,null,null,null,null,null,{"$f":"IFERROR(VLOOKUP(I1127,CIIU!A:B,2,0),\"\")","v":""}]
[null,null,null,null,null,null,null,null,null,{"$f":"IFERROR(VLOOKUP(I1128,CIIU!A:B,2,0),\"\")","v":""}]
[null,null,null,null,null,null,null,null,null,{"$f":"IFERROR(VLOOKUP(I1129,CIIU!A:B,2,0),\"\")","v":""}]
[null,null,null,null,null,null,null,null,null,{"$f":"IFERROR(VLOOKUP(I1130,CIIU!A:B,2,0),\"\")","v":""}]
[null,null,null,null,null,null,null,null,null,{"$f":"IFERROR(VLOOKUP(I1131,CIIU!A:B,2,0),\"\")","v":""}]
[null,null,null,null,null,null,null,null,null,{"$f":"IFERROR(VLOOKUP(I1132,CIIU!A:B,2,0),\"\")","v":""}]
[null,null,null,null,null,null,null,null,null,{"$f":"IFERROR(VLOOKUP(I1133,CIIU!A:B,2,0),\"\")","v":""}]
[null,null,null,null,null,null,null,null,null,{"$f":"IFERROR(VLOOKUP(I1134,CIIU!A:B,2,0),\"\")","v":""}]
[null,null,null,null,null,null,null,null,null,{"$f":"IFERROR(VLOOKUP(I1135,CIIU!A:B,2,0),\"\")","v":""}]
[null,null,null,null,null,null,null,null,null,{"$f":"IFERROR(VLOOKUP(I1136,CIIU!A:B,2,0),\"\")","v":""}]
[null,null,null,null,null,null,null,null,null,{"$f":"IFERROR(VLOOKUP(I1137,CIIU!A:B,2,0),\"\")","v":""}]
[null,null,null,null,null,null,null,null,null,{"$f":"IFERROR(VLOOKUP(I1138,CIIU!A:B,2,0),\"\")","v":""}]
[null,null,null,null,null,null,null,null,null,{"$f":"IFERROR(VLOOKUP(I1139,CIIU!A:B,2,0),\"\")","v":""}]
[null,null,null,null,null,null,null,null,null,{"$f":"IFERROR(VLOOKUP(I1140,CIIU!A:B,2,0),\"\")","v":""}]
[null,null,null,null,null,null,null,null,null,{"$f":"IFERROR(VLOOKUP(I1141,CIIU!A:B,2,0),\"\")","v":""}]
[null,null,null,null,null,null,null,null,null,{"$f":"IFERROR(VLOOKUP(I1142,CIIU!A:B,2,0),\"\")","v":""}]
[null,null,null,null,null,null,null,null,null,{"$f":"IFERROR(VLOOKUP(I1143,CIIU!A:B,2,0),\"\")","v":""}]
[null,null,null,null,null,null,null,null,null,{"$f":"IFERROR(VLOOKUP(I1144,CIIU!A:B,2,0),\"\")","v":""}]
[null,null,null,null,null,null,null,null,null,{"$f":"IFERROR(VLOOKUP(I1145,CIIU!A:B,2,0),\"\")","v":""}]
[null,null,null,null,null,null,null,null,null,{"$f":"IFERROR(VLOOKUP(I1146,CIIU!A:B,2,0),\"\")","v":""}]
[null,null,null,null,null,null,null,null,null,{"$f":"IFERROR(VLOOKUP(I1147,CIIU!A:B,2,0),\"\")","v":""}]
[null,null,null,null,null,null,null,null,null,{"$f":"IFERROR(VLOOKUP(I1148,CIIU!A:B,2,0),\"\")","v":""}]
[null,null,null,null,null,null,null,null,null,{"$f":"IFERROR(VLOOKUP(I1149,CIIU!A:B,2,0),\"\")","v":""}]
[null,null,null,null,null,null,null,null,null,{"$f":"IFERROR(VLOOKUP(I1150,CIIU!A:B,2,0),\"\")","v":""}]
[null,null,null,null,null,null,null,null,null,{"$f":"IFERROR(VLOOKUP(I1151,CIIU!A:B,2,0),\"\")","v":""}]
[null,null,null,null,null,null,null,null,null,{"$f":"IFERROR(VLOOKUP(I1152,CIIU!A:B,2,0),\"\")","v":""}]
[null,null,null,null,null,null,null,null,null,{"$f":"IFERROR(VLOOKUP(I1153,CIIU!A:B,2,0),\"\")","v":""}]
[null,null,null,null,null,null,null,null,null,{"$f":"IFERROR(VLOOKUP(I1154,CIIU!A:B,2,0),\"\")","v":""}]
[null,null,null,null,null,null,null,null,null,{"$f":"IFERROR(VLOOKUP(I1155,CIIU!A:B,2,0),\"\")","v":""}]
[null,null,null,null,null,null,null,null,null,{"$f":"IFERROR(VLOOKUP(I1156,CIIU!A:B,2,0),\"\")","v":""}]
[null,null,null,null,null,null,null,null,null,{"$f":"IFERROR(VLOOKUP(I1157,CIIU!A:B,2,0),\"\")","v":""}]
[null,null,null,null,null,null,null,null,null,{"$f":"IFERROR(VLOOKUP(I1158,CIIU!A:B,2,0),\"\")","v":""}]
[null,null,null,null,null,null,null,null,null,{"$f":"IFERROR(VLOOKUP(I1159,CIIU!A:B,2,0),\"\")","v":""}]
[null,null,null,null,null,null,null,null,null,{"$f":"IFERROR(VLOOKUP(I1160,CIIU!A:B,2,0),\"\")","v":""}]
[null,null,null,null,null,null,null,null,null,{"$f":"IFERROR(VLOOKUP(I1161,CIIU!A:B,2,0),\"\")","v":""}]
[null,null,null,null,null,null,null,null,null,{"$f":"IFERROR(VLOOKUP(I1162,CIIU!A:B,2,0),\"\")","v":""}]
[null,null,null,null,null,null,null,null,null,{"$f":"IFERROR(VLOOKUP(I1163,CIIU!A:B,2,0),\"\")","v":""}]
[null,null,null,null,null,null,null,null,null,{"$f":"IFERROR(VLOOKUP(I1164,CIIU!A:B,2,0),\"\")","v":""}]
[null,null,null,null,null,null,null,null,null,{"$f":"IFERROR(VLOOKUP(I1165,CIIU!A:B,2,0),\"\")","v":""}]
[null,null,null,null,null,null,null,null,null,{"$f":"IFERROR(VLOOKUP(I1166,CIIU!A:B,2,0),\"\")","v":""}]
[null,null,null,null,null,null,null,null,null,{"$f":"IFERROR(VLOOKUP(I1167,CIIU!A:B,2,0),\"\")","v":""}]
[null,null,null,null,null,null,null,null,null,{"$f":"IFERROR(VLOOKUP(I1168,CIIU!A:B,2,0),\"\")","v":""}]
[null,null,null,null,null,null,null,null,null,{"$f":"IFERROR(VLOOKUP(I1169,CIIU!A:B,2,0),\"\")","v":""}]
[null,null,null,null,null,null,null,null,null,{"$f":"IFERROR(VLOOKUP(I1170,CIIU!A:B,2,0),\"\")","v":""}]
[null,null,null,null,null,null,null,null,null,{"$f":"IFERROR(VLOOKUP(I1171,CIIU!A:B,2,0),\"\")","v":""}]
[null,null,null,null,null,null,null,null,null,{"$f":"IFERROR(VLOOKUP(I1172,CIIU!A:B,2,0),\"\")","v":""}]
[null,null,null,null,null,null,null,null,null,{"$f":"IFERROR(VLOOKUP(I1173,CIIU!A:B,2,0),\"\")","v":""}]
[null,null,null,null,null,null,null,null,null,{"$f":"IFERROR(VLOOKUP(I1174,CIIU!A:B,2,0),\"\")","v":""}]
[null,null,null,null,null,null,null,null,null,{"$f":"IFERROR(VLOOKUP(I1175,CIIU!A:B,2,0),\"\")","v":""}]
[null,null,null,null,null,null,null,null,null,{"$f":"IFERROR(VLOOKUP(I1176,CIIU!A:B,2,0),\"\")","v":""}]
[null,null,null,null,null,null,null,null,null,{"$f":"IFERROR(VLOOKUP(I1177,CIIU!A:B,2,0),\"\")","v":""}]
[null,null,null,null,null,null,null,null,null,{"$f":"IFERROR(VLOOKUP(I1178,CIIU!A:B,2,0),\"\")","v":""}]
[null,null,null,null,null,null,null,null,null,{"$f":"IFERROR(VLOOKUP(I1179,CIIU!A:B,2,0),\"\")","v":""}]
[null,null,null,null,null,null,null,null,null,{"$f":"IFERROR(VLOOKUP(I1180,CIIU!A:B,2,0),\"\")","v":""}]
[null,null,null,null,null,null,null,null,null,{"$f":"IFERROR(VLOOKUP(I1181,CIIU!A:B,2,0),\"\")","v":""}]
[null,null,null,null,null,null,null,null,null,{"$f":"IFERROR(VLOOKUP(I1182,CIIU!A:B,2,0),\"\")","v":""}]
[null,null,null,null,null,null,null,null,null,{"$f":"IFERROR(VLOOKUP(I1183,CIIU!A:B,2,0),\"\")","v":""}]
[null,null,null,null,null,null,null,null,null,{"$f":"IFERROR(VLOOKUP(I1184,CIIU!A:B,2,0),\"\")","v":""}]
[null,null,null,null,null,null,null,null,null,{"$f":"IFERROR(VLOOKUP(I1185,CIIU!A:B,2,0),\"\")","v":""}]
[null,null,null,null,null,null,null,null,null,{"$f":"IFERROR(VLOOKUP(I1186,CIIU!A:B,2,0),\"\")","v":""}]
[null,null,null,null,null,null,null,null,null,{"$f":"IFERROR(VLOOKUP(I1187,CIIU!A:B,2,0),\"\")","v":""}]
[null,null,null,null,null,null,null,null,null,{"$f":"IFERROR(VLOOKUP(I1188,CIIU!A:B,2,0),\"\")","v":""}]
[null,null,null,null,null,null,null,null,null,{"$f":"IFERROR(VLOOKUP(I1189,CIIU!A:B,2,0),\"\")","v":""}]
[null,null,null,null,null,null,null,null,null,{"$f":"IFERROR(VLOOKUP(I1190,CIIU!A:B,2,0),\"\")","v":""}]
[null,null,null,null,null,null,null,null,null,{"$f":"IFERROR(VLOOKUP(I1191,CIIU!A:B,2,0),\"\")","v":""}]
[null,null,null,null,null,null,null,null,null,{"$f":"IFERROR(VLOOKUP(I1192,CIIU!A:B,2,0),\"\")","v":""}]
[null,null,null,null,null,null,null,null,null,{"$f":"IFERROR(VLOOKUP(I1193,CIIU!A:B,2,0),\"\")","v":""}]
[null,null,null,null,null,null,null,null,null,{"$f":"IFERROR(VLOOKUP(I1194,CIIU!A:B,2,0),\"\")","v":""}]
[null,null,null,null,null,null,null,null,null,{"$f":"IFERROR(VLOOKUP(I1195,CIIU!A:B,2,0),\"\")","v":""}]
[null,null,null,null,null,null,null,null,null,{"$f":"IFERROR(VLOOKUP(I1196,CIIU!A:B,2,0),\"\")","v":""}]
[null,null,null,null,null,null,null,null,null,{"$f":"IFERROR(VLOOKUP(I1197,CIIU!A:B,2,0),\"\")","v":""}]
[null,null,null,null,null,null,null,null,null,{"$f":"IFERROR(VLOOKUP(I1198,CIIU!A:B,2,0),\"\")","v":""}]
[null,null,null,null,null,null,null,null,null,{"$f":"IFERROR(VLOOKUP(I1199,CIIU!A:B,2,0),\"\")","v":""}]
[null,null,null,null,null,null,null,null,null,{"$f":"IFERROR(VLOOKUP(I1200,CIIU!A:B,2,0),\"\")","v":""}]
[null,null,null,null,null,null,null,null,null,{"$f":"IFERROR(VLOOKUP(I1201,CIIU!A:B,2,0),\"\")","v":""}]
[null,null,null,null,null,null,null,null,null,{"$f":"IFERROR(VLOOKUP(I1202,CIIU!A:B,2,0),\"\")","v":""}]
[null,null,null,null,null,null,null,null,null,{"$f":"IFERROR(VLOOKUP(I1203,CIIU!A:B,2,0),\"\")","v":""}]
[null,null,null,null,null,null,null,null,null,{"$f":"IFERROR(VLOOKUP(I1204,CIIU!A:B,2,0),\"\")","v":""}]
[null,null,null,null,null,null,null,null,null,{"$f":"IFERROR(VLOOKUP(I1205,CIIU!A:B,2,0),\"\")","v":""}]
[null,null,null,null,null,null,null,null,null,{"$f":"IFERROR(VLOOKUP(I1206,CIIU!A:B,2,0),\"\")","v":""}]
[null,null,null,null,null,null,null,null,null,{"$f":"IFERROR(VLOOKUP(I1207,CIIU!A:B,2,0),\"\")","v":""}]
[null,null,null,null,null,null,null,null,null,{"$f":"IFERROR(VLOOKUP(I1208,CIIU!A:B,2,0),\"\")","v":""}]
[null,null,null,null,null,null,null,null,null,{"$f":"IFERROR(VLOOKUP(I1209,CIIU!A:B,2,0),\"\")","v":""}]
[null,null,null,null,null,null,null,null,null,{"$f":"IFERROR(VLOOKUP(I1210,CIIU!A:B,2,0),\"\")","v":""}]
[null,null,null,null,null,null,null,null,null,{"$f":"IFERROR(VLOOKUP(I1211,CIIU!A:B,2,0),\"\")","v":""}]
[null,null,null,null,null,null,null,null,null,{"$f":"IFERROR(VLOOKUP(I1212,CIIU!A:B,2,0),\"\")","v":""}]
[null,null,null,null,null,null,null,null,null,{"$f":"IFERROR(VLOOKUP(I1213,CIIU!A:B,2,0),\"\")","v":""}]
[null,null,null,null,null,null,null,null,null,{"$f":"IFERROR(VLOOKUP(I1214,CIIU!A:B,2,0),\"\")","v":""}]
[null,null,null,null,null,null,null,null,null,{"$f":"IFERROR(VLOOKUP(I1215,CIIU!A:B,2,0),\"\")","v":""}]
[null,null,null,null,null,null,null,null,null,{"$f":"IFERROR(VLOOKUP(I1216,CIIU!A:B,2,0),\"\")","v":""}]
[null,null,null,null,null,null,null,null,null,{"$f":"IFERROR(VLOOKUP(I1217,CIIU!A:B,2,0),\"\")","v":""}]
[null,null,null,null,null,null,null,null,null,{"$f":"IFERROR(VLOOKUP(I1218,CIIU!A:B,2,0),\"\")","v":""}]
[null,null,null,null,null,null,null,null,null,{"$f":"IFERROR(VLOOKUP(I1219,CIIU!A:B,2,0),\"\")","v":""}]
[null,null,null,null,null,null,null,null,null,{"$f":"IFERROR(VLOOKUP(I1220,CIIU!A:B,2,0),\"\")","v":""}]
[null,null,null,null,null,null,null,null,null,{"$f":"IFERROR(VLOOKUP(I1221,CIIU!A:B,2,0),\"\")","v":""}]
[null,null,null,null,null,null,null,null,null,{"$f":"IFERROR(VLOOKUP(I1222,CIIU!A:B,2,0),\"\")","v":""}]
[null,null,null,null,null,null,null,null,null,{"$f":"IFERROR(VLOOKUP(I1223,CIIU!A:B,2,0),\"\")","v":""}]
[null,null,null,null,null,null,null,null,null,{"$f":"IFERROR(VLOOKUP(I1224,CIIU!A:B,2,0),\"\")","v":""}]
[null,null,null,null,null,null,null,null,null,{"$f":"IFERROR(VLOOKUP(I1225,CIIU!A:B,2,0),\"\")","v":""}]
[null,null,null,null,null,null,null,null,null,{"$f":"IFERROR(VLOOKUP(I1226,CIIU!A:B,2,0),\"\")","v":""}]
[null,null,null,null,null,null,null,null,null,{"$f":"IFERROR(VLOOKUP(I1227,CIIU!A:B,2,0),\"\")","v":""}]
[null,null,null,null,null,null,null,null,null,{"$f":"IFERROR(VLOOKUP(I1228,CIIU!A:B,2,0),\"\")","v":""}]
[null,null,null,null,null,null,null,null,null,{"$f":"IFERROR(VLOOKUP(I1229,CIIU!A:B,2,0),\"\")","v":""}]
[null,null,null,null,null,null,null,null,null,{"$f":"IFERROR(VLOOKUP(I1230,CIIU!A:B,2,0),\"\")","v":""}]
[null,null,null,null,null,null,null,null,null,{"$f":"IFERROR(VLOOKUP(I1231,CIIU!A:B,2,0),\"\")","v":""}]
[null,null,null,null,null,null,null,null,null,{"$f":"IFERROR(VLOOKUP(I1232,CIIU!A:B,2,0),\"\")","v":""}]
[null,null,null,null,null,null,null,null,null,{"$f":"IFERROR(VLOOKUP(I1233,CIIU!A:B,2,0),\"\")","v":""}]
[null,null,null,null,null,null,null,null,null,{"$f":"IFERROR(VLOOKUP(I1234,CIIU!A:B,2,0),\"\")","v":""}]
[null,null,null,null,null,null,null,null,null,{"$f":"IFERROR(VLOOKUP(I1235,CIIU!A:B,2,0),\"\")","v":""}]
[null,null,null,null,null,null,null,null,null,{"$f":"IFERROR(VLOOKUP(I1236,CIIU!A:B,2,0),\"\")","v":""}]
[null,null,null,null,null,null,null,null,null,{"$f":"IFERROR(VLOOKUP(I1237,CIIU!A:B,2,0),\"\")","v":""}]
[null,null,null,null,null,null,null,null,null,{"$f":"IFERROR(VLOOKUP(I1238,CIIU!A:B,2,0),\"\")","v":""}]
[null,null,null,null,null,null,null,null,null,{"$f":"IFERROR(VLOOKUP(I1239,CIIU!A:B,2,0),\"\")","v":""}]
[null,null,null,null,null,null,null,null,null,{"$f":"IFERROR(VLOOKUP(I1240,CIIU!A:B,2,0),\"\")","v":""}]
[null,null,null,null,null,null,null,null,null,{"$f":"IFERROR(VLOOKUP(I1241,CIIU!A:B,2,0),\"\")","v":""}]
[null,null,null,null,null,null,null,null,null,{"$f":"IFERROR(VLOOKUP(I1242,CIIU!A:B,2,0),\"\")","v":""}]
[null,null,null,null,null,null,null,null,null,{"$f":"IFERROR(VLOOKUP(I1243,CIIU!A:B,2,0),\"\")","v":""}]
[null,null,null,null,null,null,null,null,null,{"$f":"IFERROR(VLOOKUP(I1244,CIIU!A:B,2,0),\"\")","v":""}]
[null,null,null,null,null,null,null,null,null,{"$f":"IFERROR(VLOOKUP(I1245,CIIU!A:B,2,0),\"\")","v":""}]
[null,null,null,null,null,null,null,null,null,{"$f":"IFERROR(VLOOKUP(I1246,CIIU!A:B,2,0),\"\")","v":""}]
[null,null,null,null,null,null,null,null,null,{"$f":"IFERROR(VLOOKUP(I1247,CIIU!A:B,2,0),\"\")","v":""}]
[null,null,null,null,null,null,null,null,null,{"$f":"IFERROR(VLOOKUP(I1248,CIIU!A:B,2,0),\"\")","v":""}]
[null,null,null,null,null,null,null,null,null,{"$f":"IFERROR(VLOOKUP(I1249,CIIU!A:B,2,0),\"\")","v":""}]
[null,null,null,null,null,null,null,null,null,{"$f":"IFERROR(VLOOKUP(I1250,CIIU!A:B,2,0),\"\")","v":""}]
[null,null,null,null,null,null,null,null,null,{"$f":"IFERROR(VLOOKUP(I1251,CIIU!A:B,2,0),\"\")","v":""}]
[null,null,null,null,null,null,null,null,null,{"$f":"IFERROR(VLOOKUP(I1252,CIIU!A:B,2,0),\"\")","v":""}]
[null,null,null,null,null,null,null,null,null,{"$f":"IFERROR(VLOOKUP(I1253,CIIU!A:B,2,0),\"\")","v":""}]
[null,null,null,null,null,null,null,null,null,{"$f":"IFERROR(VLOOKUP(I1254,CIIU!A:B,2,0),\"\")","v":""}]
[null,null,null,null,null,null,null,null,null,{"$f":"IFERROR(VLOOKUP(I1255,CIIU!A:B,2,0),\"\")","v":""}]
[null,null,null,null,null,null,null,null,null,{"$f":"IFERROR(VLOOKUP(I1256,CIIU!A:B,2,0),\"\")","v":""}]
[null,null,null,null,null,null,null,null,null,{"$f":"IFERROR(VLOOKUP(I1257,CIIU!A:B,2,0),\"\")","v":""}]
[null,null,null,null,null,null,null,null,null,{"$f":"IFERROR(VLOOKUP(I1258,CIIU!A:B,2,0),\"\")","v":""}]
[null,null,null,null,null,null,null,null,null,{"$f":"IFERROR(VLOOKUP(I1259,CIIU!A:B,2,0),\"\")","v":""}]
[null,null,null,null,null,null,null,null,null,{"$f":"IFERROR(VLOOKUP(I1260,CIIU!A:B,2,0),\"\")","v":""}]
[null,null,null,null,null,null,null,null,null,{"$f":"IFERROR(VLOOKUP(I1261,CIIU!A:B,2,0),\"\")","v":""}]
[null,null,null,null,null,null,null,null,null,{"$f":"IFERROR(VLOOKUP(I1262,CIIU!A:B,2,0),\"\")","v":""}]
[null,null,null,null,null,null,null,null,null,{"$f":"IFERROR(VLOOKUP(I1263,CIIU!A:B,2,0),\"\")","v":""}]
[null,null,null,null,null,null,null,null,null,{"$f":"IFERROR(VLOOKUP(I1264,CIIU!A:B,2,0),\"\")","v":""}]
[null,null,null,null,null,null,null,null,null,{"$f":"IFERROR(VLOOKUP(I1265,CIIU!A:B,2,0),\"\")","v":""}]
[null,null,null,null,null,null,null,null,null,{"$f":"IFERROR(VLOOKUP(I1266,CIIU!A:B,2,0),\"\")","v":""}]
[null,null,null,null,null,null,null,null,null,{"$f":"IFERROR(VLOOKUP(I1267,CIIU!A:B,2,0),\"\")","v":""}]
[null,null,null,null,null,null,null,null,null,{"$f":"IFERROR(VLOOKUP(I1268,CIIU!A:B,2,0),\"\")","v":""}]
[null,null,null,null,null,null,null,null,null,{"$f":"IFERROR(VLOOKUP(I1269,CIIU!A:B,2,0),\"\")","v":""}]
[null,null,null,null,null,null,null,null,null,{"$f":"IFERROR(VLOOKUP(I1270,CIIU!A:B,2,0),\"\")","v":""}]
[null,null,null,null,null,null,null,null,null,{"$f":"IFERROR(VLOOKUP(I1271,CIIU!A:B,2,0),\"\")","v":""}]
[null,null,null,null,null,null,null,null,null,{"$f":"IFERROR(VLOOKUP(I1272,CIIU!A:B,2,0),\"\")","v":""}]
[null,null,null,null,null,null,null,null,null,{"$f":"IFERROR(VLOOKUP(I1273,CIIU!A:B,2,0),\"\")","v":""}]
[null,null,null,null,null,null,null,null,null,{"$f":"IFERROR(VLOOKUP(I1274,CIIU!A:B,2,0),\"\")","v":""}]
[null,null,null,null,null,null,null,null,null,{"$f":"IFERROR(VLOOKUP(I1275,CIIU!A:B,2,0),\"\")","v":""}]
[null,null,null,null,null,null,null,null,null,{"$f":"IFERROR(VLOOKUP(I1276,CIIU!A:B,2,0),\"\")","v":""}]
[null,null,null,null,null,null,null,null,null,{"$f":"IFERROR(VLOOKUP(I1277,CIIU!A:B,2,0),\"\")","v":""}]
[null,null,null,null,null,null,null,null,null,{"$f":"IFERROR(VLOOKUP(I1278,CIIU!A:B,2,0),\"\")","v":""}]
[null,null,null,null,null,null,null,null,null,{"$f":"IFERROR(VLOOKUP(I1279,CIIU!A:B,2,0),\"\")","v":""}]
[null,null,null,null,null,null,null,null,null,{"$f":"IFERROR(VLOOKUP(I1280,CIIU!A:B,2,0),\"\")","v":""}]
[null,null,null,null,null,null,null,null,null,{"$f":"IFERROR(VLOOKUP(I1281,CIIU!A:B,2,0),\"\")","v":""}]
[null,null,null,null,null,null,null,null,null,{"$f":"IFERROR(VLOOKUP(I1282,CIIU!A:B,2,0),\"\")","v":""}]
[null,null,null,null,null,null,null,null,null,{"$f":"IFERROR(VLOOKUP(I1283,CIIU!A:B,2,0),\"\")","v":""}]
[null,null,null,null,null,null,null,null,null,{"$f":"IFERROR(VLOOKUP(I1284,CIIU!A:B,2,0),\"\")","v":""}]
[null,null,null,null,null,null,null,null,null,{"$f":"IFERROR(VLOOKUP(I1285,CIIU!A:B,2,0),\"\")","v":""}]
[null,null,null,null,null,null,null,null,null,{"$f":"IFERROR(VLOOKUP(I1286,CIIU!A:B,2,0),\"\")","v":""}]
[null,null,null,null,null,null,null,null,null,{"$f":"IFERROR(VLOOKUP(I1287,CIIU!A:B,2,0),\"\")","v":""}]
[null,null,null,null,null,null,null,null,null,{"$f":"IFERROR(VLOOKUP(I1288,CIIU!A:B,2,0),\"\")","v":""}]
[null,null,null,null,null,null,null,null,null,{"$f":"IFERROR(VLOOKUP(I1289,CIIU!A:B,2,0),\"\")","v":""}]
[null,null,null,null,null,null,null,null,null,{"$f":"IFERROR(VLOOKUP(I1290,CIIU!A:B,2,0),\"\")","v":""}]
[null,null,null,null,null,null,null,null,null,{"$f":"IFERROR(VLOOKUP(I1291,CIIU!A:B,2,0),\"\")","v":""}]
[null,null,null,null,null,null,null,null,null,{"$f":"IFERROR(VLOOKUP(I1292,CIIU!A:B,2,0),\"\")","v":""}]
[null,null,null,null,null,null,null,null,null,{"$f":"IFERROR(VLOOKUP(I1293,CIIU!A:B,2,0),\"\")","v":""}]
[null,null,null,null,null,null,null,null,null,{"$f":"IFERROR(VLOOKUP(I1294,CIIU!A:B,2,0),\"\")","v":""}]
[null,null,null,null,null,null,null,null,null,{"$f":"IFERROR(VLOOKUP(I1295,CIIU!A:B,2,0),\"\")","v":""}]
[null,null,null,null,null,null,null,null,null,{"$f":"IFERROR(VLOOKUP(I1296,CIIU!A:B,2,0),\"\")","v":""}]
[null,null,null,null,null,null,null,null,null,{"$f":"IFERROR(VLOOKUP(I1297,CIIU!A:B,2,0),\"\")","v":""}]
[null,null,null,null,null,null,null,null,null,{"$f":"IFERROR(VLOOKUP(I1298,CIIU!A:B,2,0),\"\")","v":""}]
[null,null,null,null,null,null,null,null,null,{"$f":"IFERROR(VLOOKUP(I1299,CIIU!A:B,2,0),\"\")","v":""}]
[null,null,null,null,null,null,null,null,null,{"$f":"IFERROR(VLOOKUP(I1300,CIIU!A:B,2,0),\"\")","v":""}]
[null,null,null,null,null,null,null,null,null,{"$f":"IFERROR(VLOOKUP(I1301,CIIU!A:B,2,0),\"\")","v":""}]
[null,null,null,null,null,null,null,null,null,{"$f":"IFERROR(VLOOKUP(I1302,CIIU!A:B,2,0),\"\")","v":""}]
[null,null,null,null,null,null,null,null,null,{"$f":"IFERROR(VLOOKUP(I1303,CIIU!A:B,2,0),\"\")","v":""}]
[null,null,null,null,null,null,null,null,null,{"$f":"IFERROR(VLOOKUP(I1304,CIIU!A:B,2,0),\"\")","v":""}]
[null,null,null,null,null,null,null,null,null,{"$f":"IFERROR(VLOOKUP(I1305,CIIU!A:B,2,0),\"\")","v":""}]
[null,null,null,null,null,null,null,null,null,{"$f":"IFERROR(VLOOKUP(I1306,CIIU!A:B,2,0),\"\")","v":""}]
[null,null,null,null,null,null,null,null,null,{"$f":"IFERROR(VLOOKUP(I1307,CIIU!A:B,2,0),\"\")","v":""}]
[null,null,null,null,null,null,null,null,null,{"$f":"IFERROR(VLOOKUP(I1308,CIIU!A:B,2,0),\"\")","v":""}]
[null,null,null,null,null,null,null,null,null,{"$f":"IFERROR(VLOOKUP(I1309,CIIU!A:B,2,0),\"\")","v":""}]
[null,null,null,null,null,null,null,null,null,{"$f":"IFERROR(VLOOKUP(I1310,CIIU!A:B,2,0),\"\")","v":""}]
[null,null,null,null,null,null,null,null,null,{"$f":"IFERROR(VLOOKUP(I1311,CIIU!A:B,2,0),\"\")","v":""}]
[null,null,null,null,null,null,null,null,null,{"$f":"IFERROR(VLOOKUP(I1312,CIIU!A:B,2,0),\"\")","v":""}]
[null,null,null,null,null,null,null,null,null,{"$f":"IFERROR(VLOOKUP(I1313,CIIU!A:B,2,0),\"\")","v":""}]
[null,null,null,null,null,null,null,null,null,{"$f":"IFERROR(VLOOKUP(I1314,CIIU!A:B,2,0),\"\")","v":""}]
[null,null,null,null,null,null,null,null,null,{"$f":"IFERROR(VLOOKUP(I1315,CIIU!A:B,2,0),\"\")","v":""}]
[null,null,null,null,null,null,null,null,null,{"$f":"IFERROR(VLOOKUP(I1316,CIIU!A:B,2,0),\"\")","v":""}]
[null,null,null,null,null,null,null,null,null,{"$f":"IFERROR(VLOOKUP(I1317,CIIU!A:B,2,0),\"\")","v":""}]
[null,null,null,null,null,null,null,null,null,{"$f":"IFERROR(VLOOKUP(I1318,CIIU!A:B,2,0),\"\")","v":""}]
[null,null,null,null,null,null,null,null,null,{"$f":"IFERROR(VLOOKUP(I1319,CIIU!A:B,2,0),\"\")","v":""}]
[null,null,null,null,null,null,null,null,null,{"$f":"IFERROR(VLOOKUP(I1320,CIIU!A:B,2,0),\"\")","v":""}]
[null,null,null,null,null,null,null,null,null,{"$f":"IFERROR(VLOOKUP(I1321,CIIU!A:B,2,0),\"\")","v":""}]
[null,null,null,null,null,null,null,null,null,{"$f":"IFERROR(VLOOKUP(I1322,CIIU!A:B,2,0),\"\")","v":""}]
[null,null,null,null,null,null,null,null,null,{"$f":"IFERROR(VLOOKUP(I1323,CIIU!A:B,2,0),\"\")","v":""}]
[null,null,null,null,null,null,null,null,null,{"$f":"IFERROR(VLOOKUP(I1324,CIIU!A:B,2,0),\"\")","v":""}]
[null,null,null,null,null,null,null,null,null,{"$f":"IFERROR(VLOOKUP(I1325,CIIU!A:B,2,0),\"\")","v":""}]
[null,null,null,null,null,null,null,null,null,{"$f":"IFERROR(VLOOKUP(I1326,CIIU!A:B,2,0),\"\")","v":""}]
[null,null,null,null,null,null,null,null,null,{"$f":"IFERROR(VLOOKUP(I1327,CIIU!A:B,2,0),\"\")","v":""}]
[null,null,null,null,null,null,null,null,null,{"$f":"IFERROR(VLOOKUP(I1328,CIIU!A:B,2,0),\"\")","v":""}]
[null,null,null,null,null,null,null,null,null,{"$f":"IFERROR(VLOOKUP(I1329,CIIU!A:B,2,0),\"\")","v":""}]
[null,null,null,null,null,null,null,null,null,{"$f":"IFERROR(VLOOKUP(I1330,CIIU!A:B,2,0),\"\")","v":""}]
[null,null,null,null,null,null,null,null,null,{"$f":"IFERROR(VLOOKUP(I1331,CIIU!A:B,2,0),\"\")","v":""}]
[null,null,null,null,null,null,null,null,null,{"$f":"IFERROR(VLOOKUP(I1332,CIIU!A:B,2,0),\"\")","v":""}]
[null,null,null,null,null,null,null,null,null,{"$f":"IFERROR(VLOOKUP(I1333,CIIU!A:B,2,0),\"\")","v":""}]
[null,null,null,null,null,null,null,null,null,{"$f":"IFERROR(VLOOKUP(I1334,CIIU!A:B,2,0),\"\")","v":""}]
[null,null,null,null,null,null,null,null,null,{"$f":"IFERROR(VLOOKUP(I1335,CIIU!A:B,2,0),\"\")","v":""}]
[null,null,null,null,null,null,null,null,null,{"$f":"IFERROR(VLOOKUP(I1336,CIIU!A:B,2,0),\"\")","v":""}]
[null,null,null,null,null,null,null,null,null,{"$f":"IFERROR(VLOOKUP(I1337,CIIU!A:B,2,0),\"\")","v":""}]
[null,null,null,null,null,null,null,null,null,{"$f":"IFERROR(VLOOKUP(I1338,CIIU!A:B,2,0),\"\")","v":""}]
[null,null,null,null,null,null,null,null,null,{"$f":"IFERROR(VLOOKUP(I1339,CIIU!A:B,2,0),\"\")","v":""}]
[null,null,null,null,null,null,null,null,null,{"$f":"IFERROR(VLOOKUP(I1340,CIIU!A:B,2,0),\"\")","v":""}]
[null,null,null,null,null,null,null,null,null,{"$f":"IFERROR(VLOOKUP(I1341,CIIU!A:B,2,0),\"\")","v":""}]
[null,null,null,null,null,null,null,null,null,{"$f":"IFERROR(VLOOKUP(I1342,CIIU!A:B,2,0),\"\")","v":""}]
[null,null,null,null,null,null,null,null,null,{"$f":"IFERROR(VLOOKUP(I1343,CIIU!A:B,2,0),\"\")","v":""}]
[null,null,null,null,null,null,null,null,null,{"$f":"IFERROR(VLOOKUP(I1344,CIIU!A:B,2,0),\"\")","v":""}]
[null,null,null,null,null,null,null,null,null,{"$f":"IFERROR(VLOOKUP(I1345,CIIU!A:B,2,0),\"\")","v":""}]
[null,null,null,null,null,null,null,null,null,{"$f":"IFERROR(VLOOKUP(I1346,CIIU!A:B,2,0),\"\")","v":""}]
[null,null,null,null,null,null,null,null,null,{"$f":"IFERROR(VLOOKUP(I1347,CIIU!A:B,2,0),\"\")","v":""}]
[null,null,null,null,null,null,null,null,null,{"$f":"IFERROR(VLOOKUP(I1348,CIIU!A:B,2,0),\"\")","v":""}]
[null,null,null,null,null,null,null,null,null,{"$f":"IFERROR(VLOOKUP(I1349,CIIU!A:B,2,0),\"\")","v":""}]
[null,null,null,null,null,null,null,null,null,{"$f":"IFERROR(VLOOKUP(I1350,CIIU!A:B,2,0),\"\")","v":""}]
[null,null,null,null,null,null,null,null,null,{"$f":"IFERROR(VLOOKUP(I1351,CIIU!A:B,2,0),\"\")","v":""}]
[null,null,null,null,null,null,null,null,null,{"$f":"IFERROR(VLOOKUP(I1352,CIIU!A:B,2,0),\"\")","v":""}]
[null,null,null,null,null,null,null,null,null,{"$f":"IFERROR(VLOOKUP(I1353,CIIU!A:B,2,0),\"\")","v":""}]
[null,null,null,null,null,null,null,null,null,{"$f":"IFERROR(VLOOKUP(I1354,CIIU!A:B,2,0),\"\")","v":""}]
[null,null,null,null,null,null,null,null,null,{"$f":"IFERROR(VLOOKUP(I1355,CIIU!A:B,2,0),\"\")","v":""}]
[null,null,null,null,null,null,null,null,null,{"$f":"IFERROR(VLOOKUP(I1356,CIIU!A:B,2,0),\"\")","v":""}]
[null,null,null,null,null,null,null,null,null,{"$f":"IFERROR(VLOOKUP(I1357,CIIU!A:B,2,0),\"\")","v":""}]
[null,null,null,null,null,null,null,null,null,{"$f":"IFERROR(VLOOKUP(I1358,CIIU!A:B,2,0),\"\")","v":""}]
[null,null,null,null,null,null,null,null,null,{"$f":"IFERROR(VLOOKUP(I1359,CIIU!A:B,2,0),\"\")","v":""}]
[null,null,null,null,null,null,null,null,null,{"$f":"IFERROR(VLOOKUP(I1360,CIIU!A:B,2,0),\"\")","v":""}]
[null,null,null,null,null,null,null,null,null,{"$f":"IFERROR(VLOOKUP(I1361,CIIU!A:B,2,0),\"\")","v":""}]
[null,null,null,null,null,null,null,null,null,{"$f":"IFERROR(VLOOKUP(I1362,CIIU!A:B,2,0),\"\")","v":""}]
[null,null,null,null,null,null,null,null,null,{"$f":"IFERROR(VLOOKUP(I1363,CIIU!A:B,2,0),\"\")","v":""}]
[null,null,null,null,null,null,null,null,null,{"$f":"IFERROR(VLOOKUP(I1364,CIIU!A:B,2,0),\"\")","v":""}]
[null,null,null,null,null,null,null,null,null,{"$f":"IFERROR(VLOOKUP(I1365,CIIU!A:B,2,0),\"\")","v":""}]
[null,null,null,null,null,null,null,null,null,{"$f":"IFERROR(VLOOKUP(I1366,CIIU!A:B,2,0),\"\")","v":""}]
[null,null,null,null,null,null,null,null,null,{"$f":"IFERROR(VLOOKUP(I1367,CIIU!A:B,2,0),\"\")","v":""}]
[null,null,null,null,null,null,null,null,null,{"$f":"IFERROR(VLOOKUP(I1368,CIIU!A:B,2,0),\"\")","v":""}]
[null,null,null,null,null,null,null,null,null,{"$f":"IFERROR(VLOOKUP(I1369,CIIU!A:B,2,0),\"\")","v":""}]
[null,null,null,null,null,null,null,null,null,{"$f":"IFERROR(VLOOKUP(I1370,CIIU!A:B,2,0),\"\")","v":""}]
[null,null,null,null,null,null,null,null,null,{"$f":"IFERROR(VLOOKUP(I1371,CIIU!A:B,2,0),\"\")","v":""}]
[null,null,null,null,null,null,null,null,null,{"$f":"IFERROR(VLOOKUP(I1372,CIIU!A:B,2,0),\"\")","v":""}]
[null,null,null,null,null,null,null,null,null,{"$f":"IFERROR(VLOOKUP(I1373,CIIU!A:B,2,0),\"\")","v":""}]
[null,null,null,null,null,null,null,null,null,{"$f":"IFERROR(VLOOKUP(I1374,CIIU!A:B,2,0),\"\")","v":""}]
[null,null,null,null,null,null,null,null,null,{"$f":"IFERROR(VLOOKUP(I1375,CIIU!A:B,2,0),\"\")","v":""}]
[null,null,null,null,null,null,null,null,null,{"$f":"IFERROR(VLOOKUP(I1376,CIIU!A:B,2,0),\"\")","v":""}]
[null,null,null,null,null,null,null,null,null,{"$f":"IFERROR(VLOOKUP(I1377,CIIU!A:B,2,0),\"\")","v":""}]
[null,null,null,null,null,null,null,null,null,{"$f":"IFERROR(VLOOKUP(I1378,CIIU!A:B,2,0),\"\")","v":""}]
[null,null,null,null,null,null,null,null,null,{"$f":"IFERROR(VLOOKUP(I1379,CIIU!A:B,2,0),\"\")","v":""}]
[null,null,null,null,null,null,null,null,null,{"$f":"IFERROR(VLOOKUP(I1380,CIIU!A:B,2,0),\"\")","v":""}]
[null,null,null,null,null,null,null,null,null,{"$f":"IFERROR(VLOOKUP(I1381,CIIU!A:B,2,0),\"\")","v":""}]
[null,null,null,null,null,null,null,null,null,{"$f":"IFERROR(VLOOKUP(I1382,CIIU!A:B,2,0),\"\")","v":""}]
[null,null,null,null,null,null,null,null,null,{"$f":"IFERROR(VLOOKUP(I1383,CIIU!A:B,2,0),\"\")","v":""}]
[null,null,null,null,null,null,null,null,null,{"$f":"IFERROR(VLOOKUP(I1384,CIIU!A:B,2,0),\"\")","v":""}]
[null,null,null,null,null,null,null,null,null,{"$f":"IFERROR(VLOOKUP(I1385,CIIU!A:B,2,0),\"\")","v":""}]
[null,null,null,null,null,null,null,null,null,{"$f":"IFERROR(VLOOKUP(I1386,CIIU!A:B,2,0),\"\")","v":""}]
[null,null,null,null,null,null,null,null,null,{"$f":"IFERROR(VLOOKUP(I1387,CIIU!A:B,2,0),\"\")","v":""}]
[null,null,null,null,null,null,null,null,null,{"$f":"IFERROR(VLOOKUP(I1388,CIIU!A:B,2,0),\"\")","v":""}]
[null,null,null,null,null,null,null,null,null,{"$f":"IFERROR(VLOOKUP(I1389,CIIU!A:B,2,0),\"\")","v":""}]
[null,null,null,null,null,null,null,null,null,{"$f":"IFERROR(VLOOKUP(I1390,CIIU!A:B,2,0),\"\")","v":""}]
[null,null,null,null,null,null,null,null,null,{"$f":"IFERROR(VLOOKUP(I1391,CIIU!A:B,2,0),\"\")","v":""}]
[null,null,null,null,null,null,null,null,null,{"$f":"IFERROR(VLOOKUP(I1392,CIIU!A:B,2,0),\"\")","v":""}]
[null,null,null,null,null,null,null,null,null,{"$f":"IFERROR(VLOOKUP(I1393,CIIU!A:B,2,0),\"\")","v":""}]
[null,null,null,null,null,null,null,null,null,{"$f":"IFERROR(VLOOKUP(I1394,CIIU!A:B,2,0),\"\")","v":""}]
[null,null,null,null,null,null,null,null,null,{"$f":"IFERROR(VLOOKUP(I1395,CIIU!A:B,2,0),\"\")","v":""}]
[null,null,null,null,null,null,null,null,null,{"$f":"IFERROR(VLOOKUP(I1396,CIIU!A:B,2,0),\"\")","v":""}]
[null,null,null,null,null,null,null,null,null,{"$f":"IFERROR(VLOOKUP(I1397,CIIU!A:B,2,0),\"\")","v":""}]
[null,null,null,null,null,null,null,null,null,{"$f":"IFERROR(VLOOKUP(I1398,CIIU!A:B,2,0),\"\")","v":""}]
[null,null,null,null,null,null,null,null,null,{"$f":"IFERROR(VLOOKUP(I1399,CIIU!A:B,2,0),\"\")","v":""}]
[null,null,null,null,null,null,null,null,null,{"$f":"IFERROR(VLOOKUP(I1400,CIIU!A:B,2,0),\"\")","v":""}]
[null,null,null,null,null,null,null,null,null,{"$f":"IFERROR(VLOOKUP(I1401,CIIU!A:B,2,0),\"\")","v":""}]
[null,null,null,null,null,null,null,null,null,{"$f":"IFERROR(VLOOKUP(I1402,CIIU!A:B,2,0),\"\")","v":""}]
[null,null,null,null,null,null,null,null,null,{"$f":"IFERROR(VLOOKUP(I1403,CIIU!A:B,2,0),\"\")","v":""}]
[null,null,null,null,null,null,null,null,null,{"$f":"IFERROR(VLOOKUP(I1404,CIIU!A:B,2,0),\"\")","v":""}]
[null,null,null,null,null,null,null,null,null,{"$f":"IFERROR(VLOOKUP(I1405,CIIU!A:B,2,0),\"\")","v":""}]
[null,null,null,null,null,null,null,null,null,{"$f":"IFERROR(VLOOKUP(I1406,CIIU!A:B,2,0),\"\")","v":""}]
[null,null,null,null,null,null,null,null,null,{"$f":"IFERROR(VLOOKUP(I1407,CIIU!A:B,2,0),\"\")","v":""}]
[null,null,null,null,null,null,null,null,null,{"$f":"IFERROR(VLOOKUP(I1408,CIIU!A:B,2,0),\"\")","v":""}]
[null,null,null,null,null,null,null,null,null,{"$f":"IFERROR(VLOOKUP(I1409,CIIU!A:B,2,0),\"\")","v":""}]
[null,null,null,null,null,null,null,null,null,{"$f":"IFERROR(VLOOKUP(I1410,CIIU!A:B,2,0),\"\")","v":""}]
[null,null,null,null,null,null,null,null,null,{"$f":"IFERROR(VLOOKUP(I1411,CIIU!A:B,2,0),\"\")","v":""}]
[null,null,null,null,null,null,null,null,null,{"$f":"IFERROR(VLOOKUP(I1412,CIIU!A:B,2,0),\"\")","v":""}]
[null,null,null,null,null,null,null,null,null,{"$f":"IFERROR(VLOOKUP(I1413,CIIU!A:B,2,0),\"\")","v":""}]
[null,null,null,null,null,null,null,null,null,{"$f":"IFERROR(VLOOKUP(I1414,CIIU!A:B,2,0),\"\")","v":""}]
[null,null,null,null,null,null,null,null,null,{"$f":"IFERROR(VLOOKUP(I1415,CIIU!A:B,2,0),\"\")","v":""}]
[null,null,null,null,null,null,null,null,null,{"$f":"IFERROR(VLOOKUP(I1416,CIIU!A:B,2,0),\"\")","v":""}]
[null,null,null,null,null,null,null,null,null,{"$f":"IFERROR(VLOOKUP(I1417,CIIU!A:B,2,0),\"\")","v":""}]
[null,null,null,null,null,null,null,null,null,{"$f":"IFERROR(VLOOKUP(I1418,CIIU!A:B,2,0),\"\")","v":""}]
[null,null,null,null,null,null,null,null,null,{"$f":"IFERROR(VLOOKUP(I1419,CIIU!A:B,2,0),\"\")","v":""}]
[null,null,null,null,null,null,null,null,null,{"$f":"IFERROR(VLOOKUP(I1420,CIIU!A:B,2,0),\"\")","v":""}]
[null,null,null,null,null,null,null,null,null,{"$f":"IFERROR(VLOOKUP(I1421,CIIU!A:B,2,0),\"\")","v":""}]
[null,null,null,null,null,null,null,null,null,{"$f":"IFERROR(VLOOKUP(I1422,CIIU!A:B,2,0),\"\")","v":""}]
[null,null,null,null,null,null,null,null,null,{"$f":"IFERROR(VLOOKUP(I1423,CIIU!A:B,2,0),\"\")","v":""}]
[null,null,null,null,null,null,null,null,null,{"$f":"IFERROR(VLOOKUP(I1424,CIIU!A:B,2,0),\"\")","v":""}]
[null,null,null,null,null,null,null,null,null,{"$f":"IFERROR(VLOOKUP(I1425,CIIU!A:B,2,0),\"\")","v":""}]
[null,null,null,null,null,null,null,null,null,{"$f":"IFERROR(VLOOKUP(I1426,CIIU!A:B,2,0),\"\")","v":""}]
[null,null,null,null,null,null,null,null,null,{"$f":"IFERROR(VLOOKUP(I1427,CIIU!A:B,2,0),\"\")","v":""}]
[null,null,null,null,null,null,null,null,null,{"$f":"IFERROR(VLOOKUP(I1428,CIIU!A:B,2,0),\"\")","v":""}]
[null,null,null,null,null,null,null,null,null,{"$f":"IFERROR(VLOOKUP(I1429,CIIU!A:B,2,0),\"\")","v":""}]
[null,null,null,null,null,null,null,null,null,{"$f":"IFERROR(VLOOKUP(I1430,CIIU!A:B,2,0),\"\")","v":""}]
[null,null,null,null,null,null,null,null,null,{"$f":"IFERROR(VLOOKUP(I1431,CIIU!A:B,2,0),\"\")","v":""}]
[null,null,null,null,null,null,null,null,null,{"$f":"IFERROR(VLOOKUP(I1432,CIIU!A:B,2,0),\"\")","v":""}]
[null,null,null,null,null,null,null,null,null,{"$f":"IFERROR(VLOOKUP(I1433,CIIU!A:B,2,0),\"\")","v":""}]
[null,null,null,null,null,null,null,null,null,{"$f":"IFERROR(VLOOKUP(I1434,CIIU!A:B,2,0),\"\")","v":""}]
[null,null,null,null,null,null,null,null,null,{"$f":"IFERROR(VLOOKUP(I1435,CIIU!A:B,2,0),\"\")","v":""}]
[null,null,null,null,null,null,null,null,null,{"$f":"IFERROR(VLOOKUP(I1436,CIIU!A:B,2,0),\"\")","v":""}]
[null,null,null,null,null,null,null,null,null,{"$f":"IFERROR(VLOOKUP(I1437,CIIU!A:B,2,0),\"\")","v":""}]
[null,null,null,null,null,null,null,null,null,{"$f":"IFERROR(VLOOKUP(I1438,CIIU!A:B,2,0),\"\")","v":""}]
[null,null,null,null,null,null,null,null,null,{"$f":"IFERROR(VLOOKUP(I1439,CIIU!A:B,2,0),\"\")","v":""}]
[null,null,null,null,null,null,null,null,null,{"$f":"IFERROR(VLOOKUP(I1440,CIIU!A:B,2,0),\"\")","v":""}]
[null,null,null,null,null,null,null,null,null,{"$f":"IFERROR(VLOOKUP(I1441,CIIU!A:B,2,0),\"\")","v":""}]
[null,null,null,null,null,null,null,null,null,{"$f":"IFERROR(VLOOKUP(I1442,CIIU!A:B,2,0),\"\")","v":""}]
[null,null,null,null,null,null,null,null,null,{"$f":"IFERROR(VLOOKUP(I1443,CIIU!A:B,2,0),\"\")","v":""}]
[null,null,null,null,null,null,null,null,null,{"$f":"IFERROR(VLOOKUP(I1444,CIIU!A:B,2,0),\"\")","v":""}]
[null,null,null,null,null,null,null,null,null,{"$f":"IFERROR(VLOOKUP(I1445,CIIU!A:B,2,0),\"\")","v":""}]
[null,null,null,null,null,null,null,null,null,{"$f":"IFERROR(VLOOKUP(I1446,CIIU!A:B,2,0),\"\")","v":""}]
[null,null,null,null,null,null,null,null,null,{"$f":"IFERROR(VLOOKUP(I1447,CIIU!A:B,2,0),\"\")","v":""}]
[null,null,null,null,null,null,null,null,null,{"$f":"IFERROR(VLOOKUP(I1448,CIIU!A:B,2,0),\"\")","v":""}]
[null,null,null,null,null,null,null,null,null,{"$f":"IFERROR(VLOOKUP(I1449,CIIU!A:B,2,0),\"\")","v":""}]
[null,null,null,null,null,null,null,null,null,{"$f":"IFERROR(VLOOKUP(I1450,CIIU!A:B,2,0),\"\")","v":""}]
[null,null,null,null,null,null,null,null,null,{"$f":"IFERROR(VLOOKUP(I1451,CIIU!A:B,2,0),\"\")","v":""}]
[null,null,null,null,null,null,null,null,null,{"$f":"IFERROR(VLOOKUP(I1452,CIIU!A:B,2,0),\"\")","v":""}]
[null,null,null,null,null,null,null,null,null,{"$f":"IFERROR(VLOOKUP(I1453,CIIU!A:B,2,0),\"\")","v":""}]
[null,null,null,null,null,null,null,null,null,{"$f":"IFERROR(VLOOKUP(I1454,CIIU!A:B,2,0),\"\")","v":""}]
[null,null,null,null,null,null,null,null,null,{"$f":"IFERROR(VLOOKUP(I1455,CIIU!A:B,2,0),\"\")","v":""}]
[null,null,null,null,null,null,null,null,null,{"$f":"IFERROR(VLOOKUP(I1456,CIIU!A:B,2,0),\"\")","v":""}]
[null,null,null,null,null,null,null,null,null,{"$f":"IFERROR(VLOOKUP(I1457,CIIU!A:B,2,0),\"\")","v":""}]
[null,null,null,null,null,null,null,null,null,{"$f":"IFERROR(VLOOKUP(I1458,CIIU!A:B,2,0),\"\")","v":""}]
[null,null,null,null,null,null,null,null,null,{"$f":"IFERROR(VLOOKUP(I1459,CIIU!A:B,2,0),\"\")","v":""}]
[null,null,null,null,null,null,null,null,null,{"$f":"IFERROR(VLOOKUP(I1460,CIIU!A:B,2,0),\"\")","v":""}]
[null,null,null,null,null,null,null,null,null,{"$f":"IFERROR(VLOOKUP(I1461,CIIU!A:B,2,0),\"\")","v":""}]
[null,null,null,null,null,null,null,null,null,{"$f":"IFERROR(VLOOKUP(I1462,CIIU!A:B,2,0),\"\")","v":""}]
[null,null,null,null,null,null,null,null,null,{"$f":"IFERROR(VLOOKUP(I1463,CIIU!A:B,2,0),\"\")","v":""}]
[null,null,null,null,null,null,null,null,null,{"$f":"IFERROR(VLOOKUP(I1464,CIIU!A:B,2,0),\"\")","v":""}]
[null,null,null,null,null,null,null,null,null,{"$f":"IFERROR(VLOOKUP(I1465,CIIU!A:B,2,0),\"\")","v":""}]
[null,null,null,null,null,null,null,null,null,{"$f":"IFERROR(VLOOKUP(I1466,CIIU!A:B,2,0),\"\")","v":""}]
[null,null,null,null,null,null,null,null,null,{"$f":"IFERROR(VLOOKUP(I1467,CIIU!A:B,2,0),\"\")","v":""}]
[null,null,null,null,null,null,null,null,null,{"$f":"IFERROR(VLOOKUP(I1468,CIIU!A:B,2,0),\"\")","v":""}]
[null,null,null,null,null,null,null,null,null,{"$f":"IFERROR(VLOOKUP(I1469,CIIU!A:B,2,0),\"\")","v":""}]
[null,null,null,null,null,null,null,null,null,{"$f":"IFERROR(VLOOKUP(I1470,CIIU!A:B,2,0),\"\")","v":""}]
[null,null,null,null,null,null,null,null,null,{"$f":"IFERROR(VLOOKUP(I1471,CIIU!A:B,2,0),\"\")","v":""}]
[null,null,null,null,null,null,null,null,null,{"$f":"IFERROR(VLOOKUP(I1472,CIIU!A:B,2,0),\"\")","v":""}]
[null,null,null,null,null,null,null,null,null,{"$f":"IFERROR(VLOOKUP(I1473,CIIU!A:B,2,0),\"\")","v":""}]
[null,null,null,null,null,null,null,null,null,{"$f":"IFERROR(VLOOKUP(I1474,CIIU!A:B,2,0),\"\")","v":""}]
[null,null,null,null,null,null,null,null,null,{"$f":"IFERROR(VLOOKUP(I1475,CIIU!A:B,2,0),\"\")","v":""}]
[null,null,null,null,null,null,null,null,null,{"$f":"IFERROR(VLOOKUP(I1476,CIIU!A:B,2,0),\"\")","v":""}]
[null,null,null,null,null,null,null,null,null,{"$f":"IFERROR(VLOOKUP(I1477,CIIU!A:B,2,0),\"\")","v":""}]
[null,null,null,null,null,null,null,null,null,{"$f":"IFERROR(VLOOKUP(I1478,CIIU!A:B,2,0),\"\")","v":""}]
[null,null,null,null,null,null,null,null,null,{"$f":"IFERROR(VLOOKUP(I1479,CIIU!A:B,2,0),\"\")","v":""}]
[null,null,null,null,null,null,null,null,null,{"$f":"IFERROR(VLOOKUP(I1480,CIIU!A:B,2,0),\"\")","v":""}]
[null,null,null,null,null,null,null,null,null,{"$f":"IFERROR(VLOOKUP(I1481,CIIU!A:B,2,0),\"\")","v":""}]
[null,null,null,null,null,null,null,null,null,{"$f":"IFERROR(VLOOKUP(I1482,CIIU!A:B,2,0),\"\")","v":""}]
[null,null,null,null,null,null,null,null,null,{"$f":"IFERROR(VLOOKUP(I1483,CIIU!A:B,2,0),\"\")","v":""}]
[null,null,null,null,null,null,null,null,null,{"$f":"IFERROR(VLOOKUP(I1484,CIIU!A:B,2,0),\"\")","v":""}]
[null,null,null,null,null,null,null,null,null,{"$f":"IFERROR(VLOOKUP(I1485,CIIU!A:B,2,0),\"\")","v":""}]
[null,null,null,null,null,null,null,null,null,{"$f":"IFERROR(VLOOKUP(I1486,CIIU!A:B,2,0),\"\")","v":""}]
[null,null,null,null,null,null,null,null,null,{"$f":"IFERROR(VLOOKUP(I1487,CIIU!A:B,2,0),\"\")","v":""}]
[null,null,null,null,null,null,null,null,null,{"$f":"IFERROR(VLOOKUP(I1488,CIIU!A:B,2,0),\"\")","v":""}]
[null,null,null,null,null,null,null,null,null,{"$f":"IFERROR(VLOOKUP(I1489,CIIU!A:B,2,0),\"\")","v":""}]
[null,null,null,null,null,null,null,null,null,{"$f":"IFERROR(VLOOKUP(I1490,CIIU!A:B,2,0),\"\")","v":""}]
[null,null,null,null,null,null,null,null,null,{"$f":"IFERROR(VLOOKUP(I1491,CIIU!A:B,2,0),\"\")","v":""}]
[null,null,null,null,null,null,null,null,null,{"$f":"IFERROR(VLOOKUP(I1492,CIIU!A:B,2,0),\"\")","v":""}]
[null,null,null,null,null,null,null,null,null,{"$f":"IFERROR(VLOOKUP(I1493,CIIU!A:B,2,0),\"\")","v":""}]
[null,null,null,null,null,null,null,null,null,{"$f":"IFERROR(VLOOKUP(I1494,CIIU!A:B,2,0),\"\")","v":""}]
[null,null,null,null,null,null,null,null,null,{"$f":"IFERROR(VLOOKUP(I1495,CIIU!A:B,2,0),\"\")","v":""}]
[null,null,null,null,null,null,null,null,null,{"$f":"IFERROR(VLOOKUP(I1496,CIIU!A:B,2,0),\"\")","v":""}]
[null,null,null,null,null,null,null,null,null,{"$f":"IFERROR(VLOOKUP(I1497,CIIU!A:B,2,0),\"\")","v":""}]
[null,null,null,null,null,null,null,null,null,{"$f":"IFERROR(VLOOKUP(I1498,CIIU!A:B,2,0),\"\")","v":""}]
[null,null,null,null,null,null,null,null,null,{"$f":"IFERROR(VLOOKUP(I1499,CIIU!A:B,2,0),\"\")","v":""}]
[null,null,null,null,null,null,null,null,null,{"$f":"IFERROR(VLOOKUP(I1500,CIIU!A:B,2,0),\"\")","v":""}]
[null,null,null,null,null,null,null,null,null,{"$f":"IFERROR(VLOOKUP(I1501,CIIU!A:B,2,0),\"\")","v":""}]
[null,null,null,null,null,null,null,null,null,{"$f":"IFERROR(VLOOKUP(I1502,CIIU!A:B,2,0),\"\")","v":""}]
[null,null,null,null,null,null,null,null,null,{"$f":"IFERROR(VLOOKUP(I1503,CIIU!A:B,2,0),\"\")","v":""}]
[null,null,null,null,null,null,null,null,null,{"$f":"IFERROR(VLOOKUP(I1504,CIIU!A:B,2,0),\"\")","v":""}]
[null,null,null,null,null,null,null,null,null,{"$f":"IFERROR(VLOOKUP(I1505,CIIU!A:B,2,0),\"\")","v":""}]
[null,null,null,null,null,null,null,null,null,{"$f":"IFERROR(VLOOKUP(I1506,CIIU!A:B,2,0),\"\")","v":""}]
[null,null,null,null,null,null,null,null,null,{"$f":"IFERROR(VLOOKUP(I1507,CIIU!A:B,2,0),\"\")","v":""}]
[null,null,null,null,null,null,null,null,null,{"$f":"IFERROR(VLOOKUP(I1508,CIIU!A:B,2,0),\"\")","v":""}]
[null,null,null,null,null,null,null,null,null,{"$f":"IFERROR(VLOOKUP(I1509,CIIU!A:B,2,0),\"\")","v":""}]
[null,null,null,null,null,null,null,null,null,{"$f":"IFERROR(VLOOKUP(I1510,CIIU!A:B,2,0),\"\")","v":""}]
[null,null,null,null,null,null,null,null,null,{"$f":"IFERROR(VLOOKUP(I1511,CIIU!A:B,2,0),\"\")","v":""}]
[null,null,null,null,null,null,null,null,null,{"$f":"IFERROR(VLOOKUP(I1512,CIIU!A:B,2,0),\"\")","v":""}]
[null,null,null,null,null,null,null,null,null,{"$f":"IFERROR(VLOOKUP(I1513,CIIU!A:B,2,0),\"\")","v":""}]
[null,null,null,null,null,null,null,null,null,{"$f":"IFERROR(VLOOKUP(I1514,CIIU!A:B,2,0),\"\")","v":""}]
[null,null,null,null,null,null,null,null,null,{"$f":"IFERROR(VLOOKUP(I1515,CIIU!A:B,2,0),\"\")","v":""}]
[null,null,null,null,null,null,null,null,null,{"$f":"IFERROR(VLOOKUP(I1516,CIIU!A:B,2,0),\"\")","v":""}]
[null,null,null,null,null,null,null,null,null,{"$f":"IFERROR(VLOOKUP(I1517,CIIU!A:B,2,0),\"\")","v":""}]
[null,null,null,null,null,null,null,null,null,{"$f":"IFERROR(VLOOKUP(I1518,CIIU!A:B,2,0),\"\")","v":""}]
[null,null,null,null,null,null,null,null,null,{"$f":"IFERROR(VLOOKUP(I1519,CIIU!A:B,2,0),\"\")","v":""}]
[null,null,null,null,null,null,null,null,null,{"$f":"IFERROR(VLOOKUP(I1520,CIIU!A:B,2,0),\"\")","v":""}]
[null,null,null,null,null,null,null,null,null,{"$f":"IFERROR(VLOOKUP(I1521,CIIU!A:B,2,0),\"\")","v":""}]
[null,null,null,null,null,null,null,null,null,{"$f":"IFERROR(VLOOKUP(I1522,CIIU!A:B,2,0),\"\")","v":""}]
[null,null,null,null,null,null,null,null,null,{"$f":"IFERROR(VLOOKUP(I1523,CIIU!A:B,2,0),\"\")","v":""}]
[null,null,null,null,null,null,null,null,null,{"$f":"IFERROR(VLOOKUP(I1524,CIIU!A:B,2,0),\"\")","v":""}]
[null,null,null,null,null,null,null,null,null,{"$f":"IFERROR(VLOOKUP(I1525,CIIU!A:B,2,0),\"\")","v":""}]
[null,null,null,null,null,null,null,null,null,{"$f":"IFERROR(VLOOKUP(I1526,CIIU!A:B,2,0),\"\")","v":""}]
[null,null,null,null,null,null,null,null,null,{"$f":"IFERROR(VLOOKUP(I1527,CIIU!A:B,2,0),\"\")","v":""}]
[null,null,null,null,null,null,null,null,null,{"$f":"IFERROR(VLOOKUP(I1528,CIIU!A:B,2,0),\"\")","v":""}]
[null,null,null,null,null,null,null,null,null,{"$f":"IFERROR(VLOOKUP(I1529,CIIU!A:B,2,0),\"\")","v":""}]
[null,null,null,null,null,null,null,null,null,{"$f":"IFERROR(VLOOKUP(I1530,CIIU!A:B,2,0),\"\")","v":""}]
[null,null,null,null,null,null,null,null,null,{"$f":"IFERROR(VLOOKUP(I1531,CIIU!A:B,2,0),\"\")","v":""}]
[null,null,null,null,null,null,null,null,null,{"$f":"IFERROR(VLOOKUP(I1532,CIIU!A:B,2,0),\"\")","v":""}]
[null,null,null,null,null,null,null,null,null,{"$f":"IFERROR(VLOOKUP(I1533,CIIU!A:B,2,0),\"\")","v":""}]
[null,null,null,null,null,null,null,null,null,{"$f":"IFERROR(VLOOKUP(I1534,CIIU!A:B,2,0),\"\")","v":""}]
[null,null,null,null,null,null,null,null,null,{"$f":"IFERROR(VLOOKUP(I1535,CIIU!A:B,2,0),\"\")","v":""}]
[null,null,null,null,null,null,null,null,null,{"$f":"IFERROR(VLOOKUP(I1536,CIIU!A:B,2,0),\"\")","v":""}]
[null,null,null,null,null,null,null,null,null,{"$f":"IFERROR(VLOOKUP(I1537,CIIU!A:B,2,0),\"\")","v":""}]
[null,null,null,null,null,null,null,null,null,{"$f":"IFERROR(VLOOKUP(I1538,CIIU!A:B,2,0),\"\")","v":""}]
[null,null,null,null,null,null,null,null,null,{"$f":"IFERROR(VLOOKUP(I1539,CIIU!A:B,2,0),\"\")","v":""}]
[null,null,null,null,null,null,null,null,null,{"$f":"IFERROR(VLOOKUP(I1540,CIIU!A:B,2,0),\"\")","v":""}]
[null,null,null,null,null,null,null,null,null,{"$f":"IFERROR(VLOOKUP(I1541,CIIU!A:B,2,0),\"\")","v":""}]
[null,null,null,null,null,null,null,null,null,{"$f":"IFERROR(VLOOKUP(I1542,CIIU!A:B,2,0),\"\")","v":""}]
[null,null,null,null,null,null,null,null,null,{"$f":"IFERROR(VLOOKUP(I1543,CIIU!A:B,2,0),\"\")","v":""}]
[null,null,null,null,null,null,null,null,null,{"$f":"IFERROR(VLOOKUP(I1544,CIIU!A:B,2,0),\"\")","v":""}]
[null,null,null,null,null,null,null,null,null,{"$f":"IFERROR(VLOOKUP(I1545,CIIU!A:B,2,0),\"\")","v":""}]
[null,null,null,null,null,null,null,null,null,{"$f":"IFERROR(VLOOKUP(I1546,CIIU!A:B,2,0),\"\")","v":""}]
[null,null,null,null,null,null,null,null,null,{"$f":"IFERROR(VLOOKUP(I1547,CIIU!A:B,2,0),\"\")","v":""}]
[null,null,null,null,null,null,null,null,null,{"$f":"IFERROR(VLOOKUP(I1548,CIIU!A:B,2,0),\"\")","v":""}]
[null,null,null,null,null,null,null,null,null,{"$f":"IFERROR(VLOOKUP(I1549,CIIU!A:B,2,0),\"\")","v":""}]
[null,null,null,null,null,null,null,null,null,{"$f":"IFERROR(VLOOKUP(I1550,CIIU!A:B,2,0),\"\")","v":""}]
[null,null,null,null,null,null,null,null,null,{"$f":"IFERROR(VLOOKUP(I1551,CIIU!A:B,2,0),\"\")","v":""}]
[null,null,null,null,null,null,null,null,null,{"$f":"IFERROR(VLOOKUP(I1552,CIIU!A:B,2,0),\"\")","v":""}]
[null,null,null,null,null,null,null,null,null,{"$f":"IFERROR(VLOOKUP(I1553,CIIU!A:B,2,0),\"\")","v":""}]
[null,null,null,null,null,null,null,null,null,{"$f":"IFERROR(VLOOKUP(I1554,CIIU!A:B,2,0),\"\")","v":""}]
[null,null,null,null,null,null,null,null,null,{"$f":"IFERROR(VLOOKUP(I1555,CIIU!A:B,2,0),\"\")","v":""}]
[null,null,null,null,null,null,null,null,null,{"$f":"IFERROR(VLOOKUP(I1556,CIIU!A:B,2,0),\"\")","v":""}]
[null,null,null,null,null,null,null,null,null,{"$f":"IFERROR(VLOOKUP(I1557,CIIU!A:B,2,0),\"\")","v":""}]
[null,null,null,null,null,null,null,null,null,{"$f":"IFERROR(VLOOKUP(I1558,CIIU!A:B,2,0),\"\")","v":""}]
[null,null,null,null,null,null,null,null,null,{"$f":"IFERROR(VLOOKUP(I1559,CIIU!A:B,2,0),\"\")","v":""}]
[null,null,null,null,null,null,null,null,null,{"$f":"IFERROR(VLOOKUP(I1560,CIIU!A:B,2,0),\"\")","v":""}]
[null,null,null,null,null,null,null,null,null,{"$f":"IFERROR(VLOOKUP(I1561,CIIU!A:B,2,0),\"\")","v":""}]
[null,null,null,null,null,null,null,null,null,{"$f":"IFERROR(VLOOKUP(I1562,CIIU!A:B,2,0),\"\")","v":""}]
[null,null,null,null,null,null,null,null,null,{"$f":"IFERROR(VLOOKUP(I1563,CIIU!A:B,2,0),\"\")","v":""}]
[null,null,null,null,null,null,null,null,null,{"$f":"IFERROR(VLOOKUP(I1564,CIIU!A:B,2,0),\"\")","v":""}]
[null,null,null,null,null,null,null,null,null,{"$f":"IFERROR(VLOOKUP(I1565,CIIU!A:B,2,0),\"\")","v":""}]
[null,null,null,null,null,null,null,null,null,{"$f":"IFERROR(VLOOKUP(I1566,CIIU!A:B,2,0),\"\")","v":""}]
[null,null,null,null,null,null,null,null,null,{"$f":"IFERROR(VLOOKUP(I1567,CIIU!A:B,2,0),\"\")","v":""}]
[null,null,null,null,null,null,null,null,null,{"$f":"IFERROR(VLOOKUP(I1568,CIIU!A:B,2,0),\"\")","v":""}]
[null,null,null,null,null,null,null,null,null,{"$f":"IFERROR(VLOOKUP(I1569,CIIU!A:B,2,0),\"\")","v":""}]
[null,null,null,null,null,null,null,null,null,{"$f":"IFERROR(VLOOKUP(I1570,CIIU!A:B,2,0),\"\")","v":""}]
[null,null,null,null,null,null,null,null,null,{"$f":"IFERROR(VLOOKUP(I1571,CIIU!A:B,2,0),\"\")","v":""}]
[null,null,null,null,null,null,null,null,null,{"$f":"IFERROR(VLOOKUP(I1572,CIIU!A:B,2,0),\"\")","v":""}]
[null,null,null,null,null,null,null,null,null,{"$f":"IFERROR(VLOOKUP(I1573,CIIU!A:B,2,0),\"\")","v":""}]
[null,null,null,null,null,null,null,null,null,{"$f":"IFERROR(VLOOKUP(I1574,CIIU!A:B,2,0),\"\")","v":""}]
[null,null,null,null,null,null,null,null,null,{"$f":"IFERROR(VLOOKUP(I1575,CIIU!A:B,2,0),\"\")","v":""}]
[null,null,null,null,null,null,null,null,null,{"$f":"IFERROR(VLOOKUP(I1576,CIIU!A:B,2,0),\"\")","v":""}]
[null,null,null,null,null,null,null,null,null,{"$f":"IFERROR(VLOOKUP(I1577,CIIU!A:B,2,0),\"\")","v":""}]
[null,null,null,null,null,null,null,null,null,{"$f":"IFERROR(VLOOKUP(I1578,CIIU!A:B,2,0),\"\")","v":""}]
[null,null,null,null,null,null,null,null,null,{"$f":"IFERROR(VLOOKUP(I1579,CIIU!A:B,2,0),\"\")","v":""}]
[null,null,null,null,null,null,null,null,null,{"$f":"IFERROR(VLOOKUP(I1580,CIIU!A:B,2,0),\"\")","v":""}]
[null,null,null,null,null,null,null,null,null,{"$f":"IFERROR(VLOOKUP(I1581,CIIU!A:B,2,0),\"\")","v":""}]
[null,null,null,null,null,null,null,null,null,{"$f":"IFERROR(VLOOKUP(I1582,CIIU!A:B,2,0),\"\")","v":""}]
[null,null,null,null,null,null,null,null,null,{"$f":"IFERROR(VLOOKUP(I1583,CIIU!A:B,2,0),\"\")","v":""}]
[null,null,null,null,null,null,null,null,null,{"$f":"IFERROR(VLOOKUP(I1584,CIIU!A:B,2,0),\"\")","v":""}]
[null,null,null,null,null,null,null,null,null,{"$f":"IFERROR(VLOOKUP(I1585,CIIU!A:B,2,0),\"\")","v":""}]
[null,null,null,null,null,null,null,null,null,{"$f":"IFERROR(VLOOKUP(I1586,CIIU!A:B,2,0),\"\")","v":""}]
[null,null,null,null,null,null,null,null,null,{"$f":"IFERROR(VLOOKUP(I1587,CIIU!A:B,2,0),\"\")","v":""}]
[null,null,null,null,null,null,null,null,null,{"$f":"IFERROR(VLOOKUP(I1588,CIIU!A:B,2,0),\"\")","v":""}]
[null,null,null,null,null,null,null,null,null,{"$f":"IFERROR(VLOOKUP(I1589,CIIU!A:B,2,0),\"\")","v":""}]
[null,null,null,null,null,null,null,null,null,{"$f":"IFERROR(VLOOKUP(I1590,CIIU!A:B,2,0),\"\")","v":""}]
[null,null,null,null,null,null,null,null,null,{"$f":"IFERROR(VLOOKUP(I1591,CIIU!A:B,2,0),\"\")","v":""}]
[null,null,null,null,null,null,null,null,null,{"$f":"IFERROR(VLOOKUP(I1592,CIIU!A:B,2,0),\"\")","v":""}]
[null,null,null,null,null,null,null,null,null,{"$f":"IFERROR(VLOOKUP(I1593,CIIU!A:B,2,0),\"\")","v":""}]
[null,null,null,null,null,null,null,null,null,{"$f":"IFERROR(VLOOKUP(I1594,CIIU!A:B,2,0),\"\")","v":""}]
[null,null,null,null,null,null,null,null,null,{"$f":"IFERROR(VLOOKUP(I1595,CIIU!A:B,2,0),\"\")","v":""}]
[null,null,null,null,null,null,null,null,null,{"$f":"IFERROR(VLOOKUP(I1596,CIIU!A:B,2,0),\"\")","v":""}]
[null,null,null,null,null,null,null,null,null,{"$f":"IFERROR(VLOOKUP(I1597,CIIU!A:B,2,0),\"\")","v":""}]
[null,null,null,null,null,null,null,null,null,{"$f":"IFERROR(VLOOKUP(I1598,CIIU!A:B,2,0),\"\")","v":""}]
[null,null,null,null,null,null,null,null,null,{"$f":"IFERROR(VLOOKUP(I1599,CIIU!A:B,2,0),\"\")","v":""}]
[null,null,null,null,null,null,null,null,null,{"$f":"IFERROR(VLOOKUP(I1600,CIIU!A:B,2,0),\"\")","v":""}]
[null,null,null,null,null,null,null,null,null,{"$f":"IFERROR(VLOOKUP(I1601,CIIU!A:B,2,0),\"\")","v":""}]
[null,null,null,null,null,null,null,null,null,{"$f":"IFERROR(VLOOKUP(I1602,CIIU!A:B,2,0),\"\")","v":""}]
[null,null,null,null,null,null,null,null,null,{"$f":"IFERROR(VLOOKUP(I1603,CIIU!A:B,2,0),\"\")","v":""}]
[null,null,null,null,null,null,null,null,null,{"$f":"IFERROR(VLOOKUP(I1604,CIIU!A:B,2,0),\"\")","v":""}]
[null,null,null,null,null,null,null,null,null,{"$f":"IFERROR(VLOOKUP(I1605,CIIU!A:B,2,0),\"\")","v":""}]
[null,null,null,null,null,null,null,null,null,{"$f":"IFERROR(VLOOKUP(I1606,CIIU!A:B,2,0),\"\")","v":""}]
[null,null,null,null,null,null,null,null,null,{"$f":"IFERROR(VLOOKUP(I1607,CIIU!A:B,2,0),\"\")","v":""}]
[null,null,null,null,null,null,null,null,null,{"$f":"IFERROR(VLOOKUP(I1608,CIIU!A:B,2,0),\"\")","v":""}]
[null,null,null,null,null,null,null,null,null,{"$f":"IFERROR(VLOOKUP(I1609,CIIU!A:B,2,0),\"\")","v":""}]
[null,null,null,null,null,null,null,null,null,{"$f":"IFERROR(VLOOKUP(I1610,CIIU!A:B,2,0),\"\")","v":""}]
[null,null,null,null,null,null,null,null,null,{"$f":"IFERROR(VLOOKUP(I1611,CIIU!A:B,2,0),\"\")","v":""}]
[null,null,null,null,null,null,null,null,null,{"$f":"IFERROR(VLOOKUP(I1612,CIIU!A:B,2,0),\"\")","v":""}]
[null,null,null,null,null,null,null,null,null,{"$f":"IFERROR(VLOOKUP(I1613,CIIU!A:B,2,0),\"\")","v":""}]
[null,null,null,null,null,null,null,null,null,{"$f":"IFERROR(VLOOKUP(I1614,CIIU!A:B,2,0),\"\")","v":""}]
[null,null,null,null,null,null,null,null,null,{"$f":"IFERROR(VLOOKUP(I1615,CIIU!A:B,2,0),\"\")","v":""}]
[null,null,null,null,null,null,null,null,null,{"$f":"IFERROR(VLOOKUP(I1616,CIIU!A:B,2,0),\"\")","v":""}]
[null,null,null,null,null,null,null,null,null,{"$f":"IFERROR(VLOOKUP(I1617,CIIU!A:B,2,0),\"\")","v":""}]
[null,null,null,null,null,null,null,null,null,{"$f":"IFERROR(VLOOKUP(I1618,CIIU!A:B,2,0),\"\")","v":""}]
[null,null,null,null,null,null,null,null,null,{"$f":"IFERROR(VLOOKUP(I1619,CIIU!A:B,2,0),\"\")","v":""}]
[null,null,null,null,null,null,null,null,null,{"$f":"IFERROR(VLOOKUP(I1620,CIIU!A:B,2,0),\"\")","v":""}]
[null,null,null,null,null,null,null,null,null,{"$f":"IFERROR(VLOOKUP(I1621,CIIU!A:B,2,0),\"\")","v":""}]
[null,null,null,null,null,null,null,null,null,{"$f":"IFERROR(VLOOKUP(I1622,CIIU!A:B,2,0),\"\")","v":""}]
[null,null,null,null,null,null,null,null,null,{"$f":"IFERROR(VLOOKUP(I1623,CIIU!A:B,2,0),\"\")","v":""}]
[null,null,null,null,null,null,null,null,null,{"$f":"IFERROR(VLOOKUP(I1624,CIIU!A:B,2,0),\"\")","v":""}]
[null,null,null,null,null,null,null,null,null,{"$f":"IFERROR(VLOOKUP(I1625,CIIU!A:B,2,0),\"\")","v":""}]
[null,null,null,null,null,null,null,null,null,{"$f":"IFERROR(VLOOKUP(I1626,CIIU!A:B,2,0),\"\")","v":""}]
[null,null,null,null,null,null,null,null,null,{"$f":"IFERROR(VLOOKUP(I1627,CIIU!A:B,2,0),\"\")","v":""}]
[null,null,null,null,null,null,null,null,null,{"$f":"IFERROR(VLOOKUP(I1628,CIIU!A:B,2,0),\"\")","v":""}]
[null,null,null,null,null,null,null,null,null,{"$f":"IFERROR(VLOOKUP(I1629,CIIU!A:B,2,0),\"\")","v":""}]
[null,null,null,null,null,null,null,null,null,{"$f":"IFERROR(VLOOKUP(I1630,CIIU!A:B,2,0),\"\")","v":""}]
[null,null,null,null,null,null,null,null,null,{"$f":"IFERROR(VLOOKUP(I1631,CIIU!A:B,2,0),\"\")","v":""}]
[null,null,null,null,null,null,null,null,null,{"$f":"IFERROR(VLOOKUP(I1632,CIIU!A:B,2,0),\"\")","v":""}]
[null,null,null,null,null,null,null,null,null,{"$f":"IFERROR(VLOOKUP(I1633,CIIU!A:B,2,0),\"\")","v":""}]
[null,null,null,null,null,null,null,null,null,{"$f":"IFERROR(VLOOKUP(I1634,CIIU!A:B,2,0),\"\")","v":""}]
[null,null,null,null,null,null,null,null,null,{"$f":"IFERROR(VLOOKUP(I1635,CIIU!A:B,2,0),\"\")","v":""}]
[null,null,null,null,null,null,null,null,null,{"$f":"IFERROR(VLOOKUP(I1636,CIIU!A:B,2,0),\"\")","v":""}]
[null,null,null,null,null,null,null,null,null,{"$f":"IFERROR(VLOOKUP(I1637,CIIU!A:B,2,0),\"\")","v":""}]
[null,null,null,null,null,null,null,null,null,{"$f":"IFERROR(VLOOKUP(I1638,CIIU!A:B,2,0),\"\")","v":""}]
[null,null,null,null,null,null,null,null,null,{"$f":"IFERROR(VLOOKUP(I1639,CIIU!A:B,2,0),\"\")","v":""}]
[null,null,null,null,null,null,null,null,null,{"$f":"IFERROR(VLOOKUP(I1640,CIIU!A:B,2,0),\"\")","v":""}]
[null,null,null,null,null,null,null,null,null,{"$f":"IFERROR(VLOOKUP(I1641,CIIU!A:B,2,0),\"\")","v":""}]
[null,null,null,null,null,null,null,null,null,{"$f":"IFERROR(VLOOKUP(I1642,CIIU!A:B,2,0),\"\")","v":""}]
[null,null,null,null,null,null,null,null,null,{"$f":"IFERROR(VLOOKUP(I1643,CIIU!A:B,2,0),\"\")","v":""}]
[null,null,null,null,null,null,null,null,null,{"$f":"IFERROR(VLOOKUP(I1644,CIIU!A:B,2,0),\"\")","v":""}]
[null,null,null,null,null,null,null,null,null,{"$f":"IFERROR(VLOOKUP(I1645,CIIU!A:B,2,0),\"\")","v":""}]
[null,null,null,null,null,null,null,null,null,{"$f":"IFERROR(VLOOKUP(I1646,CIIU!A:B,2,0),\"\")","v":""}]
[null,null,null,null,null,null,null,null,null,{"$f":"IFERROR(VLOOKUP(I1647,CIIU!A:B,2,0),\"\")","v":""}]
[null,null,null,null,null,null,null,null,null,{"$f":"IFERROR(VLOOKUP(I1648,CIIU!A:B,2,0),\"\")","v":""}]
[null,null,null,null,null,null,null,null,null,{"$f":"IFERROR(VLOOKUP(I1649,CIIU!A:B,2,0),\"\")","v":""}]
[null,null,null,null,null,null,null,null,null,{"$f":"IFERROR(VLOOKUP(I1650,CIIU!A:B,2,0),\"\")","v":""}]
[null,null,null,null,null,null,null,null,null,{"$f":"IFERROR(VLOOKUP(I1651,CIIU!A:B,2,0),\"\")","v":""}]
[null,null,null,null,null,null,null,null,null,{"$f":"IFERROR(VLOOKUP(I1652,CIIU!A:B,2,0),\"\")","v":""}]
[null,null,null,null,null,null,null,null,null,{"$f":"IFERROR(VLOOKUP(I1653,CIIU!A:B,2,0),\"\")","v":""}]
[null,null,null,null,null,null,null,null,null,{"$f":"IFERROR(VLOOKUP(I1654,CIIU!A:B,2,0),\"\")","v":""}]
[null,null,null,null,null,null,null,null,null,{"$f":"IFERROR(VLOOKUP(I1655,CIIU!A:B,2,0),\"\")","v":""}]
[null,null,null,null,null,null,null,null,null,{"$f":"IFERROR(VLOOKUP(I1656,CIIU!A:B,2,0),\"\")","v":""}]
[null,null,null,null,null,null,null,null,null,{"$f":"IFERROR(VLOOKUP(I1657,CIIU!A:B,2,0),\"\")","v":""}]
[null,null,null,null,null,null,null,null,null,{"$f":"IFERROR(VLOOKUP(I1658,CIIU!A:B,2,0),\"\")","v":""}]
[null,null,null,null,null,null,null,null,null,{"$f":"IFERROR(VLOOKUP(I1659,CIIU!A:B,2,0),\"\")","v":""}]
[null,null,null,null,null,null,null,null,null,{"$f":"IFERROR(VLOOKUP(I1660,CIIU!A:B,2,0),\"\")","v":""}]
[null,null,null,null,null,null,null,null,null,{"$f":"IFERROR(VLOOKUP(I1661,CIIU!A:B,2,0),\"\")","v":""}]
[null,null,null,null,null,null,null,null,null,{"$f":"IFERROR(VLOOKUP(I1662,CIIU!A:B,2,0),\"\")","v":""}]
[null,null,null,null,null,null,null,null,null,{"$f":"IFERROR(VLOOKUP(I1663,CIIU!A:B,2,0),\"\")","v":""}]
[null,null,null,null,null,null,null,null,null,{"$f":"IFERROR(VLOOKUP(I1664,CIIU!A:B,2,0),\"\")","v":""}]
[null,null,null,null,null,null,null,null,null,{"$f":"IFERROR(VLOOKUP(I1665,CIIU!A:B,2,0),\"\")","v":""}]
[null,null,null,null,null,null,null,null,null,{"$f":"IFERROR(VLOOKUP(I1666,CIIU!A:B,2,0),\"\")","v":""}]
[null,null,null,null,null,null,null,null,null,{"$f":"IFERROR(VLOOKUP(I1667,CIIU!A:B,2,0),\"\")","v":""}]
[null,null,null,null,null,null,null,null,null,{"$f":"IFERROR(VLOOKUP(I1668,CIIU!A:B,2,0),\"\")","v":""}]
[null,null,null,null,null,null,null,null,null,{"$f":"IFERROR(VLOOKUP(I1669,CIIU!A:B,2,0),\"\")","v":""}]
[null,null,null,null,null,null,null,null,null,{"$f":"IFERROR(VLOOKUP(I1670,CIIU!A:B,2,0),\"\")","v":""}]
[null,null,null,null,null,null,null,null,null,{"$f":"IFERROR(VLOOKUP(I1671,CIIU!A:B,2,0),\"\")","v":""}]
[null,null,null,null,null,null,null,null,null,{"$f":"IFERROR(VLOOKUP(I1672,CIIU!A:B,2,0),\"\")","v":""}]
[null,null,null,null,null,null,null,null,null,{"$f":"IFERROR(VLOOKUP(I1673,CIIU!A:B,2,0),\"\")","v":""}]
[null,null,null,null,null,null,null,null,null,{"$f":"IFERROR(VLOOKUP(I1674,CIIU!A:B,2,0),\"\")","v":""}]
[null,null,null,null,null,null,null,null,null,{"$f":"IFERROR(VLOOKUP(I1675,CIIU!A:B,2,0),\"\")","v":""}]
[null,null,null,null,null,null,null,null,null,{"$f":"IFERROR(VLOOKUP(I1676,CIIU!A:B,2,0),\"\")","v":""}]
[null,null,null,null,null,null,null,null,null,{"$f":"IFERROR(VLOOKUP(I1677,CIIU!A:B,2,0),\"\")","v":""}]
[null,null,null,null,null,null,null,null,null,{"$f":"IFERROR(VLOOKUP(I1678,CIIU!A:B,2,0),\"\")","v":""}]
[null,null,null,null,null,null,null,null,null,{"$f":"IFERROR(VLOOKUP(I1679,CIIU!A:B,2,0),\"\")","v":""}]
[null,null,null,null,null,null,null,null,null,{"$f":"IFERROR(VLOOKUP(I1680,CIIU!A:B,2,0),\"\")","v":""}]
[null,null,null,null,null,null,null,null,null,{"$f":"IFERROR(VLOOKUP(I1681,CIIU!A:B,2,0),\"\")","v":""}]
[null,null,null,null,null,null,null,null,null,{"$f":"IFERROR(VLOOKUP(I1682,CIIU!A:B,2,0),\"\")","v":""}]
[null,null,null,null,null,null,null,null,null,{"$f":"IFERROR(VLOOKUP(I1683,CIIU!A:B,2,0),\"\")","v":""}]
[null,null,null,null,null,null,null,null,null,{"$f":"IFERROR(VLOOKUP(I1684,CIIU!A:B,2,0),\"\")","v":""}]
[null,null,null,null,null,null,null,null,null,{"$f":"IFERROR(VLOOKUP(I1685,CIIU!A:B,2,0),\"\")","v":""}]
[null,null,null,null,null,null,null,null,null,{"$f":"IFERROR(VLOOKUP(I1686,CIIU!A:B,2,0),\"\")","v":""}]
[null,null,null,null,null,null,null,null,null,{"$f":"IFERROR(VLOOKUP(I1687,CIIU!A:B,2,0),\"\")","v":""}]
[null,null,null,null,null,null,null,null,null,{"$f":"IFERROR(VLOOKUP(I1688,CIIU!A:B,2,0),\"\")","v":""}]
[null,null,null,null,null,null,null,null,null,{"$f":"IFERROR(VLOOKUP(I1689,CIIU!A:B,2,0),\"\")","v":""}]
[null,null,null,null,null,null,null,null,null,{"$f":"IFERROR(VLOOKUP(I1690,CIIU!A:B,2,0),\"\")","v":""}]
[null,null,null,null,null,null,null,null,null,{"$f":"IFERROR(VLOOKUP(I1691,CIIU!A:B,2,0),\"\")","v":""}]
[null,null,null,null,null,null,null,null,null,{"$f":"IFERROR(VLOOKUP(I1692,CIIU!A:B,2,0),\"\")","v":""}]
[null,null,null,null,null,null,null,null,null,{"$f":"IFERROR(VLOOKUP(I1693,CIIU!A:B,2,0),\"\")","v":""}]
[null,null,null,null,null,null,null,null,null,{"$f":"IFERROR(VLOOKUP(I1694,CIIU!A:B,2,0),\"\")","v":""}]
[null,null,null,null,null,null,null,null,null,{"$f":"IFERROR(VLOOKUP(I1695,CIIU!A:B,2,0),\"\")","v":""}]
[null,null,null,null,null,null,null,null,null,{"$f":"IFERROR(VLOOKUP(I1696,CIIU!A:B,2,0),\"\")","v":""}]
[null,null,null,null,null,null,null,null,null,{"$f":"IFERROR(VLOOKUP(I1697,CIIU!A:B,2,0),\"\")","v":""}]
[null,null,null,null,null,null,null,null,null,{"$f":"IFERROR(VLOOKUP(I1698,CIIU!A:B,2,0),\"\")","v":""}]
[null,null,null,null,null,null,null,null,null,{"$f":"IFERROR(VLOOKUP(I1699,CIIU!A:B,2,0),\"\")","v":""}]
[null,null,null,null,null,null,null,null,null,{"$f":"IFERROR(VLOOKUP(I1700,CIIU!A:B,2,0),\"\")","v":""}]
[null,null,null,null,null,null,null,null,null,{"$f":"IFERROR(VLOOKUP(I1701,CIIU!A:B,2,0),\"\")","v":""}]
[null,null,null,null,null,null,null,null,null,{"$f":"IFERROR(VLOOKUP(I1702,CIIU!A:B,2,0),\"\")","v":""}]
[null,null,null,null,null,null,null,null,null,{"$f":"IFERROR(VLOOKUP(I1703,CIIU!A:B,2,0),\"\")","v":""}]
[null,null,null,null,null,null,null,null,null,{"$f":"IFERROR(VLOOKUP(I1704,CIIU!A:B,2,0),\"\")","v":""}]
[null,null,null,null,null,null,null,null,null,{"$f":"IFERROR(VLOOKUP(I1705,CIIU!A:B,2,0),\"\")","v":""}]
[null,null,null,null,null,null,null,null,null,{"$f":"IFERROR(VLOOKUP(I1706,CIIU!A:B,2,0),\"\")","v":""}]
[null,null,null,null,null,null,null,null,null,{"$f":"IFERROR(VLOOKUP(I1707,CIIU!A:B,2,0),\"\")","v":""}]
[null,null,null,null,null,null,null,null,null,{"$f":"IFERROR(VLOOKUP(I1708,CIIU!A:B,2,0),\"\")","v":""}]
[null,null,null,null,null,null,null,null,null,{"$f":"IFERROR(VLOOKUP(I1709,CIIU!A:B,2,0),\"\")","v":""}]
[null,null,null,null,null,null,null,null,null,{"$f":"IFERROR(VLOOKUP(I1710,CIIU!A:B,2,0),\"\")","v":""}]
[null,null,null,null,null,null,null,null,null,{"$f":"IFERROR(VLOOKUP(I1711,CIIU!A:B,2,0),\"\")","v":""}]
[null,null,null,null,null,null,null,null,null,{"$f":"IFERROR(VLOOKUP(I1712,CIIU!A:B,2,0),\"\")","v":""}]
[null,null,null,null,null,null,null,null,null,{"$f":"IFERROR(VLOOKUP(I1713,CIIU!A:B,2,0),\"\")","v":""}]
[null,null,null,null,null,null,null,null,null,{"$f":"IFERROR(VLOOKUP(I1714,CIIU!A:B,2,0),\"\")","v":""}]
[null,null,null,null,null,null,null,null,null,{"$f":"IFERROR(VLOOKUP(I1715,CIIU!A:B,2,0),\"\")","v":""}]
[null,null,null,null,null,null,null,null,null,{"$f":"IFERROR(VLOOKUP(I1716,CIIU!A:B,2,0),\"\")","v":""}]
[null,null,null,null,null,null,null,null,null,{"$f":"IFERROR(VLOOKUP(I1717,CIIU!A:B,2,0),\"\")","v":""}]
[null,null,null,null,null,null,null,null,null,{"$f":"IFERROR(VLOOKUP(I1718,CIIU!A:B,2,0),\"\")","v":""}]
[null,null,null,null,null,null,null,null,null,{"$f":"IFERROR(VLOOKUP(I1719,CIIU!A:B,2,0),\"\")","v":""}]
[null,null,null,null,null,null,null,null,null,{"$f":"IFERROR(VLOOKUP(I1720,CIIU!A:B,2,0),\"\")","v":""}]
[null,null,null,null,null,null,null,null,null,{"$f":"IFERROR(VLOOKUP(I1721,CIIU!A:B,2,0),\"\")","v":""}]
[null,null,null,null,null,null,null,null,null,{"$f":"IFERROR(VLOOKUP(I1722,CIIU!A:B,2,0),\"\")","v":""}]
[null,null,null,null,null,null,null,null,null,{"$f":"IFERROR(VLOOKUP(I1723,CIIU!A:B,2,0),\"\")","v":""}]
[null,null,null,null,null,null,null,null,null,{"$f":"IFERROR(VLOOKUP(I1724,CIIU!A:B,2,0),\"\")","v":""}]
[null,null,null,null,null,null,null,null,null,{"$f":"IFERROR(VLOOKUP(I1725,CIIU!A:B,2,0),\"\")","v":""}]
[null,null,null,null,null,null,null,null,null,{"$f":"IFERROR(VLOOKUP(I1726,CIIU!A:B,2,0),\"\")","v":""}]
[null,null,null,null,null,null,null,null,null,{"$f":"IFERROR(VLOOKUP(I1727,CIIU!A:B,2,0),\"\")","v":""}]
[null,null,null,null,null,null,null,null,null,{"$f":"IFERROR(VLOOKUP(I1728,CIIU!A:B,2,0),\"\")","v":""}]
[null,null,null,null,null,null,null,null,null,{"$f":"IFERROR(VLOOKUP(I1729,CIIU!A:B,2,0),\"\")","v":""}]
[null,null,null,null,null,null,null,null,null,{"$f":"IFERROR(VLOOKUP(I1730,CIIU!A:B,2,0),\"\")","v":""}]
[null,null,null,null,null,null,null,null,null,{"$f":"IFERROR(VLOOKUP(I1731,CIIU!A:B,2,0),\"\")","v":""}]
[null,null,null,null,null,null,null,null,null,{"$f":"IFERROR(VLOOKUP(I1732,CIIU!A:B,2,0),\"\")","v":""}]
[null,null,null,null,null,null,null,null,null,{"$f":"IFERROR(VLOOKUP(I1733,CIIU!A:B,2,0),\"\")","v":""}]
[null,null,null,null,null,null,null,null,null,{"$f":"IFERROR(VLOOKUP(I1734,CIIU!A:B,2,0),\"\")","v":""}]
[null,null,null,null,null,null,null,null,null,{"$f":"IFERROR(VLOOKUP(I1735,CIIU!A:B,2,0),\"\")","v":""}]
[null,null,null,null,null,null,null,null,null,{"$f":"IFERROR(VLOOKUP(I1736,CIIU!A:B,2,0),\"\")","v":""}]
[null,null,null,null,null,null,null,null,null,{"$f":"IFERROR(VLOOKUP(I1737,CIIU!A:B,2,0),\"\")","v":""}]
[null,null,null,null,null,null,null,null,null,{"$f":"IFERROR(VLOOKUP(I1738,CIIU!A:B,2,0),\"\")","v":""}]
[null,null,null,null,null,null,null,null,null,{"$f":"IFERROR(VLOOKUP(I1739,CIIU!A:B,2,0),\"\")","v":""}]
[null,null,null,null,null,null,null,null,null,{"$f":"IFERROR(VLOOKUP(I1740,CIIU!A:B,2,0),\"\")","v":""}]
[null,null,null,null,null,null,null,null,null,{"$f":"IFERROR(VLOOKUP(I1741,CIIU!A:B,2,0),\"\")","v":""}]
[null,null,null,null,null,null,null,null,null,{"$f":"IFERROR(VLOOKUP(I1742,CIIU!A:B,2,0),\"\")","v":""}]
[null,null,null,null,null,null,null,null,null,{"$f":"IFERROR(VLOOKUP(I1743,CIIU!A:B,2,0),\"\")","v":""}]
[null,null,null,null,null,null,null,null,null,{"$f":"IFERROR(VLOOKUP(I1744,CIIU!A:B,2,0),\"\")","v":""}]
[null,null,null,null,null,null,null,null,null,{"$f":"IFERROR(VLOOKUP(I1745,CIIU!A:B,2,0),\"\")","v":""}]
[null,null,null,null,null,null,null,null,null,{"$f":"IFERROR(VLOOKUP(I1746,CIIU!A:B,2,0),\"\")","v":""}]
[null,null,null,null,null,null,null,null,null,{"$f":"IFERROR(VLOOKUP(I1747,CIIU!A:B,2,0),\"\")","v":""}]
[null,null,null,null,null,null,null,null,null,{"$f":"IFERROR(VLOOKUP(I1748,CIIU!A:B,2,0),\"\")","v":""}]
[null,null,null,null,null,null,null,null,null,{"$f":"IFERROR(VLOOKUP(I1749,CIIU!A:B,2,0),\"\")","v":""}]
[null,null,null,null,null,null,null,null,null,{"$f":"IFERROR(VLOOKUP(I1750,CIIU!A:B,2,0),\"\")","v":""}]
[null,null,null,null,null,null,null,null,null,{"$f":"IFERROR(VLOOKUP(I1751,CIIU!A:B,2,0),\"\")","v":""}]
[null,null,null,null,null,null,null,null,null,{"$f":"IFERROR(VLOOKUP(I1752,CIIU!A:B,2,0),\"\")","v":""}]
[null,null,null,null,null,null,null,null,null,{"$f":"IFERROR(VLOOKUP(I1753,CIIU!A:B,2,0),\"\")","v":""}]
[null,null,null,null,null,null,null,null,null,{"$f":"IFERROR(VLOOKUP(I1754,CIIU!A:B,2,0),\"\")","v":""}]
[null,null,null,null,null,null,null,null,null,{"$f":"IFERROR(VLOOKUP(I1755,CIIU!A:B,2,0),\"\")","v":""}]
[null,null,null,null,null,null,null,null,null,{"$f":"IFERROR(VLOOKUP(I1756,CIIU!A:B,2,0),\"\")","v":""}]
[null,null,null,null,null,null,null,null,null,{"$f":"IFERROR(VLOOKUP(I1757,CIIU!A:B,2,0),\"\")","v":""}]
[null,null,null,null,null,null,null,null,null,{"$f":"IFERROR(VLOOKUP(I1758,CIIU!A:B,2,0),\"\")","v":""}]
[null,null,null,null,null,null,null,null,null,{"$f":"IFERROR(VLOOKUP(I1759,CIIU!A:B,2,0),\"\")","v":""}]
[null,null,null,null,null,null,null,null,null,{"$f":"IFERROR(VLOOKUP(I1760,CIIU!A:B,2,0),\"\")","v":""}]
[null,null,null,null,null,null,null,null,null,{"$f":"IFERROR(VLOOKUP(I1761,CIIU!A:B,2,0),\"\")","v":""}]
[null,null,null,null,null,null,null,null,null,{"$f":"IFERROR(VLOOKUP(I1762,CIIU!A:B,2,0),\"\")","v":""}]
[null,null,null,null,null,null,null,null,null,{"$f":"IFERROR(VLOOKUP(I1763,CIIU!A:B,2,0),\"\")","v":""}]
[null,null,null,null,null,null,null,null,null,{"$f":"IFERROR(VLOOKUP(I1764,CIIU!A:B,2,0),\"\")","v":""}]
[null,null,null,null,null,null,null,null,null,{"$f":"IFERROR(VLOOKUP(I1765,CIIU!A:B,2,0),\"\")","v":""}]
[null,null,null,null,null,null,null,null,null,{"$f":"IFERROR(VLOOKUP(I1766,CIIU!A:B,2,0),\"\")","v":""}]
[null,null,null,null,null,null,null,null,null,{"$f":"IFERROR(VLOOKUP(I1767,CIIU!A:B,2,0),\"\")","v":""}]
[null,null,null,null,null,null,null,null,null,{"$f":"IFERROR(VLOOKUP(I1768,CIIU!A:B,2,0),\"\")","v":""}]
[null,null,null,null,null,null,null,null,null,{"$f":"IFERROR(VLOOKUP(I1769,CIIU!A:B,2,0),\"\")","v":""}]
[null,null,null,null,null,null,null,null,null,{"$f":"IFERROR(VLOOKUP(I1770,CIIU!A:B,2,0),\"\")","v":""}]
[null,null,null,null,null,null,null,null,null,{"$f":"IFERROR(VLOOKUP(I1771,CIIU!A:B,2,0),\"\")","v":""}]
[null,null,null,null,null,null,null,null,null,{"$f":"IFERROR(VLOOKUP(I1772,CIIU!A:B,2,0),\"\")","v":""}]
[null,null,null,null,null,null,null,null,null,{"$f":"IFERROR(VLOOKUP(I1773,CIIU!A:B,2,0),\"\")","v":""}]
[null,null,null,null,null,null,null,null,null,{"$f":"IFERROR(VLOOKUP(I1774,CIIU!A:B,2,0),\"\")","v":""}]
[null,null,null,null,null,null,null,null,null,{"$f":"IFERROR(VLOOKUP(I1775,CIIU!A:B,2,0),\"\")","v":""}]
[null,null,null,null,null,null,null,null,null,{"$f":"IFERROR(VLOOKUP(I1776,CIIU!A:B,2,0),\"\")","v":""}]
[null,null,null,null,null,null,null,null,null,{"$f":"IFERROR(VLOOKUP(I1777,CIIU!A:B,2,0),\"\")","v":""}]
[null,null,null,null,null,null,null,null,null,{"$f":"IFERROR(VLOOKUP(I1778,CIIU!A:B,2,0),\"\")","v":""}]
[null,null,null,null,null,null,null,null,null,{"$f":"IFERROR(VLOOKUP(I1779,CIIU!A:B,2,0),\"\")","v":""}]
[null,null,null,null,null,null,null,null,null,{"$f":"IFERROR(VLOOKUP(I1780,CIIU!A:B,2,0),\"\")","v":""}]
[null,null,null,null,null,null,null,null,null,{"$f":"IFERROR(VLOOKUP(I1781,CIIU!A:B,2,0),\"\")","v":""}]
[null,null,null,null,null,null,null,null,null,{"$f":"IFERROR(VLOOKUP(I1782,CIIU!A:B,2,0),\"\")","v":""}]
[null,null,null,null,null,null,null,null,null,{"$f":"IFERROR(VLOOKUP(I1783,CIIU!A:B,2,0),\"\")","v":""}]
[null,null,null,null,null,null,null,null,null,{"$f":"IFERROR(VLOOKUP(I1784,CIIU!A:B,2,0),\"\")","v":""}]
[null,null,null,null,null,null,null,null,null,{"$f":"IFERROR(VLOOKUP(I1785,CIIU!A:B,2,0),\"\")","v":""}]
[null,null,null,null,null,null,null,null,null,{"$f":"IFERROR(VLOOKUP(I1786,CIIU!A:B,2,0),\"\")","v":""}]
[null,null,null,null,null,null,null,null,null,{"$f":"IFERROR(VLOOKUP(I1787,CIIU!A:B,2,0),\"\")","v":""}]
[null,null,null,null,null,null,null,null,null,{"$f":"IFERROR(VLOOKUP(I1788,CIIU!A:B,2,0),\"\")","v":""}]
[null,null,null,null,null,null,null,null,null,{"$f":"IFERROR(VLOOKUP(I1789,CIIU!A:B,2,0),\"\")","v":""}]
[null,null,null,null,null,null,null,null,null,{"$f":"IFERROR(VLOOKUP(I1790,CIIU!A:B,2,0),\"\")","v":""}]
[null,null,null,null,null,null,null,null,null,{"$f":"IFERROR(VLOOKUP(I1791,CIIU!A:B,2,0),\"\")","v":""}]
[null,null,null,null,null,null,null,null,null,{"$f":"IFERROR(VLOOKUP(I1792,CIIU!A:B,2,0),\"\")","v":""}]
[null,null,null,null,null,null,null,null,null,{"$f":"IFERROR(VLOOKUP(I1793,CIIU!A:B,2,0),\"\")","v":""}]
[null,null,null,null,null,null,null,null,null,{"$f":"IFERROR(VLOOKUP(I1794,CIIU!A:B,2,0),\"\")","v":""}]
[null,null,null,null,null,null,null,null,null,{"$f":"IFERROR(VLOOKUP(I1795,CIIU!A:B,2,0),\"\")","v":""}]
[null,null,null,null,null,null,null,null,null,{"$f":"IFERROR(VLOOKUP(I1796,CIIU!A:B,2,0),\"\")","v":""}]
[null,null,null,null,null,null,null,null,null,{"$f":"IFERROR(VLOOKUP(I1797,CIIU!A:B,2,0),\"\")","v":""}]
[null,null,null,null,null,null,null,null,null,{"$f":"IFERROR(VLOOKUP(I1798,CIIU!A:B,2,0),\"\")","v":""}]
[null,null,null,null,null,null,null,null,null,{"$f":"IFERROR(VLOOKUP(I1799,CIIU!A:B,2,0),\"\")","v":""}]
[null,null,null,null,null,null,null,null,null,{"$f":"IFERROR(VLOOKUP(I1800,CIIU!A:B,2,0),\"\")","v":""}]
[null,null,null,null,null,null,null,null,null,{"$f":"IFERROR(VLOOKUP(I1801,CIIU!A:B,2,0),\"\")","v":""}]
[null,null,null,null,null,null,null,null,null,{"$f":"IFERROR(VLOOKUP(I1802,CIIU!A:B,2,0),\"\")","v":""}]
[null,null,null,null,null,null,null,null,null,{"$f":"IFERROR(VLOOKUP(I1803,CIIU!A:B,2,0),\"\")","v":""}]
[null,null,null,null,null,null,null,null,null,{"$f":"IFERROR(VLOOKUP(I1804,CIIU!A:B,2,0),\"\")","v":""}]
[null,null,null,null,null,null,null,null,null,{"$f":"IFERROR(VLOOKUP(I1805,CIIU!A:B,2,0),\"\")","v":""}]
[null,null,null,null,null,null,null,null,null,{"$f":"IFERROR(VLOOKUP(I1806,CIIU!A:B,2,0),\"\")","v":""}]
[null,null,null,null,null,null,null,null,null,{"$f":"IFERROR(VLOOKUP(I1807,CIIU!A:B,2,0),\"\")","v":""}]
[null,null,null,null,null,null,null,null,null,{"$f":"IFERROR(VLOOKUP(I1808,CIIU!A:B,2,0),\"\")","v":""}]
[null,null,null,null,null,null,null,null,null,{"$f":"IFERROR(VLOOKUP(I1809,CIIU!A:B,2,0),\"\")","v":""}]
[null,null,null,null,null,null,null,null,null,{"$f":"IFERROR(VLOOKUP(I1810,CIIU!A:B,2,0),\"\")","v":""}]
[null,null,null,null,null,null,null,null,null,{"$f":"IFERROR(VLOOKUP(I1811,CIIU!A:B,2,0),\"\")","v":""}]
[null,null,null,null,null,null,null,null,null,{"$f":"IFERROR(VLOOKUP(I1812,CIIU!A:B,2,0),\"\")","v":""}]
[null,null,null,null,null,null,null,null,null,{"$f":"IFERROR(VLOOKUP(I1813,CIIU!A:B,2,0),\"\")","v":""}]
[null,null,null,null,null,null,null,null,null,{"$f":"IFERROR(VLOOKUP(I1814,CIIU!A:B,2,0),\"\")","v":""}]
[null,null,null,null,null,null,null,null,null,{"$f":"IFERROR(VLOOKUP(I1815,CIIU!A:B,2,0),\"\")","v":""}]
[null,null,null,null,null,null,null,null,null,{"$f":"IFERROR(VLOOKUP(I1816,CIIU!A:B,2,0),\"\")","v":""}]
[null,null,null,null,null,null,null,null,null,{"$f":"IFERROR(VLOOKUP(I1817,CIIU!A:B,2,0),\"\")","v":""}]
[null,null,null,null,null,null,null,null,null,{"$f":"IFERROR(VLOOKUP(I1818,CIIU!A:B,2,0),\"\")","v":""}]
[null,null,null,null,null,null,null,null,null,{"$f":"IFERROR(VLOOKUP(I1819,CIIU!A:B,2,0),\"\")","v":""}]
[null,null,null,null,null,null,null,null,null,{"$f":"IFERROR(VLOOKUP(I1820,CIIU!A:B,2,0),\"\")","v":""}]
[null,null,null,null,null,null,null,null,null,{"$f":"IFERROR(VLOOKUP(I1821,CIIU!A:B,2,0),\"\")","v":""}]
[null,null,null,null,null,null,null,null,null,{"$f":"IFERROR(VLOOKUP(I1822,CIIU!A:B,2,0),\"\")","v":""}]
[null,null,null,null,null,null,null,null,null,{"$f":"IFERROR(VLOOKUP(I1823,CIIU!A:B,2,0),\"\")","v":""}]
[null,null,null,null,null,null,null,null,null,{"$f":"IFERROR(VLOOKUP(I1824,CIIU!A:B,2,0),\"\")","v":""}]
[null,null,null,null,null,null,null,null,null,{"$f":"IFERROR(VLOOKUP(I1825,CIIU!A:B,2,0),\"\")","v":""}]
[null,null,null,null,null,null,null,null,null,{"$f":"IFERROR(VLOOKUP(I1826,CIIU!A:B,2,0),\"\")","v":""}]
[null,null,null,null,null,null,null,null,null,{"$f":"IFERROR(VLOOKUP(I1827,CIIU!A:B,2,0),\"\")","v":""}]
[null,null,null,null,null,null,null,null,null,{"$f":"IFERROR(VLOOKUP(I1828,CIIU!A:B,2,0),\"\")","v":""}]
[null,null,null,null,null,null,null,null,null,{"$f":"IFERROR(VLOOKUP(I1829,CIIU!A:B,2,0),\"\")","v":""}]
[null,null,null,null,null,null,null,null,null,{"$f":"IFERROR(VLOOKUP(I1830,CIIU!A:B,2,0),\"\")","v":""}]
[null,null,null,null,null,null,null,null,null,{"$f":"IFERROR(VLOOKUP(I1831,CIIU!A:B,2,0),\"\")","v":""}]
[null,null,null,null,null,null,null,null,null,{"$f":"IFERROR(VLOOKUP(I1832,CIIU!A:B,2,0),\"\")","v":""}]
[null,null,null,null,null,null,null,null,null,{"$f":"IFERROR(VLOOKUP(I1833,CIIU!A:B,2,0),\"\")","v":""}]
[null,null,null,null,null,null,null,null,null,{"$f":"IFERROR(VLOOKUP(I1834,CIIU!A:B,2,0),\"\")","v":""}]
[null,null,null,null,null,null,null,null,null,{"$f":"IFERROR(VLOOKUP(I1835,CIIU!A:B,2,0),\"\")","v":""}]
[null,null,null,null,null,null,null,null,null,{"$f":"IFERROR(VLOOKUP(I1836,CIIU!A:B,2,0),\"\")","v":""}]
[null,null,null,null,null,null,null,null,null,{"$f":"IFERROR(VLOOKUP(I1837,CIIU!A:B,2,0),\"\")","v":""}]
[null,null,null,null,null,null,null,null,null,{"$f":"IFERROR(VLOOKUP(I1838,CIIU!A:B,2,0),\"\")","v":""}]
[null,null,null,null,null,null,null,null,null,{"$f":"IFERROR(VLOOKUP(I1839,CIIU!A:B,2,0),\"\")","v":""}]
[null,null,null,null,null,null,null,null,null,{"$f":"IFERROR(VLOOKUP(I1840,CIIU!A:B,2,0),\"\")","v":""}]
[null,null,null,null,null,null,null,null,null,{"$f":"IFERROR(VLOOKUP(I1841,CIIU!A:B,2,0),\"\")","v":""}]
[null,null,null,null,null,null,null,null,null,{"$f":"IFERROR(VLOOKUP(I1842,CIIU!A:B,2,0),\"\")","v":""}]
[null,null,null,null,null,null,null,null,null,{"$f":"IFERROR(VLOOKUP(I1843,CIIU!A:B,2,0),\"\")","v":""}]
[null,null,null,null,null,null,null,null,null,{"$f":"IFERROR(VLOOKUP(I1844,CIIU!A:B,2,0),\"\")","v":""}]
[null,null,null,null,null,null,null,null,null,{"$f":"IFERROR(VLOOKUP(I1845,CIIU!A:B,2,0),\"\")","v":""}]
[null,null,null,null,null,null,null,null,null,{"$f":"IFERROR(VLOOKUP(I1846,CIIU!A:B,2,0),\"\")","v":""}]
[null,null,null,null,null,null,null,null,null,{"$f":"IFERROR(VLOOKUP(I1847,CIIU!A:B,2,0),\"\")","v":""}]
[null,null,null,null,null,null,null,null,null,{"$f":"IFERROR(VLOOKUP(I1848,CIIU!A:B,2,0),\"\")","v":""}]
[null,null,null,null,null,null,null,null,null,{"$f":"IFERROR(VLOOKUP(I1849,CIIU!A:B,2,0),\"\")","v":""}]
[null,null,null,null,null,null,null,null,null,{"$f":"IFERROR(VLOOKUP(I1850,CIIU!A:B,2,0),\"\")","v":""}]
[null,null,null,null,null,null,null,null,null,{"$f":"IFERROR(VLOOKUP(I1851,CIIU!A:B,2,0),\"\")","v":""}]
[null,null,null,null,null,null,null,null,null,{"$f":"IFERROR(VLOOKUP(I1852,CIIU!A:B,2,0),\"\")","v":""}]
[null,null,null,null,null,null,null,null,null,{"$f":"IFERROR(VLOOKUP(I1853,CIIU!A:B,2,0),\"\")","v":""}]
[null,null,null,null,null,null,null,null,null,{"$f":"IFERROR(VLOOKUP(I1854,CIIU!A:B,2,0),\"\")","v":""}]
[null,null,null,null,null,null,null,null,null,{"$f":"IFERROR(VLOOKUP(I1855,CIIU!A:B,2,0),\"\")","v":""}]
[null,null,null,null,null,null,null,null,null,{"$f":"IFERROR(VLOOKUP(I1856,CIIU!A:B,2,0),\"\")","v":""}]
[null,null,null,null,null,null,null,null,null,{"$f":"IFERROR(VLOOKUP(I1857,CIIU!A:B,2,0),\"\")","v":""}]
[null,null,null,null,null,null,null,null,null,{"$f":"IFERROR(VLOOKUP(I1858,CIIU!A:B,2,0),\"\")","v":""}]
[null,null,null,null,null,null,null,null,null,{"$f":"IFERROR(VLOOKUP(I1859,CIIU!A:B,2,0),\"\")","v":""}]
[null,null,null,null,null,null,null,null,null,{"$f":"IFERROR(VLOOKUP(I1860,CIIU!A:B,2,0),\"\")","v":""}]
[null,null,null,null,null,null,null,null,null,{"$f":"IFERROR(VLOOKUP(I1861,CIIU!A:B,2,0),\"\")","v":""}]
[null,null,null,null,null,null,null,null,null,{"$f":"IFERROR(VLOOKUP(I1862,CIIU!A:B,2,0),\"\")","v":""}]
[null,null,null,null,null,null,null,null,null,{"$f":"IFERROR(VLOOKUP(I1863,CIIU!A:B,2,0),\"\")","v":""}]
[null,null,null,null,null,null,null,null,null,{"$f":"IFERROR(VLOOKUP(I1864,CIIU!A:B,2,0),\"\")","v":""}]
[null,null,null,null,null,null,null,null,null,{"$f":"IFERROR(VLOOKUP(I1865,CIIU!A:B,2,0),\"\")","v":""}]
[null,null,null,null,null,null,null,null,null,{"$f":"IFERROR(VLOOKUP(I1866,CIIU!A:B,2,0),\"\")","v":""}]
[null,null,null,null,null,null,null,null,null,{"$f":"IFERROR(VLOOKUP(I1867,CIIU!A:B,2,0),\"\")","v":""}]
[null,null,null,null,null,null,null,null,null,{"$f":"IFERROR(VLOOKUP(I1868,CIIU!A:B,2,0),\"\")","v":""}]
[null,null,null,null,null,null,null,null,null,{"$f":"IFERROR(VLOOKUP(I1869,CIIU!A:B,2,0),\"\")","v":""}]
[null,null,null,null,null,null,null,null,null,{"$f":"IFERROR(VLOOKUP(I1870,CIIU!A:B,2,0),\"\")","v":""}]
[null,null,null,null,null,null,null,null,null,{"$f":"IFERROR(VLOOKUP(I1871,CIIU!A:B,2,0),\"\")","v":""}]
[null,null,null,null,null,null,null,null,null,{"$f":"IFERROR(VLOOKUP(I1872,CIIU!A:B,2,0),\"\")","v":""}]
[null,null,null,null,null,null,null,null,null,{"$f":"IFERROR(VLOOKUP(I1873,CIIU!A:B,2,0),\"\")","v":""}]
[null,null,null,null,null,null,null,null,null,{"$f":"IFERROR(VLOOKUP(I1874,CIIU!A:B,2,0),\"\")","v":""}]
[null,null,null,null,null,null,null,null,null,{"$f":"IFERROR(VLOOKUP(I1875,CIIU!A:B,2,0),\"\")","v":""}]
[null,null,null,null,null,null,null,null,null,{"$f":"IFERROR(VLOOKUP(I1876,CIIU!A:B,2,0),\"\")","v":""}]
[null,null,null,null,null,null,null,null,null,{"$f":"IFERROR(VLOOKUP(I1877,CIIU!A:B,2,0),\"\")","v":""}]
[null,null,null,null,null,null,null,null,null,{"$f":"IFERROR(VLOOKUP(I1878,CIIU!A:B,2,0),\"\")","v":""}]
[null,null,null,null,null,null,null,null,null,{"$f":"IFERROR(VLOOKUP(I1879,CIIU!A:B,2,0),\"\")","v":""}]
[null,null,null,null,null,null,null,null,null,{"$f":"IFERROR(VLOOKUP(I1880,CIIU!A:B,2,0),\"\")","v":""}]
[null,null,null,null,null,null,null,null,null,{"$f":"IFERROR(VLOOKUP(I1881,CIIU!A:B,2,0),\"\")","v":""}]
[null,null,null,null,null,null,null,null,null,{"$f":"IFERROR(VLOOKUP(I1882,CIIU!A:B,2,0),\"\")","v":""}]
[null,null,null,null,null,null,null,null,null,{"$f":"IFERROR(VLOOKUP(I1883,CIIU!A:B,2,0),\"\")","v":""}]
[null,null,null,null,null,null,null,null,null,{"$f":"IFERROR(VLOOKUP(I1884,CIIU!A:B,2,0),\"\")","v":""}]
[null,null,null,null,null,null,null,null,null,{"$f":"IFERROR(VLOOKUP(I1885,CIIU!A:B,2,0),\"\")","v":""}]
[null,null,null,null,null,null,null,null,null,{"$f":"IFERROR(VLOOKUP(I1886,CIIU!A:B,2,0),\"\")","v":""}]
[null,null,null,null,null,null,null,null,null,{"$f":"IFERROR(VLOOKUP(I1887,CIIU!A:B,2,0),\"\")","v":""}]
[null,null,null,null,null,null,null,null,null,{"$f":"IFERROR(VLOOKUP(I1888,CIIU!A:B,2,0),\"\")","v":""}]
[null,null,null,null,null,null,null,null,null,{"$f":"IFERROR(VLOOKUP(I1889,CIIU!A:B,2,0),\"\")","v":""}]
[null,null,null,null,null,null,null,null,null,{"$f":"IFERROR(VLOOKUP(I1890,CIIU!A:B,2,0),\"\")","v":""}]
[null,null,null,null,null,null,null,null,null,{"$f":"IFERROR(VLOOKUP(I1891,CIIU!A:B,2,0),\"\")","v":""}]
[null,null,null,null,null,null,null,null,null,{"$f":"IFERROR(VLOOKUP(I1892,CIIU!A:B,2,0),\"\")","v":""}]
[null,null,null,null,null,null,null,null,null,{"$f":"IFERROR(VLOOKUP(I1893,CIIU!A:B,2,0),\"\")","v":""}]
[null,null,null,null,null,null,null,null,null,{"$f":"IFERROR(VLOOKUP(I1894,CIIU!A:B,2,0),\"\")","v":""}]
[null,null,null,null,null,null,null,null,null,{"$f":"IFERROR(VLOOKUP(I1895,CIIU!A:B,2,0),\"\")","v":""}]
[null,null,null,null,null,null,null,null,null,{"$f":"IFERROR(VLOOKUP(I1896,CIIU!A:B,2,0),\"\")","v":""}]
[null,null,null,null,null,null,null,null,null,{"$f":"IFERROR(VLOOKUP(I1897,CIIU!A:B,2,0),\"\")","v":""}]
[null,null,null,null,null,null,null,null,null,{"$f":"IFERROR(VLOOKUP(I1898,CIIU!A:B,2,0),\"\")","v":""}]
[null,null,null,null,null,null,null,null,null,{"$f":"IFERROR(VLOOKUP(I1899,CIIU!A:B,2,0),\"\")","v":""}]
[null,null,null,null,null,null,null,null,null,{"$f":"IFERROR(VLOOKUP(I1900,CIIU!A:B,2,0),\"\")","v":""}]
[null,null,null,null,null,null,null,null,null,{"$f":"IFERROR(VLOOKUP(I1901,CIIU!A:B,2,0),\"\")","v":""}]
[null,null,null,null,null,null,null,null,null,{"$f":"IFERROR(VLOOKUP(I1902,CIIU!A:B,2,0),\"\")","v":""}]
[null,null,null,null,null,null,null,null,null,{"$f":"IFERROR(VLOOKUP(I1903,CIIU!A:B,2,0),\"\")","v":""}]
[null,null,null,null,null,null,null,null,null,{"$f":"IFERROR(VLOOKUP(I1904,CIIU!A:B,2,0),\"\")","v":""}]
[null,null,null,null,null,null,null,null,null,{"$f":"IFERROR(VLOOKUP(I1905,CIIU!A:B,2,0),\"\")","v":""}]
[null,null,null,null,null,null,null,null,null,{"$f":"IFERROR(VLOOKUP(I1906,CIIU!A:B,2,0),\"\")","v":""}]
[null,null,null,null,null,null,null,null,null,{"$f":"IFERROR(VLOOKUP(I1907,CIIU!A:B,2,0),\"\")","v":""}]
[null,null,null,null,null,null,null,null,null,{"$f":"IFERROR(VLOOKUP(I1908,CIIU!A:B,2,0),\"\")","v":""}]
[null,null,null,null,null,null,null,null,null,{"$f":"IFERROR(VLOOKUP(I1909,CIIU!A:B,2,0),\"\")","v":""}]
[null,null,null,null,null,null,null,null,null,{"$f":"IFERROR(VLOOKUP(I1910,CIIU!A:B,2,0),\"\")","v":""}]
[null,null,null,null,null,null,null,null,null,{"$f":"IFERROR(VLOOKUP(I1911,CIIU!A:B,2,0),\"\")","v":""}]
[null,null,null,null,null,null,null,null,null,{"$f":"IFERROR(VLOOKUP(I1912,CIIU!A:B,2,0),\"\")","v":""}]
[null,null,null,null,null,null,null,null,null,{"$f":"IFERROR(VLOOKUP(I1913,CIIU!A:B,2,0),\"\")","v":""}]
[null,null,null,null,null,null,null,null,null,{"$f":"IFERROR(VLOOKUP(I1914,CIIU!A:B,2,0),\"\")","v":""}]
[null,null,null,null,null,null,null,null,null,{"$f":"IFERROR(VLOOKUP(I1915,CIIU!A:B,2,0),\"\")","v":""}]
[null,null,null,null,null,null,null,null,null,{"$f":"IFERROR(VLOOKUP(I1916,CIIU!A:B,2,0),\"\")","v":""}]
[null,null,null,null,null,null,null,null,null,{"$f":"IFERROR(VLOOKUP(I1917,CIIU!A:B,2,0),\"\")","v":""}]
[null,null,null,null,null,null,null,null,null,{"$f":"IFERROR(VLOOKUP(I1918,CIIU!A:B,2,0),\"\")","v":""}]
[null,null,null,null,null,null,null,null,null,{"$f":"IFERROR(VLOOKUP(I1919,CIIU!A:B,2,0),\"\")","v":""}]
[null,null,null,null,null,null,null,null,null,{"$f":"IFERROR(VLOOKUP(I1920,CIIU!A:B,2,0),\"\")","v":""}]
[null,null,null,null,null,null,null,null,null,{"$f":"IFERROR(VLOOKUP(I1921,CIIU!A:B,2,0),\"\")","v":""}]
[null,null,null,null,null,null,null,null,null,{"$f":"IFERROR(VLOOKUP(I1922,CIIU!A:B,2,0),\"\")","v":""}]
[null,null,null,null,null,null,null,null,null,{"$f":"IFERROR(VLOOKUP(I1923,CIIU!A:B,2,0),\"\")","v":""}]
[null,null,null,null,null,null,null,null,null,{"$f":"IFERROR(VLOOKUP(I1924,CIIU!A:B,2,0),\"\")","v":""}]
[null,null,null,null,null,null,null,null,null,{"$f":"IFERROR(VLOOKUP(I1925,CIIU!A:B,2,0),\"\")","v":""}]
[null,null,null,null,null,null,null,null,null,{"$f":"IFERROR(VLOOKUP(I1926,CIIU!A:B,2,0),\"\")","v":""}]
[null,null,null,null,null,null,null,null,null,{"$f":"IFERROR(VLOOKUP(I1927,CIIU!A:B,2,0),\"\")","v":""}]
[null,null,null,null,null,null,null,null,null,{"$f":"IFERROR(VLOOKUP(I1928,CIIU!A:B,2,0),\"\")","v":""}]
[null,null,null,null,null,null,null,null,null,{"$f":"IFERROR(VLOOKUP(I1929,CIIU!A:B,2,0),\"\")","v":""}]
[null,null,null,null,null,null,null,null,null,{"$f":"IFERROR(VLOOKUP(I1930,CIIU!A:B,2,0),\"\")","v":""}]
[null,null,null,null,null,null,null,null,null,{"$f":"IFERROR(VLOOKUP(I1931,CIIU!A:B,2,0),\"\")","v":""}]
[null,null,null,null,null,null,null,null,null,{"$f":"IFERROR(VLOOKUP(I1932,CIIU!A:B,2,0),\"\")","v":""}]
[null,null,null,null,null,null,null,null,null,{"$f":"IFERROR(VLOOKUP(I1933,CIIU!A:B,2,0),\"\")","v":""}]
[null,null,null,null,null,null,null,null,null,{"$f":"IFERROR(VLOOKUP(I1934,CIIU!A:B,2,0),\"\")","v":""}]
[null,null,null,null,null,null,null,null,null,{"$f":"IFERROR(VLOOKUP(I1935,CIIU!A:B,2,0),\"\")","v":""}]
[null,null,null,null,null,null,null,null,null,{"$f":"IFERROR(VLOOKUP(I1936,CIIU!A:B,2,0),\"\")","v":""}]
[null,null,null,null,null,null,null,null,null,{"$f":"IFERROR(VLOOKUP(I1937,CIIU!A:B,2,0),\"\")","v":""}]
[null,null,null,null,null,null,null,null,null,{"$f":"IFERROR(VLOOKUP(I1938,CIIU!A:B,2,0),\"\")","v":""}]
[null,null,null,null,null,null,null,null,null,{"$f":"IFERROR(VLOOKUP(I1939,CIIU!A:B,2,0),\"\")","v":""}]
[null,null,null,null,null,null,null,null,null,{"$f":"IFERROR(VLOOKUP(I1940,CIIU!A:B,2,0),\"\")","v":""}]
[null,null,null,null,null,null,null,null,null,{"$f":"IFERROR(VLOOKUP(I1941,CIIU!A:B,2,0),\"\")","v":""}]
[null,null,null,null,null,null,null,null,null,{"$f":"IFERROR(VLOOKUP(I1942,CIIU!A:B,2,0),\"\")","v":""}]
[null,null,null,null,null,null,null,null,null,{"$f":"IFERROR(VLOOKUP(I1943,CIIU!A:B,2,0),\"\")","v":""}]
[null,null,null,null,null,null,null,null,null,{"$f":"IFERROR(VLOOKUP(I1944,CIIU!A:B,2,0),\"\")","v":""}]
[null,null,null,null,null,null,null,null,null,{"$f":"IFERROR(VLOOKUP(I1945,CIIU!A:B,2,0),\"\")","v":""}]
[null,null,null,null,null,null,null,null,null,{"$f":"IFERROR(VLOOKUP(I1946,CIIU!A:B,2,0),\"\")","v":""}]
[null,null,null,null,null,null,null,null,null,{"$f":"IFERROR(VLOOKUP(I1947,CIIU!A:B,2,0),\"\")","v":""}]
[null,null,null,null,null,null,null,null,null,{"$f":"IFERROR(VLOOKUP(I1948,CIIU!A:B,2,0),\"\")","v":""}]
[null,null,null,null,null,null,null,null,null,{"$f":"IFERROR(VLOOKUP(I1949,CIIU!A:B,2,0),\"\")","v":""}]
[null,null,null,null,null,null,null,null,null,{"$f":"IFERROR(VLOOKUP(I1950,CIIU!A:B,2,0),\"\")","v":""}]
[null,null,null,null,null,null,null,null,null,{"$f":"IFERROR(VLOOKUP(I1951,CIIU!A:B,2,0),\"\")","v":""}]
[null,null,null,null,null,null,null,null,null,{"$f":"IFERROR(VLOOKUP(I1952,CIIU!A:B,2,0),\"\")","v":""}]
[null,null,null,null,null,null,null,null,null,{"$f":"IFERROR(VLOOKUP(I1953,CIIU!A:B,2,0),\"\")","v":""}]
[null,null,null,null,null,null,null,null,null,{"$f":"IFERROR(VLOOKUP(I1954,CIIU!A:B,2,0),\"\")","v":""}]
[null,null,null,null,null,null,null,null,null,{"$f":"IFERROR(VLOOKUP(I1955,CIIU!A:B,2,0),\"\")","v":""}]
[null,null,null,null,null,null,null,null,null,{"$f":"IFERROR(VLOOKUP(I1956,CIIU!A:B,2,0),\"\")","v":""}]
[null,null,null,null,null,null,null,null,null,{"$f":"IFERROR(VLOOKUP(I1957,CIIU!A:B,2,0),\"\")","v":""}]
[null,null,null,null,null,null,null,null,null,{"$f":"IFERROR(VLOOKUP(I1958,CIIU!A:B,2,0),\"\")","v":""}]
[null,null,null,null,null,null,null,null,null,{"$f":"IFERROR(VLOOKUP(I1959,CIIU!A:B,2,0),\"\")","v":""}]
[null,null,null,null,null,null,null,null,null,{"$f":"IFERROR(VLOOKUP(I1960,CIIU!A:B,2,0),\"\")","v":""}]
[null,null,null,null,null,null,null,null,null,{"$f":"IFERROR(VLOOKUP(I1961,CIIU!A:B,2,0),\"\")","v":""}]
[null,null,null,null,null,null,null,null,null,{"$f":"IFERROR(VLOOKUP(I1962,CIIU!A:B,2,0),\"\")","v":""}]
[null,null,null,null,null,null,null,null,null,{"$f":"IFERROR(VLOOKUP(I1963,CIIU!A:B,2,0),\"\")","v":""}]
[null,null,null,null,null,null,null,null,null,{"$f":"IFERROR(VLOOKUP(I1964,CIIU!A:B,2,0),\"\")","v":""}]
[null,null,null,null,null,null,null,null,null,{"$f":"IFERROR(VLOOKUP(I1965,CIIU!A:B,2,0),\"\")","v":""}]
[null,null,null,null,null,null,null,null,null,{"$f":"IFERROR(VLOOKUP(I1966,CIIU!A:B,2,0),\"\")","v":""}]
[null,null,null,null,null,null,null,null,null,{"$f":"IFERROR(VLOOKUP(I1967,CIIU!A:B,2,0),\"\")","v":""}]
[null,null,null,null,null,null,null,null,null,{"$f":"IFERROR(VLOOKUP(I1968,CIIU!A:B,2,0),\"\")","v":""}]
[null,null,null,null,null,null,null,null,null,{"$f":"IFERROR(VLOOKUP(I1969,CIIU!A:B,2,0),\"\")","v":""}]
[null,null,null,null,null,null,null,null,null,{"$f":"IFERROR(VLOOKUP(I1970,CIIU!A:B,2,0),\"\")","v":""}]
[null,null,null,null,null,null,null,null,null,{"$f":"IFERROR(VLOOKUP(I1971,CIIU!A:B,2,0),\"\")","v":""}]
[null,null,null,null,null,null,null,null,null,{"$f":"IFERROR(VLOOKUP(I1972,CIIU!A:B,2,0),\"\")","v":""}]
[null,null,null,null,null,null,null,null,null,{"$f":"IFERROR(VLOOKUP(I1973,CIIU!A:B,2,0),\"\")","v":""}]
[null,null,null,null,null,null,null,null,null,{"$f":"IFERROR(VLOOKUP(I1974,CIIU!A:B,2,0),\"\")","v":""}]
[null,null,null,null,null,null,null,null,null,{"$f":"IFERROR(VLOOKUP(I1975,CIIU!A:B,2,0),\"\")","v":""}]
[null,null,null,null,null,null,null,null,null,{"$f":"IFERROR(VLOOKUP(I1976,CIIU!A:B,2,0),\"\")","v":""}]
[null,null,null,null,null,null,null,null,null,{"$f":"IFERROR(VLOOKUP(I1977,CIIU!A:B,2,0),\"\")","v":""}]
[null,null,null,null,null,null,null,null,null,{"$f":"IFERROR(VLOOKUP(I1978,CIIU!A:B,2,0),\"\")","v":""}]
[null,null,null,null,null,null,null,null,null,{"$f":"IFERROR(VLOOKUP(I1979,CIIU!A:B,2,0),\"\")","v":""}]
[null,null,null,null,null,null,null,null,null,{"$f":"IFERROR(VLOOKUP(I1980,CIIU!A:B,2,0),\"\")","v":""}]
[null,null,null,null,null,null,null,null,null,{"$f":"IFERROR(VLOOKUP(I1981,CIIU!A:B,2,0),\"\")","v":""}]
[null,null,null,null,null,null,null,null,null,{"$f":"IFERROR(VLOOKUP(I1982,CIIU!A:B,2,0),\"\")","v":""}]
[null,null,null,null,null,null,null,null,null,{"$f":"IFERROR(VLOOKUP(I1983,CIIU!A:B,2,0),\"\")","v":""}]
[null,null,null,null,null,null,null,null,null,{"$f":"IFERROR(VLOOKUP(I1984,CIIU!A:B,2,0),\"\")","v":""}]
[null,null,null,null,null,null,null,null,null,{"$f":"IFERROR(VLOOKUP(I1985,CIIU!A:B,2,0),\"\")","v":""}]
[null,null,null,null,null,null,null,null,null,{"$f":"IFERROR(VLOOKUP(I1986,CIIU!A:B,2,0),\"\")","v":""}]
[null,null,null,null,null,null,null,null,null,{"$f":"IFERROR(VLOOKUP(I1987,CIIU!A:B,2,0),\"\")","v":""}]
[null,null,null,null,null,null,null,null,null,{"$f":"IFERROR(VLOOKUP(I1988,CIIU!A:B,2,0),\"\")","v":""}]
[null,null,null,null,null,null,null,null,null,{"$f":"IFERROR(VLOOKUP(I1989,CIIU!A:B,2,0),\"\")","v":""}]
[null,null,null,null,null,null,null,null,null,{"$f":"IFERROR(VLOOKUP(I1990,CIIU!A:B,2,0),\"\")","v":""}]
[null,null,null,null,null,null,null,null,null,{"$f":"IFERROR(VLOOKUP(I1991,CIIU!A:B,2,0),\"\")","v":""}]
[null,null,null,null,null,null,null,null,null,{"$f":"IFERROR(VLOOKUP(I1992,CIIU!A:B,2,0),\"\")","v":""}]
[null,null,null,null,null,null,null,null,null,{"$f":"IFERROR(VLOOKUP(I1993,CIIU!A:B,2,0),\"\")","v":""}]
[null,null,null,null,null,null,null,null,null,{"$f":"IFERROR(VLOOKUP(I1994,CIIU!A:B,2,0),\"\")","v":""}]
[null,null,null,null,null,null,null,null,null,{"$f":"IFERROR(VLOOKUP(I1995,CIIU!A:B,2,0),\"\")","v":""}]
[null,null,null,null,null,null,null,null,null,{"$f":"IFERROR(VLOOKUP(I1996,CIIU!A:B,2,0),\"\")","v":""}]
[null,null,null,null,null,null,null,null,null,{"$f":"IFERROR(VLOOKUP(I1997,CIIU!A:B,2,0),\"\")","v":""}]
[null,null,null,null,null,null,null,null,null,{"$f":"IFERROR(VLOOKUP(I1998,CIIU!A:B,2,0),\"\")","v":""}]
[null,null,null,null,null,null,null,null,null,{"$f":"IFERROR(VLOOKUP(I1999,CIIU!A:B,2,0),\"\")","v":""}]
[null,null,null,null,null,null,null,null,null,{"$f":"IFERROR(VLOOKUP(I2000,CIIU!A:B,2,0),\"\")","v":""}]
[null,null,null,null,null,null,null,null,null,{"$f":"IFERROR(VLOOKUP(I2001,CIIU!A:B,2,0),\"\")","v":""}]

{"sheet":"Tipo2 - Info Fideicomitente","index":1,"n_rows":102,"n_cols":26,"rows_kept":102,"cut":false,"hidden":false,"merged":[[0,8,0,17],[1,8,1,11],[1,12,1,14],[1,15,1,17]]}
[null,null,null,null,null,null,null,null,"Dirección notificación"]
[null,null,null,null,null,null,null,null,"Datos de la via",null,null,null,"Datos del cruce",null,null,"Datos adicionales"]
["NumeroFideicomiso","TipoIdentificacion","Tipo Identificación Fideicomitente","NumeroIdentificacion","Nombre1","Nombre2","Apellido1","Apellido2","Tipo","Numero1","Apendice1","Orientacion1","Numero2","Apendice2","Orientacion2","Placa","Interior","Bloque","DireccionEspecial","CodDpto","Departamento","CodMpio","Municipio","TipoParticipacion","Tipo Participación","PorcentajeParticipacion"]
[null,1,null,null,null,null,null,null,null,null,null,null,null,null,null,null,null,null,null,"11",null,"11001",null,2]
[null,1,null,null,null,null,null,null,null,null,null,null,null,null,null,null,null,null,null,"05",null,"05001",null,2]
[null,1,null,null,null,null,null,null,null,null,null,null,null,null,null,null,null,null,null,"05",null,"05001",null,2]
[null,1,null,null,null,null,null,null,null,null,null,null,null,null,null,null,null,null,null,"05",null,"05001",null,2]
[null,1,null,null,null,null,null,null,null,null,null,null,null,null,null,null,null,null,null,"05",null,"05001",null,2]
[null,1,null,null,null,null,null,null,null,null,null,null,null,null,null,null,null,null,null,"05",null,"05001",null,2]
[null,1,null,null,null,null,null,null,null,null,null,null,null,null,null,null,null,null,null,"05",null,"05266",null,2]
[null,1,null,null,null,null,null,null,null,null,null,null,null,null,null,null,null,null,null,"05",null,"05266",null,2]
[null,1,null,null,null,null,null,null,null,null,null,null,null,null,null,null,null,null,null,"05",null,"05001",null,2]
[null,1,null,null,null,null,null,null,null,null,null,null,null,null,null,null,null,null,null,"05",null,"05001",null,2]
[null,1,null,null,null,null,null,null,null,null,null,null,null,null,null,null,null,null,null,"05",null,"05001",null,2]
[null,1,null,null,null,null,null,null,null,null,null,null,null,null,null,null,null,null,null,"05",null,"05001",null,2]
[null,1,null,null,null,null,null,null,null,null,null,null,null,null,null,null,null,null,null,"05",null,"05001",null,2]
[null,1,null,null,null,null,null,null,null,null,null,null,null,null,null,null,null,null,null,"05",null,"05001",null,2]
[null,1,null,null,null,null,null,null,null,null,null,null,null,null,null,null,null,null,null,"05",null,"05001",null,2]
[null,1,null,null,null,null,null,null,null,null,null,null,null,null,null,null,null,null,null,"05",null,"05001",null,2]
[null,1,null,null,null,null,null,null,null,null,null,null,null,null,null,null,null,null,null,"05",null,"05001",null,2]
[null,1,null,null,null,null,null,null,null,null,null,null,null,null,null,null,null,null,null,"05",null,"05380",null,2]
[null,1,null,null,null,null,null,null,null,null,null,null,null,null,null,null,null,null,null,"11",null,"11001",null,2]
[null,1,null,null,null,null,null,null,null,null,null,null,null,null,null,null,null,null,null,"05",null,"05001",null,2]
[null,1,null,null,null,null,null,null,null,null,null,null,null,null,null,null,null,null,null,"05",null,"05001",null,2]
[null,2,null,null,null,null,null,null,null,null,null,null,null,null,null,null,null,null,null,"05",null,"05001",null,2]
[null,2,null,null,null,null,null,null,null,null,null,null,null,null,null,null,null,null,null,"05",null,"05001",null,2]
[null,2,null,null,null,null,null,null,null,null,null,null,null,null,null,null,null,null,null,"05",null,"05001",null,2]
[null,1,null,null,null,null,null,null,null,null,null,null,null,null,null,null,null,null,null,"05",null,"05266",null,2]
[null,2,null,null,null,null,null,null,null,null,null,null,null,null,null,null,null,null,null,"05",null,"05266",null,2]
[null,1,null,null,null,null,null,null,null,null,null,null,null,null,null,null,null,null,null,"05",null,"05001",null,2]
[null,2,null,null,null,null,null,null,null,null,null,null,null,null,null,null,null,null,null,"05",null,"05001",null,2]
[null,1,null,null,null,null,null,null,null,null,null,null,null,null,null,null,null,null,null,"05",null,"05001",null,2]
[null,1,null,null,null,null,null,null,null,null,null,null,null,null,null,null,null,null,null,"05",null,"05001",null,2]
[null,1,null,null,null,null,null,null,null,null,null,null,null,null,null,null,null,null,null,"05",null,"05001",null,2]
[null,2,null,null,null,null,null,null,null,null,null,null,null,null,null,null,null,null,null,"05",null,"05001",null,2]
[null,2,null,null,null,null,null,null,null,null,null,null,null,null,null,null,null,null,null,"05",null,"05001",null,2]
[null,1,null,null,null,null,null,null,null,null,null,null,null,null,null,null,null,null,null,"05",null,"05001",null,2]
[null,1,null,null,null,null,null,null,null,null,null,null,null,null,null,null,null,null,null,"05",null,"05001",null,2]
[null,1,null,null,null,null,null,null,null,null,null,null,null,null,null,null,null,null,null,"05",null,"05380",null,2]
[null,1,null,null,null,null,null,null,null,null,null,null,null,null,null,null,null,null,null,"11",null,"11001",null,2]
[null,1,null,null,null,null,null,null,null,null,null,null,null,null,null,null,null,null,null,"05",null,"05001",null,2]
[null,1,null,null,null,null,null,null,null,null,null,null,null,null,null,null,null,null,null,"05",null,"05001",null,2]
[null,1,null,null,null,null,null,null,null,null,null,null,null,null,null,null,null,null,null,"05",null,"05001",null,2]
[null,1,null,null,null,null,null,null,null,null,null,null,null,null,null,null,null,null,null,"05",null,"05001",null,2]
[null,1,null,null,null,null,null,null,null,null,null,null,null,null,null,null,null,null,null,"05",null,"05001",null,2]
[null,2,null,null,null,null,null,null,null,null,null,null,null,null,null,null,null,null,null,"05",null,"05266",null,2]
[null,1,null,null,null,null,null,null,null,null,null,null,null,null,null,null,null,null,null,"05",null,"05266",null,2]
[null,1,null,null,null,null,null,null,null,null,null,null,null,null,null,null,null,null,null,"05",null,"05001",null,2]
[null,1,null,null,null,null,null,null,null,null,null,null,null,null,null,null,null,null,null,"05",null,"05001",null,2]
[null,1,null,null,null,null,null,null,null,null,null,null,null,null,null,null,null,null,null,"05",null,"05001",null,2]
[null,1,null,null,null,null,null,null,null,null,null,null,null,null,null,null,null,null,null,"05",null,"05001",null,2]
[null,1,null,null,null,null,null,null,null,null,null,null,null,null,null,null,null,null,null,"05",null,"05001",null,2]
[null,1,null,null,null,null,null,null,null,null,null,null,null,null,null,null,null,null,null,"05",null,"05001",null,2]
[null,1,null,null,null,null,null,null,null,null,null,null,null,null,null,null,null,null,null,"05",null,"05001",null,2]
[null,1,null,null,null,null,null,null,null,null,null,null,null,null,null,null,null,null,null,"05",null,"05001",null,2]
[null,1,null,null,null,null,null,null,null,null,null,null,null,null,null,null,null,null,null,"05",null,"05001",null,2]
[null,1,null,null,null,null,null,null,null,null,null,null,null,null,null,null,null,null,null,"05",null,"05380",null,2]
[null,1,null,null,null,null,null,null,null,null,null,null,null,null,null,null,null,null,null,"05",null,"05001",null,2]
[null,1,null,null,null,null,null,null,null,null,null,null,null,null,null,null,null,null,null,"05",null,"05001",null,2]
[null,1,null,null,null,null,null,null,null,null,null,null,null,null,null,null,null,null,null,"05",null,"05001",null,2]
[null,1,null,null,null,null,null,null,null,null,null,null,null,null,null,null,null,null,null,"05",null,"05001",null,2]
[null,1,null,null,null,null,null,null,null,null,null,null,null,null,null,null,null,null,null,"05",null,"05380",null,2]
[null,1,null,null,null,null,null,null,null,null,null,null,null,null,null,null,null,null,null,"11",null,"11001",null,2]
[null,1,null,null,null,null,null,null,null,null,null,null,null,null,null,null,null,null,null,"05",null,"05001",null,2]
[null,1,null,null,null,null,null,null,null,null,null,null,null,null,null,null,null,null,null,"05",null,"05001",null,2]
[null,1,null,null,null,null,null,null,null,null,null,null,null,null,null,null,null,null,null,"05",null,"05001",null,2]
[null,1,null,null,null,null,null,null,null,null,null,null,null,null,null,null,null,null,null,"05",null,"05001",null,2]
[null,1,null,null,null,null,null,null,null,null,null,null,null,null,null,null,null,null,null,"05",null,"05001",null,2]
[null,1,null,null,null,null,null,null,null,null,null,null,null,null,null,null,null,null,null,"05",null,"05266",null,2]
[null,2,null,null,null,null,null,null,null,null,null,null,null,null,null,null,null,null,null,"05",null,"05266",null,2]
[null,1,null,null,null,null,null,null,null,null,null,null,null,null,null,null,null,null,null,"05",null,"05001",null,2]
[null,1,null,null,null,null,null,null,null,null,null,null,null,null,null,null,null,null,null,"05",null,"05001",null,2]
[null,1,null,null,null,null,null,null,null,null,null,null,null,null,null,null,null,null,null,"05",null,"05001",null,2]
[null,1,null,null,null,null,null,null,null,null,null,null,null,null,null,null,null,null,null,"05",null,"05001",null,2]
[null,1,null,null,null,null,null,null,null,null,null,null,null,null,null,null,null,null,null,"05",null,"05001",null,2]
[null,1,null,null,null,null,null,null,null,null,null,null,null,null,null,null,null,null,null,"05",null,"05001",null,2]
[null,1,null,null,null,null,null,null,null,null,null,null,null,null,null,null,null,null,null,"05",null,"05001",null,2]
[null,2,null,null,null,null,null,null,null,null,null,null,null,null,null,null,null,null,null,"05",null,"05001",null,2]
[null,2,null,null,null,null,null,null,null,null,null,null,null,null,null,null,null,null,null,"05",null,"05001",null,2]
[null,2,null,null,null,null,null,null,null,null,null,null,null,null,null,null,null,null,null,"05",null,"05001",null,2]
[null,2,null,null,null,null,null,null,null,null,null,null,null,null,null,null,null,null,null,"05",null,"05001",null,2]
[null,2,null,null,null,null,null,null,null,null,null,null,null,null,null,null,null,null,null,"05",null,"05001",null,2]
[null,2,null,null,null,null,null,null,null,null,null,null,null,null,null,null,null,null,null,"05",null,"05380",null,2]
[null,2,null,null,null,null,null,null,null,null,null,null,null,null,null,null,null,null,null,"11",null,"11001",null,2]
[null,2,null,null,null,null,null,null,null,null,null,null,null,null,null,null,null,null,null,"05",null,"05001",null,2]
[null,2,null,null,null,null,null,null,null,null,null,null,null,null,null,null,null,null,null,"05",null,"05001",null,2]
[null,2,null,null,null,null,null,null,null,null,null,null,null,null,null,null,null,null,null,"05",null,"05001",null,2]
[null,2,null,null,null,null,null,null,null,null,null,null,null,null,null,null,null,null,null,"05",null,"05001",null,2]
[null,1,null,null,null,null,null,null,null,null,null,null,null,null,null,null,null,null,null,"05",null,"05001",null,2]
[null,1,null,null,null,null,null,null,null,null,null,null,null,null,null,null,null,null,null,"05",null,"05266",null,2]
[null,1,null,null,null,null,null,null,null,null,null,null,null,null,null,null,null,null,null,"05",null,"05266",null,2]
[null,1,null,null,null,null,null,null,null,null,null,null,null,null,null,null,null,null,null,"05",null,"05001",null,2]
[null,1,null,null,null,null,null,null,null,null,null,null,null,null,null,null,null,null,null,"05",null,"05001",null,2]
[null,1,null,null,null,null,null,null,null,null,null,null,null,null,null,null,null,null,null,"05",null,"05001",null,2]
[null,1,null,null,null,null,null,null,null,null,null,null,null,null,null,null,null,null,null,"05",null,"05001",null,2]
[null,1,null,null,null,null,null,null,null,null,null,null,null,null,null,null,null,null,null,"05",null,"05001",null,2]
[null,1,null,null,null,null,null,null,null,null,null,null,null,null,null,null,null,null,null,"05",null,"05001",null,2]
[null,1,null,null,null,null,null,null,null,null,null,null,null,null,null,null,null,null,null,"05",null,"05001",null,2]
[null,1,null,null,null,null,null,null,null,null,null,null,null,null,null,null,null,null,null,"05",null,"05001",null,2]
[null,1,null,null,null,null,null,null,null,null,null,null,null,null,null,null,null,null,null,"05",null,"05001",null,2]
[null,1,null,null,null,null,null,null,null,null,null,null,null,null,null,null,null,null,null,"05",null,"05001",null,2]
[null,1,null,null,null,null,null,null,null,null,null,null,null,null,null,null,null,null,null,"05",null,"05001",null,2]

{"sheet":"Tipo3 - Info Beneficiario","index":2,"n_rows":102,"n_cols":26,"rows_kept":102,"cut":false,"hidden":false,"merged":[[0,8,0,17],[1,8,1,11],[1,12,1,14],[1,15,1,17]]}
[null,null,null,null,null,null,null,null,"Dirección notificación"]
[null,null,null,null,null,null,null,null,"Datos de la via",null,null,null,"Datos del cruce",null,null,"Datos adicionales"]
["NumeroFideicomiso","TipoIdentificacion","Tipo Identificación Beneficiario","NumeroIdentificacion","Nombre1","Nombre2","Apellido1","Apellido2","Tipo","Numero1","Apendice1","Orientacion1","Numero2","Apendice2","Orientacion2","Placa","Interior","Bloque","DireccionEspecial","CodDpto","Departamento","CodMpio","Municipio","TipoParticipacion","Tipo Participación","PorcentajeParticipacion"]
[null,1,null,null,null,null,null,null,null,null,null,null,null,null,null,null,null,null,null,"11",null,"11001",null,2]
[null,1,null,null,null,null,null,null,null,null,null,null,null,null,null,null,null,null,null,"05",null,"05001",null,2]
[null,1,null,null,null,null,null,null,null,null,null,null,null,null,null,null,null,null,null,"05",null,"05001",null,2]
[null,1,null,null,null,null,null,null,null,null,null,null,null,null,null,null,null,null,null,"05",null,"05001",null,2]
[null,1,null,null,null,null,null,null,null,null,null,null,null,null,null,null,null,null,null,"05",null,"05001",null,2]
[null,1,null,null,null,null,null,null,null,null,null,null,null,null,null,null,null,null,null,"05",null,"05001",null,2]
[null,1,null,null,null,null,null,null,null,null,null,null,null,null,null,null,null,null,null,"05",null,"05266",null,2]
[null,1,null,null,null,null,null,null,null,null,null,null,null,null,null,null,null,null,null,"05",null,"05266",null,2]
[null,1,null,null,null,null,null,null,null,null,null,null,null,null,null,null,null,null,null,"05",null,"05001",null,2]
[null,1,null,null,null,null,null,null,null,null,null,null,null,null,null,null,null,null,null,"05",null,"05001",null,2]
[null,1,null,null,null,null,null,null,null,null,null,null,null,null,null,null,null,null,null,"05",null,"05001",null,2]
[null,1,null,null,null,null,null,null,null,null,null,null,null,null,null,null,null,null,null,"05",null,"05001",null,2]
[null,1,null,null,null,null,null,null,null,null,null,null,null,null,null,null,null,null,null,"05",null,"05001",null,2]
[null,1,null,null,null,null,null,null,null,null,null,null,null,null,null,null,null,null,null,"05",null,"05001",null,2]
[null,1,null,null,null,null,null,null,null,null,null,null,null,null,null,null,null,null,null,"05",null,"05001",null,2]
[null,1,null,null,null,null,null,null,null,null,null,null,null,null,null,null,null,null,null,"05",null,"05001",null,2]
[null,1,null,null,null,null,null,null,null,null,null,null,null,null,null,null,null,null,null,"05",null,"05001",null,2]
[null,1,null,null,null,null,null,null,null,null,null,null,null,null,null,null,null,null,null,"05",null,"05380",null,2]
[null,1,null,null,null,null,null,null,null,null,null,null,null,null,null,null,null,null,null,"11",null,"11001",null,2]
[null,1,null,null,null,null,null,null,null,null,null,null,null,null,null,null,null,null,null,"05",null,"05001",null,2]
[null,1,null,null,null,null,null,null,null,null,null,null,null,null,null,null,null,null,null,"05",null,"05001",null,2]
[null,2,null,null,null,null,null,null,null,null,null,null,null,null,null,null,null,null,null,"05",null,"05001",null,2]
[null,2,null,null,null,null,null,null,null,null,null,null,null,null,null,null,null,null,null,"05",null,"05001",null,2]
[null,2,null,null,null,null,null,null,null,null,null,null,null,null,null,null,null,null,null,"05",null,"05001",null,2]
[null,1,null,null,null,null,null,null,null,null,null,null,null,null,null,null,null,null,null,"05",null,"05266",null,2]
[null,2,null,null,null,null,null,null,null,null,null,null,null,null,null,null,null,null,null,"05",null,"05266",null,2]
[null,1,null,null,null,null,null,null,null,null,null,null,null,null,null,null,null,null,null,"05",null,"05001",null,2]
[null,2,null,null,null,null,null,null,null,null,null,null,null,null,null,null,null,null,null,"05",null,"05001",null,2]
[null,1,null,null,null,null,null,null,null,null,null,null,null,null,null,null,null,null,null,"05",null,"05001",null,2]
[null,1,null,null,null,null,null,null,null,null,null,null,null,null,null,null,null,null,null,"05",null,"05001",null,2]
[null,1,null,null,null,null,null,null,null,null,null,null,null,null,null,null,null,null,null,"05",null,"05001",null,2]
[null,2,null,null,null,null,null,null,null,null,null,null,null,null,null,null,null,null,null,"05",null,"05001",null,2]
[null,2,null,null,null,null,null,null,null,null,null,null,null,null,null,null,null,null,null,"05",null,"05001",null,2]
[null,1,null,null,null,null,null,null,null,null,null,null,null,null,null,null,null,null,null,"05",null,"05001",null,2]
[null,1,null,null,null,null,null,null,null,null,null,null,null,null,null,null,null,null,null,"05",null,"05001",null,2]
[null,1,null,null,null,null,null,null,null,null,null,null,null,null,null,null,null,null,null,"05",null,"05380",null,2]
[null,1,null,null,null,null,null,null,null,null,null,null,null,null,null,null,null,null,null,"11",null,"11001",null,2]
[null,1,null,null,null,null,null,null,null,null,null,null,null,null,null,null,null,null,null,"05",null,"05001",null,2]
[null,1,null,null,null,null,null,null,null,null,null,null,null,null,null,null,null,null,null,"05",null,"05001",null,2]
[null,1,null,null,null,null,null,null,null,null,null,null,null,null,null,null,null,null,null,"05",null,"05001",null,2]
[null,1,null,null,null,null,null,null,null,null,null,null,null,null,null,null,null,null,null,"05",null,"05001",null,2]
[null,1,null,null,null,null,null,null,null,null,null,null,null,null,null,null,null,null,null,"05",null,"05001",null,2]
[null,2,null,null,null,null,null,null,null,null,null,null,null,null,null,null,null,null,null,"05",null,"05266",null,2]
[null,1,null,null,null,null,null,null,null,null,null,null,null,null,null,null,null,null,null,"05",null,"05266",null,2]
[null,1,null,null,null,null,null,null,null,null,null,null,null,null,null,null,null,null,null,"05",null,"05001",null,2]
[null,1,null,null,null,null,null,null,null,null,null,null,null,null,null,null,null,null,null,"05",null,"05001",null,2]
[null,1,null,null,null,null,null,null,null,null,null,null,null,null,null,null,null,null,null,"05",null,"05001",null,2]
[null,1,null,null,null,null,null,null,null,null,null,null,null,null,null,null,null,null,null,"05",null,"05001",null,2]
[null,1,null,null,null,null,null,null,null,null,null,null,null,null,null,null,null,null,null,"05",null,"05001",null,2]
[null,1,null,null,null,null,null,null,null,null,null,null,null,null,null,null,null,null,null,"05",null,"05001",null,2]
[null,1,null,null,null,null,null,null,null,null,null,null,null,null,null,null,null,null,null,"05",null,"05001",null,2]
[null,1,null,null,null,null,null,null,null,null,null,null,null,null,null,null,null,null,null,"05",null,"05001",null,2]
[null,1,null,null,null,null,null,null,null,null,null,null,null,null,null,null,null,null,null,"05",null,"05001",null,2]
[null,1,null,null,null,null,null,null,null,null,null,null,null,null,null,null,null,null,null,"05",null,"05380",null,2]
[null,1,null,null,null,null,null,null,null,null,null,null,null,null,null,null,null,null,null,"05",null,"05001",null,2]
[null,1,null,null,null,null,null,null,null,null,null,null,null,null,null,null,null,null,null,"05",null,"05001",null,2]
[null,1,null,null,null,null,null,null,null,null,null,null,null,null,null,null,null,null,null,"05",null,"05001",null,2]
[null,1,null,null,null,null,null,null,null,null,null,null,null,null,null,null,null,null,null,"05",null,"05001",null,2]
[null,1,null,null,null,null,null,null,null,null,null,null,null,null,null,null,null,null,null,"05",null,"05380",null,2]
[null,1,null,null,null,null,null,null,null,null,null,null,null,null,null,null,null,null,null,"11",null,"11001",null,2]
[null,1,null,null,null,null,null,null,null,null,null,null,null,null,null,null,null,null,null,"05",null,"05001",null,2]
[null,1,null,null,null,null,null,null,null,null,null,null,null,null,null,null,null,null,null,"05",null,"05001",null,2]
[null,1,null,null,null,null,null,null,null,null,null,null,null,null,null,null,null,null,null,"05",null,"05001",null,2]
[null,1,null,null,null,null,null,null,null,null,null,null,null,null,null,null,null,null,null,"05",null,"05001",null,2]
[null,1,null,null,null,null,null,null,null,null,null,null,null,null,null,null,null,null,null,"05",null,"05001",null,2]
[null,1,null,null,null,null,null,null,null,null,null,null,null,null,null,null,null,null,null,"05",null,"05266",null,2]
[null,2,null,null,null,null,null,null,null,null,null,null,null,null,null,null,null,null,null,"05",null,"05266",null,2]
[null,1,null,null,null,null,null,null,null,null,null,null,null,null,null,null,null,null,null,"05",null,"05001",null,2]
[null,1,null,null,null,null,null,null,null,null,null,null,null,null,null,null,null,null,null,"05",null,"05001",null,2]
[null,1,null,null,null,null,null,null,null,null,null,null,null,null,null,null,null,null,null,"05",null,"05001",null,2]
[null,1,null,null,null,null,null,null,null,null,null,null,null,null,null,null,null,null,null,"05",null,"05001",null,2]
[null,1,null,null,null,null,null,null,null,null,null,null,null,null,null,null,null,null,null,"05",null,"05001",null,2]
[null,1,null,null,null,null,null,null,null,null,null,null,null,null,null,null,null,null,null,"05",null,"05001",null,2]
[null,1,null,null,null,null,null,null,null,null,null,null,null,null,null,null,null,null,null,"05",null,"05001",null,2]
[null,2,null,null,null,null,null,null,null,null,null,null,null,null,null,null,null,null,null,"05",null,"05001",null,2]
[null,2,null,null,null,null,null,null,null,null,null,null,null,null,null,null,null,null,null,"05",null,"05001",null,2]
[null,2,null,null,null,null,null,null,null,null,null,null,null,null,null,null,null,null,null,"05",null,"05001",null,2]
[null,2,null,null,null,null,null,null,null,null,null,null,null,null,null,null,null,null,null,"05",null,"05001",null,2]
[null,2,null,null,null,null,null,null,null,null,null,null,null,null,null,null,null,null,null,"05",null,"05001",null,2]
[null,2,null,null,null,null,null,null,null,null,null,null,null,null,null,null,null,null,null,"05",null,"05380",null,2]
[null,2,null,null,null,null,null,null,null,null,null,null,null,null,null,null,null,null,null,"11",null,"11001",null,2]
[null,2,null,null,null,null,null,null,null,null,null,null,null,null,null,null,null,null,null,"05",null,"05001",null,2]
[null,2,null,null,null,null,null,null,null,null,null,null,null,null,null,null,null,null,null,"05",null,"05001",null,2]
[null,2,null,null,null,null,null,null,null,null,null,null,null,null,null,null,null,null,null,"05",null,"05001",null,2]
[null,2,null,null,null,null,null,null,null,null,null,null,null,null,null,null,null,null,null,"05",null,"05001",null,2]
[null,1,null,null,null,null,null,null,null,null,null,null,null,null,null,null,null,null,null,"05",null,"05001",null,2]
[null,1,null,null,null,null,null,null,null,null,null,null,null,null,null,null,null,null,null,"05",null,"05266",null,2]
[null,1,null,null,null,null,null,null,null,null,null,null,null,null,null,null,null,null,null,"05",null,"05266",null,2]
[null,1,null,null,null,null,null,null,null,null,null,null,null,null,null,null,null,null,null,"05",null,"05001",null,2]
[null,1,null,null,null,null,null,null,null,null,null,null,null,null,null,null,null,null,null,"05",null,"05001",null,2]
[null,1,null,null,null,null,null,null,null,null,null,null,null,null,null,null,null,null,null,"05",null,"05001",null,2]
[null,1,null,null,null,null,null,null,null,null,null,null,null,null,null,null,null,null,null,"05",null,"05001",null,2]
[null,1,null,null,null,null,null,null,null,null,null,null,null,null,null,null,null,null,null,"05",null,"05001",null,2]
[null,1,null,null,null,null,null,null,null,null,null,null,null,null,null,null,null,null,null,"05",null,"05001",null,2]
[null,1,null,null,null,null,null,null,null,null,null,null,null,null,null,null,null,null,null,"05",null,"05001",null,2]
[null,1,null,null,null,null,null,null,null,null,null,null,null,null,null,null,null,null,null,"05",null,"05001",null,2]
[null,1,null,null,null,null,null,null,null,null,null,null,null,null,null,null,null,null,null,"05",null,"05001",null,2]
[null,1,null,null,null,null,null,null,null,null,null,null,null,null,null,null,null,null,null,"05",null,"05001",null,2]
[null,1,null,null,null,null,null,null,null,null,null,null,null,null,null,null,null,null,null,"05",null,"05001",null,2]

{"sheet":"Validacion","index":3,"n_rows":2001,"n_cols":10,"rows_kept":2001,"cut":false,"hidden":false,"merged":[[0,0,0,1],[1,0,1,1]]}
["MUNICIPIO DE MEDELLIN"]
["Validador Información Exógena",null,null,null,null,null,null,null,null,{"$f":"IFERROR(VLOOKUP(I2,CIIU!A:B,2,0),\"\")","v":""}]
["Seleccionar tipo de estructura a validar","Tipo3 - Info Beneficiario",null,null,null,null,null,null,null,{"$f":"IFERROR(VLOOKUP(I3,CIIU!A:B,2,0),\"\")","v":""}]
["Estado Validación","Validado Exitosamente",null,null,null,null,null,null,null,{"$f":"IFERROR(VLOOKUP(I4,CIIU!A:B,2,0),\"\")","v":""}]
["Acciones",null,null,null,null,null,null,null,null,{"$f":"IFERROR(VLOOKUP(I5,CIIU!A:B,2,0),\"\")","v":""}]
[null,null,null,null,null,null,null,null,null,{"$f":"IFERROR(VLOOKUP(I6,CIIU!A:B,2,0),\"\")","v":""}]
[null,null,null,null,null,null,null,null,null,{"$f":"IFERROR(VLOOKUP(I7,CIIU!A:B,2,0),\"\")","v":""}]
[null,null,null,null,null,null,null,null,null,{"$f":"IFERROR(VLOOKUP(I8,CIIU!A:B,2,0),\"\")","v":""}]
[null,null,null,null,null,null,null,null,null,{"$f":"IFERROR(VLOOKUP(I9,CIIU!A:B,2,0),\"\")","v":""}]
[null,null,null,null,null,null,null,null,null,{"$f":"IFERROR(VLOOKUP(I10,CIIU!A:B,2,0),\"\")","v":""}]
[null,null,null,null,null,null,null,null,null,{"$f":"IFERROR(VLOOKUP(I11,CIIU!A:B,2,0),\"\")","v":""}]
[null," ",null,null,null,null,null,null,null,{"$f":"IFERROR(VLOOKUP(I12,CIIU!A:B,2,0),\"\")","v":""}]
[null,null,null,null,null,null,null,null,null,{"$f":"IFERROR(VLOOKUP(I13,CIIU!A:B,2,0),\"\")","v":""}]
[null,null,null,null,null,null,null,null,null,{"$f":"IFERROR(VLOOKUP(I14,CIIU!A:B,2,0),\"\")","v":""}]
[null,null,null,null,null,null,null,null,null,{"$f":"IFERROR(VLOOKUP(I15,CIIU!A:B,2,0),\"\")","v":""}]
[null,null,null,null,null,null,null,null,null,{"$f":"IFERROR(VLOOKUP(I16,CIIU!A:B,2,0),\"\")","v":""}]
[null,null,null,null,null,null,null,null,null,{"$f":"IFERROR(VLOOKUP(I17,CIIU!A:B,2,0),\"\")","v":""}]
[null,null,null,null,null,null,null,null,null,{"$f":"IFERROR(VLOOKUP(I18,CIIU!A:B,2,0),\"\")","v":""}]
[null,null,null,null,null,null,null,null,null,{"$f":"IFERROR(VLOOKUP(I19,CIIU!A:B,2,0),\"\")","v":""}]
[null,null,null,null,null,null,null,null,null,{"$f":"IFERROR(VLOOKUP(I20,CIIU!A:B,2,0),\"\")","v":""}]
[null,null,null,null,null,null,null,null,null,{"$f":"IFERROR(VLOOKUP(I21,CIIU!A:B,2,0),\"\")","v":""}]
[null,null,null,null,null,null,null,null,null,{"$f":"IFERROR(VLOOKUP(I22,CIIU!A:B,2,0),\"\")","v":""}]
[null,null,null,null,null,null,null,null,null,{"$f":"IFERROR(VLOOKUP(I23,CIIU!A:B,2,0),\"\")","v":""}]
[null,null,null,null,null,null,null,null,null,{"$f":"IFERROR(VLOOKUP(I24,CIIU!A:B,2,0),\"\")","v":""}]
[null,null,null,null,null,null,null,null,null,{"$f":"IFERROR(VLOOKUP(I25,CIIU!A:B,2,0),\"\")","v":""}]
[null,null,null,null,null,null,null,null,null,{"$f":"IFERROR(VLOOKUP(I26,CIIU!A:B,2,0),\"\")","v":""}]
[null,null,null,null,null,null,null,null,null,{"$f":"IFERROR(VLOOKUP(I27,CIIU!A:B,2,0),\"\")","v":""}]
[null,null,null,null,null,null,null,null,null,{"$f":"IFERROR(VLOOKUP(I28,CIIU!A:B,2,0),\"\")","v":""}]
[null,null,null,null,null,null,null,null,null,{"$f":"IFERROR(VLOOKUP(I29,CIIU!A:B,2,0),\"\")","v":""}]
[null,null,null,null,null,null,null,null,null,{"$f":"IFERROR(VLOOKUP(I30,CIIU!A:B,2,0),\"\")","v":""}]
[null,null,null,null,null,null,null,null,null,{"$f":"IFERROR(VLOOKUP(I31,CIIU!A:B,2,0),\"\")","v":""}]
[null,null,null,null,null,null,null,null,null,{"$f":"IFERROR(VLOOKUP(I32,CIIU!A:B,2,0),\"\")","v":""}]
[null,null,null,null,null,null,null,null,null,{"$f":"IFERROR(VLOOKUP(I33,CIIU!A:B,2,0),\"\")","v":""}]
[null,null,null,null,null,null,null,null,null,{"$f":"IFERROR(VLOOKUP(I34,CIIU!A:B,2,0),\"\")","v":""}]
[null,null,null,null,null,null,null,null,null,{"$f":"IFERROR(VLOOKUP(I35,CIIU!A:B,2,0),\"\")","v":""}]
[null,null,null,null,null,null,null,null,null,{"$f":"IFERROR(VLOOKUP(I36,CIIU!A:B,2,0),\"\")","v":""}]
[null,null,null,null,null,null,null,null,null,{"$f":"IFERROR(VLOOKUP(I37,CIIU!A:B,2,0),\"\")","v":""}]
[null,null,null,null,null,null,null,null,null,{"$f":"IFERROR(VLOOKUP(I38,CIIU!A:B,2,0),\"\")","v":""}]
[null,null,null,null,null,null,null,null,null,{"$f":"IFERROR(VLOOKUP(I39,CIIU!A:B,2,0),\"\")","v":""}]
[null,null,null,null,null,null,null,null,null,{"$f":"IFERROR(VLOOKUP(I40,CIIU!A:B,2,0),\"\")","v":""}]
[null,null,null,null,null,null,null,null,null,{"$f":"IFERROR(VLOOKUP(I41,CIIU!A:B,2,0),\"\")","v":""}]
[null,null,null,null,null,null,null,null,null,{"$f":"IFERROR(VLOOKUP(I42,CIIU!A:B,2,0),\"\")","v":""}]
[null,null,null,null,null,null,null,null,null,{"$f":"IFERROR(VLOOKUP(I43,CIIU!A:B,2,0),\"\")","v":""}]
[null,null,null,null,null,null,null,null,null,{"$f":"IFERROR(VLOOKUP(I44,CIIU!A:B,2,0),\"\")","v":""}]
[null,null,null,null,null,null,null,null,null,{"$f":"IFERROR(VLOOKUP(I45,CIIU!A:B,2,0),\"\")","v":""}]
[null,null,null,null,null,null,null,null,null,{"$f":"IFERROR(VLOOKUP(I46,CIIU!A:B,2,0),\"\")","v":""}]
[null,null,null,null,null,null,null,null,null,{"$f":"IFERROR(VLOOKUP(I47,CIIU!A:B,2,0),\"\")","v":""}]
[null,null,null,null,null,null,null,null,null,{"$f":"IFERROR(VLOOKUP(I48,CIIU!A:B,2,0),\"\")","v":""}]
[null,null,null,null,null,null,null,null,null,{"$f":"IFERROR(VLOOKUP(I49,CIIU!A:B,2,0),\"\")","v":""}]
[null,null,null,null,null,null,null,null,null,{"$f":"IFERROR(VLOOKUP(I50,CIIU!A:B,2,0),\"\")","v":""}]
[null,null,null,null,null,null,null,null,null,{"$f":"IFERROR(VLOOKUP(I51,CIIU!A:B,2,0),\"\")","v":""}]
[null,null,null,null,null,null,null,null,null,{"$f":"IFERROR(VLOOKUP(I52,CIIU!A:B,2,0),\"\")","v":""}]
[null,null,null,null,null,null,null,null,null,{"$f":"IFERROR(VLOOKUP(I53,CIIU!A:B,2,0),\"\")","v":""}]
[null,null,null,null,null,null,null,null,null,{"$f":"IFERROR(VLOOKUP(I54,CIIU!A:B,2,0),\"\")","v":""}]
[null,null,null,null,null,null,null,null,null,{"$f":"IFERROR(VLOOKUP(I55,CIIU!A:B,2,0),\"\")","v":""}]
[null,null,null,null,null,null,null,null,null,{"$f":"IFERROR(VLOOKUP(I56,CIIU!A:B,2,0),\"\")","v":""}]
[null,null,null,null,null,null,null,null,null,{"$f":"IFERROR(VLOOKUP(I57,CIIU!A:B,2,0),\"\")","v":""}]
[null,null,null,null,null,null,null,null,null,{"$f":"IFERROR(VLOOKUP(I58,CIIU!A:B,2,0),\"\")","v":""}]
[null,null,null,null,null,null,null,null,null,{"$f":"IFERROR(VLOOKUP(I59,CIIU!A:B,2,0),\"\")","v":""}]
[null,null,null,null,null,null,null,null,null,{"$f":"IFERROR(VLOOKUP(I60,CIIU!A:B,2,0),\"\")","v":""}]
[null,null,null,null,null,null,null,null,null,{"$f":"IFERROR(VLOOKUP(I61,CIIU!A:B,2,0),\"\")","v":""}]
[null,null,null,null,null,null,null,null,null,{"$f":"IFERROR(VLOOKUP(I62,CIIU!A:B,2,0),\"\")","v":""}]
[null,null,null,null,null,null,null,null,null,{"$f":"IFERROR(VLOOKUP(I63,CIIU!A:B,2,0),\"\")","v":""}]
[null,null,null,null,null,null,null,null,null,{"$f":"IFERROR(VLOOKUP(I64,CIIU!A:B,2,0),\"\")","v":""}]
[null,null,null,null,null,null,null,null,null,{"$f":"IFERROR(VLOOKUP(I65,CIIU!A:B,2,0),\"\")","v":""}]
[null,null,null,null,null,null,null,null,null,{"$f":"IFERROR(VLOOKUP(I66,CIIU!A:B,2,0),\"\")","v":""}]
[null,null,null,null,null,null,null,null,null,{"$f":"IFERROR(VLOOKUP(I67,CIIU!A:B,2,0),\"\")","v":""}]
[null,null,null,null,null,null,null,null,null,{"$f":"IFERROR(VLOOKUP(I68,CIIU!A:B,2,0),\"\")","v":""}]
[null,null,null,null,null,null,null,null,null,{"$f":"IFERROR(VLOOKUP(I69,CIIU!A:B,2,0),\"\")","v":""}]
[null,null,null,null,null,null,null,null,null,{"$f":"IFERROR(VLOOKUP(I70,CIIU!A:B,2,0),\"\")","v":""}]
[null,null,null,null,null,null,null,null,null,{"$f":"IFERROR(VLOOKUP(I71,CIIU!A:B,2,0),\"\")","v":""}]
[null,null,null,null,null,null,null,null,null,{"$f":"IFERROR(VLOOKUP(I72,CIIU!A:B,2,0),\"\")","v":""}]
[null,null,null,null,null,null,null,null,null,{"$f":"IFERROR(VLOOKUP(I73,CIIU!A:B,2,0),\"\")","v":""}]
[null,null,null,null,null,null,null,null,null,{"$f":"IFERROR(VLOOKUP(I74,CIIU!A:B,2,0),\"\")","v":""}]
[null,null,null,null,null,null,null,null,null,{"$f":"IFERROR(VLOOKUP(I75,CIIU!A:B,2,0),\"\")","v":""}]
[null,null,null,null,null,null,null,null,null,{"$f":"IFERROR(VLOOKUP(I76,CIIU!A:B,2,0),\"\")","v":""}]
[null,null,null,null,null,null,null,null,null,{"$f":"IFERROR(VLOOKUP(I77,CIIU!A:B,2,0),\"\")","v":""}]
[null,null,null,null,null,null,null,null,null,{"$f":"IFERROR(VLOOKUP(I78,CIIU!A:B,2,0),\"\")","v":""}]
[null,null,null,null,null,null,null,null,null,{"$f":"IFERROR(VLOOKUP(I79,CIIU!A:B,2,0),\"\")","v":""}]
[null,null,null,null,null,null,null,null,null,{"$f":"IFERROR(VLOOKUP(I80,CIIU!A:B,2,0),\"\")","v":""}]
[null,null,null,null,null,null,null,null,null,{"$f":"IFERROR(VLOOKUP(I81,CIIU!A:B,2,0),\"\")","v":""}]
[null,null,null,null,null,null,null,null,null,{"$f":"IFERROR(VLOOKUP(I82,CIIU!A:B,2,0),\"\")","v":""}]
[null,null,null,null,null,null,null,null,null,{"$f":"IFERROR(VLOOKUP(I83,CIIU!A:B,2,0),\"\")","v":""}]
[null,null,null,null,null,null,null,null,null,{"$f":"IFERROR(VLOOKUP(I84,CIIU!A:B,2,0),\"\")","v":""}]
[null,null,null,null,null,null,null,null,null,{"$f":"IFERROR(VLOOKUP(I85,CIIU!A:B,2,0),\"\")","v":""}]
[null,null,null,null,null,null,null,null,null,{"$f":"IFERROR(VLOOKUP(I86,CIIU!A:B,2,0),\"\")","v":""}]
[null,null,null,null,null,null,null,null,null,{"$f":"IFERROR(VLOOKUP(I87,CIIU!A:B,2,0),\"\")","v":""}]
[null,null,null,null,null,null,null,null,null,{"$f":"IFERROR(VLOOKUP(I88,CIIU!A:B,2,0),\"\")","v":""}]
[null,null,null,null,null,null,null,null,null,{"$f":"IFERROR(VLOOKUP(I89,CIIU!A:B,2,0),\"\")","v":""}]
[null,null,null,null,null,null,null,null,null,{"$f":"IFERROR(VLOOKUP(I90,CIIU!A:B,2,0),\"\")","v":""}]
[null,null,null,null,null,null,null,null,null,{"$f":"IFERROR(VLOOKUP(I91,CIIU!A:B,2,0),\"\")","v":""}]
[null,null,null,null,null,null,null,null,null,{"$f":"IFERROR(VLOOKUP(I92,CIIU!A:B,2,0),\"\")","v":""}]
[null,null,null,null,null,null,null,null,null,{"$f":"IFERROR(VLOOKUP(I93,CIIU!A:B,2,0),\"\")","v":""}]
[null,null,null,null,null,null,null,null,null,{"$f":"IFERROR(VLOOKUP(I94,CIIU!A:B,2,0),\"\")","v":""}]
[null,null,null,null,null,null,null,null,null,{"$f":"IFERROR(VLOOKUP(I95,CIIU!A:B,2,0),\"\")","v":""}]
[null,null,null,null,null,null,null,null,null,{"$f":"IFERROR(VLOOKUP(I96,CIIU!A:B,2,0),\"\")","v":""}]
[null,null,null,null,null,null,null,null,null,{"$f":"IFERROR(VLOOKUP(I97,CIIU!A:B,2,0),\"\")","v":""}]
[null,null,null,null,null,null,null,null,null,{"$f":"IFERROR(VLOOKUP(I98,CIIU!A:B,2,0),\"\")","v":""}]
[null,null,null,null,null,null,null,null,null,{"$f":"IFERROR(VLOOKUP(I99,CIIU!A:B,2,0),\"\")","v":""}]
[null,null,null,null,null,null,null,null,null,{"$f":"IFERROR(VLOOKUP(I100,CIIU!A:B,2,0),\"\")","v":""}]
[null,null,null,null,null,null,null,null,null,{"$f":"IFERROR(VLOOKUP(I101,CIIU!A:B,2,0),\"\")","v":""}]
[null,null,null,null,null,null,null,null,null,{"$f":"IFERROR(VLOOKUP(I102,CIIU!A:B,2,0),\"\")","v":""}]
[null,null,null,null,null,null,null,null,null,{"$f":"IFERROR(VLOOKUP(I103,CIIU!A:B,2,0),\"\")","v":""}]
[null,null,null,null,null,null,null,null,null,{"$f":"IFERROR(VLOOKUP(I104,CIIU!A:B,2,0),\"\")","v":""}]
[null,null,null,null,null,null,null,null,null,{"$f":"IFERROR(VLOOKUP(I105,CIIU!A:B,2,0),\"\")","v":""}]
[null,null,null,null,null,null,null,null,null,{"$f":"IFERROR(VLOOKUP(I106,CIIU!A:B,2,0),\"\")","v":""}]
[null,null,null,null,null,null,null,null,null,{"$f":"IFERROR(VLOOKUP(I107,CIIU!A:B,2,0),\"\")","v":""}]
[null,null,null,null,null,null,null,null,null,{"$f":"IFERROR(VLOOKUP(I108,CIIU!A:B,2,0),\"\")","v":""}]
[null,null,null,null,null,null,null,null,null,{"$f":"IFERROR(VLOOKUP(I109,CIIU!A:B,2,0),\"\")","v":""}]
[null,null,null,null,null,null,null,null,null,{"$f":"IFERROR(VLOOKUP(I110,CIIU!A:B,2,0),\"\")","v":""}]
[null,null,null,null,null,null,null,null,null,{"$f":"IFERROR(VLOOKUP(I111,CIIU!A:B,2,0),\"\")","v":""}]
[null,null,null,null,null,null,null,null,null,{"$f":"IFERROR(VLOOKUP(I112,CIIU!A:B,2,0),\"\")","v":""}]
[null,null,null,null,null,null,null,null,null,{"$f":"IFERROR(VLOOKUP(I113,CIIU!A:B,2,0),\"\")","v":""}]
[null,null,null,null,null,null,null,null,null,{"$f":"IFERROR(VLOOKUP(I114,CIIU!A:B,2,0),\"\")","v":""}]
[null,null,null,null,null,null,null,null,null,{"$f":"IFERROR(VLOOKUP(I115,CIIU!A:B,2,0),\"\")","v":""}]
[null,null,null,null,null,null,null,null,null,{"$f":"IFERROR(VLOOKUP(I116,CIIU!A:B,2,0),\"\")","v":""}]
[null,null,null,null,null,null,null,null,null,{"$f":"IFERROR(VLOOKUP(I117,CIIU!A:B,2,0),\"\")","v":""}]
[null,null,null,null,null,null,null,null,null,{"$f":"IFERROR(VLOOKUP(I118,CIIU!A:B,2,0),\"\")","v":""}]
[null,null,null,null,null,null,null,null,null,{"$f":"IFERROR(VLOOKUP(I119,CIIU!A:B,2,0),\"\")","v":""}]
[null,null,null,null,null,null,null,null,null,{"$f":"IFERROR(VLOOKUP(I120,CIIU!A:B,2,0),\"\")","v":""}]
[null,null,null,null,null,null,null,null,null,{"$f":"IFERROR(VLOOKUP(I121,CIIU!A:B,2,0),\"\")","v":""}]
[null,null,null,null,null,null,null,null,null,{"$f":"IFERROR(VLOOKUP(I122,CIIU!A:B,2,0),\"\")","v":""}]
[null,null,null,null,null,null,null,null,null,{"$f":"IFERROR(VLOOKUP(I123,CIIU!A:B,2,0),\"\")","v":""}]
[null,null,null,null,null,null,null,null,null,{"$f":"IFERROR(VLOOKUP(I124,CIIU!A:B,2,0),\"\")","v":""}]
[null,null,null,null,null,null,null,null,null,{"$f":"IFERROR(VLOOKUP(I125,CIIU!A:B,2,0),\"\")","v":""}]
[null,null,null,null,null,null,null,null,null,{"$f":"IFERROR(VLOOKUP(I126,CIIU!A:B,2,0),\"\")","v":""}]
[null,null,null,null,null,null,null,null,null,{"$f":"IFERROR(VLOOKUP(I127,CIIU!A:B,2,0),\"\")","v":""}]
[null,null,null,null,null,null,null,null,null,{"$f":"IFERROR(VLOOKUP(I128,CIIU!A:B,2,0),\"\")","v":""}]
[null,null,null,null,null,null,null,null,null,{"$f":"IFERROR(VLOOKUP(I129,CIIU!A:B,2,0),\"\")","v":""}]
[null,null,null,null,null,null,null,null,null,{"$f":"IFERROR(VLOOKUP(I130,CIIU!A:B,2,0),\"\")","v":""}]
[null,null,null,null,null,null,null,null,null,{"$f":"IFERROR(VLOOKUP(I131,CIIU!A:B,2,0),\"\")","v":""}]
[null,null,null,null,null,null,null,null,null,{"$f":"IFERROR(VLOOKUP(I132,CIIU!A:B,2,0),\"\")","v":""}]
[null,null,null,null,null,null,null,null,null,{"$f":"IFERROR(VLOOKUP(I133,CIIU!A:B,2,0),\"\")","v":""}]
[null,null,null,null,null,null,null,null,null,{"$f":"IFERROR(VLOOKUP(I134,CIIU!A:B,2,0),\"\")","v":""}]
[null,null,null,null,null,null,null,null,null,{"$f":"IFERROR(VLOOKUP(I135,CIIU!A:B,2,0),\"\")","v":""}]
[null,null,null,null,null,null,null,null,null,{"$f":"IFERROR(VLOOKUP(I136,CIIU!A:B,2,0),\"\")","v":""}]
[null,null,null,null,null,null,null,null,null,{"$f":"IFERROR(VLOOKUP(I137,CIIU!A:B,2,0),\"\")","v":""}]
[null,null,null,null,null,null,null,null,null,{"$f":"IFERROR(VLOOKUP(I138,CIIU!A:B,2,0),\"\")","v":""}]
[null,null,null,null,null,null,null,null,null,{"$f":"IFERROR(VLOOKUP(I139,CIIU!A:B,2,0),\"\")","v":""}]
[null,null,null,null,null,null,null,null,null,{"$f":"IFERROR(VLOOKUP(I140,CIIU!A:B,2,0),\"\")","v":""}]
[null,null,null,null,null,null,null,null,null,{"$f":"IFERROR(VLOOKUP(I141,CIIU!A:B,2,0),\"\")","v":""}]
[null,null,null,null,null,null,null,null,null,{"$f":"IFERROR(VLOOKUP(I142,CIIU!A:B,2,0),\"\")","v":""}]
[null,null,null,null,null,null,null,null,null,{"$f":"IFERROR(VLOOKUP(I143,CIIU!A:B,2,0),\"\")","v":""}]
[null,null,null,null,null,null,null,null,null,{"$f":"IFERROR(VLOOKUP(I144,CIIU!A:B,2,0),\"\")","v":""}]
[null,null,null,null,null,null,null,null,null,{"$f":"IFERROR(VLOOKUP(I145,CIIU!A:B,2,0),\"\")","v":""}]
[null,null,null,null,null,null,null,null,null,{"$f":"IFERROR(VLOOKUP(I146,CIIU!A:B,2,0),\"\")","v":""}]
[null,null,null,null,null,null,null,null,null,{"$f":"IFERROR(VLOOKUP(I147,CIIU!A:B,2,0),\"\")","v":""}]
[null,null,null,null,null,null,null,null,null,{"$f":"IFERROR(VLOOKUP(I148,CIIU!A:B,2,0),\"\")","v":""}]
[null,null,null,null,null,null,null,null,null,{"$f":"IFERROR(VLOOKUP(I149,CIIU!A:B,2,0),\"\")","v":""}]
[null,null,null,null,null,null,null,null,null,{"$f":"IFERROR(VLOOKUP(I150,CIIU!A:B,2,0),\"\")","v":""}]
[null,null,null,null,null,null,null,null,null,{"$f":"IFERROR(VLOOKUP(I151,CIIU!A:B,2,0),\"\")","v":""}]
[null,null,null,null,null,null,null,null,null,{"$f":"IFERROR(VLOOKUP(I152,CIIU!A:B,2,0),\"\")","v":""}]
[null,null,null,null,null,null,null,null,null,{"$f":"IFERROR(VLOOKUP(I153,CIIU!A:B,2,0),\"\")","v":""}]
[null,null,null,null,null,null,null,null,null,{"$f":"IFERROR(VLOOKUP(I154,CIIU!A:B,2,0),\"\")","v":""}]
[null,null,null,null,null,null,null,null,null,{"$f":"IFERROR(VLOOKUP(I155,CIIU!A:B,2,0),\"\")","v":""}]
[null,null,null,null,null,null,null,null,null,{"$f":"IFERROR(VLOOKUP(I156,CIIU!A:B,2,0),\"\")","v":""}]
[null,null,null,null,null,null,null,null,null,{"$f":"IFERROR(VLOOKUP(I157,CIIU!A:B,2,0),\"\")","v":""}]
[null,null,null,null,null,null,null,null,null,{"$f":"IFERROR(VLOOKUP(I158,CIIU!A:B,2,0),\"\")","v":""}]
[null,null,null,null,null,null,null,null,null,{"$f":"IFERROR(VLOOKUP(I159,CIIU!A:B,2,0),\"\")","v":""}]
[null,null,null,null,null,null,null,null,null,{"$f":"IFERROR(VLOOKUP(I160,CIIU!A:B,2,0),\"\")","v":""}]
[null,null,null,null,null,null,null,null,null,{"$f":"IFERROR(VLOOKUP(I161,CIIU!A:B,2,0),\"\")","v":""}]
[null,null,null,null,null,null,null,null,null,{"$f":"IFERROR(VLOOKUP(I162,CIIU!A:B,2,0),\"\")","v":""}]
[null,null,null,null,null,null,null,null,null,{"$f":"IFERROR(VLOOKUP(I163,CIIU!A:B,2,0),\"\")","v":""}]
[null,null,null,null,null,null,null,null,null,{"$f":"IFERROR(VLOOKUP(I164,CIIU!A:B,2,0),\"\")","v":""}]
[null,null,null,null,null,null,null,null,null,{"$f":"IFERROR(VLOOKUP(I165,CIIU!A:B,2,0),\"\")","v":""}]
[null,null,null,null,null,null,null,null,null,{"$f":"IFERROR(VLOOKUP(I166,CIIU!A:B,2,0),\"\")","v":""}]
[null,null,null,null,null,null,null,null,null,{"$f":"IFERROR(VLOOKUP(I167,CIIU!A:B,2,0),\"\")","v":""}]
[null,null,null,null,null,null,null,null,null,{"$f":"IFERROR(VLOOKUP(I168,CIIU!A:B,2,0),\"\")","v":""}]
[null,null,null,null,null,null,null,null,null,{"$f":"IFERROR(VLOOKUP(I169,CIIU!A:B,2,0),\"\")","v":""}]
[null,null,null,null,null,null,null,null,null,{"$f":"IFERROR(VLOOKUP(I170,CIIU!A:B,2,0),\"\")","v":""}]
[null,null,null,null,null,null,null,null,null,{"$f":"IFERROR(VLOOKUP(I171,CIIU!A:B,2,0),\"\")","v":""}]
[null,null,null,null,null,null,null,null,null,{"$f":"IFERROR(VLOOKUP(I172,CIIU!A:B,2,0),\"\")","v":""}]
[null,null,null,null,null,null,null,null,null,{"$f":"IFERROR(VLOOKUP(I173,CIIU!A:B,2,0),\"\")","v":""}]
[null,null,null,null,null,null,null,null,null,{"$f":"IFERROR(VLOOKUP(I174,CIIU!A:B,2,0),\"\")","v":""}]
[null,null,null,null,null,null,null,null,null,{"$f":"IFERROR(VLOOKUP(I175,CIIU!A:B,2,0),\"\")","v":""}]
[null,null,null,null,null,null,null,null,null,{"$f":"IFERROR(VLOOKUP(I176,CIIU!A:B,2,0),\"\")","v":""}]
[null,null,null,null,null,null,null,null,null,{"$f":"IFERROR(VLOOKUP(I177,CIIU!A:B,2,0),\"\")","v":""}]
[null,null,null,null,null,null,null,null,null,{"$f":"IFERROR(VLOOKUP(I178,CIIU!A:B,2,0),\"\")","v":""}]
[null,null,null,null,null,null,null,null,null,{"$f":"IFERROR(VLOOKUP(I179,CIIU!A:B,2,0),\"\")","v":""}]
[null,null,null,null,null,null,null,null,null,{"$f":"IFERROR(VLOOKUP(I180,CIIU!A:B,2,0),\"\")","v":""}]
[null,null,null,null,null,null,null,null,null,{"$f":"IFERROR(VLOOKUP(I181,CIIU!A:B,2,0),\"\")","v":""}]
[null,null,null,null,null,null,null,null,null,{"$f":"IFERROR(VLOOKUP(I182,CIIU!A:B,2,0),\"\")","v":""}]
[null,null,null,null,null,null,null,null,null,{"$f":"IFERROR(VLOOKUP(I183,CIIU!A:B,2,0),\"\")","v":""}]
[null,null,null,null,null,null,null,null,null,{"$f":"IFERROR(VLOOKUP(I184,CIIU!A:B,2,0),\"\")","v":""}]
[null,null,null,null,null,null,null,null,null,{"$f":"IFERROR(VLOOKUP(I185,CIIU!A:B,2,0),\"\")","v":""}]
[null,null,null,null,null,null,null,null,null,{"$f":"IFERROR(VLOOKUP(I186,CIIU!A:B,2,0),\"\")","v":""}]
[null,null,null,null,null,null,null,null,null,{"$f":"IFERROR(VLOOKUP(I187,CIIU!A:B,2,0),\"\")","v":""}]
[null,null,null,null,null,null,null,null,null,{"$f":"IFERROR(VLOOKUP(I188,CIIU!A:B,2,0),\"\")","v":""}]
[null,null,null,null,null,null,null,null,null,{"$f":"IFERROR(VLOOKUP(I189,CIIU!A:B,2,0),\"\")","v":""}]
[null,null,null,null,null,null,null,null,null,{"$f":"IFERROR(VLOOKUP(I190,CIIU!A:B,2,0),\"\")","v":""}]
[null,null,null,null,null,null,null,null,null,{"$f":"IFERROR(VLOOKUP(I191,CIIU!A:B,2,0),\"\")","v":""}]
[null,null,null,null,null,null,null,null,null,{"$f":"IFERROR(VLOOKUP(I192,CIIU!A:B,2,0),\"\")","v":""}]
[null,null,null,null,null,null,null,null,null,{"$f":"IFERROR(VLOOKUP(I193,CIIU!A:B,2,0),\"\")","v":""}]
[null,null,null,null,null,null,null,null,null,{"$f":"IFERROR(VLOOKUP(I194,CIIU!A:B,2,0),\"\")","v":""}]
[null,null,null,null,null,null,null,null,null,{"$f":"IFERROR(VLOOKUP(I195,CIIU!A:B,2,0),\"\")","v":""}]
[null,null,null,null,null,null,null,null,null,{"$f":"IFERROR(VLOOKUP(I196,CIIU!A:B,2,0),\"\")","v":""}]
[null,null,null,null,null,null,null,null,null,{"$f":"IFERROR(VLOOKUP(I197,CIIU!A:B,2,0),\"\")","v":""}]
[null,null,null,null,null,null,null,null,null,{"$f":"IFERROR(VLOOKUP(I198,CIIU!A:B,2,0),\"\")","v":""}]
[null,null,null,null,null,null,null,null,null,{"$f":"IFERROR(VLOOKUP(I199,CIIU!A:B,2,0),\"\")","v":""}]
[null,null,null,null,null,null,null,null,null,{"$f":"IFERROR(VLOOKUP(I200,CIIU!A:B,2,0),\"\")","v":""}]
[null,null,null,null,null,null,null,null,null,{"$f":"IFERROR(VLOOKUP(I201,CIIU!A:B,2,0),\"\")","v":""}]
[null,null,null,null,null,null,null,null,null,{"$f":"IFERROR(VLOOKUP(I202,CIIU!A:B,2,0),\"\")","v":""}]
[null,null,null,null,null,null,null,null,null,{"$f":"IFERROR(VLOOKUP(I203,CIIU!A:B,2,0),\"\")","v":""}]
[null,null,null,null,null,null,null,null,null,{"$f":"IFERROR(VLOOKUP(I204,CIIU!A:B,2,0),\"\")","v":""}]
[null,null,null,null,null,null,null,null,null,{"$f":"IFERROR(VLOOKUP(I205,CIIU!A:B,2,0),\"\")","v":""}]
[null,null,null,null,null,null,null,null,null,{"$f":"IFERROR(VLOOKUP(I206,CIIU!A:B,2,0),\"\")","v":""}]
[null,null,null,null,null,null,null,null,null,{"$f":"IFERROR(VLOOKUP(I207,CIIU!A:B,2,0),\"\")","v":""}]
[null,null,null,null,null,null,null,null,null,{"$f":"IFERROR(VLOOKUP(I208,CIIU!A:B,2,0),\"\")","v":""}]
[null,null,null,null,null,null,null,null,null,{"$f":"IFERROR(VLOOKUP(I209,CIIU!A:B,2,0),\"\")","v":""}]
[null,null,null,null,null,null,null,null,null,{"$f":"IFERROR(VLOOKUP(I210,CIIU!A:B,2,0),\"\")","v":""}]
[null,null,null,null,null,null,null,null,null,{"$f":"IFERROR(VLOOKUP(I211,CIIU!A:B,2,0),\"\")","v":""}]
[null,null,null,null,null,null,null,null,null,{"$f":"IFERROR(VLOOKUP(I212,CIIU!A:B,2,0),\"\")","v":""}]
[null,null,null,null,null,null,null,null,null,{"$f":"IFERROR(VLOOKUP(I213,CIIU!A:B,2,0),\"\")","v":""}]
[null,null,null,null,null,null,null,null,null,{"$f":"IFERROR(VLOOKUP(I214,CIIU!A:B,2,0),\"\")","v":""}]
[null,null,null,null,null,null,null,null,null,{"$f":"IFERROR(VLOOKUP(I215,CIIU!A:B,2,0),\"\")","v":""}]
[null,null,null,null,null,null,null,null,null,{"$f":"IFERROR(VLOOKUP(I216,CIIU!A:B,2,0),\"\")","v":""}]
[null,null,null,null,null,null,null,null,null,{"$f":"IFERROR(VLOOKUP(I217,CIIU!A:B,2,0),\"\")","v":""}]
[null,null,null,null,null,null,null,null,null,{"$f":"IFERROR(VLOOKUP(I218,CIIU!A:B,2,0),\"\")","v":""}]
[null,null,null,null,null,null,null,null,null,{"$f":"IFERROR(VLOOKUP(I219,CIIU!A:B,2,0),\"\")","v":""}]
[null,null,null,null,null,null,null,null,null,{"$f":"IFERROR(VLOOKUP(I220,CIIU!A:B,2,0),\"\")","v":""}]
[null,null,null,null,null,null,null,null,null,{"$f":"IFERROR(VLOOKUP(I221,CIIU!A:B,2,0),\"\")","v":""}]
[null,null,null,null,null,null,null,null,null,{"$f":"IFERROR(VLOOKUP(I222,CIIU!A:B,2,0),\"\")","v":""}]
[null,null,null,null,null,null,null,null,null,{"$f":"IFERROR(VLOOKUP(I223,CIIU!A:B,2,0),\"\")","v":""}]
[null,null,null,null,null,null,null,null,null,{"$f":"IFERROR(VLOOKUP(I224,CIIU!A:B,2,0),\"\")","v":""}]
[null,null,null,null,null,null,null,null,null,{"$f":"IFERROR(VLOOKUP(I225,CIIU!A:B,2,0),\"\")","v":""}]
[null,null,null,null,null,null,null,null,null,{"$f":"IFERROR(VLOOKUP(I226,CIIU!A:B,2,0),\"\")","v":""}]
[null,null,null,null,null,null,null,null,null,{"$f":"IFERROR(VLOOKUP(I227,CIIU!A:B,2,0),\"\")","v":""}]
[null,null,null,null,null,null,null,null,null,{"$f":"IFERROR(VLOOKUP(I228,CIIU!A:B,2,0),\"\")","v":""}]
[null,null,null,null,null,null,null,null,null,{"$f":"IFERROR(VLOOKUP(I229,CIIU!A:B,2,0),\"\")","v":""}]
[null,null,null,null,null,null,null,null,null,{"$f":"IFERROR(VLOOKUP(I230,CIIU!A:B,2,0),\"\")","v":""}]
[null,null,null,null,null,null,null,null,null,{"$f":"IFERROR(VLOOKUP(I231,CIIU!A:B,2,0),\"\")","v":""}]
[null,null,null,null,null,null,null,null,null,{"$f":"IFERROR(VLOOKUP(I232,CIIU!A:B,2,0),\"\")","v":""}]
[null,null,null,null,null,null,null,null,null,{"$f":"IFERROR(VLOOKUP(I233,CIIU!A:B,2,0),\"\")","v":""}]
[null,null,null,null,null,null,null,null,null,{"$f":"IFERROR(VLOOKUP(I234,CIIU!A:B,2,0),\"\")","v":""}]
[null,null,null,null,null,null,null,null,null,{"$f":"IFERROR(VLOOKUP(I235,CIIU!A:B,2,0),\"\")","v":""}]
[null,null,null,null,null,null,null,null,null,{"$f":"IFERROR(VLOOKUP(I236,CIIU!A:B,2,0),\"\")","v":""}]
[null,null,null,null,null,null,null,null,null,{"$f":"IFERROR(VLOOKUP(I237,CIIU!A:B,2,0),\"\")","v":""}]
[null,null,null,null,null,null,null,null,null,{"$f":"IFERROR(VLOOKUP(I238,CIIU!A:B,2,0),\"\")","v":""}]
[null,null,null,null,null,null,null,null,null,{"$f":"IFERROR(VLOOKUP(I239,CIIU!A:B,2,0),\"\")","v":""}]
[null,null,null,null,null,null,null,null,null,{"$f":"IFERROR(VLOOKUP(I240,CIIU!A:B,2,0),\"\")","v":""}]
[null,null,null,null,null,null,null,null,null,{"$f":"IFERROR(VLOOKUP(I241,CIIU!A:B,2,0),\"\")","v":""}]
[null,null,null,null,null,null,null,null,null,{"$f":"IFERROR(VLOOKUP(I242,CIIU!A:B,2,0),\"\")","v":""}]
[null,null,null,null,null,null,null,null,null,{"$f":"IFERROR(VLOOKUP(I243,CIIU!A:B,2,0),\"\")","v":""}]
[null,null,null,null,null,null,null,null,null,{"$f":"IFERROR(VLOOKUP(I244,CIIU!A:B,2,0),\"\")","v":""}]
[null,null,null,null,null,null,null,null,null,{"$f":"IFERROR(VLOOKUP(I245,CIIU!A:B,2,0),\"\")","v":""}]
[null,null,null,null,null,null,null,null,null,{"$f":"IFERROR(VLOOKUP(I246,CIIU!A:B,2,0),\"\")","v":""}]
[null,null,null,null,null,null,null,null,null,{"$f":"IFERROR(VLOOKUP(I247,CIIU!A:B,2,0),\"\")","v":""}]
[null,null,null,null,null,null,null,null,null,{"$f":"IFERROR(VLOOKUP(I248,CIIU!A:B,2,0),\"\")","v":""}]
[null,null,null,null,null,null,null,null,null,{"$f":"IFERROR(VLOOKUP(I249,CIIU!A:B,2,0),\"\")","v":""}]
[null,null,null,null,null,null,null,null,null,{"$f":"IFERROR(VLOOKUP(I250,CIIU!A:B,2,0),\"\")","v":""}]
[null,null,null,null,null,null,null,null,null,{"$f":"IFERROR(VLOOKUP(I251,CIIU!A:B,2,0),\"\")","v":""}]
[null,null,null,null,null,null,null,null,null,{"$f":"IFERROR(VLOOKUP(I252,CIIU!A:B,2,0),\"\")","v":""}]
[null,null,null,null,null,null,null,null,null,{"$f":"IFERROR(VLOOKUP(I253,CIIU!A:B,2,0),\"\")","v":""}]
[null,null,null,null,null,null,null,null,null,{"$f":"IFERROR(VLOOKUP(I254,CIIU!A:B,2,0),\"\")","v":""}]
[null,null,null,null,null,null,null,null,null,{"$f":"IFERROR(VLOOKUP(I255,CIIU!A:B,2,0),\"\")","v":""}]
[null,null,null,null,null,null,null,null,null,{"$f":"IFERROR(VLOOKUP(I256,CIIU!A:B,2,0),\"\")","v":""}]
[null,null,null,null,null,null,null,null,null,{"$f":"IFERROR(VLOOKUP(I257,CIIU!A:B,2,0),\"\")","v":""}]
[null,null,null,null,null,null,null,null,null,{"$f":"IFERROR(VLOOKUP(I258,CIIU!A:B,2,0),\"\")","v":""}]
[null,null,null,null,null,null,null,null,null,{"$f":"IFERROR(VLOOKUP(I259,CIIU!A:B,2,0),\"\")","v":""}]
[null,null,null,null,null,null,null,null,null,{"$f":"IFERROR(VLOOKUP(I260,CIIU!A:B,2,0),\"\")","v":""}]
[null,null,null,null,null,null,null,null,null,{"$f":"IFERROR(VLOOKUP(I261,CIIU!A:B,2,0),\"\")","v":""}]
[null,null,null,null,null,null,null,null,null,{"$f":"IFERROR(VLOOKUP(I262,CIIU!A:B,2,0),\"\")","v":""}]
[null,null,null,null,null,null,null,null,null,{"$f":"IFERROR(VLOOKUP(I263,CIIU!A:B,2,0),\"\")","v":""}]
[null,null,null,null,null,null,null,null,null,{"$f":"IFERROR(VLOOKUP(I264,CIIU!A:B,2,0),\"\")","v":""}]
[null,null,null,null,null,null,null,null,null,{"$f":"IFERROR(VLOOKUP(I265,CIIU!A:B,2,0),\"\")","v":""}]
[null,null,null,null,null,null,null,null,null,{"$f":"IFERROR(VLOOKUP(I266,CIIU!A:B,2,0),\"\")","v":""}]
[null,null,null,null,null,null,null,null,null,{"$f":"IFERROR(VLOOKUP(I267,CIIU!A:B,2,0),\"\")","v":""}]
[null,null,null,null,null,null,null,null,null,{"$f":"IFERROR(VLOOKUP(I268,CIIU!A:B,2,0),\"\")","v":""}]
[null,null,null,null,null,null,null,null,null,{"$f":"IFERROR(VLOOKUP(I269,CIIU!A:B,2,0),\"\")","v":""}]
[null,null,null,null,null,null,null,null,null,{"$f":"IFERROR(VLOOKUP(I270,CIIU!A:B,2,0),\"\")","v":""}]
[null,null,null,null,null,null,null,null,null,{"$f":"IFERROR(VLOOKUP(I271,CIIU!A:B,2,0),\"\")","v":""}]
[null,null,null,null,null,null,null,null,null,{"$f":"IFERROR(VLOOKUP(I272,CIIU!A:B,2,0),\"\")","v":""}]
[null,null,null,null,null,null,null,null,null,{"$f":"IFERROR(VLOOKUP(I273,CIIU!A:B,2,0),\"\")","v":""}]
[null,null,null,null,null,null,null,null,null,{"$f":"IFERROR(VLOOKUP(I274,CIIU!A:B,2,0),\"\")","v":""}]
[null,null,null,null,null,null,null,null,null,{"$f":"IFERROR(VLOOKUP(I275,CIIU!A:B,2,0),\"\")","v":""}]
[null,null,null,null,null,null,null,null,null,{"$f":"IFERROR(VLOOKUP(I276,CIIU!A:B,2,0),\"\")","v":""}]
[null,null,null,null,null,null,null,null,null,{"$f":"IFERROR(VLOOKUP(I277,CIIU!A:B,2,0),\"\")","v":""}]
[null,null,null,null,null,null,null,null,null,{"$f":"IFERROR(VLOOKUP(I278,CIIU!A:B,2,0),\"\")","v":""}]
[null,null,null,null,null,null,null,null,null,{"$f":"IFERROR(VLOOKUP(I279,CIIU!A:B,2,0),\"\")","v":""}]
[null,null,null,null,null,null,null,null,null,{"$f":"IFERROR(VLOOKUP(I280,CIIU!A:B,2,0),\"\")","v":""}]
[null,null,null,null,null,null,null,null,null,{"$f":"IFERROR(VLOOKUP(I281,CIIU!A:B,2,0),\"\")","v":""}]
[null,null,null,null,null,null,null,null,null,{"$f":"IFERROR(VLOOKUP(I282,CIIU!A:B,2,0),\"\")","v":""}]
[null,null,null,null,null,null,null,null,null,{"$f":"IFERROR(VLOOKUP(I283,CIIU!A:B,2,0),\"\")","v":""}]
[null,null,null,null,null,null,null,null,null,{"$f":"IFERROR(VLOOKUP(I284,CIIU!A:B,2,0),\"\")","v":""}]
[null,null,null,null,null,null,null,null,null,{"$f":"IFERROR(VLOOKUP(I285,CIIU!A:B,2,0),\"\")","v":""}]
[null,null,null,null,null,null,null,null,null,{"$f":"IFERROR(VLOOKUP(I286,CIIU!A:B,2,0),\"\")","v":""}]
[null,null,null,null,null,null,null,null,null,{"$f":"IFERROR(VLOOKUP(I287,CIIU!A:B,2,0),\"\")","v":""}]
[null,null,null,null,null,null,null,null,null,{"$f":"IFERROR(VLOOKUP(I288,CIIU!A:B,2,0),\"\")","v":""}]
[null,null,null,null,null,null,null,null,null,{"$f":"IFERROR(VLOOKUP(I289,CIIU!A:B,2,0),\"\")","v":""}]
[null,null,null,null,null,null,null,null,null,{"$f":"IFERROR(VLOOKUP(I290,CIIU!A:B,2,0),\"\")","v":""}]
[null,null,null,null,null,null,null,null,null,{"$f":"IFERROR(VLOOKUP(I291,CIIU!A:B,2,0),\"\")","v":""}]
[null,null,null,null,null,null,null,null,null,{"$f":"IFERROR(VLOOKUP(I292,CIIU!A:B,2,0),\"\")","v":""}]
[null,null,null,null,null,null,null,null,null,{"$f":"IFERROR(VLOOKUP(I293,CIIU!A:B,2,0),\"\")","v":""}]
[null,null,null,null,null,null,null,null,null,{"$f":"IFERROR(VLOOKUP(I294,CIIU!A:B,2,0),\"\")","v":""}]
[null,null,null,null,null,null,null,null,null,{"$f":"IFERROR(VLOOKUP(I295,CIIU!A:B,2,0),\"\")","v":""}]
[null,null,null,null,null,null,null,null,null,{"$f":"IFERROR(VLOOKUP(I296,CIIU!A:B,2,0),\"\")","v":""}]
[null,null,null,null,null,null,null,null,null,{"$f":"IFERROR(VLOOKUP(I297,CIIU!A:B,2,0),\"\")","v":""}]
[null,null,null,null,null,null,null,null,null,{"$f":"IFERROR(VLOOKUP(I298,CIIU!A:B,2,0),\"\")","v":""}]
[null,null,null,null,null,null,null,null,null,{"$f":"IFERROR(VLOOKUP(I299,CIIU!A:B,2,0),\"\")","v":""}]
[null,null,null,null,null,null,null,null,null,{"$f":"IFERROR(VLOOKUP(I300,CIIU!A:B,2,0),\"\")","v":""}]
[null,null,null,null,null,null,null,null,null,{"$f":"IFERROR(VLOOKUP(I301,CIIU!A:B,2,0),\"\")","v":""}]
[null,null,null,null,null,null,null,null,null,{"$f":"IFERROR(VLOOKUP(I302,CIIU!A:B,2,0),\"\")","v":""}]
[null,null,null,null,null,null,null,null,null,{"$f":"IFERROR(VLOOKUP(I303,CIIU!A:B,2,0),\"\")","v":""}]
[null,null,null,null,null,null,null,null,null,{"$f":"IFERROR(VLOOKUP(I304,CIIU!A:B,2,0),\"\")","v":""}]
[null,null,null,null,null,null,null,null,null,{"$f":"IFERROR(VLOOKUP(I305,CIIU!A:B,2,0),\"\")","v":""}]
[null,null,null,null,null,null,null,null,null,{"$f":"IFERROR(VLOOKUP(I306,CIIU!A:B,2,0),\"\")","v":""}]
[null,null,null,null,null,null,null,null,null,{"$f":"IFERROR(VLOOKUP(I307,CIIU!A:B,2,0),\"\")","v":""}]
[null,null,null,null,null,null,null,null,null,{"$f":"IFERROR(VLOOKUP(I308,CIIU!A:B,2,0),\"\")","v":""}]
[null,null,null,null,null,null,null,null,null,{"$f":"IFERROR(VLOOKUP(I309,CIIU!A:B,2,0),\"\")","v":""}]
[null,null,null,null,null,null,null,null,null,{"$f":"IFERROR(VLOOKUP(I310,CIIU!A:B,2,0),\"\")","v":""}]
[null,null,null,null,null,null,null,null,null,{"$f":"IFERROR(VLOOKUP(I311,CIIU!A:B,2,0),\"\")","v":""}]
[null,null,null,null,null,null,null,null,null,{"$f":"IFERROR(VLOOKUP(I312,CIIU!A:B,2,0),\"\")","v":""}]
[null,null,null,null,null,null,null,null,null,{"$f":"IFERROR(VLOOKUP(I313,CIIU!A:B,2,0),\"\")","v":""}]
[null,null,null,null,null,null,null,null,null,{"$f":"IFERROR(VLOOKUP(I314,CIIU!A:B,2,0),\"\")","v":""}]
[null,null,null,null,null,null,null,null,null,{"$f":"IFERROR(VLOOKUP(I315,CIIU!A:B,2,0),\"\")","v":""}]
[null,null,null,null,null,null,null,null,null,{"$f":"IFERROR(VLOOKUP(I316,CIIU!A:B,2,0),\"\")","v":""}]
[null,null,null,null,null,null,null,null,null,{"$f":"IFERROR(VLOOKUP(I317,CIIU!A:B,2,0),\"\")","v":""}]
[null,null,null,null,null,null,null,null,null,{"$f":"IFERROR(VLOOKUP(I318,CIIU!A:B,2,0),\"\")","v":""}]
[null,null,null,null,null,null,null,null,null,{"$f":"IFERROR(VLOOKUP(I319,CIIU!A:B,2,0),\"\")","v":""}]
[null,null,null,null,null,null,null,null,null,{"$f":"IFERROR(VLOOKUP(I320,CIIU!A:B,2,0),\"\")","v":""}]
[null,null,null,null,null,null,null,null,null,{"$f":"IFERROR(VLOOKUP(I321,CIIU!A:B,2,0),\"\")","v":""}]
[null,null,null,null,null,null,null,null,null,{"$f":"IFERROR(VLOOKUP(I322,CIIU!A:B,2,0),\"\")","v":""}]
[null,null,null,null,null,null,null,null,null,{"$f":"IFERROR(VLOOKUP(I323,CIIU!A:B,2,0),\"\")","v":""}]
[null,null,null,null,null,null,null,null,null,{"$f":"IFERROR(VLOOKUP(I324,CIIU!A:B,2,0),\"\")","v":""}]
[null,null,null,null,null,null,null,null,null,{"$f":"IFERROR(VLOOKUP(I325,CIIU!A:B,2,0),\"\")","v":""}]
[null,null,null,null,null,null,null,null,null,{"$f":"IFERROR(VLOOKUP(I326,CIIU!A:B,2,0),\"\")","v":""}]
[null,null,null,null,null,null,null,null,null,{"$f":"IFERROR(VLOOKUP(I327,CIIU!A:B,2,0),\"\")","v":""}]
[null,null,null,null,null,null,null,null,null,{"$f":"IFERROR(VLOOKUP(I328,CIIU!A:B,2,0),\"\")","v":""}]
[null,null,null,null,null,null,null,null,null,{"$f":"IFERROR(VLOOKUP(I329,CIIU!A:B,2,0),\"\")","v":""}]
[null,null,null,null,null,null,null,null,null,{"$f":"IFERROR(VLOOKUP(I330,CIIU!A:B,2,0),\"\")","v":""}]
[null,null,null,null,null,null,null,null,null,{"$f":"IFERROR(VLOOKUP(I331,CIIU!A:B,2,0),\"\")","v":""}]
[null,null,null,null,null,null,null,null,null,{"$f":"IFERROR(VLOOKUP(I332,CIIU!A:B,2,0),\"\")","v":""}]
[null,null,null,null,null,null,null,null,null,{"$f":"IFERROR(VLOOKUP(I333,CIIU!A:B,2,0),\"\")","v":""}]
[null,null,null,null,null,null,null,null,null,{"$f":"IFERROR(VLOOKUP(I334,CIIU!A:B,2,0),\"\")","v":""}]
[null,null,null,null,null,null,null,null,null,{"$f":"IFERROR(VLOOKUP(I335,CIIU!A:B,2,0),\"\")","v":""}]
[null,null,null,null,null,null,null,null,null,{"$f":"IFERROR(VLOOKUP(I336,CIIU!A:B,2,0),\"\")","v":""}]
[null,null,null,null,null,null,null,null,null,{"$f":"IFERROR(VLOOKUP(I337,CIIU!A:B,2,0),\"\")","v":""}]
[null,null,null,null,null,null,null,null,null,{"$f":"IFERROR(VLOOKUP(I338,CIIU!A:B,2,0),\"\")","v":""}]
[null,null,null,null,null,null,null,null,null,{"$f":"IFERROR(VLOOKUP(I339,CIIU!A:B,2,0),\"\")","v":""}]
[null,null,null,null,null,null,null,null,null,{"$f":"IFERROR(VLOOKUP(I340,CIIU!A:B,2,0),\"\")","v":""}]
[null,null,null,null,null,null,null,null,null,{"$f":"IFERROR(VLOOKUP(I341,CIIU!A:B,2,0),\"\")","v":""}]
[null,null,null,null,null,null,null,null,null,{"$f":"IFERROR(VLOOKUP(I342,CIIU!A:B,2,0),\"\")","v":""}]
[null,null,null,null,null,null,null,null,null,{"$f":"IFERROR(VLOOKUP(I343,CIIU!A:B,2,0),\"\")","v":""}]
[null,null,null,null,null,null,null,null,null,{"$f":"IFERROR(VLOOKUP(I344,CIIU!A:B,2,0),\"\")","v":""}]
[null,null,null,null,null,null,null,null,null,{"$f":"IFERROR(VLOOKUP(I345,CIIU!A:B,2,0),\"\")","v":""}]
[null,null,null,null,null,null,null,null,null,{"$f":"IFERROR(VLOOKUP(I346,CIIU!A:B,2,0),\"\")","v":""}]
[null,null,null,null,null,null,null,null,null,{"$f":"IFERROR(VLOOKUP(I347,CIIU!A:B,2,0),\"\")","v":""}]
[null,null,null,null,null,null,null,null,null,{"$f":"IFERROR(VLOOKUP(I348,CIIU!A:B,2,0),\"\")","v":""}]
[null,null,null,null,null,null,null,null,null,{"$f":"IFERROR(VLOOKUP(I349,CIIU!A:B,2,0),\"\")","v":""}]
[null,null,null,null,null,null,null,null,null,{"$f":"IFERROR(VLOOKUP(I350,CIIU!A:B,2,0),\"\")","v":""}]
[null,null,null,null,null,null,null,null,null,{"$f":"IFERROR(VLOOKUP(I351,CIIU!A:B,2,0),\"\")","v":""}]
[null,null,null,null,null,null,null,null,null,{"$f":"IFERROR(VLOOKUP(I352,CIIU!A:B,2,0),\"\")","v":""}]
[null,null,null,null,null,null,null,null,null,{"$f":"IFERROR(VLOOKUP(I353,CIIU!A:B,2,0),\"\")","v":""}]
[null,null,null,null,null,null,null,null,null,{"$f":"IFERROR(VLOOKUP(I354,CIIU!A:B,2,0),\"\")","v":""}]
[null,null,null,null,null,null,null,null,null,{"$f":"IFERROR(VLOOKUP(I355,CIIU!A:B,2,0),\"\")","v":""}]
[null,null,null,null,null,null,null,null,null,{"$f":"IFERROR(VLOOKUP(I356,CIIU!A:B,2,0),\"\")","v":""}]
[null,null,null,null,null,null,null,null,null,{"$f":"IFERROR(VLOOKUP(I357,CIIU!A:B,2,0),\"\")","v":""}]
[null,null,null,null,null,null,null,null,null,{"$f":"IFERROR(VLOOKUP(I358,CIIU!A:B,2,0),\"\")","v":""}]
[null,null,null,null,null,null,null,null,null,{"$f":"IFERROR(VLOOKUP(I359,CIIU!A:B,2,0),\"\")","v":""}]
[null,null,null,null,null,null,null,null,null,{"$f":"IFERROR(VLOOKUP(I360,CIIU!A:B,2,0),\"\")","v":""}]
[null,null,null,null,null,null,null,null,null,{"$f":"IFERROR(VLOOKUP(I361,CIIU!A:B,2,0),\"\")","v":""}]
[null,null,null,null,null,null,null,null,null,{"$f":"IFERROR(VLOOKUP(I362,CIIU!A:B,2,0),\"\")","v":""}]
[null,null,null,null,null,null,null,null,null,{"$f":"IFERROR(VLOOKUP(I363,CIIU!A:B,2,0),\"\")","v":""}]
[null,null,null,null,null,null,null,null,null,{"$f":"IFERROR(VLOOKUP(I364,CIIU!A:B,2,0),\"\")","v":""}]
[null,null,null,null,null,null,null,null,null,{"$f":"IFERROR(VLOOKUP(I365,CIIU!A:B,2,0),\"\")","v":""}]
[null,null,null,null,null,null,null,null,null,{"$f":"IFERROR(VLOOKUP(I366,CIIU!A:B,2,0),\"\")","v":""}]
[null,null,null,null,null,null,null,null,null,{"$f":"IFERROR(VLOOKUP(I367,CIIU!A:B,2,0),\"\")","v":""}]
[null,null,null,null,null,null,null,null,null,{"$f":"IFERROR(VLOOKUP(I368,CIIU!A:B,2,0),\"\")","v":""}]
[null,null,null,null,null,null,null,null,null,{"$f":"IFERROR(VLOOKUP(I369,CIIU!A:B,2,0),\"\")","v":""}]
[null,null,null,null,null,null,null,null,null,{"$f":"IFERROR(VLOOKUP(I370,CIIU!A:B,2,0),\"\")","v":""}]
[null,null,null,null,null,null,null,null,null,{"$f":"IFERROR(VLOOKUP(I371,CIIU!A:B,2,0),\"\")","v":""}]
[null,null,null,null,null,null,null,null,null,{"$f":"IFERROR(VLOOKUP(I372,CIIU!A:B,2,0),\"\")","v":""}]
[null,null,null,null,null,null,null,null,null,{"$f":"IFERROR(VLOOKUP(I373,CIIU!A:B,2,0),\"\")","v":""}]
[null,null,null,null,null,null,null,null,null,{"$f":"IFERROR(VLOOKUP(I374,CIIU!A:B,2,0),\"\")","v":""}]
[null,null,null,null,null,null,null,null,null,{"$f":"IFERROR(VLOOKUP(I375,CIIU!A:B,2,0),\"\")","v":""}]
[null,null,null,null,null,null,null,null,null,{"$f":"IFERROR(VLOOKUP(I376,CIIU!A:B,2,0),\"\")","v":""}]
[null,null,null,null,null,null,null,null,null,{"$f":"IFERROR(VLOOKUP(I377,CIIU!A:B,2,0),\"\")","v":""}]
[null,null,null,null,null,null,null,null,null,{"$f":"IFERROR(VLOOKUP(I378,CIIU!A:B,2,0),\"\")","v":""}]
[null,null,null,null,null,null,null,null,null,{"$f":"IFERROR(VLOOKUP(I379,CIIU!A:B,2,0),\"\")","v":""}]
[null,null,null,null,null,null,null,null,null,{"$f":"IFERROR(VLOOKUP(I380,CIIU!A:B,2,0),\"\")","v":""}]
[null,null,null,null,null,null,null,null,null,{"$f":"IFERROR(VLOOKUP(I381,CIIU!A:B,2,0),\"\")","v":""}]
[null,null,null,null,null,null,null,null,null,{"$f":"IFERROR(VLOOKUP(I382,CIIU!A:B,2,0),\"\")","v":""}]
[null,null,null,null,null,null,null,null,null,{"$f":"IFERROR(VLOOKUP(I383,CIIU!A:B,2,0),\"\")","v":""}]
[null,null,null,null,null,null,null,null,null,{"$f":"IFERROR(VLOOKUP(I384,CIIU!A:B,2,0),\"\")","v":""}]
[null,null,null,null,null,null,null,null,null,{"$f":"IFERROR(VLOOKUP(I385,CIIU!A:B,2,0),\"\")","v":""}]
[null,null,null,null,null,null,null,null,null,{"$f":"IFERROR(VLOOKUP(I386,CIIU!A:B,2,0),\"\")","v":""}]
[null,null,null,null,null,null,null,null,null,{"$f":"IFERROR(VLOOKUP(I387,CIIU!A:B,2,0),\"\")","v":""}]
[null,null,null,null,null,null,null,null,null,{"$f":"IFERROR(VLOOKUP(I388,CIIU!A:B,2,0),\"\")","v":""}]
[null,null,null,null,null,null,null,null,null,{"$f":"IFERROR(VLOOKUP(I389,CIIU!A:B,2,0),\"\")","v":""}]
[null,null,null,null,null,null,null,null,null,{"$f":"IFERROR(VLOOKUP(I390,CIIU!A:B,2,0),\"\")","v":""}]
[null,null,null,null,null,null,null,null,null,{"$f":"IFERROR(VLOOKUP(I391,CIIU!A:B,2,0),\"\")","v":""}]
[null,null,null,null,null,null,null,null,null,{"$f":"IFERROR(VLOOKUP(I392,CIIU!A:B,2,0),\"\")","v":""}]
[null,null,null,null,null,null,null,null,null,{"$f":"IFERROR(VLOOKUP(I393,CIIU!A:B,2,0),\"\")","v":""}]
[null,null,null,null,null,null,null,null,null,{"$f":"IFERROR(VLOOKUP(I394,CIIU!A:B,2,0),\"\")","v":""}]
[null,null,null,null,null,null,null,null,null,{"$f":"IFERROR(VLOOKUP(I395,CIIU!A:B,2,0),\"\")","v":""}]
[null,null,null,null,null,null,null,null,null,{"$f":"IFERROR(VLOOKUP(I396,CIIU!A:B,2,0),\"\")","v":""}]
[null,null,null,null,null,null,null,null,null,{"$f":"IFERROR(VLOOKUP(I397,CIIU!A:B,2,0),\"\")","v":""}]
[null,null,null,null,null,null,null,null,null,{"$f":"IFERROR(VLOOKUP(I398,CIIU!A:B,2,0),\"\")","v":""}]
[null,null,null,null,null,null,null,null,null,{"$f":"IFERROR(VLOOKUP(I399,CIIU!A:B,2,0),\"\")","v":""}]
[null,null,null,null,null,null,null,null,null,{"$f":"IFERROR(VLOOKUP(I400,CIIU!A:B,2,0),\"\")","v":""}]
[null,null,null,null,null,null,null,null,null,{"$f":"IFERROR(VLOOKUP(I401,CIIU!A:B,2,0),\"\")","v":""}]
[null,null,null,null,null,null,null,null,null,{"$f":"IFERROR(VLOOKUP(I402,CIIU!A:B,2,0),\"\")","v":""}]
[null,null,null,null,null,null,null,null,null,{"$f":"IFERROR(VLOOKUP(I403,CIIU!A:B,2,0),\"\")","v":""}]
[null,null,null,null,null,null,null,null,null,{"$f":"IFERROR(VLOOKUP(I404,CIIU!A:B,2,0),\"\")","v":""}]
[null,null,null,null,null,null,null,null,null,{"$f":"IFERROR(VLOOKUP(I405,CIIU!A:B,2,0),\"\")","v":""}]
[null,null,null,null,null,null,null,null,null,{"$f":"IFERROR(VLOOKUP(I406,CIIU!A:B,2,0),\"\")","v":""}]
[null,null,null,null,null,null,null,null,null,{"$f":"IFERROR(VLOOKUP(I407,CIIU!A:B,2,0),\"\")","v":""}]
[null,null,null,null,null,null,null,null,null,{"$f":"IFERROR(VLOOKUP(I408,CIIU!A:B,2,0),\"\")","v":""}]
[null,null,null,null,null,null,null,null,null,{"$f":"IFERROR(VLOOKUP(I409,CIIU!A:B,2,0),\"\")","v":""}]
[null,null,null,null,null,null,null,null,null,{"$f":"IFERROR(VLOOKUP(I410,CIIU!A:B,2,0),\"\")","v":""}]
[null,null,null,null,null,null,null,null,null,{"$f":"IFERROR(VLOOKUP(I411,CIIU!A:B,2,0),\"\")","v":""}]
[null,null,null,null,null,null,null,null,null,{"$f":"IFERROR(VLOOKUP(I412,CIIU!A:B,2,0),\"\")","v":""}]
[null,null,null,null,null,null,null,null,null,{"$f":"IFERROR(VLOOKUP(I413,CIIU!A:B,2,0),\"\")","v":""}]
[null,null,null,null,null,null,null,null,null,{"$f":"IFERROR(VLOOKUP(I414,CIIU!A:B,2,0),\"\")","v":""}]
[null,null,null,null,null,null,null,null,null,{"$f":"IFERROR(VLOOKUP(I415,CIIU!A:B,2,0),\"\")","v":""}]
[null,null,null,null,null,null,null,null,null,{"$f":"IFERROR(VLOOKUP(I416,CIIU!A:B,2,0),\"\")","v":""}]
[null,null,null,null,null,null,null,null,null,{"$f":"IFERROR(VLOOKUP(I417,CIIU!A:B,2,0),\"\")","v":""}]
[null,null,null,null,null,null,null,null,null,{"$f":"IFERROR(VLOOKUP(I418,CIIU!A:B,2,0),\"\")","v":""}]
[null,null,null,null,null,null,null,null,null,{"$f":"IFERROR(VLOOKUP(I419,CIIU!A:B,2,0),\"\")","v":""}]
[null,null,null,null,null,null,null,null,null,{"$f":"IFERROR(VLOOKUP(I420,CIIU!A:B,2,0),\"\")","v":""}]
[null,null,null,null,null,null,null,null,null,{"$f":"IFERROR(VLOOKUP(I421,CIIU!A:B,2,0),\"\")","v":""}]
[null,null,null,null,null,null,null,null,null,{"$f":"IFERROR(VLOOKUP(I422,CIIU!A:B,2,0),\"\")","v":""}]
[null,null,null,null,null,null,null,null,null,{"$f":"IFERROR(VLOOKUP(I423,CIIU!A:B,2,0),\"\")","v":""}]
[null,null,null,null,null,null,null,null,null,{"$f":"IFERROR(VLOOKUP(I424,CIIU!A:B,2,0),\"\")","v":""}]
[null,null,null,null,null,null,null,null,null,{"$f":"IFERROR(VLOOKUP(I425,CIIU!A:B,2,0),\"\")","v":""}]
[null,null,null,null,null,null,null,null,null,{"$f":"IFERROR(VLOOKUP(I426,CIIU!A:B,2,0),\"\")","v":""}]
[null,null,null,null,null,null,null,null,null,{"$f":"IFERROR(VLOOKUP(I427,CIIU!A:B,2,0),\"\")","v":""}]
[null,null,null,null,null,null,null,null,null,{"$f":"IFERROR(VLOOKUP(I428,CIIU!A:B,2,0),\"\")","v":""}]
[null,null,null,null,null,null,null,null,null,{"$f":"IFERROR(VLOOKUP(I429,CIIU!A:B,2,0),\"\")","v":""}]
[null,null,null,null,null,null,null,null,null,{"$f":"IFERROR(VLOOKUP(I430,CIIU!A:B,2,0),\"\")","v":""}]
[null,null,null,null,null,null,null,null,null,{"$f":"IFERROR(VLOOKUP(I431,CIIU!A:B,2,0),\"\")","v":""}]
[null,null,null,null,null,null,null,null,null,{"$f":"IFERROR(VLOOKUP(I432,CIIU!A:B,2,0),\"\")","v":""}]
[null,null,null,null,null,null,null,null,null,{"$f":"IFERROR(VLOOKUP(I433,CIIU!A:B,2,0),\"\")","v":""}]
[null,null,null,null,null,null,null,null,null,{"$f":"IFERROR(VLOOKUP(I434,CIIU!A:B,2,0),\"\")","v":""}]
[null,null,null,null,null,null,null,null,null,{"$f":"IFERROR(VLOOKUP(I435,CIIU!A:B,2,0),\"\")","v":""}]
[null,null,null,null,null,null,null,null,null,{"$f":"IFERROR(VLOOKUP(I436,CIIU!A:B,2,0),\"\")","v":""}]
[null,null,null,null,null,null,null,null,null,{"$f":"IFERROR(VLOOKUP(I437,CIIU!A:B,2,0),\"\")","v":""}]
[null,null,null,null,null,null,null,null,null,{"$f":"IFERROR(VLOOKUP(I438,CIIU!A:B,2,0),\"\")","v":""}]
[null,null,null,null,null,null,null,null,null,{"$f":"IFERROR(VLOOKUP(I439,CIIU!A:B,2,0),\"\")","v":""}]
[null,null,null,null,null,null,null,null,null,{"$f":"IFERROR(VLOOKUP(I440,CIIU!A:B,2,0),\"\")","v":""}]
[null,null,null,null,null,null,null,null,null,{"$f":"IFERROR(VLOOKUP(I441,CIIU!A:B,2,0),\"\")","v":""}]
[null,null,null,null,null,null,null,null,null,{"$f":"IFERROR(VLOOKUP(I442,CIIU!A:B,2,0),\"\")","v":""}]
[null,null,null,null,null,null,null,null,null,{"$f":"IFERROR(VLOOKUP(I443,CIIU!A:B,2,0),\"\")","v":""}]
[null,null,null,null,null,null,null,null,null,{"$f":"IFERROR(VLOOKUP(I444,CIIU!A:B,2,0),\"\")","v":""}]
[null,null,null,null,null,null,null,null,null,{"$f":"IFERROR(VLOOKUP(I445,CIIU!A:B,2,0),\"\")","v":""}]
[null,null,null,null,null,null,null,null,null,{"$f":"IFERROR(VLOOKUP(I446,CIIU!A:B,2,0),\"\")","v":""}]
[null,null,null,null,null,null,null,null,null,{"$f":"IFERROR(VLOOKUP(I447,CIIU!A:B,2,0),\"\")","v":""}]
[null,null,null,null,null,null,null,null,null,{"$f":"IFERROR(VLOOKUP(I448,CIIU!A:B,2,0),\"\")","v":""}]
[null,null,null,null,null,null,null,null,null,{"$f":"IFERROR(VLOOKUP(I449,CIIU!A:B,2,0),\"\")","v":""}]
[null,null,null,null,null,null,null,null,null,{"$f":"IFERROR(VLOOKUP(I450,CIIU!A:B,2,0),\"\")","v":""}]
[null,null,null,null,null,null,null,null,null,{"$f":"IFERROR(VLOOKUP(I451,CIIU!A:B,2,0),\"\")","v":""}]
[null,null,null,null,null,null,null,null,null,{"$f":"IFERROR(VLOOKUP(I452,CIIU!A:B,2,0),\"\")","v":""}]
[null,null,null,null,null,null,null,null,null,{"$f":"IFERROR(VLOOKUP(I453,CIIU!A:B,2,0),\"\")","v":""}]
[null,null,null,null,null,null,null,null,null,{"$f":"IFERROR(VLOOKUP(I454,CIIU!A:B,2,0),\"\")","v":""}]
[null,null,null,null,null,null,null,null,null,{"$f":"IFERROR(VLOOKUP(I455,CIIU!A:B,2,0),\"\")","v":""}]
[null,null,null,null,null,null,null,null,null,{"$f":"IFERROR(VLOOKUP(I456,CIIU!A:B,2,0),\"\")","v":""}]
[null,null,null,null,null,null,null,null,null,{"$f":"IFERROR(VLOOKUP(I457,CIIU!A:B,2,0),\"\")","v":""}]
[null,null,null,null,null,null,null,null,null,{"$f":"IFERROR(VLOOKUP(I458,CIIU!A:B,2,0),\"\")","v":""}]
[null,null,null,null,null,null,null,null,null,{"$f":"IFERROR(VLOOKUP(I459,CIIU!A:B,2,0),\"\")","v":""}]
[null,null,null,null,null,null,null,null,null,{"$f":"IFERROR(VLOOKUP(I460,CIIU!A:B,2,0),\"\")","v":""}]
[null,null,null,null,null,null,null,null,null,{"$f":"IFERROR(VLOOKUP(I461,CIIU!A:B,2,0),\"\")","v":""}]
[null,null,null,null,null,null,null,null,null,{"$f":"IFERROR(VLOOKUP(I462,CIIU!A:B,2,0),\"\")","v":""}]
[null,null,null,null,null,null,null,null,null,{"$f":"IFERROR(VLOOKUP(I463,CIIU!A:B,2,0),\"\")","v":""}]
[null,null,null,null,null,null,null,null,null,{"$f":"IFERROR(VLOOKUP(I464,CIIU!A:B,2,0),\"\")","v":""}]
[null,null,null,null,null,null,null,null,null,{"$f":"IFERROR(VLOOKUP(I465,CIIU!A:B,2,0),\"\")","v":""}]
[null,null,null,null,null,null,null,null,null,{"$f":"IFERROR(VLOOKUP(I466,CIIU!A:B,2,0),\"\")","v":""}]
[null,null,null,null,null,null,null,null,null,{"$f":"IFERROR(VLOOKUP(I467,CIIU!A:B,2,0),\"\")","v":""}]
[null,null,null,null,null,null,null,null,null,{"$f":"IFERROR(VLOOKUP(I468,CIIU!A:B,2,0),\"\")","v":""}]
[null,null,null,null,null,null,null,null,null,{"$f":"IFERROR(VLOOKUP(I469,CIIU!A:B,2,0),\"\")","v":""}]
[null,null,null,null,null,null,null,null,null,{"$f":"IFERROR(VLOOKUP(I470,CIIU!A:B,2,0),\"\")","v":""}]
[null,null,null,null,null,null,null,null,null,{"$f":"IFERROR(VLOOKUP(I471,CIIU!A:B,2,0),\"\")","v":""}]
[null,null,null,null,null,null,null,null,null,{"$f":"IFERROR(VLOOKUP(I472,CIIU!A:B,2,0),\"\")","v":""}]
[null,null,null,null,null,null,null,null,null,{"$f":"IFERROR(VLOOKUP(I473,CIIU!A:B,2,0),\"\")","v":""}]
[null,null,null,null,null,null,null,null,null,{"$f":"IFERROR(VLOOKUP(I474,CIIU!A:B,2,0),\"\")","v":""}]
[null,null,null,null,null,null,null,null,null,{"$f":"IFERROR(VLOOKUP(I475,CIIU!A:B,2,0),\"\")","v":""}]
[null,null,null,null,null,null,null,null,null,{"$f":"IFERROR(VLOOKUP(I476,CIIU!A:B,2,0),\"\")","v":""}]
[null,null,null,null,null,null,null,null,null,{"$f":"IFERROR(VLOOKUP(I477,CIIU!A:B,2,0),\"\")","v":""}]
[null,null,null,null,null,null,null,null,null,{"$f":"IFERROR(VLOOKUP(I478,CIIU!A:B,2,0),\"\")","v":""}]
[null,null,null,null,null,null,null,null,null,{"$f":"IFERROR(VLOOKUP(I479,CIIU!A:B,2,0),\"\")","v":""}]
[null,null,null,null,null,null,null,null,null,{"$f":"IFERROR(VLOOKUP(I480,CIIU!A:B,2,0),\"\")","v":""}]
[null,null,null,null,null,null,null,null,null,{"$f":"IFERROR(VLOOKUP(I481,CIIU!A:B,2,0),\"\")","v":""}]
[null,null,null,null,null,null,null,null,null,{"$f":"IFERROR(VLOOKUP(I482,CIIU!A:B,2,0),\"\")","v":""}]
[null,null,null,null,null,null,null,null,null,{"$f":"IFERROR(VLOOKUP(I483,CIIU!A:B,2,0),\"\")","v":""}]
[null,null,null,null,null,null,null,null,null,{"$f":"IFERROR(VLOOKUP(I484,CIIU!A:B,2,0),\"\")","v":""}]
[null,null,null,null,null,null,null,null,null,{"$f":"IFERROR(VLOOKUP(I485,CIIU!A:B,2,0),\"\")","v":""}]
[null,null,null,null,null,null,null,null,null,{"$f":"IFERROR(VLOOKUP(I486,CIIU!A:B,2,0),\"\")","v":""}]
[null,null,null,null,null,null,null,null,null,{"$f":"IFERROR(VLOOKUP(I487,CIIU!A:B,2,0),\"\")","v":""}]
[null,null,null,null,null,null,null,null,null,{"$f":"IFERROR(VLOOKUP(I488,CIIU!A:B,2,0),\"\")","v":""}]
[null,null,null,null,null,null,null,null,null,{"$f":"IFERROR(VLOOKUP(I489,CIIU!A:B,2,0),\"\")","v":""}]
[null,null,null,null,null,null,null,null,null,{"$f":"IFERROR(VLOOKUP(I490,CIIU!A:B,2,0),\"\")","v":""}]
[null,null,null,null,null,null,null,null,null,{"$f":"IFERROR(VLOOKUP(I491,CIIU!A:B,2,0),\"\")","v":""}]
[null,null,null,null,null,null,null,null,null,{"$f":"IFERROR(VLOOKUP(I492,CIIU!A:B,2,0),\"\")","v":""}]
[null,null,null,null,null,null,null,null,null,{"$f":"IFERROR(VLOOKUP(I493,CIIU!A:B,2,0),\"\")","v":""}]
[null,null,null,null,null,null,null,null,null,{"$f":"IFERROR(VLOOKUP(I494,CIIU!A:B,2,0),\"\")","v":""}]
[null,null,null,null,null,null,null,null,null,{"$f":"IFERROR(VLOOKUP(I495,CIIU!A:B,2,0),\"\")","v":""}]
[null,null,null,null,null,null,null,null,null,{"$f":"IFERROR(VLOOKUP(I496,CIIU!A:B,2,0),\"\")","v":""}]
[null,null,null,null,null,null,null,null,null,{"$f":"IFERROR(VLOOKUP(I497,CIIU!A:B,2,0),\"\")","v":""}]
[null,null,null,null,null,null,null,null,null,{"$f":"IFERROR(VLOOKUP(I498,CIIU!A:B,2,0),\"\")","v":""}]
[null,null,null,null,null,null,null,null,null,{"$f":"IFERROR(VLOOKUP(I499,CIIU!A:B,2,0),\"\")","v":""}]
[null,null,null,null,null,null,null,null,null,{"$f":"IFERROR(VLOOKUP(I500,CIIU!A:B,2,0),\"\")","v":""}]
[null,null,null,null,null,null,null,null,null,{"$f":"IFERROR(VLOOKUP(I501,CIIU!A:B,2,0),\"\")","v":""}]
[null,null,null,null,null,null,null,null,null,{"$f":"IFERROR(VLOOKUP(I502,CIIU!A:B,2,0),\"\")","v":""}]
[null,null,null,null,null,null,null,null,null,{"$f":"IFERROR(VLOOKUP(I503,CIIU!A:B,2,0),\"\")","v":""}]
[null,null,null,null,null,null,null,null,null,{"$f":"IFERROR(VLOOKUP(I504,CIIU!A:B,2,0),\"\")","v":""}]
[null,null,null,null,null,null,null,null,null,{"$f":"IFERROR(VLOOKUP(I505,CIIU!A:B,2,0),\"\")","v":""}]
[null,null,null,null,null,null,null,null,null,{"$f":"IFERROR(VLOOKUP(I506,CIIU!A:B,2,0),\"\")","v":""}]
[null,null,null,null,null,null,null,null,null,{"$f":"IFERROR(VLOOKUP(I507,CIIU!A:B,2,0),\"\")","v":""}]
[null,null,null,null,null,null,null,null,null,{"$f":"IFERROR(VLOOKUP(I508,CIIU!A:B,2,0),\"\")","v":""}]
[null,null,null,null,null,null,null,null,null,{"$f":"IFERROR(VLOOKUP(I509,CIIU!A:B,2,0),\"\")","v":""}]
[null,null,null,null,null,null,null,null,null,{"$f":"IFERROR(VLOOKUP(I510,CIIU!A:B,2,0),\"\")","v":""}]
[null,null,null,null,null,null,null,null,null,{"$f":"IFERROR(VLOOKUP(I511,CIIU!A:B,2,0),\"\")","v":""}]
[null,null,null,null,null,null,null,null,null,{"$f":"IFERROR(VLOOKUP(I512,CIIU!A:B,2,0),\"\")","v":""}]
[null,null,null,null,null,null,null,null,null,{"$f":"IFERROR(VLOOKUP(I513,CIIU!A:B,2,0),\"\")","v":""}]
[null,null,null,null,null,null,null,null,null,{"$f":"IFERROR(VLOOKUP(I514,CIIU!A:B,2,0),\"\")","v":""}]
[null,null,null,null,null,null,null,null,null,{"$f":"IFERROR(VLOOKUP(I515,CIIU!A:B,2,0),\"\")","v":""}]
[null,null,null,null,null,null,null,null,null,{"$f":"IFERROR(VLOOKUP(I516,CIIU!A:B,2,0),\"\")","v":""}]
[null,null,null,null,null,null,null,null,null,{"$f":"IFERROR(VLOOKUP(I517,CIIU!A:B,2,0),\"\")","v":""}]
[null,null,null,null,null,null,null,null,null,{"$f":"IFERROR(VLOOKUP(I518,CIIU!A:B,2,0),\"\")","v":""}]
[null,null,null,null,null,null,null,null,null,{"$f":"IFERROR(VLOOKUP(I519,CIIU!A:B,2,0),\"\")","v":""}]
[null,null,null,null,null,null,null,null,null,{"$f":"IFERROR(VLOOKUP(I520,CIIU!A:B,2,0),\"\")","v":""}]
[null,null,null,null,null,null,null,null,null,{"$f":"IFERROR(VLOOKUP(I521,CIIU!A:B,2,0),\"\")","v":""}]
[null,null,null,null,null,null,null,null,null,{"$f":"IFERROR(VLOOKUP(I522,CIIU!A:B,2,0),\"\")","v":""}]
[null,null,null,null,null,null,null,null,null,{"$f":"IFERROR(VLOOKUP(I523,CIIU!A:B,2,0),\"\")","v":""}]
[null,null,null,null,null,null,null,null,null,{"$f":"IFERROR(VLOOKUP(I524,CIIU!A:B,2,0),\"\")","v":""}]
[null,null,null,null,null,null,null,null,null,{"$f":"IFERROR(VLOOKUP(I525,CIIU!A:B,2,0),\"\")","v":""}]
[null,null,null,null,null,null,null,null,null,{"$f":"IFERROR(VLOOKUP(I526,CIIU!A:B,2,0),\"\")","v":""}]
[null,null,null,null,null,null,null,null,null,{"$f":"IFERROR(VLOOKUP(I527,CIIU!A:B,2,0),\"\")","v":""}]
[null,null,null,null,null,null,null,null,null,{"$f":"IFERROR(VLOOKUP(I528,CIIU!A:B,2,0),\"\")","v":""}]
[null,null,null,null,null,null,null,null,null,{"$f":"IFERROR(VLOOKUP(I529,CIIU!A:B,2,0),\"\")","v":""}]
[null,null,null,null,null,null,null,null,null,{"$f":"IFERROR(VLOOKUP(I530,CIIU!A:B,2,0),\"\")","v":""}]
[null,null,null,null,null,null,null,null,null,{"$f":"IFERROR(VLOOKUP(I531,CIIU!A:B,2,0),\"\")","v":""}]
[null,null,null,null,null,null,null,null,null,{"$f":"IFERROR(VLOOKUP(I532,CIIU!A:B,2,0),\"\")","v":""}]
[null,null,null,null,null,null,null,null,null,{"$f":"IFERROR(VLOOKUP(I533,CIIU!A:B,2,0),\"\")","v":""}]
[null,null,null,null,null,null,null,null,null,{"$f":"IFERROR(VLOOKUP(I534,CIIU!A:B,2,0),\"\")","v":""}]
[null,null,null,null,null,null,null,null,null,{"$f":"IFERROR(VLOOKUP(I535,CIIU!A:B,2,0),\"\")","v":""}]
[null,null,null,null,null,null,null,null,null,{"$f":"IFERROR(VLOOKUP(I536,CIIU!A:B,2,0),\"\")","v":""}]
[null,null,null,null,null,null,null,null,null,{"$f":"IFERROR(VLOOKUP(I537,CIIU!A:B,2,0),\"\")","v":""}]
[null,null,null,null,null,null,null,null,null,{"$f":"IFERROR(VLOOKUP(I538,CIIU!A:B,2,0),\"\")","v":""}]
[null,null,null,null,null,null,null,null,null,{"$f":"IFERROR(VLOOKUP(I539,CIIU!A:B,2,0),\"\")","v":""}]
[null,null,null,null,null,null,null,null,null,{"$f":"IFERROR(VLOOKUP(I540,CIIU!A:B,2,0),\"\")","v":""}]
[null,null,null,null,null,null,null,null,null,{"$f":"IFERROR(VLOOKUP(I541,CIIU!A:B,2,0),\"\")","v":""}]
[null,null,null,null,null,null,null,null,null,{"$f":"IFERROR(VLOOKUP(I542,CIIU!A:B,2,0),\"\")","v":""}]
[null,null,null,null,null,null,null,null,null,{"$f":"IFERROR(VLOOKUP(I543,CIIU!A:B,2,0),\"\")","v":""}]
[null,null,null,null,null,null,null,null,null,{"$f":"IFERROR(VLOOKUP(I544,CIIU!A:B,2,0),\"\")","v":""}]
[null,null,null,null,null,null,null,null,null,{"$f":"IFERROR(VLOOKUP(I545,CIIU!A:B,2,0),\"\")","v":""}]
[null,null,null,null,null,null,null,null,null,{"$f":"IFERROR(VLOOKUP(I546,CIIU!A:B,2,0),\"\")","v":""}]
[null,null,null,null,null,null,null,null,null,{"$f":"IFERROR(VLOOKUP(I547,CIIU!A:B,2,0),\"\")","v":""}]
[null,null,null,null,null,null,null,null,null,{"$f":"IFERROR(VLOOKUP(I548,CIIU!A:B,2,0),\"\")","v":""}]
[null,null,null,null,null,null,null,null,null,{"$f":"IFERROR(VLOOKUP(I549,CIIU!A:B,2,0),\"\")","v":""}]
[null,null,null,null,null,null,null,null,null,{"$f":"IFERROR(VLOOKUP(I550,CIIU!A:B,2,0),\"\")","v":""}]
[null,null,null,null,null,null,null,null,null,{"$f":"IFERROR(VLOOKUP(I551,CIIU!A:B,2,0),\"\")","v":""}]
[null,null,null,null,null,null,null,null,null,{"$f":"IFERROR(VLOOKUP(I552,CIIU!A:B,2,0),\"\")","v":""}]
[null,null,null,null,null,null,null,null,null,{"$f":"IFERROR(VLOOKUP(I553,CIIU!A:B,2,0),\"\")","v":""}]
[null,null,null,null,null,null,null,null,null,{"$f":"IFERROR(VLOOKUP(I554,CIIU!A:B,2,0),\"\")","v":""}]
[null,null,null,null,null,null,null,null,null,{"$f":"IFERROR(VLOOKUP(I555,CIIU!A:B,2,0),\"\")","v":""}]
[null,null,null,null,null,null,null,null,null,{"$f":"IFERROR(VLOOKUP(I556,CIIU!A:B,2,0),\"\")","v":""}]
[null,null,null,null,null,null,null,null,null,{"$f":"IFERROR(VLOOKUP(I557,CIIU!A:B,2,0),\"\")","v":""}]
[null,null,null,null,null,null,null,null,null,{"$f":"IFERROR(VLOOKUP(I558,CIIU!A:B,2,0),\"\")","v":""}]
[null,null,null,null,null,null,null,null,null,{"$f":"IFERROR(VLOOKUP(I559,CIIU!A:B,2,0),\"\")","v":""}]
[null,null,null,null,null,null,null,null,null,{"$f":"IFERROR(VLOOKUP(I560,CIIU!A:B,2,0),\"\")","v":""}]
[null,null,null,null,null,null,null,null,null,{"$f":"IFERROR(VLOOKUP(I561,CIIU!A:B,2,0),\"\")","v":""}]
[null,null,null,null,null,null,null,null,null,{"$f":"IFERROR(VLOOKUP(I562,CIIU!A:B,2,0),\"\")","v":""}]
[null,null,null,null,null,null,null,null,null,{"$f":"IFERROR(VLOOKUP(I563,CIIU!A:B,2,0),\"\")","v":""}]
[null,null,null,null,null,null,null,null,null,{"$f":"IFERROR(VLOOKUP(I564,CIIU!A:B,2,0),\"\")","v":""}]
[null,null,null,null,null,null,null,null,null,{"$f":"IFERROR(VLOOKUP(I565,CIIU!A:B,2,0),\"\")","v":""}]
[null,null,null,null,null,null,null,null,null,{"$f":"IFERROR(VLOOKUP(I566,CIIU!A:B,2,0),\"\")","v":""}]
[null,null,null,null,null,null,null,null,null,{"$f":"IFERROR(VLOOKUP(I567,CIIU!A:B,2,0),\"\")","v":""}]
[null,null,null,null,null,null,null,null,null,{"$f":"IFERROR(VLOOKUP(I568,CIIU!A:B,2,0),\"\")","v":""}]
[null,null,null,null,null,null,null,null,null,{"$f":"IFERROR(VLOOKUP(I569,CIIU!A:B,2,0),\"\")","v":""}]
[null,null,null,null,null,null,null,null,null,{"$f":"IFERROR(VLOOKUP(I570,CIIU!A:B,2,0),\"\")","v":""}]
[null,null,null,null,null,null,null,null,null,{"$f":"IFERROR(VLOOKUP(I571,CIIU!A:B,2,0),\"\")","v":""}]
[null,null,null,null,null,null,null,null,null,{"$f":"IFERROR(VLOOKUP(I572,CIIU!A:B,2,0),\"\")","v":""}]
[null,null,null,null,null,null,null,null,null,{"$f":"IFERROR(VLOOKUP(I573,CIIU!A:B,2,0),\"\")","v":""}]
[null,null,null,null,null,null,null,null,null,{"$f":"IFERROR(VLOOKUP(I574,CIIU!A:B,2,0),\"\")","v":""}]
[null,null,null,null,null,null,null,null,null,{"$f":"IFERROR(VLOOKUP(I575,CIIU!A:B,2,0),\"\")","v":""}]
[null,null,null,null,null,null,null,null,null,{"$f":"IFERROR(VLOOKUP(I576,CIIU!A:B,2,0),\"\")","v":""}]
[null,null,null,null,null,null,null,null,null,{"$f":"IFERROR(VLOOKUP(I577,CIIU!A:B,2,0),\"\")","v":""}]
[null,null,null,null,null,null,null,null,null,{"$f":"IFERROR(VLOOKUP(I578,CIIU!A:B,2,0),\"\")","v":""}]
[null,null,null,null,null,null,null,null,null,{"$f":"IFERROR(VLOOKUP(I579,CIIU!A:B,2,0),\"\")","v":""}]
[null,null,null,null,null,null,null,null,null,{"$f":"IFERROR(VLOOKUP(I580,CIIU!A:B,2,0),\"\")","v":""}]
[null,null,null,null,null,null,null,null,null,{"$f":"IFERROR(VLOOKUP(I581,CIIU!A:B,2,0),\"\")","v":""}]
[null,null,null,null,null,null,null,null,null,{"$f":"IFERROR(VLOOKUP(I582,CIIU!A:B,2,0),\"\")","v":""}]
[null,null,null,null,null,null,null,null,null,{"$f":"IFERROR(VLOOKUP(I583,CIIU!A:B,2,0),\"\")","v":""}]
[null,null,null,null,null,null,null,null,null,{"$f":"IFERROR(VLOOKUP(I584,CIIU!A:B,2,0),\"\")","v":""}]
[null,null,null,null,null,null,null,null,null,{"$f":"IFERROR(VLOOKUP(I585,CIIU!A:B,2,0),\"\")","v":""}]
[null,null,null,null,null,null,null,null,null,{"$f":"IFERROR(VLOOKUP(I586,CIIU!A:B,2,0),\"\")","v":""}]
[null,null,null,null,null,null,null,null,null,{"$f":"IFERROR(VLOOKUP(I587,CIIU!A:B,2,0),\"\")","v":""}]
[null,null,null,null,null,null,null,null,null,{"$f":"IFERROR(VLOOKUP(I588,CIIU!A:B,2,0),\"\")","v":""}]
[null,null,null,null,null,null,null,null,null,{"$f":"IFERROR(VLOOKUP(I589,CIIU!A:B,2,0),\"\")","v":""}]
[null,null,null,null,null,null,null,null,null,{"$f":"IFERROR(VLOOKUP(I590,CIIU!A:B,2,0),\"\")","v":""}]
[null,null,null,null,null,null,null,null,null,{"$f":"IFERROR(VLOOKUP(I591,CIIU!A:B,2,0),\"\")","v":""}]
[null,null,null,null,null,null,null,null,null,{"$f":"IFERROR(VLOOKUP(I592,CIIU!A:B,2,0),\"\")","v":""}]
[null,null,null,null,null,null,null,null,null,{"$f":"IFERROR(VLOOKUP(I593,CIIU!A:B,2,0),\"\")","v":""}]
[null,null,null,null,null,null,null,null,null,{"$f":"IFERROR(VLOOKUP(I594,CIIU!A:B,2,0),\"\")","v":""}]
[null,null,null,null,null,null,null,null,null,{"$f":"IFERROR(VLOOKUP(I595,CIIU!A:B,2,0),\"\")","v":""}]
[null,null,null,null,null,null,null,null,null,{"$f":"IFERROR(VLOOKUP(I596,CIIU!A:B,2,0),\"\")","v":""}]
[null,null,null,null,null,null,null,null,null,{"$f":"IFERROR(VLOOKUP(I597,CIIU!A:B,2,0),\"\")","v":""}]
[null,null,null,null,null,null,null,null,null,{"$f":"IFERROR(VLOOKUP(I598,CIIU!A:B,2,0),\"\")","v":""}]
[null,null,null,null,null,null,null,null,null,{"$f":"IFERROR(VLOOKUP(I599,CIIU!A:B,2,0),\"\")","v":""}]
[null,null,null,null,null,null,null,null,null,{"$f":"IFERROR(VLOOKUP(I600,CIIU!A:B,2,0),\"\")","v":""}]
[null,null,null,null,null,null,null,null,null,{"$f":"IFERROR(VLOOKUP(I601,CIIU!A:B,2,0),\"\")","v":""}]
[null,null,null,null,null,null,null,null,null,{"$f":"IFERROR(VLOOKUP(I602,CIIU!A:B,2,0),\"\")","v":""}]
[null,null,null,null,null,null,null,null,null,{"$f":"IFERROR(VLOOKUP(I603,CIIU!A:B,2,0),\"\")","v":""}]
[null,null,null,null,null,null,null,null,null,{"$f":"IFERROR(VLOOKUP(I604,CIIU!A:B,2,0),\"\")","v":""}]
[null,null,null,null,null,null,null,null,null,{"$f":"IFERROR(VLOOKUP(I605,CIIU!A:B,2,0),\"\")","v":""}]
[null,null,null,null,null,null,null,null,null,{"$f":"IFERROR(VLOOKUP(I606,CIIU!A:B,2,0),\"\")","v":""}]
[null,null,null,null,null,null,null,null,null,{"$f":"IFERROR(VLOOKUP(I607,CIIU!A:B,2,0),\"\")","v":""}]
[null,null,null,null,null,null,null,null,null,{"$f":"IFERROR(VLOOKUP(I608,CIIU!A:B,2,0),\"\")","v":""}]
[null,null,null,null,null,null,null,null,null,{"$f":"IFERROR(VLOOKUP(I609,CIIU!A:B,2,0),\"\")","v":""}]
[null,null,null,null,null,null,null,null,null,{"$f":"IFERROR(VLOOKUP(I610,CIIU!A:B,2,0),\"\")","v":""}]
[null,null,null,null,null,null,null,null,null,{"$f":"IFERROR(VLOOKUP(I611,CIIU!A:B,2,0),\"\")","v":""}]
[null,null,null,null,null,null,null,null,null,{"$f":"IFERROR(VLOOKUP(I612,CIIU!A:B,2,0),\"\")","v":""}]
[null,null,null,null,null,null,null,null,null,{"$f":"IFERROR(VLOOKUP(I613,CIIU!A:B,2,0),\"\")","v":""}]
[null,null,null,null,null,null,null,null,null,{"$f":"IFERROR(VLOOKUP(I614,CIIU!A:B,2,0),\"\")","v":""}]
[null,null,null,null,null,null,null,null,null,{"$f":"IFERROR(VLOOKUP(I615,CIIU!A:B,2,0),\"\")","v":""}]
[null,null,null,null,null,null,null,null,null,{"$f":"IFERROR(VLOOKUP(I616,CIIU!A:B,2,0),\"\")","v":""}]
[null,null,null,null,null,null,null,null,null,{"$f":"IFERROR(VLOOKUP(I617,CIIU!A:B,2,0),\"\")","v":""}]
[null,null,null,null,null,null,null,null,null,{"$f":"IFERROR(VLOOKUP(I618,CIIU!A:B,2,0),\"\")","v":""}]
[null,null,null,null,null,null,null,null,null,{"$f":"IFERROR(VLOOKUP(I619,CIIU!A:B,2,0),\"\")","v":""}]
[null,null,null,null,null,null,null,null,null,{"$f":"IFERROR(VLOOKUP(I620,CIIU!A:B,2,0),\"\")","v":""}]
[null,null,null,null,null,null,null,null,null,{"$f":"IFERROR(VLOOKUP(I621,CIIU!A:B,2,0),\"\")","v":""}]
[null,null,null,null,null,null,null,null,null,{"$f":"IFERROR(VLOOKUP(I622,CIIU!A:B,2,0),\"\")","v":""}]
[null,null,null,null,null,null,null,null,null,{"$f":"IFERROR(VLOOKUP(I623,CIIU!A:B,2,0),\"\")","v":""}]
[null,null,null,null,null,null,null,null,null,{"$f":"IFERROR(VLOOKUP(I624,CIIU!A:B,2,0),\"\")","v":""}]
[null,null,null,null,null,null,null,null,null,{"$f":"IFERROR(VLOOKUP(I625,CIIU!A:B,2,0),\"\")","v":""}]
[null,null,null,null,null,null,null,null,null,{"$f":"IFERROR(VLOOKUP(I626,CIIU!A:B,2,0),\"\")","v":""}]
[null,null,null,null,null,null,null,null,null,{"$f":"IFERROR(VLOOKUP(I627,CIIU!A:B,2,0),\"\")","v":""}]
[null,null,null,null,null,null,null,null,null,{"$f":"IFERROR(VLOOKUP(I628,CIIU!A:B,2,0),\"\")","v":""}]
[null,null,null,null,null,null,null,null,null,{"$f":"IFERROR(VLOOKUP(I629,CIIU!A:B,2,0),\"\")","v":""}]
[null,null,null,null,null,null,null,null,null,{"$f":"IFERROR(VLOOKUP(I630,CIIU!A:B,2,0),\"\")","v":""}]
[null,null,null,null,null,null,null,null,null,{"$f":"IFERROR(VLOOKUP(I631,CIIU!A:B,2,0),\"\")","v":""}]
[null,null,null,null,null,null,null,null,null,{"$f":"IFERROR(VLOOKUP(I632,CIIU!A:B,2,0),\"\")","v":""}]
[null,null,null,null,null,null,null,null,null,{"$f":"IFERROR(VLOOKUP(I633,CIIU!A:B,2,0),\"\")","v":""}]
[null,null,null,null,null,null,null,null,null,{"$f":"IFERROR(VLOOKUP(I634,CIIU!A:B,2,0),\"\")","v":""}]
[null,null,null,null,null,null,null,null,null,{"$f":"IFERROR(VLOOKUP(I635,CIIU!A:B,2,0),\"\")","v":""}]
[null,null,null,null,null,null,null,null,null,{"$f":"IFERROR(VLOOKUP(I636,CIIU!A:B,2,0),\"\")","v":""}]
[null,null,null,null,null,null,null,null,null,{"$f":"IFERROR(VLOOKUP(I637,CIIU!A:B,2,0),\"\")","v":""}]
[null,null,null,null,null,null,null,null,null,{"$f":"IFERROR(VLOOKUP(I638,CIIU!A:B,2,0),\"\")","v":""}]
[null,null,null,null,null,null,null,null,null,{"$f":"IFERROR(VLOOKUP(I639,CIIU!A:B,2,0),\"\")","v":""}]
[null,null,null,null,null,null,null,null,null,{"$f":"IFERROR(VLOOKUP(I640,CIIU!A:B,2,0),\"\")","v":""}]
[null,null,null,null,null,null,null,null,null,{"$f":"IFERROR(VLOOKUP(I641,CIIU!A:B,2,0),\"\")","v":""}]
[null,null,null,null,null,null,null,null,null,{"$f":"IFERROR(VLOOKUP(I642,CIIU!A:B,2,0),\"\")","v":""}]
[null,null,null,null,null,null,null,null,null,{"$f":"IFERROR(VLOOKUP(I643,CIIU!A:B,2,0),\"\")","v":""}]
[null,null,null,null,null,null,null,null,null,{"$f":"IFERROR(VLOOKUP(I644,CIIU!A:B,2,0),\"\")","v":""}]
[null,null,null,null,null,null,null,null,null,{"$f":"IFERROR(VLOOKUP(I645,CIIU!A:B,2,0),\"\")","v":""}]
[null,null,null,null,null,null,null,null,null,{"$f":"IFERROR(VLOOKUP(I646,CIIU!A:B,2,0),\"\")","v":""}]
[null,null,null,null,null,null,null,null,null,{"$f":"IFERROR(VLOOKUP(I647,CIIU!A:B,2,0),\"\")","v":""}]
[null,null,null,null,null,null,null,null,null,{"$f":"IFERROR(VLOOKUP(I648,CIIU!A:B,2,0),\"\")","v":""}]
[null,null,null,null,null,null,null,null,null,{"$f":"IFERROR(VLOOKUP(I649,CIIU!A:B,2,0),\"\")","v":""}]
[null,null,null,null,null,null,null,null,null,{"$f":"IFERROR(VLOOKUP(I650,CIIU!A:B,2,0),\"\")","v":""}]
[null,null,null,null,null,null,null,null,null,{"$f":"IFERROR(VLOOKUP(I651,CIIU!A:B,2,0),\"\")","v":""}]
[null,null,null,null,null,null,null,null,null,{"$f":"IFERROR(VLOOKUP(I652,CIIU!A:B,2,0),\"\")","v":""}]
[null,null,null,null,null,null,null,null,null,{"$f":"IFERROR(VLOOKUP(I653,CIIU!A:B,2,0),\"\")","v":""}]
[null,null,null,null,null,null,null,null,null,{"$f":"IFERROR(VLOOKUP(I654,CIIU!A:B,2,0),\"\")","v":""}]
[null,null,null,null,null,null,null,null,null,{"$f":"IFERROR(VLOOKUP(I655,CIIU!A:B,2,0),\"\")","v":""}]
[null,null,null,null,null,null,null,null,null,{"$f":"IFERROR(VLOOKUP(I656,CIIU!A:B,2,0),\"\")","v":""}]
[null,null,null,null,null,null,null,null,null,{"$f":"IFERROR(VLOOKUP(I657,CIIU!A:B,2,0),\"\")","v":""}]
[null,null,null,null,null,null,null,null,null,{"$f":"IFERROR(VLOOKUP(I658,CIIU!A:B,2,0),\"\")","v":""}]
[null,null,null,null,null,null,null,null,null,{"$f":"IFERROR(VLOOKUP(I659,CIIU!A:B,2,0),\"\")","v":""}]
[null,null,null,null,null,null,null,null,null,{"$f":"IFERROR(VLOOKUP(I660,CIIU!A:B,2,0),\"\")","v":""}]
[null,null,null,null,null,null,null,null,null,{"$f":"IFERROR(VLOOKUP(I661,CIIU!A:B,2,0),\"\")","v":""}]
[null,null,null,null,null,null,null,null,null,{"$f":"IFERROR(VLOOKUP(I662,CIIU!A:B,2,0),\"\")","v":""}]
[null,null,null,null,null,null,null,null,null,{"$f":"IFERROR(VLOOKUP(I663,CIIU!A:B,2,0),\"\")","v":""}]
[null,null,null,null,null,null,null,null,null,{"$f":"IFERROR(VLOOKUP(I664,CIIU!A:B,2,0),\"\")","v":""}]
[null,null,null,null,null,null,null,null,null,{"$f":"IFERROR(VLOOKUP(I665,CIIU!A:B,2,0),\"\")","v":""}]
[null,null,null,null,null,null,null,null,null,{"$f":"IFERROR(VLOOKUP(I666,CIIU!A:B,2,0),\"\")","v":""}]
[null,null,null,null,null,null,null,null,null,{"$f":"IFERROR(VLOOKUP(I667,CIIU!A:B,2,0),\"\")","v":""}]
[null,null,null,null,null,null,null,null,null,{"$f":"IFERROR(VLOOKUP(I668,CIIU!A:B,2,0),\"\")","v":""}]
[null,null,null,null,null,null,null,null,null,{"$f":"IFERROR(VLOOKUP(I669,CIIU!A:B,2,0),\"\")","v":""}]
[null,null,null,null,null,null,null,null,null,{"$f":"IFERROR(VLOOKUP(I670,CIIU!A:B,2,0),\"\")","v":""}]
[null,null,null,null,null,null,null,null,null,{"$f":"IFERROR(VLOOKUP(I671,CIIU!A:B,2,0),\"\")","v":""}]
[null,null,null,null,null,null,null,null,null,{"$f":"IFERROR(VLOOKUP(I672,CIIU!A:B,2,0),\"\")","v":""}]
[null,null,null,null,null,null,null,null,null,{"$f":"IFERROR(VLOOKUP(I673,CIIU!A:B,2,0),\"\")","v":""}]
[null,null,null,null,null,null,null,null,null,{"$f":"IFERROR(VLOOKUP(I674,CIIU!A:B,2,0),\"\")","v":""}]
[null,null,null,null,null,null,null,null,null,{"$f":"IFERROR(VLOOKUP(I675,CIIU!A:B,2,0),\"\")","v":""}]
[null,null,null,null,null,null,null,null,null,{"$f":"IFERROR(VLOOKUP(I676,CIIU!A:B,2,0),\"\")","v":""}]
[null,null,null,null,null,null,null,null,null,{"$f":"IFERROR(VLOOKUP(I677,CIIU!A:B,2,0),\"\")","v":""}]
[null,null,null,null,null,null,null,null,null,{"$f":"IFERROR(VLOOKUP(I678,CIIU!A:B,2,0),\"\")","v":""}]
[null,null,null,null,null,null,null,null,null,{"$f":"IFERROR(VLOOKUP(I679,CIIU!A:B,2,0),\"\")","v":""}]
[null,null,null,null,null,null,null,null,null,{"$f":"IFERROR(VLOOKUP(I680,CIIU!A:B,2,0),\"\")","v":""}]
[null,null,null,null,null,null,null,null,null,{"$f":"IFERROR(VLOOKUP(I681,CIIU!A:B,2,0),\"\")","v":""}]
[null,null,null,null,null,null,null,null,null,{"$f":"IFERROR(VLOOKUP(I682,CIIU!A:B,2,0),\"\")","v":""}]
[null,null,null,null,null,null,null,null,null,{"$f":"IFERROR(VLOOKUP(I683,CIIU!A:B,2,0),\"\")","v":""}]
[null,null,null,null,null,null,null,null,null,{"$f":"IFERROR(VLOOKUP(I684,CIIU!A:B,2,0),\"\")","v":""}]
[null,null,null,null,null,null,null,null,null,{"$f":"IFERROR(VLOOKUP(I685,CIIU!A:B,2,0),\"\")","v":""}]
[null,null,null,null,null,null,null,null,null,{"$f":"IFERROR(VLOOKUP(I686,CIIU!A:B,2,0),\"\")","v":""}]
[null,null,null,null,null,null,null,null,null,{"$f":"IFERROR(VLOOKUP(I687,CIIU!A:B,2,0),\"\")","v":""}]
[null,null,null,null,null,null,null,null,null,{"$f":"IFERROR(VLOOKUP(I688,CIIU!A:B,2,0),\"\")","v":""}]
[null,null,null,null,null,null,null,null,null,{"$f":"IFERROR(VLOOKUP(I689,CIIU!A:B,2,0),\"\")","v":""}]
[null,null,null,null,null,null,null,null,null,{"$f":"IFERROR(VLOOKUP(I690,CIIU!A:B,2,0),\"\")","v":""}]
[null,null,null,null,null,null,null,null,null,{"$f":"IFERROR(VLOOKUP(I691,CIIU!A:B,2,0),\"\")","v":""}]
[null,null,null,null,null,null,null,null,null,{"$f":"IFERROR(VLOOKUP(I692,CIIU!A:B,2,0),\"\")","v":""}]
[null,null,null,null,null,null,null,null,null,{"$f":"IFERROR(VLOOKUP(I693,CIIU!A:B,2,0),\"\")","v":""}]
[null,null,null,null,null,null,null,null,null,{"$f":"IFERROR(VLOOKUP(I694,CIIU!A:B,2,0),\"\")","v":""}]
[null,null,null,null,null,null,null,null,null,{"$f":"IFERROR(VLOOKUP(I695,CIIU!A:B,2,0),\"\")","v":""}]
[null,null,null,null,null,null,null,null,null,{"$f":"IFERROR(VLOOKUP(I696,CIIU!A:B,2,0),\"\")","v":""}]
[null,null,null,null,null,null,null,null,null,{"$f":"IFERROR(VLOOKUP(I697,CIIU!A:B,2,0),\"\")","v":""}]
[null,null,null,null,null,null,null,null,null,{"$f":"IFERROR(VLOOKUP(I698,CIIU!A:B,2,0),\"\")","v":""}]
[null,null,null,null,null,null,null,null,null,{"$f":"IFERROR(VLOOKUP(I699,CIIU!A:B,2,0),\"\")","v":""}]
[null,null,null,null,null,null,null,null,null,{"$f":"IFERROR(VLOOKUP(I700,CIIU!A:B,2,0),\"\")","v":""}]
[null,null,null,null,null,null,null,null,null,{"$f":"IFERROR(VLOOKUP(I701,CIIU!A:B,2,0),\"\")","v":""}]
[null,null,null,null,null,null,null,null,null,{"$f":"IFERROR(VLOOKUP(I702,CIIU!A:B,2,0),\"\")","v":""}]
[null,null,null,null,null,null,null,null,null,{"$f":"IFERROR(VLOOKUP(I703,CIIU!A:B,2,0),\"\")","v":""}]
[null,null,null,null,null,null,null,null,null,{"$f":"IFERROR(VLOOKUP(I704,CIIU!A:B,2,0),\"\")","v":""}]
[null,null,null,null,null,null,null,null,null,{"$f":"IFERROR(VLOOKUP(I705,CIIU!A:B,2,0),\"\")","v":""}]
[null,null,null,null,null,null,null,null,null,{"$f":"IFERROR(VLOOKUP(I706,CIIU!A:B,2,0),\"\")","v":""}]
[null,null,null,null,null,null,null,null,null,{"$f":"IFERROR(VLOOKUP(I707,CIIU!A:B,2,0),\"\")","v":""}]
[null,null,null,null,null,null,null,null,null,{"$f":"IFERROR(VLOOKUP(I708,CIIU!A:B,2,0),\"\")","v":""}]
[null,null,null,null,null,null,null,null,null,{"$f":"IFERROR(VLOOKUP(I709,CIIU!A:B,2,0),\"\")","v":""}]
[null,null,null,null,null,null,null,null,null,{"$f":"IFERROR(VLOOKUP(I710,CIIU!A:B,2,0),\"\")","v":""}]
[null,null,null,null,null,null,null,null,null,{"$f":"IFERROR(VLOOKUP(I711,CIIU!A:B,2,0),\"\")","v":""}]
[null,null,null,null,null,null,null,null,null,{"$f":"IFERROR(VLOOKUP(I712,CIIU!A:B,2,0),\"\")","v":""}]
[null,null,null,null,null,null,null,null,null,{"$f":"IFERROR(VLOOKUP(I713,CIIU!A:B,2,0),\"\")","v":""}]
[null,null,null,null,null,null,null,null,null,{"$f":"IFERROR(VLOOKUP(I714,CIIU!A:B,2,0),\"\")","v":""}]
[null,null,null,null,null,null,null,null,null,{"$f":"IFERROR(VLOOKUP(I715,CIIU!A:B,2,0),\"\")","v":""}]
[null,null,null,null,null,null,null,null,null,{"$f":"IFERROR(VLOOKUP(I716,CIIU!A:B,2,0),\"\")","v":""}]
[null,null,null,null,null,null,null,null,null,{"$f":"IFERROR(VLOOKUP(I717,CIIU!A:B,2,0),\"\")","v":""}]
[null,null,null,null,null,null,null,null,null,{"$f":"IFERROR(VLOOKUP(I718,CIIU!A:B,2,0),\"\")","v":""}]
[null,null,null,null,null,null,null,null,null,{"$f":"IFERROR(VLOOKUP(I719,CIIU!A:B,2,0),\"\")","v":""}]
[null,null,null,null,null,null,null,null,null,{"$f":"IFERROR(VLOOKUP(I720,CIIU!A:B,2,0),\"\")","v":""}]
[null,null,null,null,null,null,null,null,null,{"$f":"IFERROR(VLOOKUP(I721,CIIU!A:B,2,0),\"\")","v":""}]
[null,null,null,null,null,null,null,null,null,{"$f":"IFERROR(VLOOKUP(I722,CIIU!A:B,2,0),\"\")","v":""}]
[null,null,null,null,null,null,null,null,null,{"$f":"IFERROR(VLOOKUP(I723,CIIU!A:B,2,0),\"\")","v":""}]
[null,null,null,null,null,null,null,null,null,{"$f":"IFERROR(VLOOKUP(I724,CIIU!A:B,2,0),\"\")","v":""}]
[null,null,null,null,null,null,null,null,null,{"$f":"IFERROR(VLOOKUP(I725,CIIU!A:B,2,0),\"\")","v":""}]
[null,null,null,null,null,null,null,null,null,{"$f":"IFERROR(VLOOKUP(I726,CIIU!A:B,2,0),\"\")","v":""}]
[null,null,null,null,null,null,null,null,null,{"$f":"IFERROR(VLOOKUP(I727,CIIU!A:B,2,0),\"\")","v":""}]
[null,null,null,null,null,null,null,null,null,{"$f":"IFERROR(VLOOKUP(I728,CIIU!A:B,2,0),\"\")","v":""}]
[null,null,null,null,null,null,null,null,null,{"$f":"IFERROR(VLOOKUP(I729,CIIU!A:B,2,0),\"\")","v":""}]
[null,null,null,null,null,null,null,null,null,{"$f":"IFERROR(VLOOKUP(I730,CIIU!A:B,2,0),\"\")","v":""}]
[null,null,null,null,null,null,null,null,null,{"$f":"IFERROR(VLOOKUP(I731,CIIU!A:B,2,0),\"\")","v":""}]
[null,null,null,null,null,null,null,null,null,{"$f":"IFERROR(VLOOKUP(I732,CIIU!A:B,2,0),\"\")","v":""}]
[null,null,null,null,null,null,null,null,null,{"$f":"IFERROR(VLOOKUP(I733,CIIU!A:B,2,0),\"\")","v":""}]
[null,null,null,null,null,null,null,null,null,{"$f":"IFERROR(VLOOKUP(I734,CIIU!A:B,2,0),\"\")","v":""}]
[null,null,null,null,null,null,null,null,null,{"$f":"IFERROR(VLOOKUP(I735,CIIU!A:B,2,0),\"\")","v":""}]
[null,null,null,null,null,null,null,null,null,{"$f":"IFERROR(VLOOKUP(I736,CIIU!A:B,2,0),\"\")","v":""}]
[null,null,null,null,null,null,null,null,null,{"$f":"IFERROR(VLOOKUP(I737,CIIU!A:B,2,0),\"\")","v":""}]
[null,null,null,null,null,null,null,null,null,{"$f":"IFERROR(VLOOKUP(I738,CIIU!A:B,2,0),\"\")","v":""}]
[null,null,null,null,null,null,null,null,null,{"$f":"IFERROR(VLOOKUP(I739,CIIU!A:B,2,0),\"\")","v":""}]
[null,null,null,null,null,null,null,null,null,{"$f":"IFERROR(VLOOKUP(I740,CIIU!A:B,2,0),\"\")","v":""}]
[null,null,null,null,null,null,null,null,null,{"$f":"IFERROR(VLOOKUP(I741,CIIU!A:B,2,0),\"\")","v":""}]
[null,null,null,null,null,null,null,null,null,{"$f":"IFERROR(VLOOKUP(I742,CIIU!A:B,2,0),\"\")","v":""}]
[null,null,null,null,null,null,null,null,null,{"$f":"IFERROR(VLOOKUP(I743,CIIU!A:B,2,0),\"\")","v":""}]
[null,null,null,null,null,null,null,null,null,{"$f":"IFERROR(VLOOKUP(I744,CIIU!A:B,2,0),\"\")","v":""}]
[null,null,null,null,null,null,null,null,null,{"$f":"IFERROR(VLOOKUP(I745,CIIU!A:B,2,0),\"\")","v":""}]
[null,null,null,null,null,null,null,null,null,{"$f":"IFERROR(VLOOKUP(I746,CIIU!A:B,2,0),\"\")","v":""}]
[null,null,null,null,null,null,null,null,null,{"$f":"IFERROR(VLOOKUP(I747,CIIU!A:B,2,0),\"\")","v":""}]
[null,null,null,null,null,null,null,null,null,{"$f":"IFERROR(VLOOKUP(I748,CIIU!A:B,2,0),\"\")","v":""}]
[null,null,null,null,null,null,null,null,null,{"$f":"IFERROR(VLOOKUP(I749,CIIU!A:B,2,0),\"\")","v":""}]
[null,null,null,null,null,null,null,null,null,{"$f":"IFERROR(VLOOKUP(I750,CIIU!A:B,2,0),\"\")","v":""}]
[null,null,null,null,null,null,null,null,null,{"$f":"IFERROR(VLOOKUP(I751,CIIU!A:B,2,0),\"\")","v":""}]
[null,null,null,null,null,null,null,null,null,{"$f":"IFERROR(VLOOKUP(I752,CIIU!A:B,2,0),\"\")","v":""}]
[null,null,null,null,null,null,null,null,null,{"$f":"IFERROR(VLOOKUP(I753,CIIU!A:B,2,0),\"\")","v":""}]
[null,null,null,null,null,null,null,null,null,{"$f":"IFERROR(VLOOKUP(I754,CIIU!A:B,2,0),\"\")","v":""}]
[null,null,null,null,null,null,null,null,null,{"$f":"IFERROR(VLOOKUP(I755,CIIU!A:B,2,0),\"\")","v":""}]
[null,null,null,null,null,null,null,null,null,{"$f":"IFERROR(VLOOKUP(I756,CIIU!A:B,2,0),\"\")","v":""}]
[null,null,null,null,null,null,null,null,null,{"$f":"IFERROR(VLOOKUP(I757,CIIU!A:B,2,0),\"\")","v":""}]
[null,null,null,null,null,null,null,null,null,{"$f":"IFERROR(VLOOKUP(I758,CIIU!A:B,2,0),\"\")","v":""}]
[null,null,null,null,null,null,null,null,null,{"$f":"IFERROR(VLOOKUP(I759,CIIU!A:B,2,0),\"\")","v":""}]
[null,null,null,null,null,null,null,null,null,{"$f":"IFERROR(VLOOKUP(I760,CIIU!A:B,2,0),\"\")","v":""}]
[null,null,null,null,null,null,null,null,null,{"$f":"IFERROR(VLOOKUP(I761,CIIU!A:B,2,0),\"\")","v":""}]
[null,null,null,null,null,null,null,null,null,{"$f":"IFERROR(VLOOKUP(I762,CIIU!A:B,2,0),\"\")","v":""}]
[null,null,null,null,null,null,null,null,null,{"$f":"IFERROR(VLOOKUP(I763,CIIU!A:B,2,0),\"\")","v":""}]
[null,null,null,null,null,null,null,null,null,{"$f":"IFERROR(VLOOKUP(I764,CIIU!A:B,2,0),\"\")","v":""}]
[null,null,null,null,null,null,null,null,null,{"$f":"IFERROR(VLOOKUP(I765,CIIU!A:B,2,0),\"\")","v":""}]
[null,null,null,null,null,null,null,null,null,{"$f":"IFERROR(VLOOKUP(I766,CIIU!A:B,2,0),\"\")","v":""}]
[null,null,null,null,null,null,null,null,null,{"$f":"IFERROR(VLOOKUP(I767,CIIU!A:B,2,0),\"\")","v":""}]
[null,null,null,null,null,null,null,null,null,{"$f":"IFERROR(VLOOKUP(I768,CIIU!A:B,2,0),\"\")","v":""}]
[null,null,null,null,null,null,null,null,null,{"$f":"IFERROR(VLOOKUP(I769,CIIU!A:B,2,0),\"\")","v":""}]
[null,null,null,null,null,null,null,null,null,{"$f":"IFERROR(VLOOKUP(I770,CIIU!A:B,2,0),\"\")","v":""}]
[null,null,null,null,null,null,null,null,null,{"$f":"IFERROR(VLOOKUP(I771,CIIU!A:B,2,0),\"\")","v":""}]
[null,null,null,null,null,null,null,null,null,{"$f":"IFERROR(VLOOKUP(I772,CIIU!A:B,2,0),\"\")","v":""}]
[null,null,null,null,null,null,null,null,null,{"$f":"IFERROR(VLOOKUP(I773,CIIU!A:B,2,0),\"\")","v":""}]
[null,null,null,null,null,null,null,null,null,{"$f":"IFERROR(VLOOKUP(I774,CIIU!A:B,2,0),\"\")","v":""}]
[null,null,null,null,null,null,null,null,null,{"$f":"IFERROR(VLOOKUP(I775,CIIU!A:B,2,0),\"\")","v":""}]
[null,null,null,null,null,null,null,null,null,{"$f":"IFERROR(VLOOKUP(I776,CIIU!A:B,2,0),\"\")","v":""}]
[null,null,null,null,null,null,null,null,null,{"$f":"IFERROR(VLOOKUP(I777,CIIU!A:B,2,0),\"\")","v":""}]
[null,null,null,null,null,null,null,null,null,{"$f":"IFERROR(VLOOKUP(I778,CIIU!A:B,2,0),\"\")","v":""}]
[null,null,null,null,null,null,null,null,null,{"$f":"IFERROR(VLOOKUP(I779,CIIU!A:B,2,0),\"\")","v":""}]
[null,null,null,null,null,null,null,null,null,{"$f":"IFERROR(VLOOKUP(I780,CIIU!A:B,2,0),\"\")","v":""}]
[null,null,null,null,null,null,null,null,null,{"$f":"IFERROR(VLOOKUP(I781,CIIU!A:B,2,0),\"\")","v":""}]
[null,null,null,null,null,null,null,null,null,{"$f":"IFERROR(VLOOKUP(I782,CIIU!A:B,2,0),\"\")","v":""}]
[null,null,null,null,null,null,null,null,null,{"$f":"IFERROR(VLOOKUP(I783,CIIU!A:B,2,0),\"\")","v":""}]
[null,null,null,null,null,null,null,null,null,{"$f":"IFERROR(VLOOKUP(I784,CIIU!A:B,2,0),\"\")","v":""}]
[null,null,null,null,null,null,null,null,null,{"$f":"IFERROR(VLOOKUP(I785,CIIU!A:B,2,0),\"\")","v":""}]
[null,null,null,null,null,null,null,null,null,{"$f":"IFERROR(VLOOKUP(I786,CIIU!A:B,2,0),\"\")","v":""}]
[null,null,null,null,null,null,null,null,null,{"$f":"IFERROR(VLOOKUP(I787,CIIU!A:B,2,0),\"\")","v":""}]
[null,null,null,null,null,null,null,null,null,{"$f":"IFERROR(VLOOKUP(I788,CIIU!A:B,2,0),\"\")","v":""}]
[null,null,null,null,null,null,null,null,null,{"$f":"IFERROR(VLOOKUP(I789,CIIU!A:B,2,0),\"\")","v":""}]
[null,null,null,null,null,null,null,null,null,{"$f":"IFERROR(VLOOKUP(I790,CIIU!A:B,2,0),\"\")","v":""}]
[null,null,null,null,null,null,null,null,null,{"$f":"IFERROR(VLOOKUP(I791,CIIU!A:B,2,0),\"\")","v":""}]
[null,null,null,null,null,null,null,null,null,{"$f":"IFERROR(VLOOKUP(I792,CIIU!A:B,2,0),\"\")","v":""}]
[null,null,null,null,null,null,null,null,null,{"$f":"IFERROR(VLOOKUP(I793,CIIU!A:B,2,0),\"\")","v":""}]
[null,null,null,null,null,null,null,null,null,{"$f":"IFERROR(VLOOKUP(I794,CIIU!A:B,2,0),\"\")","v":""}]
[null,null,null,null,null,null,null,null,null,{"$f":"IFERROR(VLOOKUP(I795,CIIU!A:B,2,0),\"\")","v":""}]
[null,null,null,null,null,null,null,null,null,{"$f":"IFERROR(VLOOKUP(I796,CIIU!A:B,2,0),\"\")","v":""}]
[null,null,null,null,null,null,null,null,null,{"$f":"IFERROR(VLOOKUP(I797,CIIU!A:B,2,0),\"\")","v":""}]
[null,null,null,null,null,null,null,null,null,{"$f":"IFERROR(VLOOKUP(I798,CIIU!A:B,2,0),\"\")","v":""}]
[null,null,null,null,null,null,null,null,null,{"$f":"IFERROR(VLOOKUP(I799,CIIU!A:B,2,0),\"\")","v":""}]
[null,null,null,null,null,null,null,null,null,{"$f":"IFERROR(VLOOKUP(I800,CIIU!A:B,2,0),\"\")","v":""}]
[null,null,null,null,null,null,null,null,null,{"$f":"IFERROR(VLOOKUP(I801,CIIU!A:B,2,0),\"\")","v":""}]
[null,null,null,null,null,null,null,null,null,{"$f":"IFERROR(VLOOKUP(I802,CIIU!A:B,2,0),\"\")","v":""}]
[null,null,null,null,null,null,null,null,null,{"$f":"IFERROR(VLOOKUP(I803,CIIU!A:B,2,0),\"\")","v":""}]
[null,null,null,null,null,null,null,null,null,{"$f":"IFERROR(VLOOKUP(I804,CIIU!A:B,2,0),\"\")","v":""}]
[null,null,null,null,null,null,null,null,null,{"$f":"IFERROR(VLOOKUP(I805,CIIU!A:B,2,0),\"\")","v":""}]
[null,null,null,null,null,null,null,null,null,{"$f":"IFERROR(VLOOKUP(I806,CIIU!A:B,2,0),\"\")","v":""}]
[null,null,null,null,null,null,null,null,null,{"$f":"IFERROR(VLOOKUP(I807,CIIU!A:B,2,0),\"\")","v":""}]
[null,null,null,null,null,null,null,null,null,{"$f":"IFERROR(VLOOKUP(I808,CIIU!A:B,2,0),\"\")","v":""}]
[null,null,null,null,null,null,null,null,null,{"$f":"IFERROR(VLOOKUP(I809,CIIU!A:B,2,0),\"\")","v":""}]
[null,null,null,null,null,null,null,null,null,{"$f":"IFERROR(VLOOKUP(I810,CIIU!A:B,2,0),\"\")","v":""}]
[null,null,null,null,null,null,null,null,null,{"$f":"IFERROR(VLOOKUP(I811,CIIU!A:B,2,0),\"\")","v":""}]
[null,null,null,null,null,null,null,null,null,{"$f":"IFERROR(VLOOKUP(I812,CIIU!A:B,2,0),\"\")","v":""}]
[null,null,null,null,null,null,null,null,null,{"$f":"IFERROR(VLOOKUP(I813,CIIU!A:B,2,0),\"\")","v":""}]
[null,null,null,null,null,null,null,null,null,{"$f":"IFERROR(VLOOKUP(I814,CIIU!A:B,2,0),\"\")","v":""}]
[null,null,null,null,null,null,null,null,null,{"$f":"IFERROR(VLOOKUP(I815,CIIU!A:B,2,0),\"\")","v":""}]
[null,null,null,null,null,null,null,null,null,{"$f":"IFERROR(VLOOKUP(I816,CIIU!A:B,2,0),\"\")","v":""}]
[null,null,null,null,null,null,null,null,null,{"$f":"IFERROR(VLOOKUP(I817,CIIU!A:B,2,0),\"\")","v":""}]
[null,null,null,null,null,null,null,null,null,{"$f":"IFERROR(VLOOKUP(I818,CIIU!A:B,2,0),\"\")","v":""}]
[null,null,null,null,null,null,null,null,null,{"$f":"IFERROR(VLOOKUP(I819,CIIU!A:B,2,0),\"\")","v":""}]
[null,null,null,null,null,null,null,null,null,{"$f":"IFERROR(VLOOKUP(I820,CIIU!A:B,2,0),\"\")","v":""}]
[null,null,null,null,null,null,null,null,null,{"$f":"IFERROR(VLOOKUP(I821,CIIU!A:B,2,0),\"\")","v":""}]
[null,null,null,null,null,null,null,null,null,{"$f":"IFERROR(VLOOKUP(I822,CIIU!A:B,2,0),\"\")","v":""}]
[null,null,null,null,null,null,null,null,null,{"$f":"IFERROR(VLOOKUP(I823,CIIU!A:B,2,0),\"\")","v":""}]
[null,null,null,null,null,null,null,null,null,{"$f":"IFERROR(VLOOKUP(I824,CIIU!A:B,2,0),\"\")","v":""}]
[null,null,null,null,null,null,null,null,null,{"$f":"IFERROR(VLOOKUP(I825,CIIU!A:B,2,0),\"\")","v":""}]
[null,null,null,null,null,null,null,null,null,{"$f":"IFERROR(VLOOKUP(I826,CIIU!A:B,2,0),\"\")","v":""}]
[null,null,null,null,null,null,null,null,null,{"$f":"IFERROR(VLOOKUP(I827,CIIU!A:B,2,0),\"\")","v":""}]
[null,null,null,null,null,null,null,null,null,{"$f":"IFERROR(VLOOKUP(I828,CIIU!A:B,2,0),\"\")","v":""}]
[null,null,null,null,null,null,null,null,null,{"$f":"IFERROR(VLOOKUP(I829,CIIU!A:B,2,0),\"\")","v":""}]
[null,null,null,null,null,null,null,null,null,{"$f":"IFERROR(VLOOKUP(I830,CIIU!A:B,2,0),\"\")","v":""}]
[null,null,null,null,null,null,null,null,null,{"$f":"IFERROR(VLOOKUP(I831,CIIU!A:B,2,0),\"\")","v":""}]
[null,null,null,null,null,null,null,null,null,{"$f":"IFERROR(VLOOKUP(I832,CIIU!A:B,2,0),\"\")","v":""}]
[null,null,null,null,null,null,null,null,null,{"$f":"IFERROR(VLOOKUP(I833,CIIU!A:B,2,0),\"\")","v":""}]
[null,null,null,null,null,null,null,null,null,{"$f":"IFERROR(VLOOKUP(I834,CIIU!A:B,2,0),\"\")","v":""}]
[null,null,null,null,null,null,null,null,null,{"$f":"IFERROR(VLOOKUP(I835,CIIU!A:B,2,0),\"\")","v":""}]
[null,null,null,null,null,null,null,null,null,{"$f":"IFERROR(VLOOKUP(I836,CIIU!A:B,2,0),\"\")","v":""}]
[null,null,null,null,null,null,null,null,null,{"$f":"IFERROR(VLOOKUP(I837,CIIU!A:B,2,0),\"\")","v":""}]
[null,null,null,null,null,null,null,null,null,{"$f":"IFERROR(VLOOKUP(I838,CIIU!A:B,2,0),\"\")","v":""}]
[null,null,null,null,null,null,null,null,null,{"$f":"IFERROR(VLOOKUP(I839,CIIU!A:B,2,0),\"\")","v":""}]
[null,null,null,null,null,null,null,null,null,{"$f":"IFERROR(VLOOKUP(I840,CIIU!A:B,2,0),\"\")","v":""}]
[null,null,null,null,null,null,null,null,null,{"$f":"IFERROR(VLOOKUP(I841,CIIU!A:B,2,0),\"\")","v":""}]
[null,null,null,null,null,null,null,null,null,{"$f":"IFERROR(VLOOKUP(I842,CIIU!A:B,2,0),\"\")","v":""}]
[null,null,null,null,null,null,null,null,null,{"$f":"IFERROR(VLOOKUP(I843,CIIU!A:B,2,0),\"\")","v":""}]
[null,null,null,null,null,null,null,null,null,{"$f":"IFERROR(VLOOKUP(I844,CIIU!A:B,2,0),\"\")","v":""}]
[null,null,null,null,null,null,null,null,null,{"$f":"IFERROR(VLOOKUP(I845,CIIU!A:B,2,0),\"\")","v":""}]
[null,null,null,null,null,null,null,null,null,{"$f":"IFERROR(VLOOKUP(I846,CIIU!A:B,2,0),\"\")","v":""}]
[null,null,null,null,null,null,null,null,null,{"$f":"IFERROR(VLOOKUP(I847,CIIU!A:B,2,0),\"\")","v":""}]
[null,null,null,null,null,null,null,null,null,{"$f":"IFERROR(VLOOKUP(I848,CIIU!A:B,2,0),\"\")","v":""}]
[null,null,null,null,null,null,null,null,null,{"$f":"IFERROR(VLOOKUP(I849,CIIU!A:B,2,0),\"\")","v":""}]
[null,null,null,null,null,null,null,null,null,{"$f":"IFERROR(VLOOKUP(I850,CIIU!A:B,2,0),\"\")","v":""}]
[null,null,null,null,null,null,null,null,null,{"$f":"IFERROR(VLOOKUP(I851,CIIU!A:B,2,0),\"\")","v":""}]
[null,null,null,null,null,null,null,null,null,{"$f":"IFERROR(VLOOKUP(I852,CIIU!A:B,2,0),\"\")","v":""}]
[null,null,null,null,null,null,null,null,null,{"$f":"IFERROR(VLOOKUP(I853,CIIU!A:B,2,0),\"\")","v":""}]
[null,null,null,null,null,null,null,null,null,{"$f":"IFERROR(VLOOKUP(I854,CIIU!A:B,2,0),\"\")","v":""}]
[null,null,null,null,null,null,null,null,null,{"$f":"IFERROR(VLOOKUP(I855,CIIU!A:B,2,0),\"\")","v":""}]
[null,null,null,null,null,null,null,null,null,{"$f":"IFERROR(VLOOKUP(I856,CIIU!A:B,2,0),\"\")","v":""}]
[null,null,null,null,null,null,null,null,null,{"$f":"IFERROR(VLOOKUP(I857,CIIU!A:B,2,0),\"\")","v":""}]
[null,null,null,null,null,null,null,null,null,{"$f":"IFERROR(VLOOKUP(I858,CIIU!A:B,2,0),\"\")","v":""}]
[null,null,null,null,null,null,null,null,null,{"$f":"IFERROR(VLOOKUP(I859,CIIU!A:B,2,0),\"\")","v":""}]
[null,null,null,null,null,null,null,null,null,{"$f":"IFERROR(VLOOKUP(I860,CIIU!A:B,2,0),\"\")","v":""}]
[null,null,null,null,null,null,null,null,null,{"$f":"IFERROR(VLOOKUP(I861,CIIU!A:B,2,0),\"\")","v":""}]
[null,null,null,null,null,null,null,null,null,{"$f":"IFERROR(VLOOKUP(I862,CIIU!A:B,2,0),\"\")","v":""}]
[null,null,null,null,null,null,null,null,null,{"$f":"IFERROR(VLOOKUP(I863,CIIU!A:B,2,0),\"\")","v":""}]
[null,null,null,null,null,null,null,null,null,{"$f":"IFERROR(VLOOKUP(I864,CIIU!A:B,2,0),\"\")","v":""}]
[null,null,null,null,null,null,null,null,null,{"$f":"IFERROR(VLOOKUP(I865,CIIU!A:B,2,0),\"\")","v":""}]
[null,null,null,null,null,null,null,null,null,{"$f":"IFERROR(VLOOKUP(I866,CIIU!A:B,2,0),\"\")","v":""}]
[null,null,null,null,null,null,null,null,null,{"$f":"IFERROR(VLOOKUP(I867,CIIU!A:B,2,0),\"\")","v":""}]
[null,null,null,null,null,null,null,null,null,{"$f":"IFERROR(VLOOKUP(I868,CIIU!A:B,2,0),\"\")","v":""}]
[null,null,null,null,null,null,null,null,null,{"$f":"IFERROR(VLOOKUP(I869,CIIU!A:B,2,0),\"\")","v":""}]
[null,null,null,null,null,null,null,null,null,{"$f":"IFERROR(VLOOKUP(I870,CIIU!A:B,2,0),\"\")","v":""}]
[null,null,null,null,null,null,null,null,null,{"$f":"IFERROR(VLOOKUP(I871,CIIU!A:B,2,0),\"\")","v":""}]
[null,null,null,null,null,null,null,null,null,{"$f":"IFERROR(VLOOKUP(I872,CIIU!A:B,2,0),\"\")","v":""}]
[null,null,null,null,null,null,null,null,null,{"$f":"IFERROR(VLOOKUP(I873,CIIU!A:B,2,0),\"\")","v":""}]
[null,null,null,null,null,null,null,null,null,{"$f":"IFERROR(VLOOKUP(I874,CIIU!A:B,2,0),\"\")","v":""}]
[null,null,null,null,null,null,null,null,null,{"$f":"IFERROR(VLOOKUP(I875,CIIU!A:B,2,0),\"\")","v":""}]
[null,null,null,null,null,null,null,null,null,{"$f":"IFERROR(VLOOKUP(I876,CIIU!A:B,2,0),\"\")","v":""}]
[null,null,null,null,null,null,null,null,null,{"$f":"IFERROR(VLOOKUP(I877,CIIU!A:B,2,0),\"\")","v":""}]
[null,null,null,null,null,null,null,null,null,{"$f":"IFERROR(VLOOKUP(I878,CIIU!A:B,2,0),\"\")","v":""}]
[null,null,null,null,null,null,null,null,null,{"$f":"IFERROR(VLOOKUP(I879,CIIU!A:B,2,0),\"\")","v":""}]
[null,null,null,null,null,null,null,null,null,{"$f":"IFERROR(VLOOKUP(I880,CIIU!A:B,2,0),\"\")","v":""}]
[null,null,null,null,null,null,null,null,null,{"$f":"IFERROR(VLOOKUP(I881,CIIU!A:B,2,0),\"\")","v":""}]
[null,null,null,null,null,null,null,null,null,{"$f":"IFERROR(VLOOKUP(I882,CIIU!A:B,2,0),\"\")","v":""}]
[null,null,null,null,null,null,null,null,null,{"$f":"IFERROR(VLOOKUP(I883,CIIU!A:B,2,0),\"\")","v":""}]
[null,null,null,null,null,null,null,null,null,{"$f":"IFERROR(VLOOKUP(I884,CIIU!A:B,2,0),\"\")","v":""}]
[null,null,null,null,null,null,null,null,null,{"$f":"IFERROR(VLOOKUP(I885,CIIU!A:B,2,0),\"\")","v":""}]
[null,null,null,null,null,null,null,null,null,{"$f":"IFERROR(VLOOKUP(I886,CIIU!A:B,2,0),\"\")","v":""}]
[null,null,null,null,null,null,null,null,null,{"$f":"IFERROR(VLOOKUP(I887,CIIU!A:B,2,0),\"\")","v":""}]
[null,null,null,null,null,null,null,null,null,{"$f":"IFERROR(VLOOKUP(I888,CIIU!A:B,2,0),\"\")","v":""}]
[null,null,null,null,null,null,null,null,null,{"$f":"IFERROR(VLOOKUP(I889,CIIU!A:B,2,0),\"\")","v":""}]
[null,null,null,null,null,null,null,null,null,{"$f":"IFERROR(VLOOKUP(I890,CIIU!A:B,2,0),\"\")","v":""}]
[null,null,null,null,null,null,null,null,null,{"$f":"IFERROR(VLOOKUP(I891,CIIU!A:B,2,0),\"\")","v":""}]
[null,null,null,null,null,null,null,null,null,{"$f":"IFERROR(VLOOKUP(I892,CIIU!A:B,2,0),\"\")","v":""}]
[null,null,null,null,null,null,null,null,null,{"$f":"IFERROR(VLOOKUP(I893,CIIU!A:B,2,0),\"\")","v":""}]
[null,null,null,null,null,null,null,null,null,{"$f":"IFERROR(VLOOKUP(I894,CIIU!A:B,2,0),\"\")","v":""}]
[null,null,null,null,null,null,null,null,null,{"$f":"IFERROR(VLOOKUP(I895,CIIU!A:B,2,0),\"\")","v":""}]
[null,null,null,null,null,null,null,null,null,{"$f":"IFERROR(VLOOKUP(I896,CIIU!A:B,2,0),\"\")","v":""}]
[null,null,null,null,null,null,null,null,null,{"$f":"IFERROR(VLOOKUP(I897,CIIU!A:B,2,0),\"\")","v":""}]
[null,null,null,null,null,null,null,null,null,{"$f":"IFERROR(VLOOKUP(I898,CIIU!A:B,2,0),\"\")","v":""}]
[null,null,null,null,null,null,null,null,null,{"$f":"IFERROR(VLOOKUP(I899,CIIU!A:B,2,0),\"\")","v":""}]
[null,null,null,null,null,null,null,null,null,{"$f":"IFERROR(VLOOKUP(I900,CIIU!A:B,2,0),\"\")","v":""}]
[null,null,null,null,null,null,null,null,null,{"$f":"IFERROR(VLOOKUP(I901,CIIU!A:B,2,0),\"\")","v":""}]
[null,null,null,null,null,null,null,null,null,{"$f":"IFERROR(VLOOKUP(I902,CIIU!A:B,2,0),\"\")","v":""}]
[null,null,null,null,null,null,null,null,null,{"$f":"IFERROR(VLOOKUP(I903,CIIU!A:B,2,0),\"\")","v":""}]
[null,null,null,null,null,null,null,null,null,{"$f":"IFERROR(VLOOKUP(I904,CIIU!A:B,2,0),\"\")","v":""}]
[null,null,null,null,null,null,null,null,null,{"$f":"IFERROR(VLOOKUP(I905,CIIU!A:B,2,0),\"\")","v":""}]
[null,null,null,null,null,null,null,null,null,{"$f":"IFERROR(VLOOKUP(I906,CIIU!A:B,2,0),\"\")","v":""}]
[null,null,null,null,null,null,null,null,null,{"$f":"IFERROR(VLOOKUP(I907,CIIU!A:B,2,0),\"\")","v":""}]
[null,null,null,null,null,null,null,null,null,{"$f":"IFERROR(VLOOKUP(I908,CIIU!A:B,2,0),\"\")","v":""}]
[null,null,null,null,null,null,null,null,null,{"$f":"IFERROR(VLOOKUP(I909,CIIU!A:B,2,0),\"\")","v":""}]
[null,null,null,null,null,null,null,null,null,{"$f":"IFERROR(VLOOKUP(I910,CIIU!A:B,2,0),\"\")","v":""}]
[null,null,null,null,null,null,null,null,null,{"$f":"IFERROR(VLOOKUP(I911,CIIU!A:B,2,0),\"\")","v":""}]
[null,null,null,null,null,null,null,null,null,{"$f":"IFERROR(VLOOKUP(I912,CIIU!A:B,2,0),\"\")","v":""}]
[null,null,null,null,null,null,null,null,null,{"$f":"IFERROR(VLOOKUP(I913,CIIU!A:B,2,0),\"\")","v":""}]
[null,null,null,null,null,null,null,null,null,{"$f":"IFERROR(VLOOKUP(I914,CIIU!A:B,2,0),\"\")","v":""}]
[null,null,null,null,null,null,null,null,null,{"$f":"IFERROR(VLOOKUP(I915,CIIU!A:B,2,0),\"\")","v":""}]
[null,null,null,null,null,null,null,null,null,{"$f":"IFERROR(VLOOKUP(I916,CIIU!A:B,2,0),\"\")","v":""}]
[null,null,null,null,null,null,null,null,null,{"$f":"IFERROR(VLOOKUP(I917,CIIU!A:B,2,0),\"\")","v":""}]
[null,null,null,null,null,null,null,null,null,{"$f":"IFERROR(VLOOKUP(I918,CIIU!A:B,2,0),\"\")","v":""}]
[null,null,null,null,null,null,null,null,null,{"$f":"IFERROR(VLOOKUP(I919,CIIU!A:B,2,0),\"\")","v":""}]
[null,null,null,null,null,null,null,null,null,{"$f":"IFERROR(VLOOKUP(I920,CIIU!A:B,2,0),\"\")","v":""}]
[null,null,null,null,null,null,null,null,null,{"$f":"IFERROR(VLOOKUP(I921,CIIU!A:B,2,0),\"\")","v":""}]
[null,null,null,null,null,null,null,null,null,{"$f":"IFERROR(VLOOKUP(I922,CIIU!A:B,2,0),\"\")","v":""}]
[null,null,null,null,null,null,null,null,null,{"$f":"IFERROR(VLOOKUP(I923,CIIU!A:B,2,0),\"\")","v":""}]
[null,null,null,null,null,null,null,null,null,{"$f":"IFERROR(VLOOKUP(I924,CIIU!A:B,2,0),\"\")","v":""}]
[null,null,null,null,null,null,null,null,null,{"$f":"IFERROR(VLOOKUP(I925,CIIU!A:B,2,0),\"\")","v":""}]
[null,null,null,null,null,null,null,null,null,{"$f":"IFERROR(VLOOKUP(I926,CIIU!A:B,2,0),\"\")","v":""}]
[null,null,null,null,null,null,null,null,null,{"$f":"IFERROR(VLOOKUP(I927,CIIU!A:B,2,0),\"\")","v":""}]
[null,null,null,null,null,null,null,null,null,{"$f":"IFERROR(VLOOKUP(I928,CIIU!A:B,2,0),\"\")","v":""}]
[null,null,null,null,null,null,null,null,null,{"$f":"IFERROR(VLOOKUP(I929,CIIU!A:B,2,0),\"\")","v":""}]
[null,null,null,null,null,null,null,null,null,{"$f":"IFERROR(VLOOKUP(I930,CIIU!A:B,2,0),\"\")","v":""}]
[null,null,null,null,null,null,null,null,null,{"$f":"IFERROR(VLOOKUP(I931,CIIU!A:B,2,0),\"\")","v":""}]
[null,null,null,null,null,null,null,null,null,{"$f":"IFERROR(VLOOKUP(I932,CIIU!A:B,2,0),\"\")","v":""}]
[null,null,null,null,null,null,null,null,null,{"$f":"IFERROR(VLOOKUP(I933,CIIU!A:B,2,0),\"\")","v":""}]
[null,null,null,null,null,null,null,null,null,{"$f":"IFERROR(VLOOKUP(I934,CIIU!A:B,2,0),\"\")","v":""}]
[null,null,null,null,null,null,null,null,null,{"$f":"IFERROR(VLOOKUP(I935,CIIU!A:B,2,0),\"\")","v":""}]
[null,null,null,null,null,null,null,null,null,{"$f":"IFERROR(VLOOKUP(I936,CIIU!A:B,2,0),\"\")","v":""}]
[null,null,null,null,null,null,null,null,null,{"$f":"IFERROR(VLOOKUP(I937,CIIU!A:B,2,0),\"\")","v":""}]
[null,null,null,null,null,null,null,null,null,{"$f":"IFERROR(VLOOKUP(I938,CIIU!A:B,2,0),\"\")","v":""}]
[null,null,null,null,null,null,null,null,null,{"$f":"IFERROR(VLOOKUP(I939,CIIU!A:B,2,0),\"\")","v":""}]
[null,null,null,null,null,null,null,null,null,{"$f":"IFERROR(VLOOKUP(I940,CIIU!A:B,2,0),\"\")","v":""}]
[null,null,null,null,null,null,null,null,null,{"$f":"IFERROR(VLOOKUP(I941,CIIU!A:B,2,0),\"\")","v":""}]
[null,null,null,null,null,null,null,null,null,{"$f":"IFERROR(VLOOKUP(I942,CIIU!A:B,2,0),\"\")","v":""}]
[null,null,null,null,null,null,null,null,null,{"$f":"IFERROR(VLOOKUP(I943,CIIU!A:B,2,0),\"\")","v":""}]
[null,null,null,null,null,null,null,null,null,{"$f":"IFERROR(VLOOKUP(I944,CIIU!A:B,2,0),\"\")","v":""}]
[null,null,null,null,null,null,null,null,null,{"$f":"IFERROR(VLOOKUP(I945,CIIU!A:B,2,0),\"\")","v":""}]
[null,null,null,null,null,null,null,null,null,{"$f":"IFERROR(VLOOKUP(I946,CIIU!A:B,2,0),\"\")","v":""}]
[null,null,null,null,null,null,null,null,null,{"$f":"IFERROR(VLOOKUP(I947,CIIU!A:B,2,0),\"\")","v":""}]
[null,null,null,null,null,null,null,null,null,{"$f":"IFERROR(VLOOKUP(I948,CIIU!A:B,2,0),\"\")","v":""}]
[null,null,null,null,null,null,null,null,null,{"$f":"IFERROR(VLOOKUP(I949,CIIU!A:B,2,0),\"\")","v":""}]
[null,null,null,null,null,null,null,null,null,{"$f":"IFERROR(VLOOKUP(I950,CIIU!A:B,2,0),\"\")","v":""}]
[null,null,null,null,null,null,null,null,null,{"$f":"IFERROR(VLOOKUP(I951,CIIU!A:B,2,0),\"\")","v":""}]
[null,null,null,null,null,null,null,null,null,{"$f":"IFERROR(VLOOKUP(I952,CIIU!A:B,2,0),\"\")","v":""}]
[null,null,null,null,null,null,null,null,null,{"$f":"IFERROR(VLOOKUP(I953,CIIU!A:B,2,0),\"\")","v":""}]
[null,null,null,null,null,null,null,null,null,{"$f":"IFERROR(VLOOKUP(I954,CIIU!A:B,2,0),\"\")","v":""}]
[null,null,null,null,null,null,null,null,null,{"$f":"IFERROR(VLOOKUP(I955,CIIU!A:B,2,0),\"\")","v":""}]
[null,null,null,null,null,null,null,null,null,{"$f":"IFERROR(VLOOKUP(I956,CIIU!A:B,2,0),\"\")","v":""}]
[null,null,null,null,null,null,null,null,null,{"$f":"IFERROR(VLOOKUP(I957,CIIU!A:B,2,0),\"\")","v":""}]
[null,null,null,null,null,null,null,null,null,{"$f":"IFERROR(VLOOKUP(I958,CIIU!A:B,2,0),\"\")","v":""}]
[null,null,null,null,null,null,null,null,null,{"$f":"IFERROR(VLOOKUP(I959,CIIU!A:B,2,0),\"\")","v":""}]
[null,null,null,null,null,null,null,null,null,{"$f":"IFERROR(VLOOKUP(I960,CIIU!A:B,2,0),\"\")","v":""}]
[null,null,null,null,null,null,null,null,null,{"$f":"IFERROR(VLOOKUP(I961,CIIU!A:B,2,0),\"\")","v":""}]
[null,null,null,null,null,null,null,null,null,{"$f":"IFERROR(VLOOKUP(I962,CIIU!A:B,2,0),\"\")","v":""}]
[null,null,null,null,null,null,null,null,null,{"$f":"IFERROR(VLOOKUP(I963,CIIU!A:B,2,0),\"\")","v":""}]
[null,null,null,null,null,null,null,null,null,{"$f":"IFERROR(VLOOKUP(I964,CIIU!A:B,2,0),\"\")","v":""}]
[null,null,null,null,null,null,null,null,null,{"$f":"IFERROR(VLOOKUP(I965,CIIU!A:B,2,0),\"\")","v":""}]
[null,null,null,null,null,null,null,null,null,{"$f":"IFERROR(VLOOKUP(I966,CIIU!A:B,2,0),\"\")","v":""}]
[null,null,null,null,null,null,null,null,null,{"$f":"IFERROR(VLOOKUP(I967,CIIU!A:B,2,0),\"\")","v":""}]
[null,null,null,null,null,null,null,null,null,{"$f":"IFERROR(VLOOKUP(I968,CIIU!A:B,2,0),\"\")","v":""}]
[null,null,null,null,null,null,null,null,null,{"$f":"IFERROR(VLOOKUP(I969,CIIU!A:B,2,0),\"\")","v":""}]
[null,null,null,null,null,null,null,null,null,{"$f":"IFERROR(VLOOKUP(I970,CIIU!A:B,2,0),\"\")","v":""}]
[null,null,null,null,null,null,null,null,null,{"$f":"IFERROR(VLOOKUP(I971,CIIU!A:B,2,0),\"\")","v":""}]
[null,null,null,null,null,null,null,null,null,{"$f":"IFERROR(VLOOKUP(I972,CIIU!A:B,2,0),\"\")","v":""}]
[null,null,null,null,null,null,null,null,null,{"$f":"IFERROR(VLOOKUP(I973,CIIU!A:B,2,0),\"\")","v":""}]
[null,null,null,null,null,null,null,null,null,{"$f":"IFERROR(VLOOKUP(I974,CIIU!A:B,2,0),\"\")","v":""}]
[null,null,null,null,null,null,null,null,null,{"$f":"IFERROR(VLOOKUP(I975,CIIU!A:B,2,0),\"\")","v":""}]
[null,null,null,null,null,null,null,null,null,{"$f":"IFERROR(VLOOKUP(I976,CIIU!A:B,2,0),\"\")","v":""}]
[null,null,null,null,null,null,null,null,null,{"$f":"IFERROR(VLOOKUP(I977,CIIU!A:B,2,0),\"\")","v":""}]
[null,null,null,null,null,null,null,null,null,{"$f":"IFERROR(VLOOKUP(I978,CIIU!A:B,2,0),\"\")","v":""}]
[null,null,null,null,null,null,null,null,null,{"$f":"IFERROR(VLOOKUP(I979,CIIU!A:B,2,0),\"\")","v":""}]
[null,null,null,null,null,null,null,null,null,{"$f":"IFERROR(VLOOKUP(I980,CIIU!A:B,2,0),\"\")","v":""}]
[null,null,null,null,null,null,null,null,null,{"$f":"IFERROR(VLOOKUP(I981,CIIU!A:B,2,0),\"\")","v":""}]
[null,null,null,null,null,null,null,null,null,{"$f":"IFERROR(VLOOKUP(I982,CIIU!A:B,2,0),\"\")","v":""}]
[null,null,null,null,null,null,null,null,null,{"$f":"IFERROR(VLOOKUP(I983,CIIU!A:B,2,0),\"\")","v":""}]
[null,null,null,null,null,null,null,null,null,{"$f":"IFERROR(VLOOKUP(I984,CIIU!A:B,2,0),\"\")","v":""}]
[null,null,null,null,null,null,null,null,null,{"$f":"IFERROR(VLOOKUP(I985,CIIU!A:B,2,0),\"\")","v":""}]
[null,null,null,null,null,null,null,null,null,{"$f":"IFERROR(VLOOKUP(I986,CIIU!A:B,2,0),\"\")","v":""}]
[null,null,null,null,null,null,null,null,null,{"$f":"IFERROR(VLOOKUP(I987,CIIU!A:B,2,0),\"\")","v":""}]
[null,null,null,null,null,null,null,null,null,{"$f":"IFERROR(VLOOKUP(I988,CIIU!A:B,2,0),\"\")","v":""}]
[null,null,null,null,null,null,null,null,null,{"$f":"IFERROR(VLOOKUP(I989,CIIU!A:B,2,0),\"\")","v":""}]
[null,null,null,null,null,null,null,null,null,{"$f":"IFERROR(VLOOKUP(I990,CIIU!A:B,2,0),\"\")","v":""}]
[null,null,null,null,null,null,null,null,null,{"$f":"IFERROR(VLOOKUP(I991,CIIU!A:B,2,0),\"\")","v":""}]
[null,null,null,null,null,null,null,null,null,{"$f":"IFERROR(VLOOKUP(I992,CIIU!A:B,2,0),\"\")","v":""}]
[null,null,null,null,null,null,null,null,null,{"$f":"IFERROR(VLOOKUP(I993,CIIU!A:B,2,0),\"\")","v":""}]
[null,null,null,null,null,null,null,null,null,{"$f":"IFERROR(VLOOKUP(I994,CIIU!A:B,2,0),\"\")","v":""}]
[null,null,null,null,null,null,null,null,null,{"$f":"IFERROR(VLOOKUP(I995,CIIU!A:B,2,0),\"\")","v":""}]
[null,null,null,null,null,null,null,null,null,{"$f":"IFERROR(VLOOKUP(I996,CIIU!A:B,2,0),\"\")","v":""}]
[null,null,null,null,null,null,null,null,null,{"$f":"IFERROR(VLOOKUP(I997,CIIU!A:B,2,0),\"\")","v":""}]
[null,null,null,null,null,null,null,null,null,{"$f":"IFERROR(VLOOKUP(I998,CIIU!A:B,2,0),\"\")","v":""}]
[null,null,null,null,null,null,null,null,null,{"$f":"IFERROR(VLOOKUP(I999,CIIU!A:B,2,0),\"\")","v":""}]
[null,null,null,null,null,null,null,null,null,{"$f":"IFERROR(VLOOKUP(I1000,CIIU!A:B,2,0),\"\")","v":""}]
[null,null,null,null,null,null,null,null,null,{"$f":"IFERROR(VLOOKUP(I1001,CIIU!A:B,2,0),\"\")","v":""}]
[null,null,null,null,null,null,null,null,null,{"$f":"IFERROR(VLOOKUP(I1002,CIIU!A:B,2,0),\"\")","v":""}]
[null,null,null,null,null,null,null,null,null,{"$f":"IFERROR(VLOOKUP(I1003,CIIU!A:B,2,0),\"\")","v":""}]
[null,null,null,null,null,null,null,null,null,{"$f":"IFERROR(VLOOKUP(I1004,CIIU!A:B,2,0),\"\")","v":""}]
[null,null,null,null,null,null,null,null,null,{"$f":"IFERROR(VLOOKUP(I1005,CIIU!A:B,2,0),\"\")","v":""}]
[null,null,null,null,null,null,null,null,null,{"$f":"IFERROR(VLOOKUP(I1006,CIIU!A:B,2,0),\"\")","v":""}]
[null,null,null,null,null,null,null,null,null,{"$f":"IFERROR(VLOOKUP(I1007,CIIU!A:B,2,0),\"\")","v":""}]
[null,null,null,null,null,null,null,null,null,{"$f":"IFERROR(VLOOKUP(I1008,CIIU!A:B,2,0),\"\")","v":""}]
[null,null,null,null,null,null,null,null,null,{"$f":"IFERROR(VLOOKUP(I1009,CIIU!A:B,2,0),\"\")","v":""}]
[null,null,null,null,null,null,null,null,null,{"$f":"IFERROR(VLOOKUP(I1010,CIIU!A:B,2,0),\"\")","v":""}]
[null,null,null,null,null,null,null,null,null,{"$f":"IFERROR(VLOOKUP(I1011,CIIU!A:B,2,0),\"\")","v":""}]
[null,null,null,null,null,null,null,null,null,{"$f":"IFERROR(VLOOKUP(I1012,CIIU!A:B,2,0),\"\")","v":""}]
[null,null,null,null,null,null,null,null,null,{"$f":"IFERROR(VLOOKUP(I1013,CIIU!A:B,2,0),\"\")","v":""}]
[null,null,null,null,null,null,null,null,null,{"$f":"IFERROR(VLOOKUP(I1014,CIIU!A:B,2,0),\"\")","v":""}]
[null,null,null,null,null,null,null,null,null,{"$f":"IFERROR(VLOOKUP(I1015,CIIU!A:B,2,0),\"\")","v":""}]
[null,null,null,null,null,null,null,null,null,{"$f":"IFERROR(VLOOKUP(I1016,CIIU!A:B,2,0),\"\")","v":""}]
[null,null,null,null,null,null,null,null,null,{"$f":"IFERROR(VLOOKUP(I1017,CIIU!A:B,2,0),\"\")","v":""}]
[null,null,null,null,null,null,null,null,null,{"$f":"IFERROR(VLOOKUP(I1018,CIIU!A:B,2,0),\"\")","v":""}]
[null,null,null,null,null,null,null,null,null,{"$f":"IFERROR(VLOOKUP(I1019,CIIU!A:B,2,0),\"\")","v":""}]
[null,null,null,null,null,null,null,null,null,{"$f":"IFERROR(VLOOKUP(I1020,CIIU!A:B,2,0),\"\")","v":""}]
[null,null,null,null,null,null,null,null,null,{"$f":"IFERROR(VLOOKUP(I1021,CIIU!A:B,2,0),\"\")","v":""}]
[null,null,null,null,null,null,null,null,null,{"$f":"IFERROR(VLOOKUP(I1022,CIIU!A:B,2,0),\"\")","v":""}]
[null,null,null,null,null,null,null,null,null,{"$f":"IFERROR(VLOOKUP(I1023,CIIU!A:B,2,0),\"\")","v":""}]
[null,null,null,null,null,null,null,null,null,{"$f":"IFERROR(VLOOKUP(I1024,CIIU!A:B,2,0),\"\")","v":""}]
[null,null,null,null,null,null,null,null,null,{"$f":"IFERROR(VLOOKUP(I1025,CIIU!A:B,2,0),\"\")","v":""}]
[null,null,null,null,null,null,null,null,null,{"$f":"IFERROR(VLOOKUP(I1026,CIIU!A:B,2,0),\"\")","v":""}]
[null,null,null,null,null,null,null,null,null,{"$f":"IFERROR(VLOOKUP(I1027,CIIU!A:B,2,0),\"\")","v":""}]
[null,null,null,null,null,null,null,null,null,{"$f":"IFERROR(VLOOKUP(I1028,CIIU!A:B,2,0),\"\")","v":""}]
[null,null,null,null,null,null,null,null,null,{"$f":"IFERROR(VLOOKUP(I1029,CIIU!A:B,2,0),\"\")","v":""}]
[null,null,null,null,null,null,null,null,null,{"$f":"IFERROR(VLOOKUP(I1030,CIIU!A:B,2,0),\"\")","v":""}]
[null,null,null,null,null,null,null,null,null,{"$f":"IFERROR(VLOOKUP(I1031,CIIU!A:B,2,0),\"\")","v":""}]
[null,null,null,null,null,null,null,null,null,{"$f":"IFERROR(VLOOKUP(I1032,CIIU!A:B,2,0),\"\")","v":""}]
[null,null,null,null,null,null,null,null,null,{"$f":"IFERROR(VLOOKUP(I1033,CIIU!A:B,2,0),\"\")","v":""}]
[null,null,null,null,null,null,null,null,null,{"$f":"IFERROR(VLOOKUP(I1034,CIIU!A:B,2,0),\"\")","v":""}]
[null,null,null,null,null,null,null,null,null,{"$f":"IFERROR(VLOOKUP(I1035,CIIU!A:B,2,0),\"\")","v":""}]
[null,null,null,null,null,null,null,null,null,{"$f":"IFERROR(VLOOKUP(I1036,CIIU!A:B,2,0),\"\")","v":""}]
[null,null,null,null,null,null,null,null,null,{"$f":"IFERROR(VLOOKUP(I1037,CIIU!A:B,2,0),\"\")","v":""}]
[null,null,null,null,null,null,null,null,null,{"$f":"IFERROR(VLOOKUP(I1038,CIIU!A:B,2,0),\"\")","v":""}]
[null,null,null,null,null,null,null,null,null,{"$f":"IFERROR(VLOOKUP(I1039,CIIU!A:B,2,0),\"\")","v":""}]
[null,null,null,null,null,null,null,null,null,{"$f":"IFERROR(VLOOKUP(I1040,CIIU!A:B,2,0),\"\")","v":""}]
[null,null,null,null,null,null,null,null,null,{"$f":"IFERROR(VLOOKUP(I1041,CIIU!A:B,2,0),\"\")","v":""}]
[null,null,null,null,null,null,null,null,null,{"$f":"IFERROR(VLOOKUP(I1042,CIIU!A:B,2,0),\"\")","v":""}]
[null,null,null,null,null,null,null,null,null,{"$f":"IFERROR(VLOOKUP(I1043,CIIU!A:B,2,0),\"\")","v":""}]
[null,null,null,null,null,null,null,null,null,{"$f":"IFERROR(VLOOKUP(I1044,CIIU!A:B,2,0),\"\")","v":""}]
[null,null,null,null,null,null,null,null,null,{"$f":"IFERROR(VLOOKUP(I1045,CIIU!A:B,2,0),\"\")","v":""}]
[null,null,null,null,null,null,null,null,null,{"$f":"IFERROR(VLOOKUP(I1046,CIIU!A:B,2,0),\"\")","v":""}]
[null,null,null,null,null,null,null,null,null,{"$f":"IFERROR(VLOOKUP(I1047,CIIU!A:B,2,0),\"\")","v":""}]
[null,null,null,null,null,null,null,null,null,{"$f":"IFERROR(VLOOKUP(I1048,CIIU!A:B,2,0),\"\")","v":""}]
[null,null,null,null,null,null,null,null,null,{"$f":"IFERROR(VLOOKUP(I1049,CIIU!A:B,2,0),\"\")","v":""}]
[null,null,null,null,null,null,null,null,null,{"$f":"IFERROR(VLOOKUP(I1050,CIIU!A:B,2,0),\"\")","v":""}]
[null,null,null,null,null,null,null,null,null,{"$f":"IFERROR(VLOOKUP(I1051,CIIU!A:B,2,0),\"\")","v":""}]
[null,null,null,null,null,null,null,null,null,{"$f":"IFERROR(VLOOKUP(I1052,CIIU!A:B,2,0),\"\")","v":""}]
[null,null,null,null,null,null,null,null,null,{"$f":"IFERROR(VLOOKUP(I1053,CIIU!A:B,2,0),\"\")","v":""}]
[null,null,null,null,null,null,null,null,null,{"$f":"IFERROR(VLOOKUP(I1054,CIIU!A:B,2,0),\"\")","v":""}]
[null,null,null,null,null,null,null,null,null,{"$f":"IFERROR(VLOOKUP(I1055,CIIU!A:B,2,0),\"\")","v":""}]
[null,null,null,null,null,null,null,null,null,{"$f":"IFERROR(VLOOKUP(I1056,CIIU!A:B,2,0),\"\")","v":""}]
[null,null,null,null,null,null,null,null,null,{"$f":"IFERROR(VLOOKUP(I1057,CIIU!A:B,2,0),\"\")","v":""}]
[null,null,null,null,null,null,null,null,null,{"$f":"IFERROR(VLOOKUP(I1058,CIIU!A:B,2,0),\"\")","v":""}]
[null,null,null,null,null,null,null,null,null,{"$f":"IFERROR(VLOOKUP(I1059,CIIU!A:B,2,0),\"\")","v":""}]
[null,null,null,null,null,null,null,null,null,{"$f":"IFERROR(VLOOKUP(I1060,CIIU!A:B,2,0),\"\")","v":""}]
[null,null,null,null,null,null,null,null,null,{"$f":"IFERROR(VLOOKUP(I1061,CIIU!A:B,2,0),\"\")","v":""}]
[null,null,null,null,null,null,null,null,null,{"$f":"IFERROR(VLOOKUP(I1062,CIIU!A:B,2,0),\"\")","v":""}]
[null,null,null,null,null,null,null,null,null,{"$f":"IFERROR(VLOOKUP(I1063,CIIU!A:B,2,0),\"\")","v":""}]
[null,null,null,null,null,null,null,null,null,{"$f":"IFERROR(VLOOKUP(I1064,CIIU!A:B,2,0),\"\")","v":""}]
[null,null,null,null,null,null,null,null,null,{"$f":"IFERROR(VLOOKUP(I1065,CIIU!A:B,2,0),\"\")","v":""}]
[null,null,null,null,null,null,null,null,null,{"$f":"IFERROR(VLOOKUP(I1066,CIIU!A:B,2,0),\"\")","v":""}]
[null,null,null,null,null,null,null,null,null,{"$f":"IFERROR(VLOOKUP(I1067,CIIU!A:B,2,0),\"\")","v":""}]
[null,null,null,null,null,null,null,null,null,{"$f":"IFERROR(VLOOKUP(I1068,CIIU!A:B,2,0),\"\")","v":""}]
[null,null,null,null,null,null,null,null,null,{"$f":"IFERROR(VLOOKUP(I1069,CIIU!A:B,2,0),\"\")","v":""}]
[null,null,null,null,null,null,null,null,null,{"$f":"IFERROR(VLOOKUP(I1070,CIIU!A:B,2,0),\"\")","v":""}]
[null,null,null,null,null,null,null,null,null,{"$f":"IFERROR(VLOOKUP(I1071,CIIU!A:B,2,0),\"\")","v":""}]
[null,null,null,null,null,null,null,null,null,{"$f":"IFERROR(VLOOKUP(I1072,CIIU!A:B,2,0),\"\")","v":""}]
[null,null,null,null,null,null,null,null,null,{"$f":"IFERROR(VLOOKUP(I1073,CIIU!A:B,2,0),\"\")","v":""}]
[null,null,null,null,null,null,null,null,null,{"$f":"IFERROR(VLOOKUP(I1074,CIIU!A:B,2,0),\"\")","v":""}]
[null,null,null,null,null,null,null,null,null,{"$f":"IFERROR(VLOOKUP(I1075,CIIU!A:B,2,0),\"\")","v":""}]
[null,null,null,null,null,null,null,null,null,{"$f":"IFERROR(VLOOKUP(I1076,CIIU!A:B,2,0),\"\")","v":""}]
[null,null,null,null,null,null,null,null,null,{"$f":"IFERROR(VLOOKUP(I1077,CIIU!A:B,2,0),\"\")","v":""}]
[null,null,null,null,null,null,null,null,null,{"$f":"IFERROR(VLOOKUP(I1078,CIIU!A:B,2,0),\"\")","v":""}]
[null,null,null,null,null,null,null,null,null,{"$f":"IFERROR(VLOOKUP(I1079,CIIU!A:B,2,0),\"\")","v":""}]
[null,null,null,null,null,null,null,null,null,{"$f":"IFERROR(VLOOKUP(I1080,CIIU!A:B,2,0),\"\")","v":""}]
[null,null,null,null,null,null,null,null,null,{"$f":"IFERROR(VLOOKUP(I1081,CIIU!A:B,2,0),\"\")","v":""}]
[null,null,null,null,null,null,null,null,null,{"$f":"IFERROR(VLOOKUP(I1082,CIIU!A:B,2,0),\"\")","v":""}]
[null,null,null,null,null,null,null,null,null,{"$f":"IFERROR(VLOOKUP(I1083,CIIU!A:B,2,0),\"\")","v":""}]
[null,null,null,null,null,null,null,null,null,{"$f":"IFERROR(VLOOKUP(I1084,CIIU!A:B,2,0),\"\")","v":""}]
[null,null,null,null,null,null,null,null,null,{"$f":"IFERROR(VLOOKUP(I1085,CIIU!A:B,2,0),\"\")","v":""}]
[null,null,null,null,null,null,null,null,null,{"$f":"IFERROR(VLOOKUP(I1086,CIIU!A:B,2,0),\"\")","v":""}]
[null,null,null,null,null,null,null,null,null,{"$f":"IFERROR(VLOOKUP(I1087,CIIU!A:B,2,0),\"\")","v":""}]
[null,null,null,null,null,null,null,null,null,{"$f":"IFERROR(VLOOKUP(I1088,CIIU!A:B,2,0),\"\")","v":""}]
[null,null,null,null,null,null,null,null,null,{"$f":"IFERROR(VLOOKUP(I1089,CIIU!A:B,2,0),\"\")","v":""}]
[null,null,null,null,null,null,null,null,null,{"$f":"IFERROR(VLOOKUP(I1090,CIIU!A:B,2,0),\"\")","v":""}]
[null,null,null,null,null,null,null,null,null,{"$f":"IFERROR(VLOOKUP(I1091,CIIU!A:B,2,0),\"\")","v":""}]
[null,null,null,null,null,null,null,null,null,{"$f":"IFERROR(VLOOKUP(I1092,CIIU!A:B,2,0),\"\")","v":""}]
[null,null,null,null,null,null,null,null,null,{"$f":"IFERROR(VLOOKUP(I1093,CIIU!A:B,2,0),\"\")","v":""}]
[null,null,null,null,null,null,null,null,null,{"$f":"IFERROR(VLOOKUP(I1094,CIIU!A:B,2,0),\"\")","v":""}]
[null,null,null,null,null,null,null,null,null,{"$f":"IFERROR(VLOOKUP(I1095,CIIU!A:B,2,0),\"\")","v":""}]
[null,null,null,null,null,null,null,null,null,{"$f":"IFERROR(VLOOKUP(I1096,CIIU!A:B,2,0),\"\")","v":""}]
[null,null,null,null,null,null,null,null,null,{"$f":"IFERROR(VLOOKUP(I1097,CIIU!A:B,2,0),\"\")","v":""}]
[null,null,null,null,null,null,null,null,null,{"$f":"IFERROR(VLOOKUP(I1098,CIIU!A:B,2,0),\"\")","v":""}]
[null,null,null,null,null,null,null,null,null,{"$f":"IFERROR(VLOOKUP(I1099,CIIU!A:B,2,0),\"\")","v":""}]
[null,null,null,null,null,null,null,null,null,{"$f":"IFERROR(VLOOKUP(I1100,CIIU!A:B,2,0),\"\")","v":""}]
[null,null,null,null,null,null,null,null,null,{"$f":"IFERROR(VLOOKUP(I1101,CIIU!A:B,2,0),\"\")","v":""}]
[null,null,null,null,null,null,null,null,null,{"$f":"IFERROR(VLOOKUP(I1102,CIIU!A:B,2,0),\"\")","v":""}]
[null,null,null,null,null,null,null,null,null,{"$f":"IFERROR(VLOOKUP(I1103,CIIU!A:B,2,0),\"\")","v":""}]
[null,null,null,null,null,null,null,null,null,{"$f":"IFERROR(VLOOKUP(I1104,CIIU!A:B,2,0),\"\")","v":""}]
[null,null,null,null,null,null,null,null,null,{"$f":"IFERROR(VLOOKUP(I1105,CIIU!A:B,2,0),\"\")","v":""}]
[null,null,null,null,null,null,null,null,null,{"$f":"IFERROR(VLOOKUP(I1106,CIIU!A:B,2,0),\"\")","v":""}]
[null,null,null,null,null,null,null,null,null,{"$f":"IFERROR(VLOOKUP(I1107,CIIU!A:B,2,0),\"\")","v":""}]
[null,null,null,null,null,null,null,null,null,{"$f":"IFERROR(VLOOKUP(I1108,CIIU!A:B,2,0),\"\")","v":""}]
[null,null,null,null,null,null,null,null,null,{"$f":"IFERROR(VLOOKUP(I1109,CIIU!A:B,2,0),\"\")","v":""}]
[null,null,null,null,null,null,null,null,null,{"$f":"IFERROR(VLOOKUP(I1110,CIIU!A:B,2,0),\"\")","v":""}]
[null,null,null,null,null,null,null,null,null,{"$f":"IFERROR(VLOOKUP(I1111,CIIU!A:B,2,0),\"\")","v":""}]
[null,null,null,null,null,null,null,null,null,{"$f":"IFERROR(VLOOKUP(I1112,CIIU!A:B,2,0),\"\")","v":""}]
[null,null,null,null,null,null,null,null,null,{"$f":"IFERROR(VLOOKUP(I1113,CIIU!A:B,2,0),\"\")","v":""}]
[null,null,null,null,null,null,null,null,null,{"$f":"IFERROR(VLOOKUP(I1114,CIIU!A:B,2,0),\"\")","v":""}]
[null,null,null,null,null,null,null,null,null,{"$f":"IFERROR(VLOOKUP(I1115,CIIU!A:B,2,0),\"\")","v":""}]
[null,null,null,null,null,null,null,null,null,{"$f":"IFERROR(VLOOKUP(I1116,CIIU!A:B,2,0),\"\")","v":""}]
[null,null,null,null,null,null,null,null,null,{"$f":"IFERROR(VLOOKUP(I1117,CIIU!A:B,2,0),\"\")","v":""}]
[null,null,null,null,null,null,null,null,null,{"$f":"IFERROR(VLOOKUP(I1118,CIIU!A:B,2,0),\"\")","v":""}]
[null,null,null,null,null,null,null,null,null,{"$f":"IFERROR(VLOOKUP(I1119,CIIU!A:B,2,0),\"\")","v":""}]
[null,null,null,null,null,null,null,null,null,{"$f":"IFERROR(VLOOKUP(I1120,CIIU!A:B,2,0),\"\")","v":""}]
[null,null,null,null,null,null,null,null,null,{"$f":"IFERROR(VLOOKUP(I1121,CIIU!A:B,2,0),\"\")","v":""}]
[null,null,null,null,null,null,null,null,null,{"$f":"IFERROR(VLOOKUP(I1122,CIIU!A:B,2,0),\"\")","v":""}]
[null,null,null,null,null,null,null,null,null,{"$f":"IFERROR(VLOOKUP(I1123,CIIU!A:B,2,0),\"\")","v":""}]
[null,null,null,null,null,null,null,null,null,{"$f":"IFERROR(VLOOKUP(I1124,CIIU!A:B,2,0),\"\")","v":""}]
[null,null,null,null,null,null,null,null,null,{"$f":"IFERROR(VLOOKUP(I1125,CIIU!A:B,2,0),\"\")","v":""}]
[null,null,null,null,null,null,null,null,null,{"$f":"IFERROR(VLOOKUP(I1126,CIIU!A:B,2,0),\"\")","v":""}]
[null,null,null,null,null,null,null,null,null,{"$f":"IFERROR(VLOOKUP(I1127,CIIU!A:B,2,0),\"\")","v":""}]
[null,null,null,null,null,null,null,null,null,{"$f":"IFERROR(VLOOKUP(I1128,CIIU!A:B,2,0),\"\")","v":""}]
[null,null,null,null,null,null,null,null,null,{"$f":"IFERROR(VLOOKUP(I1129,CIIU!A:B,2,0),\"\")","v":""}]
[null,null,null,null,null,null,null,null,null,{"$f":"IFERROR(VLOOKUP(I1130,CIIU!A:B,2,0),\"\")","v":""}]
[null,null,null,null,null,null,null,null,null,{"$f":"IFERROR(VLOOKUP(I1131,CIIU!A:B,2,0),\"\")","v":""}]
[null,null,null,null,null,null,null,null,null,{"$f":"IFERROR(VLOOKUP(I1132,CIIU!A:B,2,0),\"\")","v":""}]
[null,null,null,null,null,null,null,null,null,{"$f":"IFERROR(VLOOKUP(I1133,CIIU!A:B,2,0),\"\")","v":""}]
[null,null,null,null,null,null,null,null,null,{"$f":"IFERROR(VLOOKUP(I1134,CIIU!A:B,2,0),\"\")","v":""}]
[null,null,null,null,null,null,null,null,null,{"$f":"IFERROR(VLOOKUP(I1135,CIIU!A:B,2,0),\"\")","v":""}]
[null,null,null,null,null,null,null,null,null,{"$f":"IFERROR(VLOOKUP(I1136,CIIU!A:B,2,0),\"\")","v":""}]
[null,null,null,null,null,null,null,null,null,{"$f":"IFERROR(VLOOKUP(I1137,CIIU!A:B,2,0),\"\")","v":""}]
[null,null,null,null,null,null,null,null,null,{"$f":"IFERROR(VLOOKUP(I1138,CIIU!A:B,2,0),\"\")","v":""}]
[null,null,null,null,null,null,null,null,null,{"$f":"IFERROR(VLOOKUP(I1139,CIIU!A:B,2,0),\"\")","v":""}]
[null,null,null,null,null,null,null,null,null,{"$f":"IFERROR(VLOOKUP(I1140,CIIU!A:B,2,0),\"\")","v":""}]
[null,null,null,null,null,null,null,null,null,{"$f":"IFERROR(VLOOKUP(I1141,CIIU!A:B,2,0),\"\")","v":""}]
[null,null,null,null,null,null,null,null,null,{"$f":"IFERROR(VLOOKUP(I1142,CIIU!A:B,2,0),\"\")","v":""}]
[null,null,null,null,null,null,null,null,null,{"$f":"IFERROR(VLOOKUP(I1143,CIIU!A:B,2,0),\"\")","v":""}]
[null,null,null,null,null,null,null,null,null,{"$f":"IFERROR(VLOOKUP(I1144,CIIU!A:B,2,0),\"\")","v":""}]
[null,null,null,null,null,null,null,null,null,{"$f":"IFERROR(VLOOKUP(I1145,CIIU!A:B,2,0),\"\")","v":""}]
[null,null,null,null,null,null,null,null,null,{"$f":"IFERROR(VLOOKUP(I1146,CIIU!A:B,2,0),\"\")","v":""}]
[null,null,null,null,null,null,null,null,null,{"$f":"IFERROR(VLOOKUP(I1147,CIIU!A:B,2,0),\"\")","v":""}]
[null,null,null,null,null,null,null,null,null,{"$f":"IFERROR(VLOOKUP(I1148,CIIU!A:B,2,0),\"\")","v":""}]
[null,null,null,null,null,null,null,null,null,{"$f":"IFERROR(VLOOKUP(I1149,CIIU!A:B,2,0),\"\")","v":""}]
[null,null,null,null,null,null,null,null,null,{"$f":"IFERROR(VLOOKUP(I1150,CIIU!A:B,2,0),\"\")","v":""}]
[null,null,null,null,null,null,null,null,null,{"$f":"IFERROR(VLOOKUP(I1151,CIIU!A:B,2,0),\"\")","v":""}]
[null,null,null,null,null,null,null,null,null,{"$f":"IFERROR(VLOOKUP(I1152,CIIU!A:B,2,0),\"\")","v":""}]
[null,null,null,null,null,null,null,null,null,{"$f":"IFERROR(VLOOKUP(I1153,CIIU!A:B,2,0),\"\")","v":""}]
[null,null,null,null,null,null,null,null,null,{"$f":"IFERROR(VLOOKUP(I1154,CIIU!A:B,2,0),\"\")","v":""}]
[null,null,null,null,null,null,null,null,null,{"$f":"IFERROR(VLOOKUP(I1155,CIIU!A:B,2,0),\"\")","v":""}]
[null,null,null,null,null,null,null,null,null,{"$f":"IFERROR(VLOOKUP(I1156,CIIU!A:B,2,0),\"\")","v":""}]
[null,null,null,null,null,null,null,null,null,{"$f":"IFERROR(VLOOKUP(I1157,CIIU!A:B,2,0),\"\")","v":""}]
[null,null,null,null,null,null,null,null,null,{"$f":"IFERROR(VLOOKUP(I1158,CIIU!A:B,2,0),\"\")","v":""}]
[null,null,null,null,null,null,null,null,null,{"$f":"IFERROR(VLOOKUP(I1159,CIIU!A:B,2,0),\"\")","v":""}]
[null,null,null,null,null,null,null,null,null,{"$f":"IFERROR(VLOOKUP(I1160,CIIU!A:B,2,0),\"\")","v":""}]
[null,null,null,null,null,null,null,null,null,{"$f":"IFERROR(VLOOKUP(I1161,CIIU!A:B,2,0),\"\")","v":""}]
[null,null,null,null,null,null,null,null,null,{"$f":"IFERROR(VLOOKUP(I1162,CIIU!A:B,2,0),\"\")","v":""}]
[null,null,null,null,null,null,null,null,null,{"$f":"IFERROR(VLOOKUP(I1163,CIIU!A:B,2,0),\"\")","v":""}]
[null,null,null,null,null,null,null,null,null,{"$f":"IFERROR(VLOOKUP(I1164,CIIU!A:B,2,0),\"\")","v":""}]
[null,null,null,null,null,null,null,null,null,{"$f":"IFERROR(VLOOKUP(I1165,CIIU!A:B,2,0),\"\")","v":""}]
[null,null,null,null,null,null,null,null,null,{"$f":"IFERROR(VLOOKUP(I1166,CIIU!A:B,2,0),\"\")","v":""}]
[null,null,null,null,null,null,null,null,null,{"$f":"IFERROR(VLOOKUP(I1167,CIIU!A:B,2,0),\"\")","v":""}]
[null,null,null,null,null,null,null,null,null,{"$f":"IFERROR(VLOOKUP(I1168,CIIU!A:B,2,0),\"\")","v":""}]
[null,null,null,null,null,null,null,null,null,{"$f":"IFERROR(VLOOKUP(I1169,CIIU!A:B,2,0),\"\")","v":""}]
[null,null,null,null,null,null,null,null,null,{"$f":"IFERROR(VLOOKUP(I1170,CIIU!A:B,2,0),\"\")","v":""}]
[null,null,null,null,null,null,null,null,null,{"$f":"IFERROR(VLOOKUP(I1171,CIIU!A:B,2,0),\"\")","v":""}]
[null,null,null,null,null,null,null,null,null,{"$f":"IFERROR(VLOOKUP(I1172,CIIU!A:B,2,0),\"\")","v":""}]
[null,null,null,null,null,null,null,null,null,{"$f":"IFERROR(VLOOKUP(I1173,CIIU!A:B,2,0),\"\")","v":""}]
[null,null,null,null,null,null,null,null,null,{"$f":"IFERROR(VLOOKUP(I1174,CIIU!A:B,2,0),\"\")","v":""}]
[null,null,null,null,null,null,null,null,null,{"$f":"IFERROR(VLOOKUP(I1175,CIIU!A:B,2,0),\"\")","v":""}]
[null,null,null,null,null,null,null,null,null,{"$f":"IFERROR(VLOOKUP(I1176,CIIU!A:B,2,0),\"\")","v":""}]
[null,null,null,null,null,null,null,null,null,{"$f":"IFERROR(VLOOKUP(I1177,CIIU!A:B,2,0),\"\")","v":""}]
[null,null,null,null,null,null,null,null,null,{"$f":"IFERROR(VLOOKUP(I1178,CIIU!A:B,2,0),\"\")","v":""}]
[null,null,null,null,null,null,null,null,null,{"$f":"IFERROR(VLOOKUP(I1179,CIIU!A:B,2,0),\"\")","v":""}]
[null,null,null,null,null,null,null,null,null,{"$f":"IFERROR(VLOOKUP(I1180,CIIU!A:B,2,0),\"\")","v":""}]
[null,null,null,null,null,null,null,null,null,{"$f":"IFERROR(VLOOKUP(I1181,CIIU!A:B,2,0),\"\")","v":""}]
[null,null,null,null,null,null,null,null,null,{"$f":"IFERROR(VLOOKUP(I1182,CIIU!A:B,2,0),\"\")","v":""}]
[null,null,null,null,null,null,null,null,null,{"$f":"IFERROR(VLOOKUP(I1183,CIIU!A:B,2,0),\"\")","v":""}]
[null,null,null,null,null,null,null,null,null,{"$f":"IFERROR(VLOOKUP(I1184,CIIU!A:B,2,0),\"\")","v":""}]
[null,null,null,null,null,null,null,null,null,{"$f":"IFERROR(VLOOKUP(I1185,CIIU!A:B,2,0),\"\")","v":""}]
[null,null,null,null,null,null,null,null,null,{"$f":"IFERROR(VLOOKUP(I1186,CIIU!A:B,2,0),\"\")","v":""}]
[null,null,null,null,null,null,null,null,null,{"$f":"IFERROR(VLOOKUP(I1187,CIIU!A:B,2,0),\"\")","v":""}]
[null,null,null,null,null,null,null,null,null,{"$f":"IFERROR(VLOOKUP(I1188,CIIU!A:B,2,0),\"\")","v":""}]
[null,null,null,null,null,null,null,null,null,{"$f":"IFERROR(VLOOKUP(I1189,CIIU!A:B,2,0),\"\")","v":""}]
[null,null,null,null,null,null,null,null,null,{"$f":"IFERROR(VLOOKUP(I1190,CIIU!A:B,2,0),\"\")","v":""}]
[null,null,null,null,null,null,null,null,null,{"$f":"IFERROR(VLOOKUP(I1191,CIIU!A:B,2,0),\"\")","v":""}]
[null,null,null,null,null,null,null,null,null,{"$f":"IFERROR(VLOOKUP(I1192,CIIU!A:B,2,0),\"\")","v":""}]
[null,null,null,null,null,null,null,null,null,{"$f":"IFERROR(VLOOKUP(I1193,CIIU!A:B,2,0),\"\")","v":""}]
[null,null,null,null,null,null,null,null,null,{"$f":"IFERROR(VLOOKUP(I1194,CIIU!A:B,2,0),\"\")","v":""}]
[null,null,null,null,null,null,null,null,null,{"$f":"IFERROR(VLOOKUP(I1195,CIIU!A:B,2,0),\"\")","v":""}]
[null,null,null,null,null,null,null,null,null,{"$f":"IFERROR(VLOOKUP(I1196,CIIU!A:B,2,0),\"\")","v":""}]
[null,null,null,null,null,null,null,null,null,{"$f":"IFERROR(VLOOKUP(I1197,CIIU!A:B,2,0),\"\")","v":""}]
[null,null,null,null,null,null,null,null,null,{"$f":"IFERROR(VLOOKUP(I1198,CIIU!A:B,2,0),\"\")","v":""}]
[null,null,null,null,null,null,null,null,null,{"$f":"IFERROR(VLOOKUP(I1199,CIIU!A:B,2,0),\"\")","v":""}]
[null,null,null,null,null,null,null,null,null,{"$f":"IFERROR(VLOOKUP(I1200,CIIU!A:B,2,0),\"\")","v":""}]
[null,null,null,null,null,null,null,null,null,{"$f":"IFERROR(VLOOKUP(I1201,CIIU!A:B,2,0),\"\")","v":""}]
[null,null,null,null,null,null,null,null,null,{"$f":"IFERROR(VLOOKUP(I1202,CIIU!A:B,2,0),\"\")","v":""}]
[null,null,null,null,null,null,null,null,null,{"$f":"IFERROR(VLOOKUP(I1203,CIIU!A:B,2,0),\"\")","v":""}]
[null,null,null,null,null,null,null,null,null,{"$f":"IFERROR(VLOOKUP(I1204,CIIU!A:B,2,0),\"\")","v":""}]
[null,null,null,null,null,null,null,null,null,{"$f":"IFERROR(VLOOKUP(I1205,CIIU!A:B,2,0),\"\")","v":""}]
[null,null,null,null,null,null,null,null,null,{"$f":"IFERROR(VLOOKUP(I1206,CIIU!A:B,2,0),\"\")","v":""}]
[null,null,null,null,null,null,null,null,null,{"$f":"IFERROR(VLOOKUP(I1207,CIIU!A:B,2,0),\"\")","v":""}]
[null,null,null,null,null,null,null,null,null,{"$f":"IFERROR(VLOOKUP(I1208,CIIU!A:B,2,0),\"\")","v":""}]
[null,null,null,null,null,null,null,null,null,{"$f":"IFERROR(VLOOKUP(I1209,CIIU!A:B,2,0),\"\")","v":""}]
[null,null,null,null,null,null,null,null,null,{"$f":"IFERROR(VLOOKUP(I1210,CIIU!A:B,2,0),\"\")","v":""}]
[null,null,null,null,null,null,null,null,null,{"$f":"IFERROR(VLOOKUP(I1211,CIIU!A:B,2,0),\"\")","v":""}]
[null,null,null,null,null,null,null,null,null,{"$f":"IFERROR(VLOOKUP(I1212,CIIU!A:B,2,0),\"\")","v":""}]
[null,null,null,null,null,null,null,null,null,{"$f":"IFERROR(VLOOKUP(I1213,CIIU!A:B,2,0),\"\")","v":""}]
[null,null,null,null,null,null,null,null,null,{"$f":"IFERROR(VLOOKUP(I1214,CIIU!A:B,2,0),\"\")","v":""}]
[null,null,null,null,null,null,null,null,null,{"$f":"IFERROR(VLOOKUP(I1215,CIIU!A:B,2,0),\"\")","v":""}]
[null,null,null,null,null,null,null,null,null,{"$f":"IFERROR(VLOOKUP(I1216,CIIU!A:B,2,0),\"\")","v":""}]
[null,null,null,null,null,null,null,null,null,{"$f":"IFERROR(VLOOKUP(I1217,CIIU!A:B,2,0),\"\")","v":""}]
[null,null,null,null,null,null,null,null,null,{"$f":"IFERROR(VLOOKUP(I1218,CIIU!A:B,2,0),\"\")","v":""}]
[null,null,null,null,null,null,null,null,null,{"$f":"IFERROR(VLOOKUP(I1219,CIIU!A:B,2,0),\"\")","v":""}]
[null,null,null,null,null,null,null,null,null,{"$f":"IFERROR(VLOOKUP(I1220,CIIU!A:B,2,0),\"\")","v":""}]
[null,null,null,null,null,null,null,null,null,{"$f":"IFERROR(VLOOKUP(I1221,CIIU!A:B,2,0),\"\")","v":""}]
[null,null,null,null,null,null,null,null,null,{"$f":"IFERROR(VLOOKUP(I1222,CIIU!A:B,2,0),\"\")","v":""}]
[null,null,null,null,null,null,null,null,null,{"$f":"IFERROR(VLOOKUP(I1223,CIIU!A:B,2,0),\"\")","v":""}]
[null,null,null,null,null,null,null,null,null,{"$f":"IFERROR(VLOOKUP(I1224,CIIU!A:B,2,0),\"\")","v":""}]
[null,null,null,null,null,null,null,null,null,{"$f":"IFERROR(VLOOKUP(I1225,CIIU!A:B,2,0),\"\")","v":""}]
[null,null,null,null,null,null,null,null,null,{"$f":"IFERROR(VLOOKUP(I1226,CIIU!A:B,2,0),\"\")","v":""}]
[null,null,null,null,null,null,null,null,null,{"$f":"IFERROR(VLOOKUP(I1227,CIIU!A:B,2,0),\"\")","v":""}]
[null,null,null,null,null,null,null,null,null,{"$f":"IFERROR(VLOOKUP(I1228,CIIU!A:B,2,0),\"\")","v":""}]
[null,null,null,null,null,null,null,null,null,{"$f":"IFERROR(VLOOKUP(I1229,CIIU!A:B,2,0),\"\")","v":""}]
[null,null,null,null,null,null,null,null,null,{"$f":"IFERROR(VLOOKUP(I1230,CIIU!A:B,2,0),\"\")","v":""}]
[null,null,null,null,null,null,null,null,null,{"$f":"IFERROR(VLOOKUP(I1231,CIIU!A:B,2,0),\"\")","v":""}]
[null,null,null,null,null,null,null,null,null,{"$f":"IFERROR(VLOOKUP(I1232,CIIU!A:B,2,0),\"\")","v":""}]
[null,null,null,null,null,null,null,null,null,{"$f":"IFERROR(VLOOKUP(I1233,CIIU!A:B,2,0),\"\")","v":""}]
[null,null,null,null,null,null,null,null,null,{"$f":"IFERROR(VLOOKUP(I1234,CIIU!A:B,2,0),\"\")","v":""}]
[null,null,null,null,null,null,null,null,null,{"$f":"IFERROR(VLOOKUP(I1235,CIIU!A:B,2,0),\"\")","v":""}]
[null,null,null,null,null,null,null,null,null,{"$f":"IFERROR(VLOOKUP(I1236,CIIU!A:B,2,0),\"\")","v":""}]
[null,null,null,null,null,null,null,null,null,{"$f":"IFERROR(VLOOKUP(I1237,CIIU!A:B,2,0),\"\")","v":""}]
[null,null,null,null,null,null,null,null,null,{"$f":"IFERROR(VLOOKUP(I1238,CIIU!A:B,2,0),\"\")","v":""}]
[null,null,null,null,null,null,null,null,null,{"$f":"IFERROR(VLOOKUP(I1239,CIIU!A:B,2,0),\"\")","v":""}]
[null,null,null,null,null,null,null,null,null,{"$f":"IFERROR(VLOOKUP(I1240,CIIU!A:B,2,0),\"\")","v":""}]
[null,null,null,null,null,null,null,null,null,{"$f":"IFERROR(VLOOKUP(I1241,CIIU!A:B,2,0),\"\")","v":""}]
[null,null,null,null,null,null,null,null,null,{"$f":"IFERROR(VLOOKUP(I1242,CIIU!A:B,2,0),\"\")","v":""}]
[null,null,null,null,null,null,null,null,null,{"$f":"IFERROR(VLOOKUP(I1243,CIIU!A:B,2,0),\"\")","v":""}]
[null,null,null,null,null,null,null,null,null,{"$f":"IFERROR(VLOOKUP(I1244,CIIU!A:B,2,0),\"\")","v":""}]
[null,null,null,null,null,null,null,null,null,{"$f":"IFERROR(VLOOKUP(I1245,CIIU!A:B,2,0),\"\")","v":""}]
[null,null,null,null,null,null,null,null,null,{"$f":"IFERROR(VLOOKUP(I1246,CIIU!A:B,2,0),\"\")","v":""}]
[null,null,null,null,null,null,null,null,null,{"$f":"IFERROR(VLOOKUP(I1247,CIIU!A:B,2,0),\"\")","v":""}]
[null,null,null,null,null,null,null,null,null,{"$f":"IFERROR(VLOOKUP(I1248,CIIU!A:B,2,0),\"\")","v":""}]
[null,null,null,null,null,null,null,null,null,{"$f":"IFERROR(VLOOKUP(I1249,CIIU!A:B,2,0),\"\")","v":""}]
[null,null,null,null,null,null,null,null,null,{"$f":"IFERROR(VLOOKUP(I1250,CIIU!A:B,2,0),\"\")","v":""}]
[null,null,null,null,null,null,null,null,null,{"$f":"IFERROR(VLOOKUP(I1251,CIIU!A:B,2,0),\"\")","v":""}]
[null,null,null,null,null,null,null,null,null,{"$f":"IFERROR(VLOOKUP(I1252,CIIU!A:B,2,0),\"\")","v":""}]
[null,null,null,null,null,null,null,null,null,{"$f":"IFERROR(VLOOKUP(I1253,CIIU!A:B,2,0),\"\")","v":""}]
[null,null,null,null,null,null,null,null,null,{"$f":"IFERROR(VLOOKUP(I1254,CIIU!A:B,2,0),\"\")","v":""}]
[null,null,null,null,null,null,null,null,null,{"$f":"IFERROR(VLOOKUP(I1255,CIIU!A:B,2,0),\"\")","v":""}]
[null,null,null,null,null,null,null,null,null,{"$f":"IFERROR(VLOOKUP(I1256,CIIU!A:B,2,0),\"\")","v":""}]
[null,null,null,null,null,null,null,null,null,{"$f":"IFERROR(VLOOKUP(I1257,CIIU!A:B,2,0),\"\")","v":""}]
[null,null,null,null,null,null,null,null,null,{"$f":"IFERROR(VLOOKUP(I1258,CIIU!A:B,2,0),\"\")","v":""}]
[null,null,null,null,null,null,null,null,null,{"$f":"IFERROR(VLOOKUP(I1259,CIIU!A:B,2,0),\"\")","v":""}]
[null,null,null,null,null,null,null,null,null,{"$f":"IFERROR(VLOOKUP(I1260,CIIU!A:B,2,0),\"\")","v":""}]
[null,null,null,null,null,null,null,null,null,{"$f":"IFERROR(VLOOKUP(I1261,CIIU!A:B,2,0),\"\")","v":""}]
[null,null,null,null,null,null,null,null,null,{"$f":"IFERROR(VLOOKUP(I1262,CIIU!A:B,2,0),\"\")","v":""}]
[null,null,null,null,null,null,null,null,null,{"$f":"IFERROR(VLOOKUP(I1263,CIIU!A:B,2,0),\"\")","v":""}]
[null,null,null,null,null,null,null,null,null,{"$f":"IFERROR(VLOOKUP(I1264,CIIU!A:B,2,0),\"\")","v":""}]
[null,null,null,null,null,null,null,null,null,{"$f":"IFERROR(VLOOKUP(I1265,CIIU!A:B,2,0),\"\")","v":""}]
[null,null,null,null,null,null,null,null,null,{"$f":"IFERROR(VLOOKUP(I1266,CIIU!A:B,2,0),\"\")","v":""}]
[null,null,null,null,null,null,null,null,null,{"$f":"IFERROR(VLOOKUP(I1267,CIIU!A:B,2,0),\"\")","v":""}]
[null,null,null,null,null,null,null,null,null,{"$f":"IFERROR(VLOOKUP(I1268,CIIU!A:B,2,0),\"\")","v":""}]
[null,null,null,null,null,null,null,null,null,{"$f":"IFERROR(VLOOKUP(I1269,CIIU!A:B,2,0),\"\")","v":""}]
[null,null,null,null,null,null,null,null,null,{"$f":"IFERROR(VLOOKUP(I1270,CIIU!A:B,2,0),\"\")","v":""}]
[null,null,null,null,null,null,null,null,null,{"$f":"IFERROR(VLOOKUP(I1271,CIIU!A:B,2,0),\"\")","v":""}]
[null,null,null,null,null,null,null,null,null,{"$f":"IFERROR(VLOOKUP(I1272,CIIU!A:B,2,0),\"\")","v":""}]
[null,null,null,null,null,null,null,null,null,{"$f":"IFERROR(VLOOKUP(I1273,CIIU!A:B,2,0),\"\")","v":""}]
[null,null,null,null,null,null,null,null,null,{"$f":"IFERROR(VLOOKUP(I1274,CIIU!A:B,2,0),\"\")","v":""}]
[null,null,null,null,null,null,null,null,null,{"$f":"IFERROR(VLOOKUP(I1275,CIIU!A:B,2,0),\"\")","v":""}]
[null,null,null,null,null,null,null,null,null,{"$f":"IFERROR(VLOOKUP(I1276,CIIU!A:B,2,0),\"\")","v":""}]
[null,null,null,null,null,null,null,null,null,{"$f":"IFERROR(VLOOKUP(I1277,CIIU!A:B,2,0),\"\")","v":""}]
[null,null,null,null,null,null,null,null,null,{"$f":"IFERROR(VLOOKUP(I1278,CIIU!A:B,2,0),\"\")","v":""}]
[null,null,null,null,null,null,null,null,null,{"$f":"IFERROR(VLOOKUP(I1279,CIIU!A:B,2,0),\"\")","v":""}]
[null,null,null,null,null,null,null,null,null,{"$f":"IFERROR(VLOOKUP(I1280,CIIU!A:B,2,0),\"\")","v":""}]
[null,null,null,null,null,null,null,null,null,{"$f":"IFERROR(VLOOKUP(I1281,CIIU!A:B,2,0),\"\")","v":""}]
[null,null,null,null,null,null,null,null,null,{"$f":"IFERROR(VLOOKUP(I1282,CIIU!A:B,2,0),\"\")","v":""}]
[null,null,null,null,null,null,null,null,null,{"$f":"IFERROR(VLOOKUP(I1283,CIIU!A:B,2,0),\"\")","v":""}]
[null,null,null,null,null,null,null,null,null,{"$f":"IFERROR(VLOOKUP(I1284,CIIU!A:B,2,0),\"\")","v":""}]
[null,null,null,null,null,null,null,null,null,{"$f":"IFERROR(VLOOKUP(I1285,CIIU!A:B,2,0),\"\")","v":""}]
[null,null,null,null,null,null,null,null,null,{"$f":"IFERROR(VLOOKUP(I1286,CIIU!A:B,2,0),\"\")","v":""}]
[null,null,null,null,null,null,null,null,null,{"$f":"IFERROR(VLOOKUP(I1287,CIIU!A:B,2,0),\"\")","v":""}]
[null,null,null,null,null,null,null,null,null,{"$f":"IFERROR(VLOOKUP(I1288,CIIU!A:B,2,0),\"\")","v":""}]
[null,null,null,null,null,null,null,null,null,{"$f":"IFERROR(VLOOKUP(I1289,CIIU!A:B,2,0),\"\")","v":""}]
[null,null,null,null,null,null,null,null,null,{"$f":"IFERROR(VLOOKUP(I1290,CIIU!A:B,2,0),\"\")","v":""}]
[null,null,null,null,null,null,null,null,null,{"$f":"IFERROR(VLOOKUP(I1291,CIIU!A:B,2,0),\"\")","v":""}]
[null,null,null,null,null,null,null,null,null,{"$f":"IFERROR(VLOOKUP(I1292,CIIU!A:B,2,0),\"\")","v":""}]
[null,null,null,null,null,null,null,null,null,{"$f":"IFERROR(VLOOKUP(I1293,CIIU!A:B,2,0),\"\")","v":""}]
[null,null,null,null,null,null,null,null,null,{"$f":"IFERROR(VLOOKUP(I1294,CIIU!A:B,2,0),\"\")","v":""}]
[null,null,null,null,null,null,null,null,null,{"$f":"IFERROR(VLOOKUP(I1295,CIIU!A:B,2,0),\"\")","v":""}]
[null,null,null,null,null,null,null,null,null,{"$f":"IFERROR(VLOOKUP(I1296,CIIU!A:B,2,0),\"\")","v":""}]
[null,null,null,null,null,null,null,null,null,{"$f":"IFERROR(VLOOKUP(I1297,CIIU!A:B,2,0),\"\")","v":""}]
[null,null,null,null,null,null,null,null,null,{"$f":"IFERROR(VLOOKUP(I1298,CIIU!A:B,2,0),\"\")","v":""}]
[null,null,null,null,null,null,null,null,null,{"$f":"IFERROR(VLOOKUP(I1299,CIIU!A:B,2,0),\"\")","v":""}]
[null,null,null,null,null,null,null,null,null,{"$f":"IFERROR(VLOOKUP(I1300,CIIU!A:B,2,0),\"\")","v":""}]
[null,null,null,null,null,null,null,null,null,{"$f":"IFERROR(VLOOKUP(I1301,CIIU!A:B,2,0),\"\")","v":""}]
[null,null,null,null,null,null,null,null,null,{"$f":"IFERROR(VLOOKUP(I1302,CIIU!A:B,2,0),\"\")","v":""}]
[null,null,null,null,null,null,null,null,null,{"$f":"IFERROR(VLOOKUP(I1303,CIIU!A:B,2,0),\"\")","v":""}]
[null,null,null,null,null,null,null,null,null,{"$f":"IFERROR(VLOOKUP(I1304,CIIU!A:B,2,0),\"\")","v":""}]
[null,null,null,null,null,null,null,null,null,{"$f":"IFERROR(VLOOKUP(I1305,CIIU!A:B,2,0),\"\")","v":""}]
[null,null,null,null,null,null,null,null,null,{"$f":"IFERROR(VLOOKUP(I1306,CIIU!A:B,2,0),\"\")","v":""}]
[null,null,null,null,null,null,null,null,null,{"$f":"IFERROR(VLOOKUP(I1307,CIIU!A:B,2,0),\"\")","v":""}]
[null,null,null,null,null,null,null,null,null,{"$f":"IFERROR(VLOOKUP(I1308,CIIU!A:B,2,0),\"\")","v":""}]
[null,null,null,null,null,null,null,null,null,{"$f":"IFERROR(VLOOKUP(I1309,CIIU!A:B,2,0),\"\")","v":""}]
[null,null,null,null,null,null,null,null,null,{"$f":"IFERROR(VLOOKUP(I1310,CIIU!A:B,2,0),\"\")","v":""}]
[null,null,null,null,null,null,null,null,null,{"$f":"IFERROR(VLOOKUP(I1311,CIIU!A:B,2,0),\"\")","v":""}]
[null,null,null,null,null,null,null,null,null,{"$f":"IFERROR(VLOOKUP(I1312,CIIU!A:B,2,0),\"\")","v":""}]
[null,null,null,null,null,null,null,null,null,{"$f":"IFERROR(VLOOKUP(I1313,CIIU!A:B,2,0),\"\")","v":""}]
[null,null,null,null,null,null,null,null,null,{"$f":"IFERROR(VLOOKUP(I1314,CIIU!A:B,2,0),\"\")","v":""}]
[null,null,null,null,null,null,null,null,null,{"$f":"IFERROR(VLOOKUP(I1315,CIIU!A:B,2,0),\"\")","v":""}]
[null,null,null,null,null,null,null,null,null,{"$f":"IFERROR(VLOOKUP(I1316,CIIU!A:B,2,0),\"\")","v":""}]
[null,null,null,null,null,null,null,null,null,{"$f":"IFERROR(VLOOKUP(I1317,CIIU!A:B,2,0),\"\")","v":""}]
[null,null,null,null,null,null,null,null,null,{"$f":"IFERROR(VLOOKUP(I1318,CIIU!A:B,2,0),\"\")","v":""}]
[null,null,null,null,null,null,null,null,null,{"$f":"IFERROR(VLOOKUP(I1319,CIIU!A:B,2,0),\"\")","v":""}]
[null,null,null,null,null,null,null,null,null,{"$f":"IFERROR(VLOOKUP(I1320,CIIU!A:B,2,0),\"\")","v":""}]
[null,null,null,null,null,null,null,null,null,{"$f":"IFERROR(VLOOKUP(I1321,CIIU!A:B,2,0),\"\")","v":""}]
[null,null,null,null,null,null,null,null,null,{"$f":"IFERROR(VLOOKUP(I1322,CIIU!A:B,2,0),\"\")","v":""}]
[null,null,null,null,null,null,null,null,null,{"$f":"IFERROR(VLOOKUP(I1323,CIIU!A:B,2,0),\"\")","v":""}]
[null,null,null,null,null,null,null,null,null,{"$f":"IFERROR(VLOOKUP(I1324,CIIU!A:B,2,0),\"\")","v":""}]
[null,null,null,null,null,null,null,null,null,{"$f":"IFERROR(VLOOKUP(I1325,CIIU!A:B,2,0),\"\")","v":""}]
[null,null,null,null,null,null,null,null,null,{"$f":"IFERROR(VLOOKUP(I1326,CIIU!A:B,2,0),\"\")","v":""}]
[null,null,null,null,null,null,null,null,null,{"$f":"IFERROR(VLOOKUP(I1327,CIIU!A:B,2,0),\"\")","v":""}]
[null,null,null,null,null,null,null,null,null,{"$f":"IFERROR(VLOOKUP(I1328,CIIU!A:B,2,0),\"\")","v":""}]
[null,null,null,null,null,null,null,null,null,{"$f":"IFERROR(VLOOKUP(I1329,CIIU!A:B,2,0),\"\")","v":""}]
[null,null,null,null,null,null,null,null,null,{"$f":"IFERROR(VLOOKUP(I1330,CIIU!A:B,2,0),\"\")","v":""}]
[null,null,null,null,null,null,null,null,null,{"$f":"IFERROR(VLOOKUP(I1331,CIIU!A:B,2,0),\"\")","v":""}]
[null,null,null,null,null,null,null,null,null,{"$f":"IFERROR(VLOOKUP(I1332,CIIU!A:B,2,0),\"\")","v":""}]
[null,null,null,null,null,null,null,null,null,{"$f":"IFERROR(VLOOKUP(I1333,CIIU!A:B,2,0),\"\")","v":""}]
[null,null,null,null,null,null,null,null,null,{"$f":"IFERROR(VLOOKUP(I1334,CIIU!A:B,2,0),\"\")","v":""}]
[null,null,null,null,null,null,null,null,null,{"$f":"IFERROR(VLOOKUP(I1335,CIIU!A:B,2,0),\"\")","v":""}]
[null,null,null,null,null,null,null,null,null,{"$f":"IFERROR(VLOOKUP(I1336,CIIU!A:B,2,0),\"\")","v":""}]
[null,null,null,null,null,null,null,null,null,{"$f":"IFERROR(VLOOKUP(I1337,CIIU!A:B,2,0),\"\")","v":""}]
[null,null,null,null,null,null,null,null,null,{"$f":"IFERROR(VLOOKUP(I1338,CIIU!A:B,2,0),\"\")","v":""}]
[null,null,null,null,null,null,null,null,null,{"$f":"IFERROR(VLOOKUP(I1339,CIIU!A:B,2,0),\"\")","v":""}]
[null,null,null,null,null,null,null,null,null,{"$f":"IFERROR(VLOOKUP(I1340,CIIU!A:B,2,0),\"\")","v":""}]
[null,null,null,null,null,null,null,null,null,{"$f":"IFERROR(VLOOKUP(I1341,CIIU!A:B,2,0),\"\")","v":""}]
[null,null,null,null,null,null,null,null,null,{"$f":"IFERROR(VLOOKUP(I1342,CIIU!A:B,2,0),\"\")","v":""}]
[null,null,null,null,null,null,null,null,null,{"$f":"IFERROR(VLOOKUP(I1343,CIIU!A:B,2,0),\"\")","v":""}]
[null,null,null,null,null,null,null,null,null,{"$f":"IFERROR(VLOOKUP(I1344,CIIU!A:B,2,0),\"\")","v":""}]
[null,null,null,null,null,null,null,null,null,{"$f":"IFERROR(VLOOKUP(I1345,CIIU!A:B,2,0),\"\")","v":""}]
[null,null,null,null,null,null,null,null,null,{"$f":"IFERROR(VLOOKUP(I1346,CIIU!A:B,2,0),\"\")","v":""}]
[null,null,null,null,null,null,null,null,null,{"$f":"IFERROR(VLOOKUP(I1347,CIIU!A:B,2,0),\"\")","v":""}]
[null,null,null,null,null,null,null,null,null,{"$f":"IFERROR(VLOOKUP(I1348,CIIU!A:B,2,0),\"\")","v":""}]
[null,null,null,null,null,null,null,null,null,{"$f":"IFERROR(VLOOKUP(I1349,CIIU!A:B,2,0),\"\")","v":""}]
[null,null,null,null,null,null,null,null,null,{"$f":"IFERROR(VLOOKUP(I1350,CIIU!A:B,2,0),\"\")","v":""}]
[null,null,null,null,null,null,null,null,null,{"$f":"IFERROR(VLOOKUP(I1351,CIIU!A:B,2,0),\"\")","v":""}]
[null,null,null,null,null,null,null,null,null,{"$f":"IFERROR(VLOOKUP(I1352,CIIU!A:B,2,0),\"\")","v":""}]
[null,null,null,null,null,null,null,null,null,{"$f":"IFERROR(VLOOKUP(I1353,CIIU!A:B,2,0),\"\")","v":""}]
[null,null,null,null,null,null,null,null,null,{"$f":"IFERROR(VLOOKUP(I1354,CIIU!A:B,2,0),\"\")","v":""}]
[null,null,null,null,null,null,null,null,null,{"$f":"IFERROR(VLOOKUP(I1355,CIIU!A:B,2,0),\"\")","v":""}]
[null,null,null,null,null,null,null,null,null,{"$f":"IFERROR(VLOOKUP(I1356,CIIU!A:B,2,0),\"\")","v":""}]
[null,null,null,null,null,null,null,null,null,{"$f":"IFERROR(VLOOKUP(I1357,CIIU!A:B,2,0),\"\")","v":""}]
[null,null,null,null,null,null,null,null,null,{"$f":"IFERROR(VLOOKUP(I1358,CIIU!A:B,2,0),\"\")","v":""}]
[null,null,null,null,null,null,null,null,null,{"$f":"IFERROR(VLOOKUP(I1359,CIIU!A:B,2,0),\"\")","v":""}]
[null,null,null,null,null,null,null,null,null,{"$f":"IFERROR(VLOOKUP(I1360,CIIU!A:B,2,0),\"\")","v":""}]
[null,null,null,null,null,null,null,null,null,{"$f":"IFERROR(VLOOKUP(I1361,CIIU!A:B,2,0),\"\")","v":""}]
[null,null,null,null,null,null,null,null,null,{"$f":"IFERROR(VLOOKUP(I1362,CIIU!A:B,2,0),\"\")","v":""}]
[null,null,null,null,null,null,null,null,null,{"$f":"IFERROR(VLOOKUP(I1363,CIIU!A:B,2,0),\"\")","v":""}]
[null,null,null,null,null,null,null,null,null,{"$f":"IFERROR(VLOOKUP(I1364,CIIU!A:B,2,0),\"\")","v":""}]
[null,null,null,null,null,null,null,null,null,{"$f":"IFERROR(VLOOKUP(I1365,CIIU!A:B,2,0),\"\")","v":""}]
[null,null,null,null,null,null,null,null,null,{"$f":"IFERROR(VLOOKUP(I1366,CIIU!A:B,2,0),\"\")","v":""}]
[null,null,null,null,null,null,null,null,null,{"$f":"IFERROR(VLOOKUP(I1367,CIIU!A:B,2,0),\"\")","v":""}]
[null,null,null,null,null,null,null,null,null,{"$f":"IFERROR(VLOOKUP(I1368,CIIU!A:B,2,0),\"\")","v":""}]
[null,null,null,null,null,null,null,null,null,{"$f":"IFERROR(VLOOKUP(I1369,CIIU!A:B,2,0),\"\")","v":""}]
[null,null,null,null,null,null,null,null,null,{"$f":"IFERROR(VLOOKUP(I1370,CIIU!A:B,2,0),\"\")","v":""}]
[null,null,null,null,null,null,null,null,null,{"$f":"IFERROR(VLOOKUP(I1371,CIIU!A:B,2,0),\"\")","v":""}]
[null,null,null,null,null,null,null,null,null,{"$f":"IFERROR(VLOOKUP(I1372,CIIU!A:B,2,0),\"\")","v":""}]
[null,null,null,null,null,null,null,null,null,{"$f":"IFERROR(VLOOKUP(I1373,CIIU!A:B,2,0),\"\")","v":""}]
[null,null,null,null,null,null,null,null,null,{"$f":"IFERROR(VLOOKUP(I1374,CIIU!A:B,2,0),\"\")","v":""}]
[null,null,null,null,null,null,null,null,null,{"$f":"IFERROR(VLOOKUP(I1375,CIIU!A:B,2,0),\"\")","v":""}]
[null,null,null,null,null,null,null,null,null,{"$f":"IFERROR(VLOOKUP(I1376,CIIU!A:B,2,0),\"\")","v":""}]
[null,null,null,null,null,null,null,null,null,{"$f":"IFERROR(VLOOKUP(I1377,CIIU!A:B,2,0),\"\")","v":""}]
[null,null,null,null,null,null,null,null,null,{"$f":"IFERROR(VLOOKUP(I1378,CIIU!A:B,2,0),\"\")","v":""}]
[null,null,null,null,null,null,null,null,null,{"$f":"IFERROR(VLOOKUP(I1379,CIIU!A:B,2,0),\"\")","v":""}]
[null,null,null,null,null,null,null,null,null,{"$f":"IFERROR(VLOOKUP(I1380,CIIU!A:B,2,0),\"\")","v":""}]
[null,null,null,null,null,null,null,null,null,{"$f":"IFERROR(VLOOKUP(I1381,CIIU!A:B,2,0),\"\")","v":""}]
[null,null,null,null,null,null,null,null,null,{"$f":"IFERROR(VLOOKUP(I1382,CIIU!A:B,2,0),\"\")","v":""}]
[null,null,null,null,null,null,null,null,null,{"$f":"IFERROR(VLOOKUP(I1383,CIIU!A:B,2,0),\"\")","v":""}]
[null,null,null,null,null,null,null,null,null,{"$f":"IFERROR(VLOOKUP(I1384,CIIU!A:B,2,0),\"\")","v":""}]
[null,null,null,null,null,null,null,null,null,{"$f":"IFERROR(VLOOKUP(I1385,CIIU!A:B,2,0),\"\")","v":""}]
[null,null,null,null,null,null,null,null,null,{"$f":"IFERROR(VLOOKUP(I1386,CIIU!A:B,2,0),\"\")","v":""}]
[null,null,null,null,null,null,null,null,null,{"$f":"IFERROR(VLOOKUP(I1387,CIIU!A:B,2,0),\"\")","v":""}]
[null,null,null,null,null,null,null,null,null,{"$f":"IFERROR(VLOOKUP(I1388,CIIU!A:B,2,0),\"\")","v":""}]
[null,null,null,null,null,null,null,null,null,{"$f":"IFERROR(VLOOKUP(I1389,CIIU!A:B,2,0),\"\")","v":""}]
[null,null,null,null,null,null,null,null,null,{"$f":"IFERROR(VLOOKUP(I1390,CIIU!A:B,2,0),\"\")","v":""}]
[null,null,null,null,null,null,null,null,null,{"$f":"IFERROR(VLOOKUP(I1391,CIIU!A:B,2,0),\"\")","v":""}]
[null,null,null,null,null,null,null,null,null,{"$f":"IFERROR(VLOOKUP(I1392,CIIU!A:B,2,0),\"\")","v":""}]
[null,null,null,null,null,null,null,null,null,{"$f":"IFERROR(VLOOKUP(I1393,CIIU!A:B,2,0),\"\")","v":""}]
[null,null,null,null,null,null,null,null,null,{"$f":"IFERROR(VLOOKUP(I1394,CIIU!A:B,2,0),\"\")","v":""}]
[null,null,null,null,null,null,null,null,null,{"$f":"IFERROR(VLOOKUP(I1395,CIIU!A:B,2,0),\"\")","v":""}]
[null,null,null,null,null,null,null,null,null,{"$f":"IFERROR(VLOOKUP(I1396,CIIU!A:B,2,0),\"\")","v":""}]
[null,null,null,null,null,null,null,null,null,{"$f":"IFERROR(VLOOKUP(I1397,CIIU!A:B,2,0),\"\")","v":""}]
[null,null,null,null,null,null,null,null,null,{"$f":"IFERROR(VLOOKUP(I1398,CIIU!A:B,2,0),\"\")","v":""}]
[null,null,null,null,null,null,null,null,null,{"$f":"IFERROR(VLOOKUP(I1399,CIIU!A:B,2,0),\"\")","v":""}]
[null,null,null,null,null,null,null,null,null,{"$f":"IFERROR(VLOOKUP(I1400,CIIU!A:B,2,0),\"\")","v":""}]
[null,null,null,null,null,null,null,null,null,{"$f":"IFERROR(VLOOKUP(I1401,CIIU!A:B,2,0),\"\")","v":""}]
[null,null,null,null,null,null,null,null,null,{"$f":"IFERROR(VLOOKUP(I1402,CIIU!A:B,2,0),\"\")","v":""}]
[null,null,null,null,null,null,null,null,null,{"$f":"IFERROR(VLOOKUP(I1403,CIIU!A:B,2,0),\"\")","v":""}]
[null,null,null,null,null,null,null,null,null,{"$f":"IFERROR(VLOOKUP(I1404,CIIU!A:B,2,0),\"\")","v":""}]
[null,null,null,null,null,null,null,null,null,{"$f":"IFERROR(VLOOKUP(I1405,CIIU!A:B,2,0),\"\")","v":""}]
[null,null,null,null,null,null,null,null,null,{"$f":"IFERROR(VLOOKUP(I1406,CIIU!A:B,2,0),\"\")","v":""}]
[null,null,null,null,null,null,null,null,null,{"$f":"IFERROR(VLOOKUP(I1407,CIIU!A:B,2,0),\"\")","v":""}]
[null,null,null,null,null,null,null,null,null,{"$f":"IFERROR(VLOOKUP(I1408,CIIU!A:B,2,0),\"\")","v":""}]
[null,null,null,null,null,null,null,null,null,{"$f":"IFERROR(VLOOKUP(I1409,CIIU!A:B,2,0),\"\")","v":""}]
[null,null,null,null,null,null,null,null,null,{"$f":"IFERROR(VLOOKUP(I1410,CIIU!A:B,2,0),\"\")","v":""}]
[null,null,null,null,null,null,null,null,null,{"$f":"IFERROR(VLOOKUP(I1411,CIIU!A:B,2,0),\"\")","v":""}]
[null,null,null,null,null,null,null,null,null,{"$f":"IFERROR(VLOOKUP(I1412,CIIU!A:B,2,0),\"\")","v":""}]
[null,null,null,null,null,null,null,null,null,{"$f":"IFERROR(VLOOKUP(I1413,CIIU!A:B,2,0),\"\")","v":""}]
[null,null,null,null,null,null,null,null,null,{"$f":"IFERROR(VLOOKUP(I1414,CIIU!A:B,2,0),\"\")","v":""}]
[null,null,null,null,null,null,null,null,null,{"$f":"IFERROR(VLOOKUP(I1415,CIIU!A:B,2,0),\"\")","v":""}]
[null,null,null,null,null,null,null,null,null,{"$f":"IFERROR(VLOOKUP(I1416,CIIU!A:B,2,0),\"\")","v":""}]
[null,null,null,null,null,null,null,null,null,{"$f":"IFERROR(VLOOKUP(I1417,CIIU!A:B,2,0),\"\")","v":""}]
[null,null,null,null,null,null,null,null,null,{"$f":"IFERROR(VLOOKUP(I1418,CIIU!A:B,2,0),\"\")","v":""}]
[null,null,null,null,null,null,null,null,null,{"$f":"IFERROR(VLOOKUP(I1419,CIIU!A:B,2,0),\"\")","v":""}]
[null,null,null,null,null,null,null,null,null,{"$f":"IFERROR(VLOOKUP(I1420,CIIU!A:B,2,0),\"\")","v":""}]
[null,null,null,null,null,null,null,null,null,{"$f":"IFERROR(VLOOKUP(I1421,CIIU!A:B,2,0),\"\")","v":""}]
[null,null,null,null,null,null,null,null,null,{"$f":"IFERROR(VLOOKUP(I1422,CIIU!A:B,2,0),\"\")","v":""}]
[null,null,null,null,null,null,null,null,null,{"$f":"IFERROR(VLOOKUP(I1423,CIIU!A:B,2,0),\"\")","v":""}]
[null,null,null,null,null,null,null,null,null,{"$f":"IFERROR(VLOOKUP(I1424,CIIU!A:B,2,0),\"\")","v":""}]
[null,null,null,null,null,null,null,null,null,{"$f":"IFERROR(VLOOKUP(I1425,CIIU!A:B,2,0),\"\")","v":""}]
[null,null,null,null,null,null,null,null,null,{"$f":"IFERROR(VLOOKUP(I1426,CIIU!A:B,2,0),\"\")","v":""}]
[null,null,null,null,null,null,null,null,null,{"$f":"IFERROR(VLOOKUP(I1427,CIIU!A:B,2,0),\"\")","v":""}]
[null,null,null,null,null,null,null,null,null,{"$f":"IFERROR(VLOOKUP(I1428,CIIU!A:B,2,0),\"\")","v":""}]
[null,null,null,null,null,null,null,null,null,{"$f":"IFERROR(VLOOKUP(I1429,CIIU!A:B,2,0),\"\")","v":""}]
[null,null,null,null,null,null,null,null,null,{"$f":"IFERROR(VLOOKUP(I1430,CIIU!A:B,2,0),\"\")","v":""}]
[null,null,null,null,null,null,null,null,null,{"$f":"IFERROR(VLOOKUP(I1431,CIIU!A:B,2,0),\"\")","v":""}]
[null,null,null,null,null,null,null,null,null,{"$f":"IFERROR(VLOOKUP(I1432,CIIU!A:B,2,0),\"\")","v":""}]
[null,null,null,null,null,null,null,null,null,{"$f":"IFERROR(VLOOKUP(I1433,CIIU!A:B,2,0),\"\")","v":""}]
[null,null,null,null,null,null,null,null,null,{"$f":"IFERROR(VLOOKUP(I1434,CIIU!A:B,2,0),\"\")","v":""}]
[null,null,null,null,null,null,null,null,null,{"$f":"IFERROR(VLOOKUP(I1435,CIIU!A:B,2,0),\"\")","v":""}]
[null,null,null,null,null,null,null,null,null,{"$f":"IFERROR(VLOOKUP(I1436,CIIU!A:B,2,0),\"\")","v":""}]
[null,null,null,null,null,null,null,null,null,{"$f":"IFERROR(VLOOKUP(I1437,CIIU!A:B,2,0),\"\")","v":""}]
[null,null,null,null,null,null,null,null,null,{"$f":"IFERROR(VLOOKUP(I1438,CIIU!A:B,2,0),\"\")","v":""}]
[null,null,null,null,null,null,null,null,null,{"$f":"IFERROR(VLOOKUP(I1439,CIIU!A:B,2,0),\"\")","v":""}]
[null,null,null,null,null,null,null,null,null,{"$f":"IFERROR(VLOOKUP(I1440,CIIU!A:B,2,0),\"\")","v":""}]
[null,null,null,null,null,null,null,null,null,{"$f":"IFERROR(VLOOKUP(I1441,CIIU!A:B,2,0),\"\")","v":""}]
[null,null,null,null,null,null,null,null,null,{"$f":"IFERROR(VLOOKUP(I1442,CIIU!A:B,2,0),\"\")","v":""}]
[null,null,null,null,null,null,null,null,null,{"$f":"IFERROR(VLOOKUP(I1443,CIIU!A:B,2,0),\"\")","v":""}]
[null,null,null,null,null,null,null,null,null,{"$f":"IFERROR(VLOOKUP(I1444,CIIU!A:B,2,0),\"\")","v":""}]
[null,null,null,null,null,null,null,null,null,{"$f":"IFERROR(VLOOKUP(I1445,CIIU!A:B,2,0),\"\")","v":""}]
[null,null,null,null,null,null,null,null,null,{"$f":"IFERROR(VLOOKUP(I1446,CIIU!A:B,2,0),\"\")","v":""}]
[null,null,null,null,null,null,null,null,null,{"$f":"IFERROR(VLOOKUP(I1447,CIIU!A:B,2,0),\"\")","v":""}]
[null,null,null,null,null,null,null,null,null,{"$f":"IFERROR(VLOOKUP(I1448,CIIU!A:B,2,0),\"\")","v":""}]
[null,null,null,null,null,null,null,null,null,{"$f":"IFERROR(VLOOKUP(I1449,CIIU!A:B,2,0),\"\")","v":""}]
[null,null,null,null,null,null,null,null,null,{"$f":"IFERROR(VLOOKUP(I1450,CIIU!A:B,2,0),\"\")","v":""}]
[null,null,null,null,null,null,null,null,null,{"$f":"IFERROR(VLOOKUP(I1451,CIIU!A:B,2,0),\"\")","v":""}]
[null,null,null,null,null,null,null,null,null,{"$f":"IFERROR(VLOOKUP(I1452,CIIU!A:B,2,0),\"\")","v":""}]
[null,null,null,null,null,null,null,null,null,{"$f":"IFERROR(VLOOKUP(I1453,CIIU!A:B,2,0),\"\")","v":""}]
[null,null,null,null,null,null,null,null,null,{"$f":"IFERROR(VLOOKUP(I1454,CIIU!A:B,2,0),\"\")","v":""}]
[null,null,null,null,null,null,null,null,null,{"$f":"IFERROR(VLOOKUP(I1455,CIIU!A:B,2,0),\"\")","v":""}]
[null,null,null,null,null,null,null,null,null,{"$f":"IFERROR(VLOOKUP(I1456,CIIU!A:B,2,0),\"\")","v":""}]
[null,null,null,null,null,null,null,null,null,{"$f":"IFERROR(VLOOKUP(I1457,CIIU!A:B,2,0),\"\")","v":""}]
[null,null,null,null,null,null,null,null,null,{"$f":"IFERROR(VLOOKUP(I1458,CIIU!A:B,2,0),\"\")","v":""}]
[null,null,null,null,null,null,null,null,null,{"$f":"IFERROR(VLOOKUP(I1459,CIIU!A:B,2,0),\"\")","v":""}]
[null,null,null,null,null,null,null,null,null,{"$f":"IFERROR(VLOOKUP(I1460,CIIU!A:B,2,0),\"\")","v":""}]
[null,null,null,null,null,null,null,null,null,{"$f":"IFERROR(VLOOKUP(I1461,CIIU!A:B,2,0),\"\")","v":""}]
[null,null,null,null,null,null,null,null,null,{"$f":"IFERROR(VLOOKUP(I1462,CIIU!A:B,2,0),\"\")","v":""}]
[null,null,null,null,null,null,null,null,null,{"$f":"IFERROR(VLOOKUP(I1463,CIIU!A:B,2,0),\"\")","v":""}]
[null,null,null,null,null,null,null,null,null,{"$f":"IFERROR(VLOOKUP(I1464,CIIU!A:B,2,0),\"\")","v":""}]
[null,null,null,null,null,null,null,null,null,{"$f":"IFERROR(VLOOKUP(I1465,CIIU!A:B,2,0),\"\")","v":""}]
[null,null,null,null,null,null,null,null,null,{"$f":"IFERROR(VLOOKUP(I1466,CIIU!A:B,2,0),\"\")","v":""}]
[null,null,null,null,null,null,null,null,null,{"$f":"IFERROR(VLOOKUP(I1467,CIIU!A:B,2,0),\"\")","v":""}]
[null,null,null,null,null,null,null,null,null,{"$f":"IFERROR(VLOOKUP(I1468,CIIU!A:B,2,0),\"\")","v":""}]
[null,null,null,null,null,null,null,null,null,{"$f":"IFERROR(VLOOKUP(I1469,CIIU!A:B,2,0),\"\")","v":""}]
[null,null,null,null,null,null,null,null,null,{"$f":"IFERROR(VLOOKUP(I1470,CIIU!A:B,2,0),\"\")","v":""}]
[null,null,null,null,null,null,null,null,null,{"$f":"IFERROR(VLOOKUP(I1471,CIIU!A:B,2,0),\"\")","v":""}]
[null,null,null,null,null,null,null,null,null,{"$f":"IFERROR(VLOOKUP(I1472,CIIU!A:B,2,0),\"\")","v":""}]
[null,null,null,null,null,null,null,null,null,{"$f":"IFERROR(VLOOKUP(I1473,CIIU!A:B,2,0),\"\")","v":""}]
[null,null,null,null,null,null,null,null,null,{"$f":"IFERROR(VLOOKUP(I1474,CIIU!A:B,2,0),\"\")","v":""}]
[null,null,null,null,null,null,null,null,null,{"$f":"IFERROR(VLOOKUP(I1475,CIIU!A:B,2,0),\"\")","v":""}]
[null,null,null,null,null,null,null,null,null,{"$f":"IFERROR(VLOOKUP(I1476,CIIU!A:B,2,0),\"\")","v":""}]
[null,null,null,null,null,null,null,null,null,{"$f":"IFERROR(VLOOKUP(I1477,CIIU!A:B,2,0),\"\")","v":""}]
[null,null,null,null,null,null,null,null,null,{"$f":"IFERROR(VLOOKUP(I1478,CIIU!A:B,2,0),\"\")","v":""}]
[null,null,null,null,null,null,null,null,null,{"$f":"IFERROR(VLOOKUP(I1479,CIIU!A:B,2,0),\"\")","v":""}]
[null,null,null,null,null,null,null,null,null,{"$f":"IFERROR(VLOOKUP(I1480,CIIU!A:B,2,0),\"\")","v":""}]
[null,null,null,null,null,null,null,null,null,{"$f":"IFERROR(VLOOKUP(I1481,CIIU!A:B,2,0),\"\")","v":""}]
[null,null,null,null,null,null,null,null,null,{"$f":"IFERROR(VLOOKUP(I1482,CIIU!A:B,2,0),\"\")","v":""}]
[null,null,null,null,null,null,null,null,null,{"$f":"IFERROR(VLOOKUP(I1483,CIIU!A:B,2,0),\"\")","v":""}]
[null,null,null,null,null,null,null,null,null,{"$f":"IFERROR(VLOOKUP(I1484,CIIU!A:B,2,0),\"\")","v":""}]
[null,null,null,null,null,null,null,null,null,{"$f":"IFERROR(VLOOKUP(I1485,CIIU!A:B,2,0),\"\")","v":""}]
[null,null,null,null,null,null,null,null,null,{"$f":"IFERROR(VLOOKUP(I1486,CIIU!A:B,2,0),\"\")","v":""}]
[null,null,null,null,null,null,null,null,null,{"$f":"IFERROR(VLOOKUP(I1487,CIIU!A:B,2,0),\"\")","v":""}]
[null,null,null,null,null,null,null,null,null,{"$f":"IFERROR(VLOOKUP(I1488,CIIU!A:B,2,0),\"\")","v":""}]
[null,null,null,null,null,null,null,null,null,{"$f":"IFERROR(VLOOKUP(I1489,CIIU!A:B,2,0),\"\")","v":""}]
[null,null,null,null,null,null,null,null,null,{"$f":"IFERROR(VLOOKUP(I1490,CIIU!A:B,2,0),\"\")","v":""}]
[null,null,null,null,null,null,null,null,null,{"$f":"IFERROR(VLOOKUP(I1491,CIIU!A:B,2,0),\"\")","v":""}]
[null,null,null,null,null,null,null,null,null,{"$f":"IFERROR(VLOOKUP(I1492,CIIU!A:B,2,0),\"\")","v":""}]
[null,null,null,null,null,null,null,null,null,{"$f":"IFERROR(VLOOKUP(I1493,CIIU!A:B,2,0),\"\")","v":""}]
[null,null,null,null,null,null,null,null,null,{"$f":"IFERROR(VLOOKUP(I1494,CIIU!A:B,2,0),\"\")","v":""}]
[null,null,null,null,null,null,null,null,null,{"$f":"IFERROR(VLOOKUP(I1495,CIIU!A:B,2,0),\"\")","v":""}]
[null,null,null,null,null,null,null,null,null,{"$f":"IFERROR(VLOOKUP(I1496,CIIU!A:B,2,0),\"\")","v":""}]
[null,null,null,null,null,null,null,null,null,{"$f":"IFERROR(VLOOKUP(I1497,CIIU!A:B,2,0),\"\")","v":""}]
[null,null,null,null,null,null,null,null,null,{"$f":"IFERROR(VLOOKUP(I1498,CIIU!A:B,2,0),\"\")","v":""}]
[null,null,null,null,null,null,null,null,null,{"$f":"IFERROR(VLOOKUP(I1499,CIIU!A:B,2,0),\"\")","v":""}]
[null,null,null,null,null,null,null,null,null,{"$f":"IFERROR(VLOOKUP(I1500,CIIU!A:B,2,0),\"\")","v":""}]
[null,null,null,null,null,null,null,null,null,{"$f":"IFERROR(VLOOKUP(I1501,CIIU!A:B,2,0),\"\")","v":""}]
[null,null,null,null,null,null,null,null,null,{"$f":"IFERROR(VLOOKUP(I1502,CIIU!A:B,2,0),\"\")","v":""}]
[null,null,null,null,null,null,null,null,null,{"$f":"IFERROR(VLOOKUP(I1503,CIIU!A:B,2,0),\"\")","v":""}]
[null,null,null,null,null,null,null,null,null,{"$f":"IFERROR(VLOOKUP(I1504,CIIU!A:B,2,0),\"\")","v":""}]
[null,null,null,null,null,null,null,null,null,{"$f":"IFERROR(VLOOKUP(I1505,CIIU!A:B,2,0),\"\")","v":""}]
[null,null,null,null,null,null,null,null,null,{"$f":"IFERROR(VLOOKUP(I1506,CIIU!A:B,2,0),\"\")","v":""}]
[null,null,null,null,null,null,null,null,null,{"$f":"IFERROR(VLOOKUP(I1507,CIIU!A:B,2,0),\"\")","v":""}]
[null,null,null,null,null,null,null,null,null,{"$f":"IFERROR(VLOOKUP(I1508,CIIU!A:B,2,0),\"\")","v":""}]
[null,null,null,null,null,null,null,null,null,{"$f":"IFERROR(VLOOKUP(I1509,CIIU!A:B,2,0),\"\")","v":""}]
[null,null,null,null,null,null,null,null,null,{"$f":"IFERROR(VLOOKUP(I1510,CIIU!A:B,2,0),\"\")","v":""}]
[null,null,null,null,null,null,null,null,null,{"$f":"IFERROR(VLOOKUP(I1511,CIIU!A:B,2,0),\"\")","v":""}]
[null,null,null,null,null,null,null,null,null,{"$f":"IFERROR(VLOOKUP(I1512,CIIU!A:B,2,0),\"\")","v":""}]
[null,null,null,null,null,null,null,null,null,{"$f":"IFERROR(VLOOKUP(I1513,CIIU!A:B,2,0),\"\")","v":""}]
[null,null,null,null,null,null,null,null,null,{"$f":"IFERROR(VLOOKUP(I1514,CIIU!A:B,2,0),\"\")","v":""}]
[null,null,null,null,null,null,null,null,null,{"$f":"IFERROR(VLOOKUP(I1515,CIIU!A:B,2,0),\"\")","v":""}]
[null,null,null,null,null,null,null,null,null,{"$f":"IFERROR(VLOOKUP(I1516,CIIU!A:B,2,0),\"\")","v":""}]
[null,null,null,null,null,null,null,null,null,{"$f":"IFERROR(VLOOKUP(I1517,CIIU!A:B,2,0),\"\")","v":""}]
[null,null,null,null,null,null,null,null,null,{"$f":"IFERROR(VLOOKUP(I1518,CIIU!A:B,2,0),\"\")","v":""}]
[null,null,null,null,null,null,null,null,null,{"$f":"IFERROR(VLOOKUP(I1519,CIIU!A:B,2,0),\"\")","v":""}]
[null,null,null,null,null,null,null,null,null,{"$f":"IFERROR(VLOOKUP(I1520,CIIU!A:B,2,0),\"\")","v":""}]
[null,null,null,null,null,null,null,null,null,{"$f":"IFERROR(VLOOKUP(I1521,CIIU!A:B,2,0),\"\")","v":""}]
[null,null,null,null,null,null,null,null,null,{"$f":"IFERROR(VLOOKUP(I1522,CIIU!A:B,2,0),\"\")","v":""}]
[null,null,null,null,null,null,null,null,null,{"$f":"IFERROR(VLOOKUP(I1523,CIIU!A:B,2,0),\"\")","v":""}]
[null,null,null,null,null,null,null,null,null,{"$f":"IFERROR(VLOOKUP(I1524,CIIU!A:B,2,0),\"\")","v":""}]
[null,null,null,null,null,null,null,null,null,{"$f":"IFERROR(VLOOKUP(I1525,CIIU!A:B,2,0),\"\")","v":""}]
[null,null,null,null,null,null,null,null,null,{"$f":"IFERROR(VLOOKUP(I1526,CIIU!A:B,2,0),\"\")","v":""}]
[null,null,null,null,null,null,null,null,null,{"$f":"IFERROR(VLOOKUP(I1527,CIIU!A:B,2,0),\"\")","v":""}]
[null,null,null,null,null,null,null,null,null,{"$f":"IFERROR(VLOOKUP(I1528,CIIU!A:B,2,0),\"\")","v":""}]
[null,null,null,null,null,null,null,null,null,{"$f":"IFERROR(VLOOKUP(I1529,CIIU!A:B,2,0),\"\")","v":""}]
[null,null,null,null,null,null,null,null,null,{"$f":"IFERROR(VLOOKUP(I1530,CIIU!A:B,2,0),\"\")","v":""}]
[null,null,null,null,null,null,null,null,null,{"$f":"IFERROR(VLOOKUP(I1531,CIIU!A:B,2,0),\"\")","v":""}]
[null,null,null,null,null,null,null,null,null,{"$f":"IFERROR(VLOOKUP(I1532,CIIU!A:B,2,0),\"\")","v":""}]
[null,null,null,null,null,null,null,null,null,{"$f":"IFERROR(VLOOKUP(I1533,CIIU!A:B,2,0),\"\")","v":""}]
[null,null,null,null,null,null,null,null,null,{"$f":"IFERROR(VLOOKUP(I1534,CIIU!A:B,2,0),\"\")","v":""}]
[null,null,null,null,null,null,null,null,null,{"$f":"IFERROR(VLOOKUP(I1535,CIIU!A:B,2,0),\"\")","v":""}]
[null,null,null,null,null,null,null,null,null,{"$f":"IFERROR(VLOOKUP(I1536,CIIU!A:B,2,0),\"\")","v":""}]
[null,null,null,null,null,null,null,null,null,{"$f":"IFERROR(VLOOKUP(I1537,CIIU!A:B,2,0),\"\")","v":""}]
[null,null,null,null,null,null,null,null,null,{"$f":"IFERROR(VLOOKUP(I1538,CIIU!A:B,2,0),\"\")","v":""}]
[null,null,null,null,null,null,null,null,null,{"$f":"IFERROR(VLOOKUP(I1539,CIIU!A:B,2,0),\"\")","v":""}]
[null,null,null,null,null,null,null,null,null,{"$f":"IFERROR(VLOOKUP(I1540,CIIU!A:B,2,0),\"\")","v":""}]
[null,null,null,null,null,null,null,null,null,{"$f":"IFERROR(VLOOKUP(I1541,CIIU!A:B,2,0),\"\")","v":""}]
[null,null,null,null,null,null,null,null,null,{"$f":"IFERROR(VLOOKUP(I1542,CIIU!A:B,2,0),\"\")","v":""}]
[null,null,null,null,null,null,null,null,null,{"$f":"IFERROR(VLOOKUP(I1543,CIIU!A:B,2,0),\"\")","v":""}]
[null,null,null,null,null,null,null,null,null,{"$f":"IFERROR(VLOOKUP(I1544,CIIU!A:B,2,0),\"\")","v":""}]
[null,null,null,null,null,null,null,null,null,{"$f":"IFERROR(VLOOKUP(I1545,CIIU!A:B,2,0),\"\")","v":""}]
[null,null,null,null,null,null,null,null,null,{"$f":"IFERROR(VLOOKUP(I1546,CIIU!A:B,2,0),\"\")","v":""}]
[null,null,null,null,null,null,null,null,null,{"$f":"IFERROR(VLOOKUP(I1547,CIIU!A:B,2,0),\"\")","v":""}]
[null,null,null,null,null,null,null,null,null,{"$f":"IFERROR(VLOOKUP(I1548,CIIU!A:B,2,0),\"\")","v":""}]
[null,null,null,null,null,null,null,null,null,{"$f":"IFERROR(VLOOKUP(I1549,CIIU!A:B,2,0),\"\")","v":""}]
[null,null,null,null,null,null,null,null,null,{"$f":"IFERROR(VLOOKUP(I1550,CIIU!A:B,2,0),\"\")","v":""}]
[null,null,null,null,null,null,null,null,null,{"$f":"IFERROR(VLOOKUP(I1551,CIIU!A:B,2,0),\"\")","v":""}]
[null,null,null,null,null,null,null,null,null,{"$f":"IFERROR(VLOOKUP(I1552,CIIU!A:B,2,0),\"\")","v":""}]
[null,null,null,null,null,null,null,null,null,{"$f":"IFERROR(VLOOKUP(I1553,CIIU!A:B,2,0),\"\")","v":""}]
[null,null,null,null,null,null,null,null,null,{"$f":"IFERROR(VLOOKUP(I1554,CIIU!A:B,2,0),\"\")","v":""}]
[null,null,null,null,null,null,null,null,null,{"$f":"IFERROR(VLOOKUP(I1555,CIIU!A:B,2,0),\"\")","v":""}]
[null,null,null,null,null,null,null,null,null,{"$f":"IFERROR(VLOOKUP(I1556,CIIU!A:B,2,0),\"\")","v":""}]
[null,null,null,null,null,null,null,null,null,{"$f":"IFERROR(VLOOKUP(I1557,CIIU!A:B,2,0),\"\")","v":""}]
[null,null,null,null,null,null,null,null,null,{"$f":"IFERROR(VLOOKUP(I1558,CIIU!A:B,2,0),\"\")","v":""}]
[null,null,null,null,null,null,null,null,null,{"$f":"IFERROR(VLOOKUP(I1559,CIIU!A:B,2,0),\"\")","v":""}]
[null,null,null,null,null,null,null,null,null,{"$f":"IFERROR(VLOOKUP(I1560,CIIU!A:B,2,0),\"\")","v":""}]
[null,null,null,null,null,null,null,null,null,{"$f":"IFERROR(VLOOKUP(I1561,CIIU!A:B,2,0),\"\")","v":""}]
[null,null,null,null,null,null,null,null,null,{"$f":"IFERROR(VLOOKUP(I1562,CIIU!A:B,2,0),\"\")","v":""}]
[null,null,null,null,null,null,null,null,null,{"$f":"IFERROR(VLOOKUP(I1563,CIIU!A:B,2,0),\"\")","v":""}]
[null,null,null,null,null,null,null,null,null,{"$f":"IFERROR(VLOOKUP(I1564,CIIU!A:B,2,0),\"\")","v":""}]
[null,null,null,null,null,null,null,null,null,{"$f":"IFERROR(VLOOKUP(I1565,CIIU!A:B,2,0),\"\")","v":""}]
[null,null,null,null,null,null,null,null,null,{"$f":"IFERROR(VLOOKUP(I1566,CIIU!A:B,2,0),\"\")","v":""}]
[null,null,null,null,null,null,null,null,null,{"$f":"IFERROR(VLOOKUP(I1567,CIIU!A:B,2,0),\"\")","v":""}]
[null,null,null,null,null,null,null,null,null,{"$f":"IFERROR(VLOOKUP(I1568,CIIU!A:B,2,0),\"\")","v":""}]
[null,null,null,null,null,null,null,null,null,{"$f":"IFERROR(VLOOKUP(I1569,CIIU!A:B,2,0),\"\")","v":""}]
[null,null,null,null,null,null,null,null,null,{"$f":"IFERROR(VLOOKUP(I1570,CIIU!A:B,2,0),\"\")","v":""}]
[null,null,null,null,null,null,null,null,null,{"$f":"IFERROR(VLOOKUP(I1571,CIIU!A:B,2,0),\"\")","v":""}]
[null,null,null,null,null,null,null,null,null,{"$f":"IFERROR(VLOOKUP(I1572,CIIU!A:B,2,0),\"\")","v":""}]
[null,null,null,null,null,null,null,null,null,{"$f":"IFERROR(VLOOKUP(I1573,CIIU!A:B,2,0),\"\")","v":""}]
[null,null,null,null,null,null,null,null,null,{"$f":"IFERROR(VLOOKUP(I1574,CIIU!A:B,2,0),\"\")","v":""}]
[null,null,null,null,null,null,null,null,null,{"$f":"IFERROR(VLOOKUP(I1575,CIIU!A:B,2,0),\"\")","v":""}]
[null,null,null,null,null,null,null,null,null,{"$f":"IFERROR(VLOOKUP(I1576,CIIU!A:B,2,0),\"\")","v":""}]
[null,null,null,null,null,null,null,null,null,{"$f":"IFERROR(VLOOKUP(I1577,CIIU!A:B,2,0),\"\")","v":""}]
[null,null,null,null,null,null,null,null,null,{"$f":"IFERROR(VLOOKUP(I1578,CIIU!A:B,2,0),\"\")","v":""}]
[null,null,null,null,null,null,null,null,null,{"$f":"IFERROR(VLOOKUP(I1579,CIIU!A:B,2,0),\"\")","v":""}]
[null,null,null,null,null,null,null,null,null,{"$f":"IFERROR(VLOOKUP(I1580,CIIU!A:B,2,0),\"\")","v":""}]
[null,null,null,null,null,null,null,null,null,{"$f":"IFERROR(VLOOKUP(I1581,CIIU!A:B,2,0),\"\")","v":""}]
[null,null,null,null,null,null,null,null,null,{"$f":"IFERROR(VLOOKUP(I1582,CIIU!A:B,2,0),\"\")","v":""}]
[null,null,null,null,null,null,null,null,null,{"$f":"IFERROR(VLOOKUP(I1583,CIIU!A:B,2,0),\"\")","v":""}]
[null,null,null,null,null,null,null,null,null,{"$f":"IFERROR(VLOOKUP(I1584,CIIU!A:B,2,0),\"\")","v":""}]
[null,null,null,null,null,null,null,null,null,{"$f":"IFERROR(VLOOKUP(I1585,CIIU!A:B,2,0),\"\")","v":""}]
[null,null,null,null,null,null,null,null,null,{"$f":"IFERROR(VLOOKUP(I1586,CIIU!A:B,2,0),\"\")","v":""}]
[null,null,null,null,null,null,null,null,null,{"$f":"IFERROR(VLOOKUP(I1587,CIIU!A:B,2,0),\"\")","v":""}]
[null,null,null,null,null,null,null,null,null,{"$f":"IFERROR(VLOOKUP(I1588,CIIU!A:B,2,0),\"\")","v":""}]
[null,null,null,null,null,null,null,null,null,{"$f":"IFERROR(VLOOKUP(I1589,CIIU!A:B,2,0),\"\")","v":""}]
[null,null,null,null,null,null,null,null,null,{"$f":"IFERROR(VLOOKUP(I1590,CIIU!A:B,2,0),\"\")","v":""}]
[null,null,null,null,null,null,null,null,null,{"$f":"IFERROR(VLOOKUP(I1591,CIIU!A:B,2,0),\"\")","v":""}]
[null,null,null,null,null,null,null,null,null,{"$f":"IFERROR(VLOOKUP(I1592,CIIU!A:B,2,0),\"\")","v":""}]
[null,null,null,null,null,null,null,null,null,{"$f":"IFERROR(VLOOKUP(I1593,CIIU!A:B,2,0),\"\")","v":""}]
[null,null,null,null,null,null,null,null,null,{"$f":"IFERROR(VLOOKUP(I1594,CIIU!A:B,2,0),\"\")","v":""}]
[null,null,null,null,null,null,null,null,null,{"$f":"IFERROR(VLOOKUP(I1595,CIIU!A:B,2,0),\"\")","v":""}]
[null,null,null,null,null,null,null,null,null,{"$f":"IFERROR(VLOOKUP(I1596,CIIU!A:B,2,0),\"\")","v":""}]
[null,null,null,null,null,null,null,null,null,{"$f":"IFERROR(VLOOKUP(I1597,CIIU!A:B,2,0),\"\")","v":""}]
[null,null,null,null,null,null,null,null,null,{"$f":"IFERROR(VLOOKUP(I1598,CIIU!A:B,2,0),\"\")","v":""}]
[null,null,null,null,null,null,null,null,null,{"$f":"IFERROR(VLOOKUP(I1599,CIIU!A:B,2,0),\"\")","v":""}]
[null,null,null,null,null,null,null,null,null,{"$f":"IFERROR(VLOOKUP(I1600,CIIU!A:B,2,0),\"\")","v":""}]
[null,null,null,null,null,null,null,null,null,{"$f":"IFERROR(VLOOKUP(I1601,CIIU!A:B,2,0),\"\")","v":""}]
[null,null,null,null,null,null,null,null,null,{"$f":"IFERROR(VLOOKUP(I1602,CIIU!A:B,2,0),\"\")","v":""}]
[null,null,null,null,null,null,null,null,null,{"$f":"IFERROR(VLOOKUP(I1603,CIIU!A:B,2,0),\"\")","v":""}]
[null,null,null,null,null,null,null,null,null,{"$f":"IFERROR(VLOOKUP(I1604,CIIU!A:B,2,0),\"\")","v":""}]
[null,null,null,null,null,null,null,null,null,{"$f":"IFERROR(VLOOKUP(I1605,CIIU!A:B,2,0),\"\")","v":""}]
[null,null,null,null,null,null,null,null,null,{"$f":"IFERROR(VLOOKUP(I1606,CIIU!A:B,2,0),\"\")","v":""}]
[null,null,null,null,null,null,null,null,null,{"$f":"IFERROR(VLOOKUP(I1607,CIIU!A:B,2,0),\"\")","v":""}]
[null,null,null,null,null,null,null,null,null,{"$f":"IFERROR(VLOOKUP(I1608,CIIU!A:B,2,0),\"\")","v":""}]
[null,null,null,null,null,null,null,null,null,{"$f":"IFERROR(VLOOKUP(I1609,CIIU!A:B,2,0),\"\")","v":""}]
[null,null,null,null,null,null,null,null,null,{"$f":"IFERROR(VLOOKUP(I1610,CIIU!A:B,2,0),\"\")","v":""}]
[null,null,null,null,null,null,null,null,null,{"$f":"IFERROR(VLOOKUP(I1611,CIIU!A:B,2,0),\"\")","v":""}]
[null,null,null,null,null,null,null,null,null,{"$f":"IFERROR(VLOOKUP(I1612,CIIU!A:B,2,0),\"\")","v":""}]
[null,null,null,null,null,null,null,null,null,{"$f":"IFERROR(VLOOKUP(I1613,CIIU!A:B,2,0),\"\")","v":""}]
[null,null,null,null,null,null,null,null,null,{"$f":"IFERROR(VLOOKUP(I1614,CIIU!A:B,2,0),\"\")","v":""}]
[null,null,null,null,null,null,null,null,null,{"$f":"IFERROR(VLOOKUP(I1615,CIIU!A:B,2,0),\"\")","v":""}]
[null,null,null,null,null,null,null,null,null,{"$f":"IFERROR(VLOOKUP(I1616,CIIU!A:B,2,0),\"\")","v":""}]
[null,null,null,null,null,null,null,null,null,{"$f":"IFERROR(VLOOKUP(I1617,CIIU!A:B,2,0),\"\")","v":""}]
[null,null,null,null,null,null,null,null,null,{"$f":"IFERROR(VLOOKUP(I1618,CIIU!A:B,2,0),\"\")","v":""}]
[null,null,null,null,null,null,null,null,null,{"$f":"IFERROR(VLOOKUP(I1619,CIIU!A:B,2,0),\"\")","v":""}]
[null,null,null,null,null,null,null,null,null,{"$f":"IFERROR(VLOOKUP(I1620,CIIU!A:B,2,0),\"\")","v":""}]
[null,null,null,null,null,null,null,null,null,{"$f":"IFERROR(VLOOKUP(I1621,CIIU!A:B,2,0),\"\")","v":""}]
[null,null,null,null,null,null,null,null,null,{"$f":"IFERROR(VLOOKUP(I1622,CIIU!A:B,2,0),\"\")","v":""}]
[null,null,null,null,null,null,null,null,null,{"$f":"IFERROR(VLOOKUP(I1623,CIIU!A:B,2,0),\"\")","v":""}]
[null,null,null,null,null,null,null,null,null,{"$f":"IFERROR(VLOOKUP(I1624,CIIU!A:B,2,0),\"\")","v":""}]
[null,null,null,null,null,null,null,null,null,{"$f":"IFERROR(VLOOKUP(I1625,CIIU!A:B,2,0),\"\")","v":""}]
[null,null,null,null,null,null,null,null,null,{"$f":"IFERROR(VLOOKUP(I1626,CIIU!A:B,2,0),\"\")","v":""}]
[null,null,null,null,null,null,null,null,null,{"$f":"IFERROR(VLOOKUP(I1627,CIIU!A:B,2,0),\"\")","v":""}]
[null,null,null,null,null,null,null,null,null,{"$f":"IFERROR(VLOOKUP(I1628,CIIU!A:B,2,0),\"\")","v":""}]
[null,null,null,null,null,null,null,null,null,{"$f":"IFERROR(VLOOKUP(I1629,CIIU!A:B,2,0),\"\")","v":""}]
[null,null,null,null,null,null,null,null,null,{"$f":"IFERROR(VLOOKUP(I1630,CIIU!A:B,2,0),\"\")","v":""}]
[null,null,null,null,null,null,null,null,null,{"$f":"IFERROR(VLOOKUP(I1631,CIIU!A:B,2,0),\"\")","v":""}]
[null,null,null,null,null,null,null,null,null,{"$f":"IFERROR(VLOOKUP(I1632,CIIU!A:B,2,0),\"\")","v":""}]
[null,null,null,null,null,null,null,null,null,{"$f":"IFERROR(VLOOKUP(I1633,CIIU!A:B,2,0),\"\")","v":""}]
[null,null,null,null,null,null,null,null,null,{"$f":"IFERROR(VLOOKUP(I1634,CIIU!A:B,2,0),\"\")","v":""}]
[null,null,null,null,null,null,null,null,null,{"$f":"IFERROR(VLOOKUP(I1635,CIIU!A:B,2,0),\"\")","v":""}]
[null,null,null,null,null,null,null,null,null,{"$f":"IFERROR(VLOOKUP(I1636,CIIU!A:B,2,0),\"\")","v":""}]
[null,null,null,null,null,null,null,null,null,{"$f":"IFERROR(VLOOKUP(I1637,CIIU!A:B,2,0),\"\")","v":""}]
[null,null,null,null,null,null,null,null,null,{"$f":"IFERROR(VLOOKUP(I1638,CIIU!A:B,2,0),\"\")","v":""}]
[null,null,null,null,null,null,null,null,null,{"$f":"IFERROR(VLOOKUP(I1639,CIIU!A:B,2,0),\"\")","v":""}]
[null,null,null,null,null,null,null,null,null,{"$f":"IFERROR(VLOOKUP(I1640,CIIU!A:B,2,0),\"\")","v":""}]
[null,null,null,null,null,null,null,null,null,{"$f":"IFERROR(VLOOKUP(I1641,CIIU!A:B,2,0),\"\")","v":""}]
[null,null,null,null,null,null,null,null,null,{"$f":"IFERROR(VLOOKUP(I1642,CIIU!A:B,2,0),\"\")","v":""}]
[null,null,null,null,null,null,null,null,null,{"$f":"IFERROR(VLOOKUP(I1643,CIIU!A:B,2,0),\"\")","v":""}]
[null,null,null,null,null,null,null,null,null,{"$f":"IFERROR(VLOOKUP(I1644,CIIU!A:B,2,0),\"\")","v":""}]
[null,null,null,null,null,null,null,null,null,{"$f":"IFERROR(VLOOKUP(I1645,CIIU!A:B,2,0),\"\")","v":""}]
[null,null,null,null,null,null,null,null,null,{"$f":"IFERROR(VLOOKUP(I1646,CIIU!A:B,2,0),\"\")","v":""}]
[null,null,null,null,null,null,null,null,null,{"$f":"IFERROR(VLOOKUP(I1647,CIIU!A:B,2,0),\"\")","v":""}]
[null,null,null,null,null,null,null,null,null,{"$f":"IFERROR(VLOOKUP(I1648,CIIU!A:B,2,0),\"\")","v":""}]
[null,null,null,null,null,null,null,null,null,{"$f":"IFERROR(VLOOKUP(I1649,CIIU!A:B,2,0),\"\")","v":""}]
[null,null,null,null,null,null,null,null,null,{"$f":"IFERROR(VLOOKUP(I1650,CIIU!A:B,2,0),\"\")","v":""}]
[null,null,null,null,null,null,null,null,null,{"$f":"IFERROR(VLOOKUP(I1651,CIIU!A:B,2,0),\"\")","v":""}]
[null,null,null,null,null,null,null,null,null,{"$f":"IFERROR(VLOOKUP(I1652,CIIU!A:B,2,0),\"\")","v":""}]
[null,null,null,null,null,null,null,null,null,{"$f":"IFERROR(VLOOKUP(I1653,CIIU!A:B,2,0),\"\")","v":""}]
[null,null,null,null,null,null,null,null,null,{"$f":"IFERROR(VLOOKUP(I1654,CIIU!A:B,2,0),\"\")","v":""}]
[null,null,null,null,null,null,null,null,null,{"$f":"IFERROR(VLOOKUP(I1655,CIIU!A:B,2,0),\"\")","v":""}]
[null,null,null,null,null,null,null,null,null,{"$f":"IFERROR(VLOOKUP(I1656,CIIU!A:B,2,0),\"\")","v":""}]
[null,null,null,null,null,null,null,null,null,{"$f":"IFERROR(VLOOKUP(I1657,CIIU!A:B,2,0),\"\")","v":""}]
[null,null,null,null,null,null,null,null,null,{"$f":"IFERROR(VLOOKUP(I1658,CIIU!A:B,2,0),\"\")","v":""}]
[null,null,null,null,null,null,null,null,null,{"$f":"IFERROR(VLOOKUP(I1659,CIIU!A:B,2,0),\"\")","v":""}]
[null,null,null,null,null,null,null,null,null,{"$f":"IFERROR(VLOOKUP(I1660,CIIU!A:B,2,0),\"\")","v":""}]
[null,null,null,null,null,null,null,null,null,{"$f":"IFERROR(VLOOKUP(I1661,CIIU!A:B,2,0),\"\")","v":""}]
[null,null,null,null,null,null,null,null,null,{"$f":"IFERROR(VLOOKUP(I1662,CIIU!A:B,2,0),\"\")","v":""}]
[null,null,null,null,null,null,null,null,null,{"$f":"IFERROR(VLOOKUP(I1663,CIIU!A:B,2,0),\"\")","v":""}]
[null,null,null,null,null,null,null,null,null,{"$f":"IFERROR(VLOOKUP(I1664,CIIU!A:B,2,0),\"\")","v":""}]
[null,null,null,null,null,null,null,null,null,{"$f":"IFERROR(VLOOKUP(I1665,CIIU!A:B,2,0),\"\")","v":""}]
[null,null,null,null,null,null,null,null,null,{"$f":"IFERROR(VLOOKUP(I1666,CIIU!A:B,2,0),\"\")","v":""}]
[null,null,null,null,null,null,null,null,null,{"$f":"IFERROR(VLOOKUP(I1667,CIIU!A:B,2,0),\"\")","v":""}]
[null,null,null,null,null,null,null,null,null,{"$f":"IFERROR(VLOOKUP(I1668,CIIU!A:B,2,0),\"\")","v":""}]
[null,null,null,null,null,null,null,null,null,{"$f":"IFERROR(VLOOKUP(I1669,CIIU!A:B,2,0),\"\")","v":""}]
[null,null,null,null,null,null,null,null,null,{"$f":"IFERROR(VLOOKUP(I1670,CIIU!A:B,2,0),\"\")","v":""}]
[null,null,null,null,null,null,null,null,null,{"$f":"IFERROR(VLOOKUP(I1671,CIIU!A:B,2,0),\"\")","v":""}]
[null,null,null,null,null,null,null,null,null,{"$f":"IFERROR(VLOOKUP(I1672,CIIU!A:B,2,0),\"\")","v":""}]
[null,null,null,null,null,null,null,null,null,{"$f":"IFERROR(VLOOKUP(I1673,CIIU!A:B,2,0),\"\")","v":""}]
[null,null,null,null,null,null,null,null,null,{"$f":"IFERROR(VLOOKUP(I1674,CIIU!A:B,2,0),\"\")","v":""}]
[null,null,null,null,null,null,null,null,null,{"$f":"IFERROR(VLOOKUP(I1675,CIIU!A:B,2,0),\"\")","v":""}]
[null,null,null,null,null,null,null,null,null,{"$f":"IFERROR(VLOOKUP(I1676,CIIU!A:B,2,0),\"\")","v":""}]
[null,null,null,null,null,null,null,null,null,{"$f":"IFERROR(VLOOKUP(I1677,CIIU!A:B,2,0),\"\")","v":""}]
[null,null,null,null,null,null,null,null,null,{"$f":"IFERROR(VLOOKUP(I1678,CIIU!A:B,2,0),\"\")","v":""}]
[null,null,null,null,null,null,null,null,null,{"$f":"IFERROR(VLOOKUP(I1679,CIIU!A:B,2,0),\"\")","v":""}]
[null,null,null,null,null,null,null,null,null,{"$f":"IFERROR(VLOOKUP(I1680,CIIU!A:B,2,0),\"\")","v":""}]
[null,null,null,null,null,null,null,null,null,{"$f":"IFERROR(VLOOKUP(I1681,CIIU!A:B,2,0),\"\")","v":""}]
[null,null,null,null,null,null,null,null,null,{"$f":"IFERROR(VLOOKUP(I1682,CIIU!A:B,2,0),\"\")","v":""}]
[null,null,null,null,null,null,null,null,null,{"$f":"IFERROR(VLOOKUP(I1683,CIIU!A:B,2,0),\"\")","v":""}]
[null,null,null,null,null,null,null,null,null,{"$f":"IFERROR(VLOOKUP(I1684,CIIU!A:B,2,0),\"\")","v":""}]
[null,null,null,null,null,null,null,null,null,{"$f":"IFERROR(VLOOKUP(I1685,CIIU!A:B,2,0),\"\")","v":""}]
[null,null,null,null,null,null,null,null,null,{"$f":"IFERROR(VLOOKUP(I1686,CIIU!A:B,2,0),\"\")","v":""}]
[null,null,null,null,null,null,null,null,null,{"$f":"IFERROR(VLOOKUP(I1687,CIIU!A:B,2,0),\"\")","v":""}]
[null,null,null,null,null,null,null,null,null,{"$f":"IFERROR(VLOOKUP(I1688,CIIU!A:B,2,0),\"\")","v":""}]
[null,null,null,null,null,null,null,null,null,{"$f":"IFERROR(VLOOKUP(I1689,CIIU!A:B,2,0),\"\")","v":""}]
[null,null,null,null,null,null,null,null,null,{"$f":"IFERROR(VLOOKUP(I1690,CIIU!A:B,2,0),\"\")","v":""}]
[null,null,null,null,null,null,null,null,null,{"$f":"IFERROR(VLOOKUP(I1691,CIIU!A:B,2,0),\"\")","v":""}]
[null,null,null,null,null,null,null,null,null,{"$f":"IFERROR(VLOOKUP(I1692,CIIU!A:B,2,0),\"\")","v":""}]
[null,null,null,null,null,null,null,null,null,{"$f":"IFERROR(VLOOKUP(I1693,CIIU!A:B,2,0),\"\")","v":""}]
[null,null,null,null,null,null,null,null,null,{"$f":"IFERROR(VLOOKUP(I1694,CIIU!A:B,2,0),\"\")","v":""}]
[null,null,null,null,null,null,null,null,null,{"$f":"IFERROR(VLOOKUP(I1695,CIIU!A:B,2,0),\"\")","v":""}]
[null,null,null,null,null,null,null,null,null,{"$f":"IFERROR(VLOOKUP(I1696,CIIU!A:B,2,0),\"\")","v":""}]
[null,null,null,null,null,null,null,null,null,{"$f":"IFERROR(VLOOKUP(I1697,CIIU!A:B,2,0),\"\")","v":""}]
[null,null,null,null,null,null,null,null,null,{"$f":"IFERROR(VLOOKUP(I1698,CIIU!A:B,2,0),\"\")","v":""}]
[null,null,null,null,null,null,null,null,null,{"$f":"IFERROR(VLOOKUP(I1699,CIIU!A:B,2,0),\"\")","v":""}]
[null,null,null,null,null,null,null,null,null,{"$f":"IFERROR(VLOOKUP(I1700,CIIU!A:B,2,0),\"\")","v":""}]
[null,null,null,null,null,null,null,null,null,{"$f":"IFERROR(VLOOKUP(I1701,CIIU!A:B,2,0),\"\")","v":""}]
[null,null,null,null,null,null,null,null,null,{"$f":"IFERROR(VLOOKUP(I1702,CIIU!A:B,2,0),\"\")","v":""}]
[null,null,null,null,null,null,null,null,null,{"$f":"IFERROR(VLOOKUP(I1703,CIIU!A:B,2,0),\"\")","v":""}]
[null,null,null,null,null,null,null,null,null,{"$f":"IFERROR(VLOOKUP(I1704,CIIU!A:B,2,0),\"\")","v":""}]
[null,null,null,null,null,null,null,null,null,{"$f":"IFERROR(VLOOKUP(I1705,CIIU!A:B,2,0),\"\")","v":""}]
[null,null,null,null,null,null,null,null,null,{"$f":"IFERROR(VLOOKUP(I1706,CIIU!A:B,2,0),\"\")","v":""}]
[null,null,null,null,null,null,null,null,null,{"$f":"IFERROR(VLOOKUP(I1707,CIIU!A:B,2,0),\"\")","v":""}]
[null,null,null,null,null,null,null,null,null,{"$f":"IFERROR(VLOOKUP(I1708,CIIU!A:B,2,0),\"\")","v":""}]
[null,null,null,null,null,null,null,null,null,{"$f":"IFERROR(VLOOKUP(I1709,CIIU!A:B,2,0),\"\")","v":""}]
[null,null,null,null,null,null,null,null,null,{"$f":"IFERROR(VLOOKUP(I1710,CIIU!A:B,2,0),\"\")","v":""}]
[null,null,null,null,null,null,null,null,null,{"$f":"IFERROR(VLOOKUP(I1711,CIIU!A:B,2,0),\"\")","v":""}]
[null,null,null,null,null,null,null,null,null,{"$f":"IFERROR(VLOOKUP(I1712,CIIU!A:B,2,0),\"\")","v":""}]
[null,null,null,null,null,null,null,null,null,{"$f":"IFERROR(VLOOKUP(I1713,CIIU!A:B,2,0),\"\")","v":""}]
[null,null,null,null,null,null,null,null,null,{"$f":"IFERROR(VLOOKUP(I1714,CIIU!A:B,2,0),\"\")","v":""}]
[null,null,null,null,null,null,null,null,null,{"$f":"IFERROR(VLOOKUP(I1715,CIIU!A:B,2,0),\"\")","v":""}]
[null,null,null,null,null,null,null,null,null,{"$f":"IFERROR(VLOOKUP(I1716,CIIU!A:B,2,0),\"\")","v":""}]
[null,null,null,null,null,null,null,null,null,{"$f":"IFERROR(VLOOKUP(I1717,CIIU!A:B,2,0),\"\")","v":""}]
[null,null,null,null,null,null,null,null,null,{"$f":"IFERROR(VLOOKUP(I1718,CIIU!A:B,2,0),\"\")","v":""}]
[null,null,null,null,null,null,null,null,null,{"$f":"IFERROR(VLOOKUP(I1719,CIIU!A:B,2,0),\"\")","v":""}]
[null,null,null,null,null,null,null,null,null,{"$f":"IFERROR(VLOOKUP(I1720,CIIU!A:B,2,0),\"\")","v":""}]
[null,null,null,null,null,null,null,null,null,{"$f":"IFERROR(VLOOKUP(I1721,CIIU!A:B,2,0),\"\")","v":""}]
[null,null,null,null,null,null,null,null,null,{"$f":"IFERROR(VLOOKUP(I1722,CIIU!A:B,2,0),\"\")","v":""}]
[null,null,null,null,null,null,null,null,null,{"$f":"IFERROR(VLOOKUP(I1723,CIIU!A:B,2,0),\"\")","v":""}]
[null,null,null,null,null,null,null,null,null,{"$f":"IFERROR(VLOOKUP(I1724,CIIU!A:B,2,0),\"\")","v":""}]
[null,null,null,null,null,null,null,null,null,{"$f":"IFERROR(VLOOKUP(I1725,CIIU!A:B,2,0),\"\")","v":""}]
[null,null,null,null,null,null,null,null,null,{"$f":"IFERROR(VLOOKUP(I1726,CIIU!A:B,2,0),\"\")","v":""}]
[null,null,null,null,null,null,null,null,null,{"$f":"IFERROR(VLOOKUP(I1727,CIIU!A:B,2,0),\"\")","v":""}]
[null,null,null,null,null,null,null,null,null,{"$f":"IFERROR(VLOOKUP(I1728,CIIU!A:B,2,0),\"\")","v":""}]
[null,null,null,null,null,null,null,null,null,{"$f":"IFERROR(VLOOKUP(I1729,CIIU!A:B,2,0),\"\")","v":""}]
[null,null,null,null,null,null,null,null,null,{"$f":"IFERROR(VLOOKUP(I1730,CIIU!A:B,2,0),\"\")","v":""}]
[null,null,null,null,null,null,null,null,null,{"$f":"IFERROR(VLOOKUP(I1731,CIIU!A:B,2,0),\"\")","v":""}]
[null,null,null,null,null,null,null,null,null,{"$f":"IFERROR(VLOOKUP(I1732,CIIU!A:B,2,0),\"\")","v":""}]
[null,null,null,null,null,null,null,null,null,{"$f":"IFERROR(VLOOKUP(I1733,CIIU!A:B,2,0),\"\")","v":""}]
[null,null,null,null,null,null,null,null,null,{"$f":"IFERROR(VLOOKUP(I1734,CIIU!A:B,2,0),\"\")","v":""}]
[null,null,null,null,null,null,null,null,null,{"$f":"IFERROR(VLOOKUP(I1735,CIIU!A:B,2,0),\"\")","v":""}]
[null,null,null,null,null,null,null,null,null,{"$f":"IFERROR(VLOOKUP(I1736,CIIU!A:B,2,0),\"\")","v":""}]
[null,null,null,null,null,null,null,null,null,{"$f":"IFERROR(VLOOKUP(I1737,CIIU!A:B,2,0),\"\")","v":""}]
[null,null,null,null,null,null,null,null,null,{"$f":"IFERROR(VLOOKUP(I1738,CIIU!A:B,2,0),\"\")","v":""}]
[null,null,null,null,null,null,null,null,null,{"$f":"IFERROR(VLOOKUP(I1739,CIIU!A:B,2,0),\"\")","v":""}]
[null,null,null,null,null,null,null,null,null,{"$f":"IFERROR(VLOOKUP(I1740,CIIU!A:B,2,0),\"\")","v":""}]
[null,null,null,null,null,null,null,null,null,{"$f":"IFERROR(VLOOKUP(I1741,CIIU!A:B,2,0),\"\")","v":""}]
[null,null,null,null,null,null,null,null,null,{"$f":"IFERROR(VLOOKUP(I1742,CIIU!A:B,2,0),\"\")","v":""}]
[null,null,null,null,null,null,null,null,null,{"$f":"IFERROR(VLOOKUP(I1743,CIIU!A:B,2,0),\"\")","v":""}]
[null,null,null,null,null,null,null,null,null,{"$f":"IFERROR(VLOOKUP(I1744,CIIU!A:B,2,0),\"\")","v":""}]
[null,null,null,null,null,null,null,null,null,{"$f":"IFERROR(VLOOKUP(I1745,CIIU!A:B,2,0),\"\")","v":""}]
[null,null,null,null,null,null,null,null,null,{"$f":"IFERROR(VLOOKUP(I1746,CIIU!A:B,2,0),\"\")","v":""}]
[null,null,null,null,null,null,null,null,null,{"$f":"IFERROR(VLOOKUP(I1747,CIIU!A:B,2,0),\"\")","v":""}]
[null,null,null,null,null,null,null,null,null,{"$f":"IFERROR(VLOOKUP(I1748,CIIU!A:B,2,0),\"\")","v":""}]
[null,null,null,null,null,null,null,null,null,{"$f":"IFERROR(VLOOKUP(I1749,CIIU!A:B,2,0),\"\")","v":""}]
[null,null,null,null,null,null,null,null,null,{"$f":"IFERROR(VLOOKUP(I1750,CIIU!A:B,2,0),\"\")","v":""}]
[null,null,null,null,null,null,null,null,null,{"$f":"IFERROR(VLOOKUP(I1751,CIIU!A:B,2,0),\"\")","v":""}]
[null,null,null,null,null,null,null,null,null,{"$f":"IFERROR(VLOOKUP(I1752,CIIU!A:B,2,0),\"\")","v":""}]
[null,null,null,null,null,null,null,null,null,{"$f":"IFERROR(VLOOKUP(I1753,CIIU!A:B,2,0),\"\")","v":""}]
[null,null,null,null,null,null,null,null,null,{"$f":"IFERROR(VLOOKUP(I1754,CIIU!A:B,2,0),\"\")","v":""}]
[null,null,null,null,null,null,null,null,null,{"$f":"IFERROR(VLOOKUP(I1755,CIIU!A:B,2,0),\"\")","v":""}]
[null,null,null,null,null,null,null,null,null,{"$f":"IFERROR(VLOOKUP(I1756,CIIU!A:B,2,0),\"\")","v":""}]
[null,null,null,null,null,null,null,null,null,{"$f":"IFERROR(VLOOKUP(I1757,CIIU!A:B,2,0),\"\")","v":""}]
[null,null,null,null,null,null,null,null,null,{"$f":"IFERROR(VLOOKUP(I1758,CIIU!A:B,2,0),\"\")","v":""}]
[null,null,null,null,null,null,null,null,null,{"$f":"IFERROR(VLOOKUP(I1759,CIIU!A:B,2,0),\"\")","v":""}]
[null,null,null,null,null,null,null,null,null,{"$f":"IFERROR(VLOOKUP(I1760,CIIU!A:B,2,0),\"\")","v":""}]
[null,null,null,null,null,null,null,null,null,{"$f":"IFERROR(VLOOKUP(I1761,CIIU!A:B,2,0),\"\")","v":""}]
[null,null,null,null,null,null,null,null,null,{"$f":"IFERROR(VLOOKUP(I1762,CIIU!A:B,2,0),\"\")","v":""}]
[null,null,null,null,null,null,null,null,null,{"$f":"IFERROR(VLOOKUP(I1763,CIIU!A:B,2,0),\"\")","v":""}]
[null,null,null,null,null,null,null,null,null,{"$f":"IFERROR(VLOOKUP(I1764,CIIU!A:B,2,0),\"\")","v":""}]
[null,null,null,null,null,null,null,null,null,{"$f":"IFERROR(VLOOKUP(I1765,CIIU!A:B,2,0),\"\")","v":""}]
[null,null,null,null,null,null,null,null,null,{"$f":"IFERROR(VLOOKUP(I1766,CIIU!A:B,2,0),\"\")","v":""}]
[null,null,null,null,null,null,null,null,null,{"$f":"IFERROR(VLOOKUP(I1767,CIIU!A:B,2,0),\"\")","v":""}]
[null,null,null,null,null,null,null,null,null,{"$f":"IFERROR(VLOOKUP(I1768,CIIU!A:B,2,0),\"\")","v":""}]
[null,null,null,null,null,null,null,null,null,{"$f":"IFERROR(VLOOKUP(I1769,CIIU!A:B,2,0),\"\")","v":""}]
[null,null,null,null,null,null,null,null,null,{"$f":"IFERROR(VLOOKUP(I1770,CIIU!A:B,2,0),\"\")","v":""}]
[null,null,null,null,null,null,null,null,null,{"$f":"IFERROR(VLOOKUP(I1771,CIIU!A:B,2,0),\"\")","v":""}]
[null,null,null,null,null,null,null,null,null,{"$f":"IFERROR(VLOOKUP(I1772,CIIU!A:B,2,0),\"\")","v":""}]
[null,null,null,null,null,null,null,null,null,{"$f":"IFERROR(VLOOKUP(I1773,CIIU!A:B,2,0),\"\")","v":""}]
[null,null,null,null,null,null,null,null,null,{"$f":"IFERROR(VLOOKUP(I1774,CIIU!A:B,2,0),\"\")","v":""}]
[null,null,null,null,null,null,null,null,null,{"$f":"IFERROR(VLOOKUP(I1775,CIIU!A:B,2,0),\"\")","v":""}]
[null,null,null,null,null,null,null,null,null,{"$f":"IFERROR(VLOOKUP(I1776,CIIU!A:B,2,0),\"\")","v":""}]
[null,null,null,null,null,null,null,null,null,{"$f":"IFERROR(VLOOKUP(I1777,CIIU!A:B,2,0),\"\")","v":""}]
[null,null,null,null,null,null,null,null,null,{"$f":"IFERROR(VLOOKUP(I1778,CIIU!A:B,2,0),\"\")","v":""}]
[null,null,null,null,null,null,null,null,null,{"$f":"IFERROR(VLOOKUP(I1779,CIIU!A:B,2,0),\"\")","v":""}]
[null,null,null,null,null,null,null,null,null,{"$f":"IFERROR(VLOOKUP(I1780,CIIU!A:B,2,0),\"\")","v":""}]
[null,null,null,null,null,null,null,null,null,{"$f":"IFERROR(VLOOKUP(I1781,CIIU!A:B,2,0),\"\")","v":""}]
[null,null,null,null,null,null,null,null,null,{"$f":"IFERROR(VLOOKUP(I1782,CIIU!A:B,2,0),\"\")","v":""}]
[null,null,null,null,null,null,null,null,null,{"$f":"IFERROR(VLOOKUP(I1783,CIIU!A:B,2,0),\"\")","v":""}]
[null,null,null,null,null,null,null,null,null,{"$f":"IFERROR(VLOOKUP(I1784,CIIU!A:B,2,0),\"\")","v":""}]
[null,null,null,null,null,null,null,null,null,{"$f":"IFERROR(VLOOKUP(I1785,CIIU!A:B,2,0),\"\")","v":""}]
[null,null,null,null,null,null,null,null,null,{"$f":"IFERROR(VLOOKUP(I1786,CIIU!A:B,2,0),\"\")","v":""}]
[null,null,null,null,null,null,null,null,null,{"$f":"IFERROR(VLOOKUP(I1787,CIIU!A:B,2,0),\"\")","v":""}]
[null,null,null,null,null,null,null,null,null,{"$f":"IFERROR(VLOOKUP(I1788,CIIU!A:B,2,0),\"\")","v":""}]
[null,null,null,null,null,null,null,null,null,{"$f":"IFERROR(VLOOKUP(I1789,CIIU!A:B,2,0),\"\")","v":""}]
[null,null,null,null,null,null,null,null,null,{"$f":"IFERROR(VLOOKUP(I1790,CIIU!A:B,2,0),\"\")","v":""}]
[null,null,null,null,null,null,null,null,null,{"$f":"IFERROR(VLOOKUP(I1791,CIIU!A:B,2,0),\"\")","v":""}]
[null,null,null,null,null,null,null,null,null,{"$f":"IFERROR(VLOOKUP(I1792,CIIU!A:B,2,0),\"\")","v":""}]
[null,null,null,null,null,null,null,null,null,{"$f":"IFERROR(VLOOKUP(I1793,CIIU!A:B,2,0),\"\")","v":""}]
[null,null,null,null,null,null,null,null,null,{"$f":"IFERROR(VLOOKUP(I1794,CIIU!A:B,2,0),\"\")","v":""}]
[null,null,null,null,null,null,null,null,null,{"$f":"IFERROR(VLOOKUP(I1795,CIIU!A:B,2,0),\"\")","v":""}]
[null,null,null,null,null,null,null,null,null,{"$f":"IFERROR(VLOOKUP(I1796,CIIU!A:B,2,0),\"\")","v":""}]
[null,null,null,null,null,null,null,null,null,{"$f":"IFERROR(VLOOKUP(I1797,CIIU!A:B,2,0),\"\")","v":""}]
[null,null,null,null,null,null,null,null,null,{"$f":"IFERROR(VLOOKUP(I1798,CIIU!A:B,2,0),\"\")","v":""}]
[null,null,null,null,null,null,null,null,null,{"$f":"IFERROR(VLOOKUP(I1799,CIIU!A:B,2,0),\"\")","v":""}]
[null,null,null,null,null,null,null,null,null,{"$f":"IFERROR(VLOOKUP(I1800,CIIU!A:B,2,0),\"\")","v":""}]
[null,null,null,null,null,null,null,null,null,{"$f":"IFERROR(VLOOKUP(I1801,CIIU!A:B,2,0),\"\")","v":""}]
[null,null,null,null,null,null,null,null,null,{"$f":"IFERROR(VLOOKUP(I1802,CIIU!A:B,2,0),\"\")","v":""}]
[null,null,null,null,null,null,null,null,null,{"$f":"IFERROR(VLOOKUP(I1803,CIIU!A:B,2,0),\"\")","v":""}]
[null,null,null,null,null,null,null,null,null,{"$f":"IFERROR(VLOOKUP(I1804,CIIU!A:B,2,0),\"\")","v":""}]
[null,null,null,null,null,null,null,null,null,{"$f":"IFERROR(VLOOKUP(I1805,CIIU!A:B,2,0),\"\")","v":""}]
[null,null,null,null,null,null,null,null,null,{"$f":"IFERROR(VLOOKUP(I1806,CIIU!A:B,2,0),\"\")","v":""}]
[null,null,null,null,null,null,null,null,null,{"$f":"IFERROR(VLOOKUP(I1807,CIIU!A:B,2,0),\"\")","v":""}]
[null,null,null,null,null,null,null,null,null,{"$f":"IFERROR(VLOOKUP(I1808,CIIU!A:B,2,0),\"\")","v":""}]
[null,null,null,null,null,null,null,null,null,{"$f":"IFERROR(VLOOKUP(I1809,CIIU!A:B,2,0),\"\")","v":""}]
[null,null,null,null,null,null,null,null,null,{"$f":"IFERROR(VLOOKUP(I1810,CIIU!A:B,2,0),\"\")","v":""}]
[null,null,null,null,null,null,null,null,null,{"$f":"IFERROR(VLOOKUP(I1811,CIIU!A:B,2,0),\"\")","v":""}]
[null,null,null,null,null,null,null,null,null,{"$f":"IFERROR(VLOOKUP(I1812,CIIU!A:B,2,0),\"\")","v":""}]
[null,null,null,null,null,null,null,null,null,{"$f":"IFERROR(VLOOKUP(I1813,CIIU!A:B,2,0),\"\")","v":""}]
[null,null,null,null,null,null,null,null,null,{"$f":"IFERROR(VLOOKUP(I1814,CIIU!A:B,2,0),\"\")","v":""}]
[null,null,null,null,null,null,null,null,null,{"$f":"IFERROR(VLOOKUP(I1815,CIIU!A:B,2,0),\"\")","v":""}]
[null,null,null,null,null,null,null,null,null,{"$f":"IFERROR(VLOOKUP(I1816,CIIU!A:B,2,0),\"\")","v":""}]
[null,null,null,null,null,null,null,null,null,{"$f":"IFERROR(VLOOKUP(I1817,CIIU!A:B,2,0),\"\")","v":""}]
[null,null,null,null,null,null,null,null,null,{"$f":"IFERROR(VLOOKUP(I1818,CIIU!A:B,2,0),\"\")","v":""}]
[null,null,null,null,null,null,null,null,null,{"$f":"IFERROR(VLOOKUP(I1819,CIIU!A:B,2,0),\"\")","v":""}]
[null,null,null,null,null,null,null,null,null,{"$f":"IFERROR(VLOOKUP(I1820,CIIU!A:B,2,0),\"\")","v":""}]
[null,null,null,null,null,null,null,null,null,{"$f":"IFERROR(VLOOKUP(I1821,CIIU!A:B,2,0),\"\")","v":""}]
[null,null,null,null,null,null,null,null,null,{"$f":"IFERROR(VLOOKUP(I1822,CIIU!A:B,2,0),\"\")","v":""}]
[null,null,null,null,null,null,null,null,null,{"$f":"IFERROR(VLOOKUP(I1823,CIIU!A:B,2,0),\"\")","v":""}]
[null,null,null,null,null,null,null,null,null,{"$f":"IFERROR(VLOOKUP(I1824,CIIU!A:B,2,0),\"\")","v":""}]
[null,null,null,null,null,null,null,null,null,{"$f":"IFERROR(VLOOKUP(I1825,CIIU!A:B,2,0),\"\")","v":""}]
[null,null,null,null,null,null,null,null,null,{"$f":"IFERROR(VLOOKUP(I1826,CIIU!A:B,2,0),\"\")","v":""}]
[null,null,null,null,null,null,null,null,null,{"$f":"IFERROR(VLOOKUP(I1827,CIIU!A:B,2,0),\"\")","v":""}]
[null,null,null,null,null,null,null,null,null,{"$f":"IFERROR(VLOOKUP(I1828,CIIU!A:B,2,0),\"\")","v":""}]
[null,null,null,null,null,null,null,null,null,{"$f":"IFERROR(VLOOKUP(I1829,CIIU!A:B,2,0),\"\")","v":""}]
[null,null,null,null,null,null,null,null,null,{"$f":"IFERROR(VLOOKUP(I1830,CIIU!A:B,2,0),\"\")","v":""}]
[null,null,null,null,null,null,null,null,null,{"$f":"IFERROR(VLOOKUP(I1831,CIIU!A:B,2,0),\"\")","v":""}]
[null,null,null,null,null,null,null,null,null,{"$f":"IFERROR(VLOOKUP(I1832,CIIU!A:B,2,0),\"\")","v":""}]
[null,null,null,null,null,null,null,null,null,{"$f":"IFERROR(VLOOKUP(I1833,CIIU!A:B,2,0),\"\")","v":""}]
[null,null,null,null,null,null,null,null,null,{"$f":"IFERROR(VLOOKUP(I1834,CIIU!A:B,2,0),\"\")","v":""}]
[null,null,null,null,null,null,null,null,null,{"$f":"IFERROR(VLOOKUP(I1835,CIIU!A:B,2,0),\"\")","v":""}]
[null,null,null,null,null,null,null,null,null,{"$f":"IFERROR(VLOOKUP(I1836,CIIU!A:B,2,0),\"\")","v":""}]
[null,null,null,null,null,null,null,null,null,{"$f":"IFERROR(VLOOKUP(I1837,CIIU!A:B,2,0),\"\")","v":""}]
[null,null,null,null,null,null,null,null,null,{"$f":"IFERROR(VLOOKUP(I1838,CIIU!A:B,2,0),\"\")","v":""}]
[null,null,null,null,null,null,null,null,null,{"$f":"IFERROR(VLOOKUP(I1839,CIIU!A:B,2,0),\"\")","v":""}]
[null,null,null,null,null,null,null,null,null,{"$f":"IFERROR(VLOOKUP(I1840,CIIU!A:B,2,0),\"\")","v":""}]
[null,null,null,null,null,null,null,null,null,{"$f":"IFERROR(VLOOKUP(I1841,CIIU!A:B,2,0),\"\")","v":""}]
[null,null,null,null,null,null,null,null,null,{"$f":"IFERROR(VLOOKUP(I1842,CIIU!A:B,2,0),\"\")","v":""}]
[null,null,null,null,null,null,null,null,null,{"$f":"IFERROR(VLOOKUP(I1843,CIIU!A:B,2,0),\"\")","v":""}]
[null,null,null,null,null,null,null,null,null,{"$f":"IFERROR(VLOOKUP(I1844,CIIU!A:B,2,0),\"\")","v":""}]
[null,null,null,null,null,null,null,null,null,{"$f":"IFERROR(VLOOKUP(I1845,CIIU!A:B,2,0),\"\")","v":""}]
[null,null,null,null,null,null,null,null,null,{"$f":"IFERROR(VLOOKUP(I1846,CIIU!A:B,2,0),\"\")","v":""}]
[null,null,null,null,null,null,null,null,null,{"$f":"IFERROR(VLOOKUP(I1847,CIIU!A:B,2,0),\"\")","v":""}]
[null,null,null,null,null,null,null,null,null,{"$f":"IFERROR(VLOOKUP(I1848,CIIU!A:B,2,0),\"\")","v":""}]
[null,null,null,null,null,null,null,null,null,{"$f":"IFERROR(VLOOKUP(I1849,CIIU!A:B,2,0),\"\")","v":""}]
[null,null,null,null,null,null,null,null,null,{"$f":"IFERROR(VLOOKUP(I1850,CIIU!A:B,2,0),\"\")","v":""}]
[null,null,null,null,null,null,null,null,null,{"$f":"IFERROR(VLOOKUP(I1851,CIIU!A:B,2,0),\"\")","v":""}]
[null,null,null,null,null,null,null,null,null,{"$f":"IFERROR(VLOOKUP(I1852,CIIU!A:B,2,0),\"\")","v":""}]
[null,null,null,null,null,null,null,null,null,{"$f":"IFERROR(VLOOKUP(I1853,CIIU!A:B,2,0),\"\")","v":""}]
[null,null,null,null,null,null,null,null,null,{"$f":"IFERROR(VLOOKUP(I1854,CIIU!A:B,2,0),\"\")","v":""}]
[null,null,null,null,null,null,null,null,null,{"$f":"IFERROR(VLOOKUP(I1855,CIIU!A:B,2,0),\"\")","v":""}]
[null,null,null,null,null,null,null,null,null,{"$f":"IFERROR(VLOOKUP(I1856,CIIU!A:B,2,0),\"\")","v":""}]
[null,null,null,null,null,null,null,null,null,{"$f":"IFERROR(VLOOKUP(I1857,CIIU!A:B,2,0),\"\")","v":""}]
[null,null,null,null,null,null,null,null,null,{"$f":"IFERROR(VLOOKUP(I1858,CIIU!A:B,2,0),\"\")","v":""}]
[null,null,null,null,null,null,null,null,null,{"$f":"IFERROR(VLOOKUP(I1859,CIIU!A:B,2,0),\"\")","v":""}]
[null,null,null,null,null,null,null,null,null,{"$f":"IFERROR(VLOOKUP(I1860,CIIU!A:B,2,0),\"\")","v":""}]
[null,null,null,null,null,null,null,null,null,{"$f":"IFERROR(VLOOKUP(I1861,CIIU!A:B,2,0),\"\")","v":""}]
[null,null,null,null,null,null,null,null,null,{"$f":"IFERROR(VLOOKUP(I1862,CIIU!A:B,2,0),\"\")","v":""}]
[null,null,null,null,null,null,null,null,null,{"$f":"IFERROR(VLOOKUP(I1863,CIIU!A:B,2,0),\"\")","v":""}]
[null,null,null,null,null,null,null,null,null,{"$f":"IFERROR(VLOOKUP(I1864,CIIU!A:B,2,0),\"\")","v":""}]
[null,null,null,null,null,null,null,null,null,{"$f":"IFERROR(VLOOKUP(I1865,CIIU!A:B,2,0),\"\")","v":""}]
[null,null,null,null,null,null,null,null,null,{"$f":"IFERROR(VLOOKUP(I1866,CIIU!A:B,2,0),\"\")","v":""}]
[null,null,null,null,null,null,null,null,null,{"$f":"IFERROR(VLOOKUP(I1867,CIIU!A:B,2,0),\"\")","v":""}]
[null,null,null,null,null,null,null,null,null,{"$f":"IFERROR(VLOOKUP(I1868,CIIU!A:B,2,0),\"\")","v":""}]
[null,null,null,null,null,null,null,null,null,{"$f":"IFERROR(VLOOKUP(I1869,CIIU!A:B,2,0),\"\")","v":""}]
[null,null,null,null,null,null,null,null,null,{"$f":"IFERROR(VLOOKUP(I1870,CIIU!A:B,2,0),\"\")","v":""}]
[null,null,null,null,null,null,null,null,null,{"$f":"IFERROR(VLOOKUP(I1871,CIIU!A:B,2,0),\"\")","v":""}]
[null,null,null,null,null,null,null,null,null,{"$f":"IFERROR(VLOOKUP(I1872,CIIU!A:B,2,0),\"\")","v":""}]
[null,null,null,null,null,null,null,null,null,{"$f":"IFERROR(VLOOKUP(I1873,CIIU!A:B,2,0),\"\")","v":""}]
[null,null,null,null,null,null,null,null,null,{"$f":"IFERROR(VLOOKUP(I1874,CIIU!A:B,2,0),\"\")","v":""}]
[null,null,null,null,null,null,null,null,null,{"$f":"IFERROR(VLOOKUP(I1875,CIIU!A:B,2,0),\"\")","v":""}]
[null,null,null,null,null,null,null,null,null,{"$f":"IFERROR(VLOOKUP(I1876,CIIU!A:B,2,0),\"\")","v":""}]
[null,null,null,null,null,null,null,null,null,{"$f":"IFERROR(VLOOKUP(I1877,CIIU!A:B,2,0),\"\")","v":""}]
[null,null,null,null,null,null,null,null,null,{"$f":"IFERROR(VLOOKUP(I1878,CIIU!A:B,2,0),\"\")","v":""}]
[null,null,null,null,null,null,null,null,null,{"$f":"IFERROR(VLOOKUP(I1879,CIIU!A:B,2,0),\"\")","v":""}]
[null,null,null,null,null,null,null,null,null,{"$f":"IFERROR(VLOOKUP(I1880,CIIU!A:B,2,0),\"\")","v":""}]
[null,null,null,null,null,null,null,null,null,{"$f":"IFERROR(VLOOKUP(I1881,CIIU!A:B,2,0),\"\")","v":""}]
[null,null,null,null,null,null,null,null,null,{"$f":"IFERROR(VLOOKUP(I1882,CIIU!A:B,2,0),\"\")","v":""}]
[null,null,null,null,null,null,null,null,null,{"$f":"IFERROR(VLOOKUP(I1883,CIIU!A:B,2,0),\"\")","v":""}]
[null,null,null,null,null,null,null,null,null,{"$f":"IFERROR(VLOOKUP(I1884,CIIU!A:B,2,0),\"\")","v":""}]
[null,null,null,null,null,null,null,null,null,{"$f":"IFERROR(VLOOKUP(I1885,CIIU!A:B,2,0),\"\")","v":""}]
[null,null,null,null,null,null,null,null,null,{"$f":"IFERROR(VLOOKUP(I1886,CIIU!A:B,2,0),\"\")","v":""}]
[null,null,null,null,null,null,null,null,null,{"$f":"IFERROR(VLOOKUP(I1887,CIIU!A:B,2,0),\"\")","v":""}]
[null,null,null,null,null,null,null,null,null,{"$f":"IFERROR(VLOOKUP(I1888,CIIU!A:B,2,0),\"\")","v":""}]
[null,null,null,null,null,null,null,null,null,{"$f":"IFERROR(VLOOKUP(I1889,CIIU!A:B,2,0),\"\")","v":""}]
[null,null,null,null,null,null,null,null,null,{"$f":"IFERROR(VLOOKUP(I1890,CIIU!A:B,2,0),\"\")","v":""}]
[null,null,null,null,null,null,null,null,null,{"$f":"IFERROR(VLOOKUP(I1891,CIIU!A:B,2,0),\"\")","v":""}]
[null,null,null,null,null,null,null,null,null,{"$f":"IFERROR(VLOOKUP(I1892,CIIU!A:B,2,0),\"\")","v":""}]
[null,null,null,null,null,null,null,null,null,{"$f":"IFERROR(VLOOKUP(I1893,CIIU!A:B,2,0),\"\")","v":""}]
[null,null,null,null,null,null,null,null,null,{"$f":"IFERROR(VLOOKUP(I1894,CIIU!A:B,2,0),\"\")","v":""}]
[null,null,null,null,null,null,null,null,null,{"$f":"IFERROR(VLOOKUP(I1895,CIIU!A:B,2,0),\"\")","v":""}]
[null,null,null,null,null,null,null,null,null,{"$f":"IFERROR(VLOOKUP(I1896,CIIU!A:B,2,0),\"\")","v":""}]
[null,null,null,null,null,null,null,null,null,{"$f":"IFERROR(VLOOKUP(I1897,CIIU!A:B,2,0),\"\")","v":""}]
[null,null,null,null,null,null,null,null,null,{"$f":"IFERROR(VLOOKUP(I1898,CIIU!A:B,2,0),\"\")","v":""}]
[null,null,null,null,null,null,null,null,null,{"$f":"IFERROR(VLOOKUP(I1899,CIIU!A:B,2,0),\"\")","v":""}]
[null,null,null,null,null,null,null,null,null,{"$f":"IFERROR(VLOOKUP(I1900,CIIU!A:B,2,0),\"\")","v":""}]
[null,null,null,null,null,null,null,null,null,{"$f":"IFERROR(VLOOKUP(I1901,CIIU!A:B,2,0),\"\")","v":""}]
[null,null,null,null,null,null,null,null,null,{"$f":"IFERROR(VLOOKUP(I1902,CIIU!A:B,2,0),\"\")","v":""}]
[null,null,null,null,null,null,null,null,null,{"$f":"IFERROR(VLOOKUP(I1903,CIIU!A:B,2,0),\"\")","v":""}]
[null,null,null,null,null,null,null,null,null,{"$f":"IFERROR(VLOOKUP(I1904,CIIU!A:B,2,0),\"\")","v":""}]
[null,null,null,null,null,null,null,null,null,{"$f":"IFERROR(VLOOKUP(I1905,CIIU!A:B,2,0),\"\")","v":""}]
[null,null,null,null,null,null,null,null,null,{"$f":"IFERROR(VLOOKUP(I1906,CIIU!A:B,2,0),\"\")","v":""}]
[null,null,null,null,null,null,null,null,null,{"$f":"IFERROR(VLOOKUP(I1907,CIIU!A:B,2,0),\"\")","v":""}]
[null,null,null,null,null,null,null,null,null,{"$f":"IFERROR(VLOOKUP(I1908,CIIU!A:B,2,0),\"\")","v":""}]
[null,null,null,null,null,null,null,null,null,{"$f":"IFERROR(VLOOKUP(I1909,CIIU!A:B,2,0),\"\")","v":""}]
[null,null,null,null,null,null,null,null,null,{"$f":"IFERROR(VLOOKUP(I1910,CIIU!A:B,2,0),\"\")","v":""}]
[null,null,null,null,null,null,null,null,null,{"$f":"IFERROR(VLOOKUP(I1911,CIIU!A:B,2,0),\"\")","v":""}]
[null,null,null,null,null,null,null,null,null,{"$f":"IFERROR(VLOOKUP(I1912,CIIU!A:B,2,0),\"\")","v":""}]
[null,null,null,null,null,null,null,null,null,{"$f":"IFERROR(VLOOKUP(I1913,CIIU!A:B,2,0),\"\")","v":""}]
[null,null,null,null,null,null,null,null,null,{"$f":"IFERROR(VLOOKUP(I1914,CIIU!A:B,2,0),\"\")","v":""}]
[null,null,null,null,null,null,null,null,null,{"$f":"IFERROR(VLOOKUP(I1915,CIIU!A:B,2,0),\"\")","v":""}]
[null,null,null,null,null,null,null,null,null,{"$f":"IFERROR(VLOOKUP(I1916,CIIU!A:B,2,0),\"\")","v":""}]
[null,null,null,null,null,null,null,null,null,{"$f":"IFERROR(VLOOKUP(I1917,CIIU!A:B,2,0),\"\")","v":""}]
[null,null,null,null,null,null,null,null,null,{"$f":"IFERROR(VLOOKUP(I1918,CIIU!A:B,2,0),\"\")","v":""}]
[null,null,null,null,null,null,null,null,null,{"$f":"IFERROR(VLOOKUP(I1919,CIIU!A:B,2,0),\"\")","v":""}]
[null,null,null,null,null,null,null,null,null,{"$f":"IFERROR(VLOOKUP(I1920,CIIU!A:B,2,0),\"\")","v":""}]
[null,null,null,null,null,null,null,null,null,{"$f":"IFERROR(VLOOKUP(I1921,CIIU!A:B,2,0),\"\")","v":""}]
[null,null,null,null,null,null,null,null,null,{"$f":"IFERROR(VLOOKUP(I1922,CIIU!A:B,2,0),\"\")","v":""}]
[null,null,null,null,null,null,null,null,null,{"$f":"IFERROR(VLOOKUP(I1923,CIIU!A:B,2,0),\"\")","v":""}]
[null,null,null,null,null,null,null,null,null,{"$f":"IFERROR(VLOOKUP(I1924,CIIU!A:B,2,0),\"\")","v":""}]
[null,null,null,null,null,null,null,null,null,{"$f":"IFERROR(VLOOKUP(I1925,CIIU!A:B,2,0),\"\")","v":""}]
[null,null,null,null,null,null,null,null,null,{"$f":"IFERROR(VLOOKUP(I1926,CIIU!A:B,2,0),\"\")","v":""}]
[null,null,null,null,null,null,null,null,null,{"$f":"IFERROR(VLOOKUP(I1927,CIIU!A:B,2,0),\"\")","v":""}]
[null,null,null,null,null,null,null,null,null,{"$f":"IFERROR(VLOOKUP(I1928,CIIU!A:B,2,0),\"\")","v":""}]
[null,null,null,null,null,null,null,null,null,{"$f":"IFERROR(VLOOKUP(I1929,CIIU!A:B,2,0),\"\")","v":""}]
[null,null,null,null,null,null,null,null,null,{"$f":"IFERROR(VLOOKUP(I1930,CIIU!A:B,2,0),\"\")","v":""}]
[null,null,null,null,null,null,null,null,null,{"$f":"IFERROR(VLOOKUP(I1931,CIIU!A:B,2,0),\"\")","v":""}]
[null,null,null,null,null,null,null,null,null,{"$f":"IFERROR(VLOOKUP(I1932,CIIU!A:B,2,0),\"\")","v":""}]
[null,null,null,null,null,null,null,null,null,{"$f":"IFERROR(VLOOKUP(I1933,CIIU!A:B,2,0),\"\")","v":""}]
[null,null,null,null,null,null,null,null,null,{"$f":"IFERROR(VLOOKUP(I1934,CIIU!A:B,2,0),\"\")","v":""}]
[null,null,null,null,null,null,null,null,null,{"$f":"IFERROR(VLOOKUP(I1935,CIIU!A:B,2,0),\"\")","v":""}]
[null,null,null,null,null,null,null,null,null,{"$f":"IFERROR(VLOOKUP(I1936,CIIU!A:B,2,0),\"\")","v":""}]
[null,null,null,null,null,null,null,null,null,{"$f":"IFERROR(VLOOKUP(I1937,CIIU!A:B,2,0),\"\")","v":""}]
[null,null,null,null,null,null,null,null,null,{"$f":"IFERROR(VLOOKUP(I1938,CIIU!A:B,2,0),\"\")","v":""}]
[null,null,null,null,null,null,null,null,null,{"$f":"IFERROR(VLOOKUP(I1939,CIIU!A:B,2,0),\"\")","v":""}]
[null,null,null,null,null,null,null,null,null,{"$f":"IFERROR(VLOOKUP(I1940,CIIU!A:B,2,0),\"\")","v":""}]
[null,null,null,null,null,null,null,null,null,{"$f":"IFERROR(VLOOKUP(I1941,CIIU!A:B,2,0),\"\")","v":""}]
[null,null,null,null,null,null,null,null,null,{"$f":"IFERROR(VLOOKUP(I1942,CIIU!A:B,2,0),\"\")","v":""}]
[null,null,null,null,null,null,null,null,null,{"$f":"IFERROR(VLOOKUP(I1943,CIIU!A:B,2,0),\"\")","v":""}]
[null,null,null,null,null,null,null,null,null,{"$f":"IFERROR(VLOOKUP(I1944,CIIU!A:B,2,0),\"\")","v":""}]
[null,null,null,null,null,null,null,null,null,{"$f":"IFERROR(VLOOKUP(I1945,CIIU!A:B,2,0),\"\")","v":""}]
[null,null,null,null,null,null,null,null,null,{"$f":"IFERROR(VLOOKUP(I1946,CIIU!A:B,2,0),\"\")","v":""}]
[null,null,null,null,null,null,null,null,null,{"$f":"IFERROR(VLOOKUP(I1947,CIIU!A:B,2,0),\"\")","v":""}]
[null,null,null,null,null,null,null,null,null,{"$f":"IFERROR(VLOOKUP(I1948,CIIU!A:B,2,0),\"\")","v":""}]
[null,null,null,null,null,null,null,null,null,{"$f":"IFERROR(VLOOKUP(I1949,CIIU!A:B,2,0),\"\")","v":""}]
[null,null,null,null,null,null,null,null,null,{"$f":"IFERROR(VLOOKUP(I1950,CIIU!A:B,2,0),\"\")","v":""}]
[null,null,null,null,null,null,null,null,null,{"$f":"IFERROR(VLOOKUP(I1951,CIIU!A:B,2,0),\"\")","v":""}]
[null,null,null,null,null,null,null,null,null,{"$f":"IFERROR(VLOOKUP(I1952,CIIU!A:B,2,0),\"\")","v":""}]
[null,null,null,null,null,null,null,null,null,{"$f":"IFERROR(VLOOKUP(I1953,CIIU!A:B,2,0),\"\")","v":""}]
[null,null,null,null,null,null,null,null,null,{"$f":"IFERROR(VLOOKUP(I1954,CIIU!A:B,2,0),\"\")","v":""}]
[null,null,null,null,null,null,null,null,null,{"$f":"IFERROR(VLOOKUP(I1955,CIIU!A:B,2,0),\"\")","v":""}]
[null,null,null,null,null,null,null,null,null,{"$f":"IFERROR(VLOOKUP(I1956,CIIU!A:B,2,0),\"\")","v":""}]
[null,null,null,null,null,null,null,null,null,{"$f":"IFERROR(VLOOKUP(I1957,CIIU!A:B,2,0),\"\")","v":""}]
[null,null,null,null,null,null,null,null,null,{"$f":"IFERROR(VLOOKUP(I1958,CIIU!A:B,2,0),\"\")","v":""}]
[null,null,null,null,null,null,null,null,null,{"$f":"IFERROR(VLOOKUP(I1959,CIIU!A:B,2,0),\"\")","v":""}]
[null,null,null,null,null,null,null,null,null,{"$f":"IFERROR(VLOOKUP(I1960,CIIU!A:B,2,0),\"\")","v":""}]
[null,null,null,null,null,null,null,null,null,{"$f":"IFERROR(VLOOKUP(I1961,CIIU!A:B,2,0),\"\")","v":""}]
[null,null,null,null,null,null,null,null,null,{"$f":"IFERROR(VLOOKUP(I1962,CIIU!A:B,2,0),\"\")","v":""}]
[null,null,null,null,null,null,null,null,null,{"$f":"IFERROR(VLOOKUP(I1963,CIIU!A:B,2,0),\"\")","v":""}]
[null,null,null,null,null,null,null,null,null,{"$f":"IFERROR(VLOOKUP(I1964,CIIU!A:B,2,0),\"\")","v":""}]
[null,null,null,null,null,null,null,null,null,{"$f":"IFERROR(VLOOKUP(I1965,CIIU!A:B,2,0),\"\")","v":""}]
[null,null,null,null,null,null,null,null,null,{"$f":"IFERROR(VLOOKUP(I1966,CIIU!A:B,2,0),\"\")","v":""}]
[null,null,null,null,null,null,null,null,null,{"$f":"IFERROR(VLOOKUP(I1967,CIIU!A:B,2,0),\"\")","v":""}]
[null,null,null,null,null,null,null,null,null,{"$f":"IFERROR(VLOOKUP(I1968,CIIU!A:B,2,0),\"\")","v":""}]
[null,null,null,null,null,null,null,null,null,{"$f":"IFERROR(VLOOKUP(I1969,CIIU!A:B,2,0),\"\")","v":""}]
[null,null,null,null,null,null,null,null,null,{"$f":"IFERROR(VLOOKUP(I1970,CIIU!A:B,2,0),\"\")","v":""}]
[null,null,null,null,null,null,null,null,null,{"$f":"IFERROR(VLOOKUP(I1971,CIIU!A:B,2,0),\"\")","v":""}]
[null,null,null,null,null,null,null,null,null,{"$f":"IFERROR(VLOOKUP(I1972,CIIU!A:B,2,0),\"\")","v":""}]
[null,null,null,null,null,null,null,null,null,{"$f":"IFERROR(VLOOKUP(I1973,CIIU!A:B,2,0),\"\")","v":""}]
[null,null,null,null,null,null,null,null,null,{"$f":"IFERROR(VLOOKUP(I1974,CIIU!A:B,2,0),\"\")","v":""}]
[null,null,null,null,null,null,null,null,null,{"$f":"IFERROR(VLOOKUP(I1975,CIIU!A:B,2,0),\"\")","v":""}]
[null,null,null,null,null,null,null,null,null,{"$f":"IFERROR(VLOOKUP(I1976,CIIU!A:B,2,0),\"\")","v":""}]
[null,null,null,null,null,null,null,null,null,{"$f":"IFERROR(VLOOKUP(I1977,CIIU!A:B,2,0),\"\")","v":""}]
[null,null,null,null,null,null,null,null,null,{"$f":"IFERROR(VLOOKUP(I1978,CIIU!A:B,2,0),\"\")","v":""}]
[null,null,null,null,null,null,null,null,null,{"$f":"IFERROR(VLOOKUP(I1979,CIIU!A:B,2,0),\"\")","v":""}]
[null,null,null,null,null,null,null,null,null,{"$f":"IFERROR(VLOOKUP(I1980,CIIU!A:B,2,0),\"\")","v":""}]
[null,null,null,null,null,null,null,null,null,{"$f":"IFERROR(VLOOKUP(I1981,CIIU!A:B,2,0),\"\")","v":""}]
[null,null,null,null,null,null,null,null,null,{"$f":"IFERROR(VLOOKUP(I1982,CIIU!A:B,2,0),\"\")","v":""}]
[null,null,null,null,null,null,null,null,null,{"$f":"IFERROR(VLOOKUP(I1983,CIIU!A:B,2,0),\"\")","v":""}]
[null,null,null,null,null,null,null,null,null,{"$f":"IFERROR(VLOOKUP(I1984,CIIU!A:B,2,0),\"\")","v":""}]
[null,null,null,null,null,null,null,null,null,{"$f":"IFERROR(VLOOKUP(I1985,CIIU!A:B,2,0),\"\")","v":""}]
[null,null,null,null,null,null,null,null,null,{"$f":"IFERROR(VLOOKUP(I1986,CIIU!A:B,2,0),\"\")","v":""}]
[null,null,null,null,null,null,null,null,null,{"$f":"IFERROR(VLOOKUP(I1987,CIIU!A:B,2,0),\"\")","v":""}]
[null,null,null,null,null,null,null,null,null,{"$f":"IFERROR(VLOOKUP(I1988,CIIU!A:B,2,0),\"\")","v":""}]
[null,null,null,null,null,null,null,null,null,{"$f":"IFERROR(VLOOKUP(I1989,CIIU!A:B,2,0),\"\")","v":""}]
[null,null,null,null,null,null,null,null,null,{"$f":"IFERROR(VLOOKUP(I1990,CIIU!A:B,2,0),\"\")","v":""}]
[null,null,null,null,null,null,null,null,null,{"$f":"IFERROR(VLOOKUP(I1991,CIIU!A:B,2,0),\"\")","v":""}]
[null,null,null,null,null,null,null,null,null,{"$f":"IFERROR(VLOOKUP(I1992,CIIU!A:B,2,0),\"\")","v":""}]
[null,null,null,null,null,null,null,null,null,{"$f":"IFERROR(VLOOKUP(I1993,CIIU!A:B,2,0),\"\")","v":""}]
[null,null,null,null,null,null,null,null,null,{"$f":"IFERROR(VLOOKUP(I1994,CIIU!A:B,2,0),\"\")","v":""}]
[null,null,null,null,null,null,null,null,null,{"$f":"IFERROR(VLOOKUP(I1995,CIIU!A:B,2,0),\"\")","v":""}]
[null,null,null,null,null,null,null,null,null,{"$f":"IFERROR(VLOOKUP(I1996,CIIU!A:B,2,0),\"\")","v":""}]
[null,null,null,null,null,null,null,null,null,{"$f":"IFERROR(VLOOKUP(I1997,CIIU!A:B,2,0),\"\")","v":""}]
[null,null,null,null,null,null,null,null,null,{"$f":"IFERROR(VLOOKUP(I1998,CIIU!A:B,2,0),\"\")","v":""}]
[null,null,null,null,null,null,null,null,null,{"$f":"IFERROR(VLOOKUP(I1999,CIIU!A:B,2,0),\"\")","v":""}]
[null,null,null,null,null,null,null,null,null,{"$f":"IFERROR(VLOOKUP(I2000,CIIU!A:B,2,0),\"\")","v":""}]
[null,null,null,null,null,null,null,null,null,{"$f":"IFERROR(VLOOKUP(I2001,CIIU!A:B,2,0),\"\")","v":""}]

{"sheet":"LogErrores","index":4,"n_rows":1,"n_cols":2,"rows_kept":1,"cut":false,"hidden":false,"merged":[]}
["Log de Errores","Tipo3 - Info Beneficiario"]

{"sheet":"Copia","index":5,"n_rows":100,"n_cols":26,"rows_kept":100,"cut":false,"hidden":true,"merged":[]}
["NumeroFideicomiso","TipoIdentificacion","Tipo Identificación Beneficiario","NumeroIdentificacion","Nombre1","Nombre2","Apellido1","Apellido2","Tipo","Numero1","Apendice1","Orientacion1","Numero2","Apendice2","Orientacion2","Placa","Interior","Bloque","DireccionEspecial","CodDpto","Departamento","CodMpio","Municipio","TipoParticipacion","Tipo Participación","PorcentajeParticipacion"]
[34241,1,"NIT",800176602,"INVERSIONES Y ESTRATEGIAS CORPORATIVAS SAS",null,null,0,"CR",124,"A",null,99,null,null,2,808,null,null,"11","BOGOTA","11001","BOGOTA, D.C.",2,"Privada",100]
[27644,1,"NIT",800170978,"FAJARDO WILLIAMSON SA",null,null,null,"CR",43,null,null,16,null,"Sur",38,null,null,null,"05","ANTIOQUIA","05001","MEDELLIN",2,"Privada",30]
[27644,1,"NIT",811000331,"CU PROMOTORA SAS",null,null,null,"CR",39,null,null,198,"A",null,95,208,null,null,"05","ANTIOQUIA","05001","MEDELLIN",2,"Privada",10]
[27644,1,"NIT",890937515,"ESTRUCTURAR SA",null,null,null,"CL",11,"C",null,31,null,null,99,null,null,"Next Avenue","05","ANTIOQUIA","05001","MEDELLIN",2,"Privada",30]
[27644,1,"NIT",890940026,"FAJARDO MORENO Y CIA SAS EN LIQUIDACION",null,null,null,"CL",7,null,"Sur",42,null,null,70,null,null,null,"05","ANTIOQUIA","05001","MEDELLIN",2,"Privada",30]
[219392,1,"NIT",900377602,"Q TOWER SAS",null,null,null,"CR",33,null,"Sur",1,null,"Sur",45,null,null,"ESQUINA 3","05","ANTIOQUIA","05001","MEDELLIN",2,"Privada",100]
[220396,1,"NIT",900027767,"PROMOTORA  QU4TRO SAS",null,null,null,"CR",33,null,null,1,null,null,55,null,null,null,"05","ANTIOQUIA","05266","ENVIGADO",2,"Privada",100]
[230528,1,"NIT",900027767,"PROMOTORA QU4TRO SAS",null,null,null,null,null,null,null,null,null,null,null,null,null,"Km 17 vias palmas aldea palmas 6","05","ANTIOQUIA","05266","ENVIGADO",2,"Privada",100]
[27848,1,"NIT",900027767,"PROMOTORA QU4TRO SAS",null,null,null,null,null,null,null,null,null,null,null,null,null,"Km 17 vias palmas aldea palmas 6","05","ANTIOQUIA","05001","MEDELLIN",2,"Privada",100]
[274074,1,"NIT",811037405,"CENTRO SUR SA",null,null,null,"CR",27,null,null,7,"B",null,145,2302,null,null,"05","ANTIOQUIA","05001","MEDELLIN",2,"Privada",100]
[278565,1,"NIT",890929956,"DE LA ROCHE M Y CIA LTDA",null,null,null,"CL",10,"B",null,22,null,null,10,1701,null,null,"05","ANTIOQUIA","05001","MEDELLIN",2,"Privada",100]
[312790,1,"NIT",860058070,"CONSTRUCTORA COLPATRIA SA",null,null,null,"CR",43,"A",null,7,null,null,50,1101,null,null,"05","ANTIOQUIA","05001","MEDELLIN",2,"Privada",100]
[36717,1,"NIT",860058070,"CONSTRUCTORA COLPATRIA SA",null,null,null,"CR",37,"B","Sur",28,"C","SUR",1,null,null,null,"05","ANTIOQUIA","05001","MEDELLIN",2,"Privada",100]
[248192,1,"NIT",900945588,"Q OFFICE SAS",null,null,null,"CL",6,null,null,26,null,null,5,1206,null,null,"05","ANTIOQUIA","05001","MEDELLIN",2,"Privada",100]
[342570,1,"NIT",811003486,"QUIPUX SAS",null,null,null,"CR",35,"A",null,15,"B",null,35,null,null,null,"05","ANTIOQUIA","05001","MEDELLIN",2,"Privada",100]
[440837,1,"NIT",811041637,"CORPORACION IPS COMFAMILIAR CAMACOL  COODAN",null,null,null,"CR",29,"C",null,16,null,"Sur",55,null,null,null,"05","ANTIOQUIA","05001","MEDELLIN",2,"Privada",100]
[356797,1,"NIT",890900082,"EDUARDO LONDONO E HIJOS SUCESORES SA",null,null,null,"CL",5,"E",null,15,"B",null,35,null,null,null,"05","ANTIOQUIA","05001","MEDELLIN",2,"Privada",100]
[371685,1,"NIT",800245024,"FILTROS Y HERRAMIENTAS SAS FILHER SAS",null,null,null,"TG",38,null,null,71,null,null,67,402,null,null,"05","ANTIOQUIA","05380","LA ESTRELLA",2,"Privada",100]
[365719,1,"NIT",900542809,"MAXIPAZ SAS",null,null,null,"CR",124,"A",null,99,null,null,2,808,null,null,"11","BOGOTA","11001","BOGOTA, D.C.",2,"Privada",100]
[357933,1,"NIT",900821901,"PROMOTORA PARQUE DEL SOL SAS",null,null,null,"CR",43,null,null,16,null,"Sur",38,null,null,null,"05","ANTIOQUIA","05001","MEDELLIN",2,"Privada",100]
[47641,1,"NIT",800035290,"EUROCERAMICA SA",null,null,null,"CR",39,null,null,198,"A",null,95,208,null,null,"05","ANTIOQUIA","05001","MEDELLIN",2,"Privada",100]
[275286,2,"Cédula de ciudadanía",32411403,"AMILVIA","DE LA MILAGROSA","ECHEVERRY","DE LOPEZ","CL",11,"C",null,31,null,null,99,null,null,"Next Avenue","05","ANTIOQUIA","05001","MEDELLIN",2,"Privada",3.68]
[275286,2,"Cédula de ciudadanía",42895299,"CLAUDIA","PATRICIA","LOPEZ",null,"CL",7,null,"Sur",42,null,null,70,null,null,null,"05","ANTIOQUIA","05001","MEDELLIN",2,"Privada",4.67]
[275286,2,"Cédula de ciudadanía",43721243,"LILIANA","MARIA","LOPEZ",null,"CR",33,null,"Sur",1,null,"Sur",45,null,null,"ESQUINA 3","05","ANTIOQUIA","05001","MEDELLIN",2,"Privada",5.67]
[275286,1,"NIT",900268550,"INVER DE VILLAS SAS",null,null,null,"CR",33,null,null,1,null,null,55,null,null,null,"05","ANTIOQUIA","05266","ENVIGADO",2,"Privada",11.12]
[275286,2,"Cédula de ciudadanía",98667859,"JOHANN","SCHEUTEN","MENDOZA",null,null,null,null,null,null,null,null,null,null,null,"Km 17 vias palmas aldea palmas 6","05","ANTIOQUIA","05266","ENVIGADO",2,"Privada",17.97]
[275286,1,"NIT",900963843,"INVERSIONES RAL SAS",null,null,null,null,null,null,null,null,null,null,null,null,null,"Km 17 vias palmas aldea palmas 6","05","ANTIOQUIA","05001","MEDELLIN",2,"Privada",11.23]
[275286,2,"Cédula de ciudadanía",71794304,"JUAN","ESTEBAN","PEREZ","CORREA","CR",27,null,null,7,"B",null,145,2302,null,null,"05","ANTIOQUIA","05001","MEDELLIN",2,"Privada",11.58]
[275286,1,"NIT",900881501,"C4 CONSTRUCTORA SAS",null,null,null,"CL",10,"B",null,22,null,null,10,1701,null,null,"05","ANTIOQUIA","05001","MEDELLIN",2,"Privada",4.78]
[275286,1,"NIT",900968283,"INTEGRAR CONSTRUCTORA SAS",null,null,null,"CR",43,"A",null,7,null,null,50,1101,null,null,"05","ANTIOQUIA","05001","MEDELLIN",2,"Privada",5.99]
[275286,1,"NIT",901000069,"AV GROUP SAS",null,null,null,"CR",37,"B","Sur",28,"C","SUR",1,null,null,null,"05","ANTIOQUIA","05001","MEDELLIN",2,"Privada",2.75]
[275286,2,"Cédula de ciudadanía",71788706,"JUAN","CAMILO","LLANO","CORREA","CL",6,null,null,26,null,null,5,1206,null,null,"05","ANTIOQUIA","05001","MEDELLIN",2,"Privada",2.4]
[275286,2,"Cédula de ciudadanía",71376932,"JUAN","GUILLERMO","GIRALDO","GOMEZ","CR",35,"A",null,15,"B",null,35,null,null,null,"05","ANTIOQUIA","05001","MEDELLIN",2,"Privada",9.16]
[275286,1,"NIT",811024214,"SILACAUCHO SA",null,null,null,"CR",29,"C",null,16,null,"Sur",55,null,null,null,"05","ANTIOQUIA","05001","MEDELLIN",2,"Privada",9]
[26579,1,"NIT",900140129,"PLATINUM SUPERIOR SAS",null,null,null,"CL",5,"E",null,15,"B",null,35,null,null,null,"05","ANTIOQUIA","05001","MEDELLIN",2,"Privada",100]
[26631,1,"NIT",900231105,"PROMOTORA SOLER GARDENS",null,null,null,"TG",38,null,null,71,null,null,67,402,null,null,"05","ANTIOQUIA","05380","LA ESTRELLA",2,"Privada",100]
[28511,1,"NIT",900123805,"INVERSIONES Y PROYECTOS SOLARIS",null,null,null,"CR",124,"A",null,99,null,null,2,808,null,null,"11","BOGOTA","11001","BOGOTA, D.C.",2,"Privada",100]
[36545,1,"NIT",860058070,"CONSTRUCTORA COLPATRIA",null,null,null,"CR",43,null,null,16,null,"Sur",38,null,null,null,"05","ANTIOQUIA","05001","MEDELLIN",2,"Privada",100]
[38284,1,"NIT",900044305,"PROMOTORA LA ENSENADA SAS",null,null,null,"CR",39,null,null,198,"A",null,95,208,null,null,"05","ANTIOQUIA","05001","MEDELLIN",2,"Privada",100]
[213875,1,"NIT",900244334,"SPAZIO PREMIUM SA",null,null,null,"CL",11,"C",null,31,null,null,99,null,null,"Next Avenue","05","ANTIOQUIA","05001","MEDELLIN",2,"Privada",100]
[230342,1,"NIT",890942766,"CONSTRUCTORA MONSERRATE DE COLOMBIA SA",null,null,null,"CL",7,null,"Sur",42,null,null,70,null,null,null,"05","ANTIOQUIA","05001","MEDELLIN",2,"Privada",50]
[230342,1,"NIT",900038011,"CONSTRUCTORA PUNTA AZUL SAS",null,null,null,"CR",33,null,"Sur",1,null,"Sur",45,null,null,"ESQUINA 3","05","ANTIOQUIA","05001","MEDELLIN",2,"Privada",50]
[235261,2,"Cédula de ciudadanía",3309789,"DE GREIFF","RAMOS","FRANK","ENRIQUE","CR",33,null,null,1,null,null,55,null,null,null,"05","ANTIOQUIA","05266","ENVIGADO",2,"Privada",50]
[235261,1,"NIT",900356821,"INVERSIONES H DE R SAS",null,null,null,null,null,null,null,null,null,null,null,null,null,"Km 17 vias palmas aldea palmas 6","05","ANTIOQUIA","05266","ENVIGADO",2,"Privada",50]
[258280,1,"NIT",900397244,"CONSTRUCTORA ARRECIFES DE LA ABADIA SAS",null,null,null,null,null,null,null,null,null,null,null,null,null,"Km 17 vias palmas aldea palmas 6","05","ANTIOQUIA","05001","MEDELLIN",2,"Privada",100]
[263371,1,"NIT",900661920,"EL BOSQUE DE LAS PALMAS SAS",null,null,null,"CR",27,null,null,7,"B",null,145,2302,null,null,"05","ANTIOQUIA","05001","MEDELLIN",2,"Privada",100]
[243833,1,"NIT",900278934,"CompaNia de Inversiones Inmobiliarias ",null,null,null,"CL",10,"B",null,22,null,null,10,1701,null,null,"05","ANTIOQUIA","05001","MEDELLIN",2,"Privada",100]
[26674,1,"NIT",811024421,"EDICRETO SAS",null,null,null,"CR",43,"A",null,7,null,null,50,1101,null,null,"05","ANTIOQUIA","05001","MEDELLIN",2,"Privada",100]
[26708,1,"NIT",811024421,"EDICRETO SAS",null,null,null,"CR",37,"B","Sur",28,"C","SUR",1,null,null,null,"05","ANTIOQUIA","05001","MEDELLIN",2,"Privada",100]
[27575,1,"NIT",800170978,"FAJARDO WILLIAMSON SA",null,null,null,"CL",6,null,null,26,null,null,5,1206,null,null,"05","ANTIOQUIA","05001","MEDELLIN",2,"Privada",30]
[27575,1,"NIT",811000331,"CU PROMOTORA SAS",null,null,null,"CR",35,"A",null,15,"B",null,35,null,null,null,"05","ANTIOQUIA","05001","MEDELLIN",2,"Privada",10]
[27575,1,"NIT",890937515,"ESTRUCTURAR SA",null,null,null,"CR",29,"C",null,16,null,"Sur",55,null,null,null,"05","ANTIOQUIA","05001","MEDELLIN",2,"Privada",30]
[27575,1,"NIT",890940026,"FAJARDO MORENO Y CIA SAS EN LIQUIDACION",null,null,null,"CL",5,"E",null,15,"B",null,35,null,null,null,"05","ANTIOQUIA","05001","MEDELLIN",2,"Privada",30]
[37648,1,"NIT",900207854,"HL COMBUSTIBLES SAS",null,null,null,"TG",38,null,null,71,null,null,67,402,null,null,"05","ANTIOQUIA","05380","LA ESTRELLA",2,"Privada",100]
[38692,1,"NIT",811007820,"COOPERATIVA MULTIACTIVA DE TRANSPORTE SANTA ELENA",null,null,null,"CR",124,"A",null,99,null,null,2,808,null,null,"05","ANTIOQUIA","05001","MEDELLIN",2,"Privada",100]
[28684,1,"NIT",811024421,"EDICRETO SAS",null,null,null,"CR",43,null,null,16,null,"Sur",38,null,null,null,"05","ANTIOQUIA","05001","MEDELLIN",2,"Privada",100]
[315415,1,"NIT",811007700,"LUZ E SIERRA Y CIA SCA",null,null,null,"CR",39,null,null,198,"A",null,95,208,null,null,"05","ANTIOQUIA","05001","MEDELLIN",2,"Privada",4.8600000000000003]
[315415,1,"NIT",811046960,"INVERFAM SA",null,null,null,"CL",11,"C",null,31,null,null,99,null,null,"Next Avenue","05","ANTIOQUIA","05001","MEDELLIN",2,"Privada",13.75]
[315415,1,"NIT",890912140,"LONDONO GOMEZ SA",null,null,null,"CL",7,null,"Sur",42,null,null,70,null,null,null,"05","ANTIOQUIA","05380","LA ESTRELLA",2,"Privada",58.33]
[315415,1,"NIT",890942658,"LORICA VELEZ Y CIA SCA",null,null,null,"CR",33,null,"Sur",1,null,"Sur",45,null,null,"ESQUINA 3","11","BOGOTA","11001","BOGOTA, D.C.",2,"Privada",4.8600000000000003]
[315415,1,"NIT",900589363,"PROMOTORA GOLDEN SAS",null,null,null,"CR",33,null,null,1,null,null,55,null,null,null,"05","ANTIOQUIA","05001","MEDELLIN",2,"Privada",18.2]
[215654,1,"NIT",900340671,"PROMOTORA INTERCLUB SAS",null,null,null,null,null,null,null,null,null,null,null,null,null,"Km 17 vias palmas aldea palmas 6","05","ANTIOQUIA","05001","MEDELLIN",2,"Privada",100]
[344224,1,"NIT",811042404,"NETBEAM SAS",null,null,null,null,null,null,null,null,null,null,null,null,null,"Km 17 vias palmas aldea palmas 6","05","ANTIOQUIA","05001","MEDELLIN",2,"Privada",50]
[344224,1,"NIT",900682512,"NI2 SAS",null,null,null,"CR",27,null,null,7,"B",null,145,2302,null,null,"05","ANTIOQUIA","05001","MEDELLIN",2,"Privada",50]
[252846,1,"NIT",900748398,"PROMOTORA NATURA SAS",null,null,null,"CL",10,"B",null,22,null,null,10,1701,null,null,"05","ANTIOQUIA","05001","MEDELLIN",2,"Privada",100]
[456639,1,"NIT",900628401,"THERMAL MONTAJES Y SERVICIOS SAS",null,null,null,"CR",43,"A",null,7,null,null,50,1101,null,null,"05","ANTIOQUIA","05266","ENVIGADO",2,"Privada",100]
[162932,2,"Cédula de ciudadanía",71652718,"MURILLO","LUJAN","EDGAR","DE JESUS","CR",37,"B","Sur",28,"C","SUR",1,null,null,null,"05","ANTIOQUIA","05266","ENVIGADO",2,"Privada",100]
[467767,1,"NIT",890910447,"SEDIC SA",null,null,null,"CL",6,null,null,26,null,null,5,1206,null,null,"05","ANTIOQUIA","05001","MEDELLIN",2,"Privada",50]
[467767,1,"NIT",900809872,"CONSULTORIA EN INGENIERIA Y PROYECTOS ESTRATEGICOS SAS",null,null,null,"CR",35,"A",null,15,"B",null,35,null,null,null,"05","ANTIOQUIA","05001","MEDELLIN",2,"Privada",50]
[367912,1,"NIT",890917464,"GISAICO SA ",null,null,null,"CR",29,"C",null,16,null,"Sur",55,null,null,null,"05","ANTIOQUIA","05001","MEDELLIN",2,"Privada",100]
[369718,1,"NIT",901048583,"CONSORCIO VICONPACIFICO ",null,null,null,"CL",5,"E",null,15,"B",null,35,null,null,null,"05","ANTIOQUIA","05001","MEDELLIN",2,"Privada",100]
[271686,1,"NIT",900397244,"CONSTRUCTORA ARRECIFES DE LA ABADIA SAS",null,null,null,"TG",38,null,null,71,null,null,67,402,null,null,"05","ANTIOQUIA","05001","MEDELLIN",2,"Privada",100]
[471849,1,"NIT",900759883,"CENTRAL HIDROELECTRICA CONCORDIA SAS",null,null,null,"CR",124,"A",null,99,null,null,2,808,null,null,"05","ANTIOQUIA","05001","MEDELLIN",2,"Privada",100]
[472374,1,"NIT",900428084,"MADERAS Y DECORACIONES HS SAS ",null,null,null,"CR",43,null,null,16,null,"Sur",38,null,null,null,"05","ANTIOQUIA","05001","MEDELLIN",2,"Privada",100]
[173089,2,"Cédula de ciudadanía",8231791,"FEDERICO","GUILLERMO","SALDARRIAGA","LAVERDE","CR",39,null,null,198,"A",null,95,208,null,null,"05","ANTIOQUIA","05001","MEDELLIN",2,"Privada",17.5]
[173089,2,"Cédula de ciudadanía",21368140,"ROSALBA","OLIVA","ALZATE","DE SALDARRIAGA","CL",11,"C",null,31,null,null,99,null,null,"Next Avenue","05","ANTIOQUIA","05001","MEDELLIN",2,"Privada",52.5]
[173089,2,"Cédula de ciudadanía",42791055,"OLGA","CECILIA","SALDARRIAGA","ALZATE","CL",7,null,"Sur",42,null,null,70,null,null,null,"05","ANTIOQUIA","05001","MEDELLIN",2,"Privada",2.5]
[173089,2,"Cédula de ciudadanía",43167637,"MARGARITA","MARIA","SALDARRIAGA","ALZATE","CR",33,null,"Sur",1,null,"Sur",45,null,null,"ESQUINA 3","05","ANTIOQUIA","05001","MEDELLIN",2,"Privada",2.5]
[173089,2,"Cédula de ciudadanía",98562246,"CARLOS","ALBERTO","SALDARRIAGA","ALZATE","CR",33,null,null,1,null,null,55,null,null,null,"05","ANTIOQUIA","05001","MEDELLIN",2,"Privada",25]
[373405,2,"Cédula de ciudadanía",98562246,"CARLOS","ALBERTO","SALDARRIAGA","ALZATE",null,null,null,null,null,null,null,null,null,null,"Km 17 vias palmas aldea palmas 6","05","ANTIOQUIA","05380","LA ESTRELLA",2,"Privada",2.5]
[373405,2,"Cédula de ciudadanía",42791055,"OLGA","CECILIA","SALDARRIAGA","ALZATE",null,null,null,null,null,null,null,null,null,null,"Km 17 vias palmas aldea palmas 6","11","BOGOTA","11001","BOGOTA, D.C.",2,"Privada",2.5]
[373405,2,"Cédula de ciudadanía",43167637,"MARGARITA","MARIA","SALDARRIAGA","ALZATE","CR",27,null,null,7,"B",null,145,2302,null,null,"05","ANTIOQUIA","05001","MEDELLIN",2,"Privada",2.5]
[373405,2,"Cédula de ciudadanía",21368140,"ROSALBA","OLIVA","ALZATE","DE SALDARRIAGA","CL",10,"B",null,22,null,null,10,1701,null,null,"05","ANTIOQUIA","05001","MEDELLIN",2,"Privada",50]
[373405,2,"Cédula de ciudadanía",8231791,"FEDERICO","GUILLERMO","SALDARRIAGA","LAVERDE","CR",43,"A",null,7,null,null,50,1101,null,null,"05","ANTIOQUIA","05001","MEDELLIN",2,"Privada",17.5]
[373405,2,"Cédula de ciudadanía",52453146,"BEATRIZ","EUGENIA","SALDARRIAGA","ALZATE","CR",37,"B","Sur",28,"C","SUR",1,null,null,null,"05","ANTIOQUIA","05001","MEDELLIN",2,"Privada",25]
[273810,1,"NIT",900129215,"URIBE HERRERA CONSTRUCCIONES SA",null,null,null,"CL",6,null,null,26,null,null,5,1206,null,null,"05","ANTIOQUIA","05001","MEDELLIN",2,"Privada",100]
[473969,1,"NIT",900251423,"EMPRESA DE ENERGIA DE ANTIOQUIA SA ESP",null,null,null,"CR",35,"A",null,15,"B",null,35,null,null,null,"05","ANTIOQUIA","05266","ENVIGADO",2,"Privada",100]
[473989,1,"NIT",900251423,"EMPRESA DE ENERGIA DE ANTIOQUIA SA ESP",null,null,null,"CR",29,"C",null,16,null,"Sur",55,null,null,null,"05","ANTIOQUIA","05266","ENVIGADO",2,"Privada",100]
[274072,1,"NIT",811037405,"CENTRO SUR SA",null,null,null,"CL",5,"E",null,15,"B",null,35,null,null,null,"05","ANTIOQUIA","05001","MEDELLIN",2,"Privada",100]
[477007,1,"NIT",901036565,"COMERCIALIZADORA QUINDEE SAS",null,null,null,"TG",38,null,null,71,null,null,67,402,null,null,"05","ANTIOQUIA","05001","MEDELLIN",2,"Privada",100]
[377018,1,"NIT",900910564,"INGENIO INGENIEROS CONTRATISTAS SAS",null,null,null,"CL",11,"C",null,31,null,null,99,null,null,"Next Avenue","05","ANTIOQUIA","05001","MEDELLIN",2,"Privada",100]
[477653,1,"NIT",811018771,"MARKETING PERSONAL SA",null,null,null,"CL",7,null,"Sur",42,null,null,70,null,null,null,"05","ANTIOQUIA","05001","MEDELLIN",2,"Privada",100]
[378133,1,"NIT",900309140,"AMADEA DINAMIC WEAR SAS",null,null,null,"CR",33,null,"Sur",1,null,"Sur",45,null,null,"ESQUINA 3","05","ANTIOQUIA","05001","MEDELLIN",2,"Privada",100]
[378268,1,"NIT",900518599,"GOOD PRICE CORPORATION SAS",null,null,null,"CR",33,null,null,1,null,null,55,null,null,null,"05","ANTIOQUIA","05001","MEDELLIN",2,"Privada",100]
[378751,1,"NIT",900120467,"COMERCIALIZADORA FERROCEMENTO JJ SA",null,null,null,null,null,null,null,null,null,null,null,null,null,"Km 17 vias palmas aldea palmas 6","05","ANTIOQUIA","05001","MEDELLIN",2,"Privada",100]
[379778,1,"NIT",890927034,"COLTEFINANCIERA S A COMPANIA DE FINANCIAMIENTO",null,null,null,"CL",7,null,"Sur",42,null,null,70,null,null,null,"05","ANTIOQUIA","05001","MEDELLIN",2,"Privada",100]
[280654,1,"NIT",900490337,"CONSTRUCTORA BUENA VISTA SAS",null,null,null,"CR",33,null,"Sur",1,null,"Sur",231,null,null,null,"05","ANTIOQUIA","05001","MEDELLIN",2,"Privada",100]
[480714,1,"NIT",818001629,"EMPRESA DISTRIBUIDORA DEL PACIFICO SA ESP",null,null,null,"CR",33,null,null,1,null,null,4,null,null,null,"05","ANTIOQUIA","05001","MEDELLIN",2,"Privada",100]
[281818,1,"NIT",811037405,"CENTRO SUR SA",null,null,null,null,null,null,null,null,null,null,null,null,null,"Km 17 vias palmas aldea palmas 6","05","ANTIOQUIA","05001","MEDELLIN",2,"Privada",100]

{"sheet":"Instructivo","index":6,"n_rows":7,"n_cols":7,"rows_kept":7,"cut":false,"hidden":true,"merged":[[6,0,7,6],[1,0,1,6],[0,0,0,6]]}
["La administración tributaria municipal mediante la Resolución 35189 de 2017, en su artículo 3 establece que: Las sociedades fiduciarias que administren patrimonios autónomos y/o encargos fiduciarios que desarrollen actividades gravadas en el Municipio de Medellín, deberán informar bajo su propio NIT y razón social, según lo dispuesto a continuación:"]
[]
["GENERALIDADES",null,"Información que deben reportar las Sociedades Fiduciarias que administren patrimonios autónomos",null,"Determinación del(de los) fideicomitente(s) con los siguientes datos:",null,"Determinación del(de los) beneficiario(s) con los siguientes datos:"]
[null,null,"Estructura tipo 1 - Información del Fideicomiso",null,"Estructura tipo 2 - Información de los fideicomitentes",null,"Estructura tipo 3 - Información de los beneficiarios"]
["De conformidad con el artículo 631 del Estatuto Tributario Nacional, que busca efectuar estudios y cruces de información necesarios para el debido control de los tributos municipales y el cual consagra la facultad de la Administración Tributaria para solicitar a las personas o entidades, contribuyentes y no contribuyentes, declarantes o no declarantes; información relacionada con sus propias operaciones o con operaciones efectuadas con terceros, así como la discriminación total o parcial de las partidas consignadas en los formularios de las declaraciones tributarias.\n\nEl Estatuto Tributario Municipal –Acuerdo 066 de 2017, por medio del cual se expide la normativa sustantiva aplicable a los ingresos tributarios en el Municipio de Medellín, determina que las sociedades fiduciarias que administren patrimonios autónomos reportar información a la administración tributaria municipal.",null,"1. Vigencia, conforme a la información que esté reportando\n2. Número de fideicomiso mediante el cual se informa a la Superintendencia Financiera de Colombia\n3. El tipo de fideicomiso según la clasificación de negocios fiduciarios junto con el subtipo de fideicomiso según la clasificación de negocios fiduciarios\n4. Ingresos brutos del fideicomiso fuera de Medellín, es decir, en otras jurisdicciones \n5. Ingresos brutos del fideicomiso en Medellín, es decir, en la jurisdicción\n6. Fecha constitución del fideicomiso\n7. Fecha finalización del fideicomiso\n",null,"1. Número de fideicomiso, el cual debe ser coincidente con el código reportado en la estructura tipo 1\n2.  Tipo de documento de identificación del(los) fideicomitente(s)\n3.  Número de Identificación de(l) (los) fideicomitente(s)\n4.  Nombre(s) y apellido(s) o razón social de(l) (los) fideicomitente(s)\n5.  Dirección de notificación de(l) (los) fideicomitente(s)\n6.  Código de ciudad o municipio (Homologación DIAN)\n7.  Código de departamento (Homologación DIAN)\n8. Tipo de participación de(l) (los) fideicomitentes(s)\n9.  Porcentaje de participación del(los) fideicomitente(s)\n10.  Valor absoluto de la participación del(los) fideicomitente(s) - No diligenciar, este valor se calcula automáticamente con base en el porcentaje de participación (Campo 9 es esta estructura) y el valor de los ingresos brutos fideicomiso en Medellín (Campo 5 de estructura 1)\nAl momento de incluir información en la hoja estructura tipo 2, los campos documento, municipio, departamento, tipo de participación y tipo de obligado fiscal se diligencian a través de selección, por lo tanto únicamente serán válidos los ítem que contenga cada uno de estos campos. En el caso de municipios y departamentos, en este archivo se mostrarán los nombres para su respectiva selección, no obstante al generar la información en las respectivas estructuras, se convertirán a códigos DANE",null,"1. Número de fideicomiso, el cual debe ser coincidente con el código reportado en la estructura tipo 1\n2.  Tipo de documento de identificación del(los) beneficiario(s)\n3.  Número de Identificación de(l) (los) beneficiario(s)\n4.  Nombre(s) y apellido(s) o razón social de(l) (los) beneficiario(s)\n5.  Dirección de notificación de(l) (los) beneficiario(s)\n6.  Código de ciudad o municipio (Homologación DIAN)\n7.  Código de departamento (Homologación DIAN)\n8. Tipo de participación de(l) (los) beneficiarios(s)\n9.  Porcentaje de participación del(los) beneficiario(s)\n10.  Valor absoluto de la participación del(los) beneficiarios(s) - No diligenciar, este valor se calcula automáticamente con base en el porcentaje de participación (Campo 9 es esta estructura) y el valor de los ingresos brutos fideicomiso en Medellín (Campo 5 de estructura 1)\nAl momento de incluir información en la hoja estructura tipo 3, los campos documento, municipio, departamento, tipo de participación y tipo de obligado fiscal se diligencian a través de selección, por lo tanto únicamente serán válidos los ítem que contenga cada uno de estos campos. En el caso de municipios y departamentos, en este archivo se mostrarán los nombres para su respectiva selección, no obstante al generar la información en las respectivas estructuras, se convertirán a códigos DANE"]
[]
["Luego de diligenciar las formatos tipo 1, 2 y 3, para generar las estructuras con los datos requeridos, se debe acceder a la hoja Validación, donde existe un listado en el cual se elige el tipo de estructura que se desea obtener, para efectuar el proceso de validación de dicha información y finalmente cuando las validaciones sean satisfactorias, se genera la estructura a través del botón exportar, se genera el archivo CSV con el respectivo nombre en la misma ruta donde se tiene almacenado este validador. Es importante generar un CSV por cada tipo de archivo."]

{"sheet":"TablaResumen","index":7,"n_rows":68,"n_cols":2,"rows_kept":68,"cut":false,"hidden":true,"merged":[]}
[]
[]
["Etiquetas de fila","Suma de PorcentajeParticipacion"]
[26579,100]
[26631,100]
[26674,100]
[26708,100]
[27575,100]
[27644,100]
[27848,100]
[28511,100]
[28684,100]
[34241,100]
[36545,100]
[36717,100]
[37648,100]
[38284,100]
[38692,100]
[47641,100]
[162932,100]
[173089,100]
[213875,100]
[215654,100]
[219392,100]
[220396,100]
[230342,100]
[230528,100]
[235261,100]
[243833,100]
[248192,100]
[252846,100]
[258280,100]
[263371,100]
[271686,100]
[273810,100]
[274072,100]
[274074,100]
[275286,100]
[278565,100]
[280654,100]
[281818,100]
[312790,100]
[315415,100]
[342570,100]
[344224,100]
[356797,100]
[357933,100]
[365719,100]
[367912,100]
[369718,100]
[371685,100]
[373405,100]
[377018,100]
[378133,100]
[378268,100]
[378751,100]
[379778,100]
[440837,100]
[456639,100]
[467767,100]
[471849,100]
[472374,100]
[473969,100]
[473989,100]
[477007,100]
[477653,100]
[480714,100]
["Total general",6400]

{"sheet":"Versionador","index":8,"n_rows":5,"n_cols":3,"rows_kept":5,"cut":false,"hidden":true,"merged":[]}
[]
["VERSION","FECHA","DESCRIPCION"]
["1,0",null,"se implementa los validares tipo1-Info Fideicomiso , tipo2-Info Fideicomitente, tipo3- InfoBeneficiario"]
["2,0","2021-02-17","Ajustes Validaror Tipo1-Inf Fideicomiso"]
[null,null,"* se ajuste Validacion del campo \"Tipo Fideicomiso\" que está validando en forma erronea (Macro calculo())"]

{"sheet":"Vigencia","index":9,"n_rows":4,"n_cols":1,"rows_kept":4,"cut":false,"hidden":true,"merged":[]}
["Vigencia"]
[2018]
[2019]
[2020]

{"sheet":"Tipos-Subtipos-Fideicomiso","index":10,"n_rows":40,"n_cols":5,"rows_kept":40,"cut":false,"hidden":true,"merged":[[27,0,28,0],[29,0,30,0],[1,0,1,3],[0,0,0,3],[3,0,10,0],[11,0,14,0],[15,0,19,0],[20,0,22,0],[24,0,26,0],[29,1,30,1],[3,1,10,1],[11,1,14,1],[15,1,19,1],[20,1,22,1],[24,1,26,1],[27,1,28,1]]}
["Tipos y subtipos de fideicomiso"]
["Fuente información: Superintendencia bancaria de Colombia, https://www.superfinanciera.gov.co/SFCant/Normativa/IndicedeReportesdeSuperf/cc110.pdf"]
["IdTipo","Tipo","IdSubtipo","Subtipo","IdSubtipo"]
[1,"Inversión",1,"Inversión - Fondo común ordinario",11]
[null,null,2,"Inversión - Fondo común especial",12]
[null,null,3,"Inversión - Fondo común especial - Resultado proceso de titularización",13]
[null,null,4,"Inversión - Fondo común especial en moneda extranjera",14]
[null,null,5,"Inversión - Fideicomiso de inversión con destinación especifica",15]
[null,null,7,"Inversión - Fondos mutuos de inversión",17]
[null,null,8,"Inversión - Otros fideicomisos de inversión",18]
[null,null,9,"Inversión - Otros Fondos",19]
[2,"Inmobiliario",1,"Inmobiliario - Proyectos de construcción",21]
[null,null,2,"Inmobiliario - Administración y pagos",22]
[null,null,3,"Inmobiliario - Tesorería",23]
[null,null,4,"Inmobiliario - Administración",24]
[3,"Administración",1,"Administración - Administración y pagos",31]
[null,null,2,"Administración - Patrimonios como resultado de procesos de titularización",32]
[null,null,3,"Administración - Administración de cartera",33]
[null,null,4,"Administración - Otros administración",34]
[null,null,5,"Administración - Recaudos y contribuciones (Ley 510/99)",35]
[4,"Otros_y_de_Garantía",1,"Otros - Fiducia pública",41]
[null,null,2,"Otros - Fiducia en garantía",42]
[null,null,3,"Otros - Otros",43]
[5,"Cesantías",1,"Cesantías",51]
[6,"Pensiones",1,"Pensiones - Obligatorios ",61]
[null,null,2,"Pensiones - Fondos de Pensiones de Jubilación e Invalidez (Fondos de Pensiones Voluntarias)",62]
[null,null,3,"Pensiones - Pasivos pensionales",63]
[7,"Prima_Media",1,"PrimaMedia - Obligatorios",71]
[null,null,2,"PrimaMedia - Voluntarios",72]
[8,"Prima_Media_Caxdac",1,"PrimaMediaCax - Obligatorios",81]
[null,null,2,"PrimaMediaCax - Voluntarios ",82]
[null,"Validacion Tipo Fideicomiso"]
[1,"Inversión",1]
[2,"Inmobiliario",2]
[3,"Administración",3]
[4,"Otros_y_de_Garantía",4]
[5,"Cesantías",5]
[6,"Pensiones",6]
[7,"Prima_Media",7]
[8,"Prima_Media_Caxdac",8]

{"sheet":"HomologacionDireccion","index":11,"n_rows":21,"n_cols":12,"rows_kept":21,"cut":false,"hidden":true,"merged":[[8,2,8,11],[9,2,9,5],[9,6,9,8],[9,9,9,11]]}
[]
[]
[]
[]
[]
[]
[]
[]
[null,null,"Direccion encasillada"]
[null,null," Datos de la via ",null,null,null," Datos del cruce ",null,null," Datos adicionales "]
[null,null," Tipo"," Número"," Apendice"," Orientación"," Número"," Apendice"," Orientación"," Placa"," Interior"," Bloque"]
[null,null," Desplegable con esta opciones "," ENTRE 1 Y 3 CARACTERES, NÚMERICO "," ENTRE 1 Y DOS CARACTERES, TIPO TEXTO "," Desplegable con esta opciones "," ENTRE 1 Y 3 CARACTERES, NÚMERICO "," ENTRE 1 Y DOS CARACTERES, TIPO TEXTO "," Desplegable con esta opciones "," ENTRE 1 Y 3 CARACTERES, NÚMERICO ","ENTRE 1 Y 4 CARACTERES, TIPO TEXO"," Entre 1 y 2 caracteres, Tipo alfanúmerico "]
[null,null,"CR",null,null,"Sur",null,null,"Sur"]
[null,null,"CL",null,null,"Norte",null,null,"Norte"]
[null,null,"CQ",null,null,"Oriente",null,null,"Oriente"]
[null,null,"DG",null,null,"Occidente",null,null,"Occidente"]
[null,null,"AV",null,null,null,null,null,{"$f":"IF(F17<>\"\",F17,\"\")","v":""}]
[null,null,"TG",null,null,null,null,null,{"$f":"IF(F18<>\"\",F18,\"\")","v":""}]
[null,null,null,null,null,null,null,null,{"$f":"IF(F19<>\"\",F19,\"\")","v":""}]
[null,null,null,null,null,null,null,null,{"$f":"IF(F20<>\"\",F20,\"\")","v":""}]
[null,null,null,null,null,null,null,null,{"$f":"IF(F21<>\"\",F21,\"\")","v":""}]

{"sheet":"CIIU","index":12,"n_rows":562,"n_cols":4,"rows_kept":562,"cut":false,"hidden":true,"merged":[]}
[]
[]
[null,"TIPOS DE CODIGOS CIIU"]
["Código","Descripción","Código"]
[]
[510,"Extracción de hulla (carbón de piedra)",510]
[520,"Extracción de carbón lignito",520]
[610,"Extracción de petróleo crudo",610]
[620,"Extracción de gas natural",620]
[710,"Extracción de minerales de hierro",710]
[721,"Extracción de minerales de uranio y de torio",721]
[722,"Extracción de oro y otros metales preciosos",722]
[723,"Extracción de minerales de níquel",723]
[729,"Extracción de otros minerales metalíferos no ferrosos n.c.p.",729]
[811,"Extracción de piedra, arena, arcillas comunes, yeso y anhidrita",811]
[812,"Extracción de arcillas de uso industrial, caliza, caolín y bentonitas",812]
[820,"Extracción de esmeraldas, piedras preciosas y semipreciosas",820]
[891,"Extracción de minerales para la fabricación de abonos y productos químicos",891]
[892,"Extracción de halita (sal)",892]
[899,"Extracción de otros minerales no metálicos n.c.p.",899]
[1011,"Procesamiento y conservación de carne y productos cárnicos",1011]
[1012,"Procesamiento y conservación de pescados, crustáceos y moluscos",1012]
[1020,"Procesamiento y conservación de frutas, legumbres, hortalizas y tubérculos",1020]
[1030,"Elaboración de aceites y grasas de origen vegetal y animal",1030]
[1040,"Elaboración de productos lácteos",1040]
[1051,"Elaboración de productos de molinería",1051]
[1052,"Elaboración de almidones y productos derivados del almidón",1052]
[1061,"Trilla de café",1061]
[1062,"Descafeinado, tostión y molienda del café",1062]
[1063,"Otros derivados del café",1063]
[1071,"Elaboración y refinación de azúcar",1071]
[1072,"Elaboración de panela",1072]
[1081,"Elaboración de productos de panadería",1081]
[1082,"Elaboración de cacao, chocolate y productos de confitería",1082]
[1083,"Elaboración de macarrones, fideos, alcuzcuz y productos farináceos similares",1083]
[1084,"Elaboración de comidas y platos preparados",1084]
[1089,"Elaboración de otros productos alimenticios n.c.p.",1089]
[1090,"Elaboración de alimentos preparados para animales",1090]
[1101,"Destilación, rectificación y mezcla de bebidas alcohólicas",1101]
[1102,"Elaboración de bebidas fermentadas no destiladas",1102]
[1103,"Producción de malta, elaboración de cervezas y otras bebidas malteadas",1103]
["1103A","Producción de malta, elaboración de cervezas y otras bebidas malteadas sin alcohol","1103A"]
["1103B","Producción de malta, elaboración de cervezas y otras bebidas malteadas que tengan algún grado de alcohol","1103B"]
[1104,"Elaboración de bebidas no alcohólicas, producción de aguas minerales y de otras aguas embotelladas",1104]
[1200,"Elaboración de productos de tabaco",1200]
[1311,"Preparación e hilatura de fibras textiles",1311]
[1312,"Tejeduría de productos textiles",1312]
[1313,"Acabado de productos textiles",1313]
[1391,"Fabricación de tejidos de punto y ganchillo",1391]
[1392,"Confección de artículos con materiales textiles, excepto prendas de vestir",1392]
[1393,"Fabricación de tapetes y alfombras para pisos",1393]
[1394,"Fabricación de cuerdas, cordeles, cables, bramantes y redes",1394]
[1399,"Fabricación de otros artículos textiles n.c.p.",1399]
[1410,"Confección de prendas de vestir, excepto prendas de piel",1410]
[1420,"Fabricación de artículos de piel",1420]
[1430,"Fabricación de artículos de punto y ganchillo",1430]
[1511,"Curtido y recurtido de cueros; recurtido y teñido de pieles",1511]
[1512,"Fabricación de artículos de viaje, bolsos de mano y artículos similares elaborados en cuero, y fabricación de artículos de talabartería y guarnicionería",1512]
[1513,"Fabricación de artículos de viaje, bolsos de mano y artículos similares; artículos de talabartería y guarnicionería elaborados en otros materiales",1513]
[1521,"Fabricación de calzado de cuero y piel, con cualquier tipo de suela",1521]
[1522,"Fabricación de otros tipos de calzado, excepto calzado de cuero y piel",1522]
[1523,"Fabricación de partes del calzado",1523]
[1610,"Aserrado, acepillado e impregnación de la madera",1610]
[1620,"Fabricación de hojas de madera para enchapado; fabricación de tableros contrachapados, tableros laminados, tableros de partículas y otros tableros y paneles",1620]
[1630,"Fabricación de partes y piezas de madera, de carpintería y ebanistería para la construcción",1630]
[1640,"Fabricación de recipientes de madera",1640]
[1690,"Fabricación de otros productos de madera; fabricación de artículos de corcho, cestería y espartería",1690]
[1701,"Fabricación de pulpas (pastas) celulósicas; papel y cartón",1701]
[1702,"Fabricación de papel y cartón ondulado (corrugado); fabricación de envases, empaques y de  embalajes de papel y cartón",1702]
[1709,"Fabricación de otros artículos de papel y cartón",1709]
[1811,"Tipografía y artes graficas",1811]
[1812,"Actividades de servicios relacionados con la impresión",1812]
[1910,"Fabricación de productos de hornos de coque",1910]
[1921,"Fabricación de productos de la refinación del petróleo",1921]
[1922,"Actividad de mezcla de combustibles",1922]
[2011,"Fabricación de sustancias y productos químicos básicos",2011]
[2012,"Fabricación de abonos y compuestos inorgánicos nitrogenados",2012]
[2013,"Fabricación de plásticos en formas primarias",2013]
[2014,"Fabricación de caucho sintético en formas primarias",2014]
[2021,"Fabricación de plaguicidas y otros productos químicos de uso agropecuario",2021]
[2022,"Fabricación de pinturas, barnices y revestimientos similares, tintas para impresión y masillas",2022]
[2023,"Fabricación de jabones y detergentes, preparados para limpiar y pulir; perfumes y preparados  de tocador",2023]
[2029,"Fabricación de otros productos químicos n.c.p.",2029]
[2030,"Fabricación de fibras sintéticas y artificiales",2030]
[2100,"Fabricación de productos farmacéuticos, sustancias químicas medicinales y productos botánicos  de uso farmacéutico",2100]
[2211,"Fabricación de llantas y neumáticos de caucho",2211]
[2219,"Fabricación de formas básicas de caucho y otros productos de caucho n.c.p.",2219]
[2221,"Fabricación de formas básicas de plástico",2221]
[2229,"Fabricación de artículos de plástico n.c.p.",2229]
[2310,"Fabricación de vidrio y productos de vidrio",2310]
[2391,"Fabricación de productos refractarios",2391]
[2392,"Fabricación de materiales de arcilla para la construcción",2392]
[2393,"Fabricación de otros productos de cerámica y porcelana",2393]
[2394,"Fabricación de cemento, cal y yeso",2394]
[2395,"Fabricación de artículos de hormigón, cemento y yeso",2395]
[2396,"Corte, tallado y acabado de la piedra",2396]
[2399,"Fabricación de otros productos minerales no metálicos n.c.p.",2399]
[2410,"Producción de hierro",2410]
[2421,"Industrias básicas de metales preciosos",2421]
[2429,"Industrias básicas de otros metales no ferrosos",2429]
[2431,"Fundición de hierro y de acero",2431]
[2432,"Fundición de metales no ferrosos",2432]
[2511,"Fabricación de productos metálicos para uso estructural",2511]
[2512,"Fabricación de tanques, depósitos y recipientes de metal, excepto los utilizados para el envase o transporte de mercancías",2512]
[2513,"Fabricación de generadores de vapor, excepto calderas de agua caliente para calefacción central",2513]
[2520,"Fabricación de armas y municiones",2520]
[2591,"Forja, prensado, estampado y laminado de metal; pulvimetalurgia",2591]
[2592,"Tratamiento y revestimiento de metales; mecanizado",2592]
[2593,"Fabricación de artículos de cuchillería, herramientas de mano y artículos de ferretería",2593]
[2599,"Fabricación de otros productos elaborados de metal n.c.p.",2599]
[2610,"Fabricación de componentes y tableros electrónicos",2610]
[2620,"Fabricación de computadoras y de equipo periférico",2620]
[2630,"Fabricación de equipos de comunicación",2630]
[2640,"Fabricación de aparatos electrónicos de consumo",2640]
[2651,"Fabricación de equipo de medición, prueba, navegación y control",2651]
[2652,"Fabricación de relojes",2652]
[2660,"Fabricación de equipo de irradiación y equipo electrónico de uso médico y terapéutico",2660]
[2670,"Fabricación de instrumentos ópticos y equipo fotográfico",2670]
[2680,"Fabricación de medios magnéticos y ópticos para almacenamiento de datos",2680]
[2711,"Fabricación de motores, generadores y transformadores eléctricos",2711]
[2712,"Fabricación de aparatos de distribución y control de la energía eléctrica",2712]
[2720,"Fabricación de pilas, baterías y acumuladores eléctricos",2720]
[2731,"Fabricación de hilos y cables eléctricos y de fibra óptica",2731]
[2732,"Fabricación de dispositivos de cableado",2732]
[2740,"Fabricación de equipos eléctricos de iluminación",2740]
[2750,"Fabricación de aparatos de uso doméstico",2750]
[2790,"Fabricación de otros tipos de equipo eléctrico n.c.p.",2790]
[2811,"Fabricación de motores, turbinas, y partes para motores de combustión interna",2811]
[2812,"Fabricación de equipos de potencia hidráulica y neumática",2812]
[2813,"Fabricación de otras bombas, compresores, grifos y válvulas",2813]
[2814,"Fabricación de cojinetes, engranajes, trenes de engranajes y piezas de transmisión",2814]
[2815,"Fabricación de hornos, hogares y quemadores industriales",2815]
[2816,"Fabricación de equipo de elevación y manipulación",2816]
[2817,"Fabricación de maquinaria y equipo de oficina (excepto computadoras y equipo periférico)",2817]
[2818,"Fabricación de herramientas manuales con motor",2818]
[2819,"Fabricación de otros tipos de maquinaria y equipo de uso general n.c.p.",2819]
[2821,"Fabricación de maquinaria agropecuaria y forestal",2821]
[2822,"Fabricación de máquinas formadoras de metal y de máquinas herramienta",2822]
[2823,"Fabricación de maquinaria para la metalurgia",2823]
[2824,"Fabricación de maquinaria para explotación de minas y canteras y para obras de construcción",2824]
[2825,"Fabricación de maquinaria para la elaboración de alimentos, bebidas y tabaco",2825]
[2826,"Fabricación de maquinaria para la elaboración de productos textiles, prendas de vestir y cueros",2826]
[2829,"Fabricación de otros tipos de maquinaria y equipo de uso especial n.c.p.",2829]
[2910,"Fabricación de vehículos automotores y sus motores",2910]
[2920,"Fabricación de carrocerías para vehículos automotores; fabricación de remolques y semirremolques",2920]
[2930,"Fabricación de partes, piezas (autopartes) y accesorios (lujos) para vehículos automotores",2930]
[3011,"Construcción de barcos y de estructuras flotantes",3011]
[3012,"Construcción de embarcaciones de recreo y deporte",3012]
[3020,"Fabricación de locomotoras y de material rodante para ferrocarriles",3020]
[3030,"Fabricación de aeronaves, naves espaciales y de maquinaria conexa",3030]
[3040,"Fabricación de vehículos militares de combate",3040]
[3091,"Fabricación de motocicletas",3091]
[3092,"Fabricación de bicicletas y de sillas de ruedas para personas con discapacidad",3092]
[3099,"Fabricación de otros tipos de equipo de transporte n.c.p.",3099]
["3099A","Fabricación de materiales de transporte de uso industrial","3099A"]
["3099B","Fabricación de otros tipos de equipo de transporte n.c.p. ","3099B"]
[3110,"Fabricación de muebles",3110]
[3120,"Fabricación de colchones y somieres",3120]
[3210,"Fabricación de joyas, bisutería y artículos conexos",3210]
[3220,"Fabricación de instrumentos musicales",3220]
[3230,"Fabricación de artículos y equipo para la práctica del deporte",3230]
[3240,"Fabricación de juegos, juguetes y rompecabezas",3240]
[3250,"Fabricación de instrumentos, aparatos y materiales médicos y odontológicos (incluido mobiliario)",3250]
[3290,"Otras industrias manufactureras n.c.p.",3290]
[5811,"Edición de libros",5811]
[5812,"Edición de directorios y listas de correo",5812]
[5813,"Edición de periódicos, revistas y otras publicaciones periódicas",5813]
["5813A","Edición de periódicos","5813A"]
["5813B","Edición de revistas y otras publicaciones periódicas","5813B"]
[5819,"Otros trabajos de edición",5819]
["SD","Se deberán clasificar en el código CIIU del producto. Toda actividad industrial con sede fabril en Medellín, cuando la comercialización de sus productos, se haga a través de distribuidores diferentes del industrial, con domicilio en este municipio, siempre y cuando, exista contrato suscrito con el distribuidor.","SD"]
[4511,"Comercio de vehículos automotores nuevos",4511]
["4511A","Comercio de vehículos automotores nuevos nacionales y automotores producidos o ensamblados en los países del pacto andino","4511A"]
["4511B","Comercio de vehículos automotores nuevos extranjeros","4511B"]
["4511C","Comercio de vehículos automotores nuevos con motor eléctrico","4511C"]
[4512,"Comercio de vehículos automotores usados",4512]
["4512A","Comercio de vehículos automotores usados nacionales y automotores producidos o ensamblados en los países del pacto andino","4512A"]
["4512B","Comercio de vehículos automotores usados extranjeros y motocicletas extranjeras","4512B"]
["4512C","Comercio de vehículos automotores usados de motor eléctrico","4512C"]
[4530,"Comercio de partes, piezas (autopartes) y accesorios (lujos) para vehículos automotores",4530]
[4541,"Comercio de motocicletas y de sus partes, piezas y accesorios",4541]
["4541A","Comercio de motocicletas con motor eléctrico","4541A"]
["4541B","Comercio de motocicletas y de sus partes, piezas y accesorios n.c.p.","4541B"]
[4610,"Comercio al por mayor a cambio de una retribución o por contrata",4610]
[4620,"Comercio al por mayor de materias primas agropecuarias; animales vivos",4620]
[4631,"Comercio al por mayor de productos alimenticios",4631]
["4631A","Comercio al por mayor y distribución de productos lácteos bajo la modalidad de contrato de distribución o suministro","4631A"]
["4631B","Comercio al por mayor de productos alimenticios n.c.p.","4631B"]
[4632,"Comercio al por mayor de bebidas y tabaco",4632]
[4641,"Comercio al por mayor de productos textiles, productos confeccionados para uso doméstico",4641]
[4642,"Comercio al por mayor de prendas de vestir",4642]
[4643,"Comercio al por mayor de calzado",4643]
[4644,"Comercio al por mayor de aparatos y equipo de uso doméstico",4644]
[4645,"Comercio al por mayor de productos farmacéuticos, medicinales, cosméticos y de tocador",4645]
[4649,"Comercio al por mayor de otros utensilios domésticos n.c.p.",4649]
["4649A","Comercio al por mayor bicicletas, incluyendo las eléctricas mientras cumplan con la reglamentación del Ministerio de Transporte.","4649A"]
["4649B","Comercio al por mayor de otros utensilios domésticos n.c.p.","4649B"]
[4651,"Comercio al por mayor de computadores, equipo periférico y programas de informática",4651]
[4652,"Comercio al por mayor de equipo, partes y piezas electrónicos y de telecomunicaciones",4652]
[4653,"Comercio al por mayor de maquinaria y equipo agropecuarios",4653]
[4659,"Comercio al por mayor de otros tipos de maquinaria y equipo n.c.p.",4659]
[4661,"Comercio al por mayor de combustibles sólidos, líquidos, gaseosos y productos conexos",4661]
["4661A","Comercio al por mayor de grasas, lubricantes y aceites no conexos con el petróleo o combustibles","4661A"]
["4661B","Comercio al por mayor de combustibles sólidos, líquidos, gaseosos y productos conexos con el petróleo o combustibles","4661B"]
[4662,"Comercio al por mayor y por menor de metales y productos metalíferos",4662]
[4663,"Comercio al por mayor de materiales de construcción, artículos de ferretería, pinturas, productos de vidrio, equipo y materiales de fontanería y calefacción",4663]
[4664,"Comercio al por mayor de productos químicos básicos, cauchos y plásticos en formas primarias y productos químicos de uso agropecuario",4664]
[4665,"Comercio al por mayor de desperdicios, desechos y chatarra",4665]
[4669,"Comercio al por mayor de otros productos n.c.p.",4669]
[4690,"Comercio al por mayor no especializado",4690]
[4711,"Comercio al por menor en establecimientos no especializados con surtido compuesto principalmente por alimentos, bebidas o tabaco",4711]
[4719,"Comercio al por menor en establecimientos no especializados, con surtido compuesto principalmente por productos diferentes de alimentos (víveres en general), bebidas y tabaco",4719]
[4721,"Comercio al por menor de productos agrícolas para el consumo en establecimientos especializados",4721]
[4722,"Comercio al por menor de leche, productos lácteos y huevos, en establecimientos especializados",4722]
["4722A","Comercio al por menor y distribución de productos lácteos bajo la modalidad de contrato de distribución o suministro","4722A"]
["4722B","Comercio al por menor de leche, productos lácteos y huevos, en establecimientos especializados n.c.p.","4722B"]
[4723,"Comercio al por menor de carnes (incluye aves de corral), productos cárnicos, pescados y productos de mar, en establecimientos especializados",4723]
[4724,"Comercio al por menor de bebidas y productos del tabaco, en establecimientos especializados",4724]
[4729,"Comercio al por menor de otros productos alimenticios n.c.p., en establecimientos especializados",4729]
[4731,"Comercio al por menor de combustible para automotores",4731]
[4732,"Comercio al por menor de lubricantes (aceites, grasas), aditivos y productos de limpieza para vehículos automotores",4732]
[4741,"Comercio al por menor de computadores, equipos periféricos, programas de informática y equipos de telecomunicaciones en establecimientos especializados",4741]
[4742,"Comercio al por menor de equipos y aparatos de sonido y de video, en establecimientos especializados",4742]
[4751,"Comercio al por menor de productos textiles en establecimientos especializados",4751]
[4752,"Comercio al por menor de artículos de ferretería, pinturas y productos de vidrio en establecimientos  especializados",4752]
[4753,"Comercio al por menor de tapices, alfombras y cubrimientos para paredes y pisos en establecimientos  especializados",4753]
[4754,"Comercio al por menor de electrodomésticos y gasodomésticos de uso doméstico, muebles y equipos de iluminación",4754]
[4755,"Comercio al por menor de artículos y utensilios de uso doméstico",4755]
[4759,"Comercio al por menor de otros artículos domésticos en establecimientos especializados",4759]
[4761,"Comercio al por menor de libros, periódicos, materiales y artículos de papelería y escritorio,  en establecimientos especializados",4761]
[4762,"Comercio al por menor de artículos deportivos, en establecimientos especializados",4762]
[4769,"Comercio al por menor de otros artículos culturales y de entretenimiento n.c.p. en establecimientos especializados",4769]
[4771,"Comercio al por menor de prendas de vestir y sus accesorios (incluye artículos de piel) en establecimientos especializados",4771]
[4772,"Comercio al por menor de todo tipo de calzado y artículos de cuero y sucedáneos del cuero en establecimientos especializados",4772]
[4773,"Comercio al por menor de productos farmacéuticos y medicinales, cosméticos y artículos de tocador en establecimientos especializados",4773]
[4774,"Comercio al por menor de otros productos nuevos en establecimientos especializados",4774]
[4775,"Comercio al por menor de artículos de segunda mano",4775]
[4781,"Comercio al por menor de alimentos, bebidas y tabaco, en puestos de venta móviles",4781]
[4782,"Comercio al por menor de productos textiles, prendas de vestir y calzado, en puestos de venta móviles",4782]
[4789,"Comercio al por menor de otros productos en puestos de venta móviles",4789]
[4791,"Comercio al por menor realizado a través de internet (dirigirse al artículo 44 de este acuerdo)",4791]
["4791A","Comercio al por mayor realizado a través de tecnologías de información y comunicación","4791A"]
["4791B","Comercio al por menor realizado a través de tecnologías de información y comunicación","4791B"]
[4792,"Comercio al por menor realizado a través de casas de venta o por correo",4792]
[4799,"Otros tipos de comercio al por menor no realizado en establecimientos,   puestos de venta o  mercados",4799]
["SD","Se deberán clasificar en el código CIIU del producto. Toda venta de productos fabricados en industrias con sede fabril en Medellín o en el Área Metropolitana y que distribuyan los productos bajo la modalidad de contrato, suscrito con el industrial. Deberá entregar copia del contrato a la Secretaría de Hacienda. ","SD"]
[161,"Actividades de apoyo a la agricultura ",161]
[162,"Actividades de apoyo a la ganadería",162]
[240,"Servicios de apoyo a la silvicultura ",240]
[910,"Actividades de apoyo para la extracción de petróleo y de gas natural",910]
[990,"Actividades de apoyo para otras actividades de explotación de minas y canteras",990]
[1820,"Producción de copias a partir de grabaciones originales",1820]
[2212,"Reencauche de llantas usadas",2212]
[3311,"Mantenimiento y reparación especializado de productos elaborados en metal",3311]
[3312,"Mantenimiento y reparación especializado de maquinaria y equipo",3312]
[3313,"Mantenimiento y reparación especializado de equipo electrónico y óptico",3313]
[3314,"Mantenimiento y reparación especializado de equipo eléctrico",3314]
[3315,"Mantenimiento y reparación especializado de equipo de transporte, excepto los vehículos automotores, motocicletas y bicicletas",3315]
[3319,"Mantenimiento y reparación de otros tipos de equipos y sus componentes n.c.p.",3319]
[3320,"Instalación especializada de maquinaria y equipo industrial",3320]
[3511,"Generación de energía eléctrica",3511]
[3512,"Transmisión de energía eléctrica",3512]
[3513,"Distribución de energía eléctrica",3513]
[3514,"Comercialización de energía eléctrica",3514]
[3520,"Producción de gas; distribución de combustibles gaseosos por tuberías",3520]
[3530,"Suministro de vapor y aire acondicionado",3530]
[3600,"Captación, tratamiento y distribución de agua",3600]
[3700,"Evacuación y tratamiento de aguas residuales",3700]
[3811,"Recolección de desechos no peligrosos",3811]
[3812,"Recolección de desechos peligrosos",3812]
[3821,"Tratamiento y disposición de desechos no peligrosos",3821]
[3822,"Tratamiento y disposición de desechos peligrosos",3822]
[3830,"Recuperación de materiales",3830]
[3900,"Actividades de saneamiento ambiental y otros servicios de gestión de desechos",3900]
[4111,"Construcción de edificios residenciales",4111]
[4112,"Construcción de edificios no residenciales ",4112]
[4210,"Construcción de carreteras y vías de ferrocarril",4210]
[4220,"Construcción de proyectos de servicio público",4220]
[4290,"Construcción de otras obras de ingeniería civil",4290]
[4311,"Demolición",4311]
[4312,"Preparación del terreno para la construcción",4312]
[4321,"Instalaciones eléctricas",4321]
[4322,"Instalaciones de fontanería, calefacción y aire acondicionado",4322]
[4329,"Otras instalaciones especializadas",4329]
[4330,"Terminación y acabado de edificios y obras de ingeniería civil",4330]
[4390,"Otras actividades especializadas para la construcción de edificios y obras de ingeniería civil",4390]
[4520,"Mantenimiento y reparación de vehículos automotores",4520]
[4542,"Mantenimiento y reparación de motocicletas y de sus partes y piezas",4542]
[4911,"Transporte férreo de pasajeros",4911]
[4912,"Transporte férreo de carga",4912]
[4921,"Transporte de pasajeros",4921]
["4921A","Transporte urbano de pasajeros","4921A"]
["4921B","Transporte de pasajeros n.c.p","4921B"]
[4922,"Transporte mixto",4922]
[4923,"Transporte de carga por carretera",4923]
[4930,"Transporte por tuberías",4930]
[5011,"Transporte de pasajeros marítimo y de cabotaje",5011]
[5012,"Transporte de carga marítimo y de cabotaje",5012]
[5021,"Transporte fluvial de pasajeros",5021]
[5022,"Transporte fluvial de carga",5022]
[5111,"Transporte aéreo nacional de pasajeros",5111]
["5111A","Transporte aéreo nacional de pasajeros (empresas de transporte de pasajeros aéreas excepto las que operan dentro de áreas metropolitanas o ciudades dormitorio (ley 1558 de 2012, Ley de turismo))","5111A"]
["5111B","Transporte aéreo nacional de pasajeros (las demás empresas de transporte de pasajeros aéreas no mencionadas en las otras clasificaciones)","5111B"]
[5112,"Transporte aéreo internacional de pasajeros",5112]
[5121,"Transporte aéreo nacional de carga",5121]
[5122,"Transporte aéreo internacional de carga",5122]
[5210,"Almacenamiento y depósito",5210]
[5221,"Actividades de estaciones, vías y servicios complementarios para el transporte terrestre",5221]
[5222,"Actividades de puertos y servicios complementarios para el transporte acuático",5222]
[5223,"Actividades de aeropuertos, servicios de navegación aérea y demás actividades conexas al transporte aéreo",5223]
[5224,"Manipulación de carga",5224]
[5229,"Otras actividades complementarias al transporte",5229]
[5310,"Actividades postales nacionales",5310]
[5320,"Actividades de mensajería",5320]
[5511,"Alojamiento en hoteles ",5511]
["5511A","Alojamiento en hoteles y servicio de restaurante mientras estén inscritos en el Registro Nacional de Turismo (Ley 1558 de 2012, Ley de turismo)","5511A"]
["5511B","Alojamiento en hoteles que no estén inscritos en el Registro Nacional de Turismo","5511B"]
[5512,"Alojamiento en apartahoteles",5512]
["5512A","Alojamiento en apartahoteles, empresas comercializadoras de proyectos de tiempo compartido y multipropiedad y servicio de restaurante mientras estén inscritos en el Registro Nacional de Turismo (Ley 1558 de 2012, Ley de turismo)","5512A"]
["5512B","Alojamiento en apartahoteles que no estén inscritos en el Registro Nacional de Turismo","5512B"]
[5513,"Alojamiento en centros vacacionales",5513]
["5513A","Alojamiento en centros vacacionales mientras estén inscritos en el Registro Nacional de Turismo (Ley 1558 de 2012, Ley de turismo)","5513A"]
["5513B","Alojamiento en centros vacacionales que no estén inscritos en el Registro Nacional de Turismo","5513B"]
[5514,"Alojamiento rural",5514]
["5514A","Alojamiento rural (concesionarios de servicios turísticos en parques nacionales que presten servicios turísticos (ley 1558 de 2012))","5514A"]
["5514B","Alojamiento rural (los demás establecimientos de alojamiento rural no mencionadas en las otras clasificaciones)","5514B"]
[5519,"Otros tipos de alojamientos para visitantes",5519]
["5519A","Otros tipos de alojamientos para visitantes, prestados por clubes sociales vacacionales y centros de convenciones mientras estén inscritos en el Registro Nacional de Turismo (Ley 1558 de 2012, Ley de turismo)","5519A"]
["5519B","Otros tipos de alojamientos para visitantes que no estén inscritos en el Registro Nacional de Turismo","5519B"]
[5520,"Actividades de zonas de camping y parques para vehículos recreacionales)",5520]
[5530,"Servicio por horas",5530]
[5590,"Otros tipos de alojamiento n.c.p.",5590]
["5590A","Otros tipos de alojamiento n.c.p. mientras estén inscritos en el Registro Nacional de Turismo (Ley 1558 de 2012, Ley de turismo)","5590A"]
["5590B","Otros tipos de alojamiento n.c.p. que no estén inscritos en el Registro Nacional de Turismo","5590B"]
[5611,"Expendio a la mesa de comidas preparadas",5611]
[5612,"Expendio por autoservicio de comidas preparadas",5612]
[5613,"Expendio de comidas preparadas en cafeterías",5613]
[5619,"Otros tipos de expendio de comidas preparadas n.c.p.",5619]
[5621,"Catering para eventos",5621]
[5629,"Actividades de otros servicios de comidas",5629]
[5630,"Expendio de bebidas alcohólicas para el consumo dentro del establecimiento",5630]
[5820,"Edición de programas de informática (software)",5820]
[5911,"Actividades de producción de películas cinematográficas, videos, programas, anuncios y comerciales de televisión",5911]
[5912,"Actividades de posproducción de películas cinematográficas, videos, programas, anuncios y comerciales de televisión",5912]
[5913,"Actividades de distribución de películas cinematográficas, videos, programas, anuncios y comerciales de televisión",5913]
[5914,"Actividades de exhibición de películas cinematográficas y videos",5914]
[5920,"Actividades de grabación de sonido y edición de música",5920]
[6010,"Actividades de programación y transmisión en el servicio de radiodifusión sonora",6010]
[6020,"Actividades de programación y transmisión de televisión",6020]
[6110,"Actividades de telecomunicaciones alámbricas",6110]
[6120,"Actividades de telecomunicaciones inalámbricas",6120]
[6130,"Actividades de telecomunicación satelital",6130]
[6190,"Otras actividades de telecomunicaciones",6190]
[6201,"Actividades de desarrollo de sistemas informáticos (planificación, análisis, diseño, programación, pruebas)",6201]
[6202,"Actividades de consultoría informática y actividades de administración de instalaciones informáticas",6202]
[6209,"Otras actividades de tecnologías de información y actividades de servicios informáticos",6209]
["6209A","Actividades de intermediación a través de tecnología de información y comunicación (dirigirse al Artículo 44 de este acuerdo)","6209A"]
["6209B","Otras actividades de tecnologías de información y actividades de servicios informáticos n.c.p.","6209B"]
[6311,"Procesamiento de datos, alojamiento (hosting) y actividades relacionadas",6311]
["6311A","Actividades de hosting y streaming (dirigirse al Artículo 44 de este acuerdo)","6311A"]
["6311B","Las demás actividades relacionadas con el procesamiento de datos n.c.p.","6311B"]
[6312,"Portales web",6312]
["6312A","Portales web dedicados a ser medios de difusión que se actualizan de forma periódica","6312A"]
["6312B","Las demás actividades relacionadas con portales web n.c.p. (dirigirse al artículo 44 de este acuerdo)","6312B"]
[6391,"Actividades de agencias de noticias",6391]
[6399,"Otras actividades de servicio de información n.c.p.",6399]
[6810,"Actividades inmobiliarias realizadas con bienes propios o arrendados (incluye compra, venta, administración, alquiler o arrendamiento)",6810]
[6820,"Actividades inmobiliarias realizadas a cambio de una retribución o por contrata",6820]
[6910,"Actividades jurídicas",6910]
[6920,"Actividades de contabilidad, teneduría de libros, auditoría financiera y asesoría tributaria",6920]
[7010,"Actividades de administración empresarial",7010]
[7020,"Actividades de consultaría de gestión",7020]
[7110,"Actividades de arquitectura e ingeniería y otras actividades conexas de consultoría técnica",7110]
[7120,"Ensayos y análisis técnicos",7120]
[7210,"Investigaciones y desarrollo experimental en el campo de las ciencias naturales y la ingeniería",7210]
[7220,"Investigaciones y desarrollo experimental en el campo de las ciencias sociales y las humanidades",7220]
[7310,"Publicidad",7310]
[7320,"Estudios de mercado y realización de encuestas de opinión pública",7320]
[7410,"Actividades especializadas de diseño",7410]
[7420,"Actividades de fotografía",7420]
[7490,"Otras actividades profesionales, científicas y técnicas n.c.p.",7490]
[7499,"Profesiones liberales realizadas por personas naturales",7499]
[7500,"Actividades veterinarias",7500]
[7710,"Alquiler y arrendamiento de vehículos automotores",7710]
["7710A","Alquiler y arrendamiento de vehículos automotores  para turismo nacional e internacional","7710A"]
["7710B","Alquiler y arrendamiento de vehículos automotores n.c.p.","7710B"]
[7721,"Alquiler y arrendamiento de equipo recreativo y deportivo",7721]
[7722,"Alquiler de videos y discos",7722]
[7729,"Alquiler y arrendamiento de otros efectos personales y enseres domésticos n.c.p.",7729]
[7730,"Alquiler y arrendamiento de otros tipos de maquinaria, equipo y bienes tangibles n.c.p.",7730]
[7740,"Arrendamiento de propiedad intelectual y productos similares, excepto obras protegidas por derechos de autor",7740]
[7810,"Actividades de agencias de empleo",7810]
[7820,"Actividades de agencias de empleo temporal",7820]
[7830,"Otras actividades de suministro de recurso humano",7830]
[7911,"Las agencias de viajes y turismo, agencias mayoristas y las agencias operadoras  siempre y cuando se encuentren debidamente inscritos en el Registro Nacional de Turismo. (ley 1558 de 2012)",7911]
[7912,"Actividades de operadores turísticos",7912]
["7912A","Actividades de agencias operadoras mientras estén inscritas en el Registro Nacional de Turismo. (Ley 1558 de 2012, Ley de Turismo)","7912A"]
["7912B","Actividades de empresas dedicadas a la operación de actividades de turismo de naturaleza o aventura, tales como canotaje, balsaje, espeleología, escalda, parapente, canopy, buceo y deportes náuticos en general mientras estén inscritas en el Registro Nacional de Turismo. (Ley 1558 de 2012, Ley de Turismo)","7912B"]
[7990,"Otros servicios de reserva y actividades relacionadas",7990]
["7990A","Otros servicios de reserva y actividades relacionadas: empresas asociativas de redes de vendedores multinivel de servicios turísticos, usuarios operadores, desarrolladores e industriales en zonas francas turísticas, oficinas de representaciones turísticas, establecimientos del comercio ubicados en las terminales de transporte de pasajeros terrestre, aéreo y marítimo, empresas captadoras de ahorro para viajes y de servicios turísticos prepagados, guías turísticos, mientras se encuentren inscritas en el Registro Nacional de Turismo (Ley 1558 de 2012, Ley de Turismo)","7990A"]
["7990B","Otros servicios de reserva y actividades relacionadas n.c.p. incluyendo las que no estén inscritas en el Registro Nacional de Turismo","7990B"]
[8010,"Actividades de seguridad privada",8010]
[8020,"Actividades de servicios de sistemas de seguridad",8020]
[8030,"Actividades de detectives e investigadores privados",8030]
[8110,"Actividades combinadas de apoyo a instalaciones",8110]
[8121,"Limpieza general interior de edificios",8121]
[8129,"Otras actividades de limpieza de edificios e instalaciones industriales",8129]
[8130,"Actividades de paisajismo y servicios de mantenimiento conexos",8130]
[8211,"Actividades combinadas de servicios administrativos de oficina",8211]
[8219,"Fotocopiado, preparación de documentos y otras actividades especializadas de apoyo a oficina",8219]
[8220,"Actividades de centros de llamadas (Call center)",8220]
[8230,"Organización de convenciones y eventos comerciales",8230]
["8230A","Organización de convenciones y eventos comerciales de operadores profesionales de congresos, ferias y convenciones de impacto internacional, excepto las universidades e instituciones de educación superior y los medios de comunicación que realicen actividades de esta naturaleza, cuando su objeto o tema sea afín a su misión. (Ley 1558 de 2012, Ley de Turismo)","8230A"]
["8230B","Organización de convenciones y eventos comerciales n.c.p.","8230B"]
[8291,"Actividades de agencias de cobranza y oficinas de calificación crediticia",8291]
[8292,"Actividades de envase y empaque",8292]
[8299,"Otras actividades de servicio de apoyo a las empresas n.c.p.",8299]
[8430,"Actividades de planes de seguridad social de afiliación obligatoria (intermediación)",8430]
[8511,"Educación de la primera infancia",8511]
[8512,"Educación preescolar",8512]
[8513,"Educación básica primaria",8513]
[8521,"Educación básica secundaria",8521]
[8522,"Educación media académica",8522]
[8523,"Educación media técnica y de formación laboral",8523]
[8530,"Establecimientos que combinan diferentes niveles de educación",8530]
[8541,"Educación técnica profesional",8541]
[8542,"Educación tecnológica",8542]
[8543,"Educación de instituciones universitarias o de escuelas tecnológicas",8543]
[8544,"Educación de universidades",8544]
[8551,"Formación académica no formal",8551]
[8552,"Enseñanza deportiva y recreativa",8552]
[8553,"Enseñanza cultural",8553]
[8559,"Otros tipos de educación n.c.p.",8559]
[8560,"Actividades de apoyo a la educación",8560]
[8621,"Actividades de la práctica médica, sin internación",8621]
[8622,"Actividades de la práctica odontológica",8622]
[8691,"Actividades de apoyo diagnóstico",8691]
[8692,"Actividades de apoyo terapéutico",8692]
[8699,"Otras actividades de atención de la salud humana",8699]
[8710,"Actividades de atención residencial medicalizada de tipo general",8710]
[8720,"Actividades de atención residencial, para el cuidado de pacientes con retardo mental, enfermedad mental y consumo de sustancias psicoactivas",8720]
[8730,"Actividades de atención en instituciones para el cuidado de personas mayores o discapacitadas",8730]
[8790,"Otras actividades de atención en instituciones con alojamiento",8790]
[8810,"Actividades de asistencia social sin alojamiento para personas mayores y discapacitadas",8810]
[8890,"Otras actividades de asistencia social sin alojamiento",8890]
[9311,"Gestión de instalaciones deportivas",9311]
[9321,"Actividades de parques de atracciones y parques temáticos. ",9321]
["9321A","Actividades de parques de atracciones y parques temáticos mientras estén inscritos en el Registro Nacional de Turismo (Ley 1558 de 2012, Ley de Turismo)","9321A"]
["9321B","Actividades de parques de atracciones y parques temáticos no inscritos en el Registro Nacional de Turismo","9321B"]
[9329,"Otras actividades recreativas y de esparcimiento n.c.p.",9329]
["9329A","Otras actividades recreativas y de esparcimiento n.c.p., mientras estén inscritas en el Registro Nacional de Turismo (Ley 1558 de 2012, Ley de Turismo)","9329A"]
["9329B","Otras actividades recreativas y de esparcimiento n.c.p. no inscritas en el Registro Nacional de Turismo","9329B"]
[9511,"Mantenimiento y reparación de computadores y de equipo periférico",9511]
[9512,"Mantenimiento y reparación de equipos de comunicación",9512]
[9521,"Mantenimiento y reparación de aparatos electrónicos de consumo",9521]
[9522,"Mantenimiento y reparación de aparatos y equipos domésticos y de jardinería",9522]
[9523,"Reparación de calzado y artículos de cuero",9523]
[9524,"Reparación de muebles y accesorios para el hogar",9524]
[9529,"Mantenimiento y reparación de otros efectos personales y enseres domésticos",9529]
[9601,"Lavado y limpieza, incluso la limpieza en seco, de productos textiles y de piel",9601]
[9602,"Peluquería y otros tratamientos de belleza",9602]
[9603,"Pompas fúnebres y actividades relacionadas",9603]
[9609,"Otras actividades de servicios personales n.c.p.",9609]
[6411,"Banco central",6411]
[6412,"Bancos comerciales",6412]
[6421,"Actividades de las corporaciones financieras",6421]
[6422,"Actividades de las compañías de financiamiento",6422]
[6423,"Banca de segundo piso",6423]
[6424,"Actividades de las cooperativas financieras",6424]
[6431,"Fideicomisos, fondos y entidades financieras similares",6431]
[6432,"Fondos de cesantías",6432]
[6491,"Leasing financiero (arrendamiento financiero)",6491]
[6492,"Actividades financieras de fondos de empleados y otras formas asociativas del sector solidario",6492]
[6493,"Actividades de compra de cartera o factoring",6493]
[6494,"Otras actividades de distribución de fondos",6494]
[6495,"Instituciones especiales oficiales",6495]
[6499,"Otras actividades de servicio financiero, excepto las de seguros y pensiones n.c.p.",6499]
[6511,"Seguros generales",6511]
[6512,"Seguros de vida",6512]
[6513,"Reaseguros",6513]
[6514,"Capitalización",6514]
[6521,"Servicios de seguros sociales de salud",6521]
[6522,"Servicios de seguros sociales de riesgos profesionales",6522]
[6531,"Régimen de prima media con prestación definida (RPM)",6531]
[6532,"Régimen de ahorro individual (RAI)",6532]
[6611,"Administración de mercados financieros",6611]
[6612,"Corretaje de valores y de contratos de productos básicos",6612]
[6613,"Otras actividades relacionadas con el mercado de valores",6613]
[6614,"Actividades de las casas de cambio",6614]
[6615,"Actividades de los profesionales de compra y venta de divisas",6615]
[6619,"Otras actividades auxiliares de las actividades de servicios financieros n.c.p.",6619]
[6621,"Actividades de agentes y corredores de seguros",6621]
[6629,"Evaluación de riesgos y daños, y otras actividades de servicios auxiliares",6629]
[6630,"Actividades de administración de fondos",6630]
[9001,"Creación literaria",9001]
[9002,"Creación musical",9002]
[9003,"Creación teatral",9003]
[9004,"Creación audiovisual",9004]
[9005,"Artes plásticas y visuales",9005]
[9006,"Actividades teatrales",9006]
[9007,"Actividades de espectáculos musicales en vivo (además de las actividades conexas, como las de manejo de la escenografía, los telones de fondo y el equipo de iluminación y de sonido)",9007]
[9008,"Otras actividades de espectáculos en vivo",9008]
[9101,"Actividades de bibliotecas y archivos",9101]
[9319,"Otras actividades deportivas",9319]
[null,null,null,"OTROS"]
[111,"Cultivo de cereales (excepto arroz), legumbres y semillas oleaginosas ",111]
[112,"Cultivo de arroz ",112]
[113,"Cultivo de hortalizas, raíces y tubérculos ",113]
[114,"Cultivo de tabaco ",114]
[115,"Cultivo de plantas textiles ",115]
[119,"Otros cultivos transitorios n.c.p.",119]
[121,"Cultivo de frutas tropicales y subtropicales",121]
[122,"Cultivo de plátano y banano",122]
[123,"Cultivo de café",123]
[124,"Cultivo de caña de azúcar",124]
[125,"Cultivo de flor de corte",125]
[126,"Cultivo de palma para aceite (palma africana) y otros frutos oleaginosos",126]
[127,"Cultivo de plantas con las que se preparan bebidas",127]
[128,"Cultivo de especias y de plantas aromáticas y medicinales ",128]
[129,"Otros cultivos permanentes n.c.p.",129]
[130,"Propagación de plantas (actividades de los viveros, excepto viveros forestales) ",130]
[141,"Cría de ganado bovino y bufalino",141]
[142,"Cría de caballos y otros equinos ",142]
[143,"Cría de ovejas y cabras ",143]
[144,"Cría de ganado porcino",144]
[145,"Cría de aves de corral",145]
[149,"Cría de otros animales n.c.p.",149]
[150,"Explotación mixta (agrícola y pecuaria) ",150]
[163,"Actividades posteriores a la cosecha ",163]
[164,"Tratamiento de semillas para propagación ",164]
[170,"Caza ordinaria y mediante trampas y actividades de servicios conexas ",170]
[210,"Silvicultura y otras actividades forestales",210]
[220,"Extracción de madera ",220]
[230,"Recolección de productos forestales diferentes a la madera",230]
[311,"Pesca marítima ",311]
[312,"Pesca de agua dulce ",312]
[321,"Acuicultura marítima ",321]
[322,"Acuicultura de agua dulce",322]
[8411,"Actividades legislativas de la administración pública",8411]
[8412,"Actividades ejecutivas de la administración pública",8412]
[8413,"Regulación de las actividades de organismos que prestan servicios de salud, educativos, culturales y otros servicios sociales, excepto servicios de seguridad social ",8413]
[8414,"Actividades reguladoras y facilitadoras de la actividad económica",8414]
[8415,"Actividades de los otros órganos de control",8415]
[8421,"Relaciones exteriores ",8421]
[8422,"Actividades de defensa",8422]
[8423,"Orden público y actividades de seguridad",8423]
[8424,"Administración de justicia",8424]
[8610,"Actividades de hospitales y clínicas, con internación",8610]
[9102,"Actividades y funcionamiento de museos, conservación de edificios y sitios históricos",9102]
[9103,"Actividades de jardines botánicos, zoológicos y reservas naturales",9103]
[9200,"Actividades de juegos de azar y apuestas",9200]
[9312,"Actividades de clubes deportivos",9312]
[9411,"Actividades de asociaciones empresariales y de empleadores",9411]
[9412,"Actividades de asociaciones profesionales",9412]
[9420,"Actividades de sindicatos de empleados",9420]
[9491,"Actividades de asociaciones religiosas",9491]
[9492,"Actividades de asociaciones políticas",9492]
[9499,"Actividades de otras asociaciones n.c.p.",9499]
[9700,"Actividades de los hogares individuales como empleadores de personal doméstico",9700]
[9810,"Actividades no diferenciadas de los hogares individuales como productores de bienes para uso propio",9810]
[9820,"Actividades no diferenciadas de los hogares individuales como productores de servicios para uso propio",9820]
[9900,"Actividades de organizaciones y entidades extraterritoriales",9900]

{"sheet":"Tipos Documento identidad","index":13,"n_rows":8,"n_cols":3,"rows_kept":8,"cut":false,"hidden":true,"merged":[[0,0,0,1]]}
["Tipos de documento"]
["Id","Tipo documento"]
["1","NIT","1"]
["2","Cédula de ciudadanía","2"]
["3","Cédula de extranjería","3"]
["4","Pasaporte","4"]
["5","Tarjeta de identidad","5"]
["6","Otros","6"]

{"sheet":"Departamentos - Municipios","index":14,"n_rows":1160,"n_cols":6,"rows_kept":1160,"cut":false,"hidden":true,"merged":[[1,0,3,0],[1,1,3,1],[1,3,3,3],[1,4,3,4],[0,0,0,4]]}
["Fuente información: Listado de departamentos y Municipios DANE, https://www.dane.gov.co/files/censos/.../NBI_total_cab_resto_mpio_nal_31dic08.xls"]
["Código Departamento","Nombre Departamento",null,"Código Municipio","Nombre Municipio"]
[]
[]
["05","ANTIOQUIA","05","05001","MEDELLIN",{"$f":"D5","v":"05001"}]
["05","ANTIOQUIA","05","05002","ABEJORRAL",{"$f":"D6","v":"05002"}]
["05","ANTIOQUIA","05","05004","ABRIAQUI","05004"]
["05","ANTIOQUIA","05","05021","ALEJANDRIA","05021"]
["05","ANTIOQUIA","05","05030","AMAGA","05030"]
["05","ANTIOQUIA","05","05031","AMALFI","05031"]
["05","ANTIOQUIA","05","05034","ANDES","05034"]
["05","ANTIOQUIA","05","05036","ANGELOPOLIS","05036"]
["05","ANTIOQUIA","05","05038","ANGOSTURA","05038"]
["05","ANTIOQUIA","05","05040","ANORI","05040"]
["05","ANTIOQUIA","05","05042","SANTAFE DE ANTIOQUIA","05042"]
["05","ANTIOQUIA","05","05044","ANZA","05044"]
["05","ANTIOQUIA","05","05045","APARTADO","05045"]
["05","ANTIOQUIA","05","05051","ARBOLETES","05051"]
["05","ANTIOQUIA","05","05055","ARGELIA","05055"]
["05","ANTIOQUIA","05","05059","ARMENIA","05059"]
["05","ANTIOQUIA","05","05079","BARBOSA","05079"]
["05","ANTIOQUIA","05","05086","BELMIRA","05086"]
["05","ANTIOQUIA","05","05088","BELLO","05088"]
["05","ANTIOQUIA","05","05091","BETANIA","05091"]
["05","ANTIOQUIA","05","05093","BETULIA","05093"]
["05","ANTIOQUIA","05","05101","CIUDAD BOLIVAR","05101"]
["05","ANTIOQUIA","05","05107","BRICEÑO","05107"]
["05","ANTIOQUIA","05","05113","BURITICA","05113"]
["05","ANTIOQUIA","05","05120","CACERES","05120"]
["05","ANTIOQUIA","05","05125","CAICEDO","05125"]
["05","ANTIOQUIA","05","05129","CALDAS","05129"]
["05","ANTIOQUIA","05","05134","CAMPAMENTO","05134"]
["05","ANTIOQUIA","05","05138","CAÑASGORDAS","05138"]
["05","ANTIOQUIA","05","05142","CARACOLI","05142"]
["05","ANTIOQUIA","05","05145","CARAMANTA","05145"]
["05","ANTIOQUIA","05","05147","CAREPA","05147"]
["05","ANTIOQUIA","05","05148","EL CARMEN DE VIBORAL","05148"]
["05","ANTIOQUIA","05","05150","CAROLINA","05150"]
["05","ANTIOQUIA","05","05154","CAUCASIA","05154"]
["05","ANTIOQUIA","05","05172","CHIGORODO","05172"]
["05","ANTIOQUIA","05","05190","CISNEROS","05190"]
["05","ANTIOQUIA","05","05197","COCORNA","05197"]
["05","ANTIOQUIA","05","05206","CONCEPCION","05206"]
["05","ANTIOQUIA","05","05209","CONCORDIA","05209"]
["05","ANTIOQUIA","05","05212","COPACABANA","05212"]
["05","ANTIOQUIA","05","05234","DABEIBA","05234"]
["05","ANTIOQUIA","05","05237","DON MATIAS","05237"]
["05","ANTIOQUIA","05","05240","EBEJICO","05240"]
["05","ANTIOQUIA","05","05250","EL BAGRE","05250"]
["05","ANTIOQUIA","05","05264","ENTRERRIOS","05264"]
["05","ANTIOQUIA","05","05266","ENVIGADO","05266"]
["05","ANTIOQUIA","05","05282","FREDONIA","05282"]
["05","ANTIOQUIA","05","05284","FRONTINO","05284"]
["05","ANTIOQUIA","05","05306","GIRALDO","05306"]
["05","ANTIOQUIA","05","05308","GIRARDOTA","05308"]
["05","ANTIOQUIA","05","05310","GOMEZ PLATA","05310"]
["05","ANTIOQUIA","05","05313","GRANADA","05313"]
["05","ANTIOQUIA","05","05315","GUADALUPE","05315"]
["05","ANTIOQUIA","05","05318","GUARNE","05318"]
["05","ANTIOQUIA","05","05321","GUATAPE","05321"]
["05","ANTIOQUIA","05","05347","HELICONIA","05347"]
["05","ANTIOQUIA","05","05353","HISPANIA","05353"]
["05","ANTIOQUIA","05","05360","ITAGUI","05360"]
["05","ANTIOQUIA","05","05361","ITUANGO","05361"]
["05","ANTIOQUIA","05","05364","JARDIN","05364"]
["05","ANTIOQUIA","05","05368","JERICO","05368"]
["05","ANTIOQUIA","05","05376","LA CEJA","05376"]
["05","ANTIOQUIA","05","05380","LA ESTRELLA","05380"]
["05","ANTIOQUIA","05","05390","LA PINTADA","05390"]
["05","ANTIOQUIA","05","05400","LA UNION",{"$f":"D70","v":"05400"}]
["05","ANTIOQUIA","05","05411","LIBORINA","05411"]
["05","ANTIOQUIA","05","05425","MACEO","05425"]
["05","ANTIOQUIA","05","05440","MARINILLA","05440"]
["05","ANTIOQUIA","05","05467","MONTEBELLO","05467"]
["05","ANTIOQUIA","05","05475","MURINDO","05475"]
["05","ANTIOQUIA","05","05480","MUTATA","05480"]
["05","ANTIOQUIA","05","05483","NARIÑO","05483"]
["05","ANTIOQUIA","05","05490","NECOCLI","05490"]
["05","ANTIOQUIA","05","05495","NECHI","05495"]
["05","ANTIOQUIA","05","05501","OLAYA","05501"]
["05","ANTIOQUIA","05","05541","PEÐOL","05541"]
["05","ANTIOQUIA","05","05543","PEQUE","05543"]
["05","ANTIOQUIA","05","05576","PUEBLORRICO","05576"]
["05","ANTIOQUIA","05","05579","PUERTO BERRIO","05579"]
["05","ANTIOQUIA","05","05585","PUERTO NARE","05585"]
["05","ANTIOQUIA","05","05591","PUERTO TRIUNFO","05591"]
["05","ANTIOQUIA","05","05604","REMEDIOS","05604"]
["05","ANTIOQUIA","05","05607","RETIRO","05607"]
["05","ANTIOQUIA","05","05615","RIONEGRO","05615"]
["05","ANTIOQUIA","05","05628","SABANALARGA","05628"]
["05","ANTIOQUIA","05","05631","SABANETA","05631"]
["05","ANTIOQUIA","05","05642","SALGAR","05642"]
["05","ANTIOQUIA","05","05647","SAN ANDRES DE CUERQUIA","05647"]
["05","ANTIOQUIA","05","05649","SAN CARLOS","05649"]
["05","ANTIOQUIA","05","05652","SAN FRANCISCO","05652"]
["05","ANTIOQUIA","05","05656","SAN JERONIMO","05656"]
["05","ANTIOQUIA","05","05658","SAN JOSE DE LA MONTAÑA","05658"]
["05","ANTIOQUIA","05","05659","SAN JUAN DE URABA","05659"]
["05","ANTIOQUIA","05","05660","SAN LUIS","05660"]
["05","ANTIOQUIA","05","05664","SAN PEDRO","05664"]
["05","ANTIOQUIA","05","05665","SAN PEDRO DE URABA","05665"]
["05","ANTIOQUIA","05","05667","SAN RAFAEL","05667"]
["05","ANTIOQUIA","05","05670","SAN ROQUE","05670"]
["05","ANTIOQUIA","05","05674","SAN VICENTE","05674"]
["05","ANTIOQUIA","05","05679","SANTA BARBARA","05679"]
["05","ANTIOQUIA","05","05686","SANTA ROSA DE OSOS","05686"]
["05","ANTIOQUIA","05","05690","SANTO DOMINGO","05690"]
["05","ANTIOQUIA","05","05697","EL SANTUARIO","05697"]
["05","ANTIOQUIA","05","05736","SEGOVIA","05736"]
["05","ANTIOQUIA","05","05756","SONSON","05756"]
["05","ANTIOQUIA","05","05761","SOPETRAN","05761"]
["05","ANTIOQUIA","05","05789","TAMESIS","05789"]
["05","ANTIOQUIA","05","05790","TARAZA","05790"]
["05","ANTIOQUIA","05","05792","TARSO","05792"]
["05","ANTIOQUIA","05","05809","TITIRIBI","05809"]
["05","ANTIOQUIA","05","05819","TOLEDO","05819"]
["05","ANTIOQUIA","05","05837","TURBO","05837"]
["05","ANTIOQUIA","05","05842","URAMITA","05842"]
["05","ANTIOQUIA","05","05847","URRAO","05847"]
["05","ANTIOQUIA","05","05854","VALDIVIA","05854"]
["05","ANTIOQUIA","05","05856","VALPARAISO","05856"]
["05","ANTIOQUIA","05","05858","VEGACHI","05858"]
["05","ANTIOQUIA","05","05861","VENECIA","05861"]
["05","ANTIOQUIA","05","05873","VIGIA DEL FUERTE","05873"]
["05","ANTIOQUIA","05","05885","YALI","05885"]
["05","ANTIOQUIA","05","05887","YARUMAL","05887"]
["05","ANTIOQUIA","05","05890","YOLOMBO","05890"]
["05","ANTIOQUIA","05","05893","YONDO","05893"]
["05","ANTIOQUIA","05","05895","ZARAGOZA","05895"]
["08","ATLANTICO","08","08001","BARRANQUILLA","08001"]
["08","ATLANTICO","08","08078","BARANOA","08078"]
["08","ATLANTICO","08","08137","CAMPO DE LA CRUZ","08137"]
["08","ATLANTICO","08","08141","CANDELARIA","08141"]
["08","ATLANTICO","08","08296","GALAPA",{"$f":"D134","v":"08296"}]
["08","ATLANTICO","08","08372","JUAN DE ACOSTA","08372"]
["08","ATLANTICO","08","08421","LURUACO","08421"]
["08","ATLANTICO","08","08433","MALAMBO","08433"]
["08","ATLANTICO","08","08436","MANATI","08436"]
["08","ATLANTICO","08","08520","PALMAR DE VARELA","08520"]
["08","ATLANTICO","08","08549","PIOJO","08549"]
["08","ATLANTICO","08","08558","POLONUEVO","08558"]
["08","ATLANTICO","08","08560","PONEDERA","08560"]
["08","ATLANTICO","08","08573","PUERTO COLOMBIA","08573"]
["08","ATLANTICO","08","08606","REPELON","08606"]
["08","ATLANTICO","08","08634","SABANAGRANDE","08634"]
["08","ATLANTICO","08","08638","SABANALARGA","08638"]
["08","ATLANTICO","08","08675","SANTA LUCIA","08675"]
["08","ATLANTICO","08","08685","SANTO TOMAS","08685"]
["08","ATLANTICO","08","08758","SOLEDAD","08758"]
["08","ATLANTICO","08","08770","SUAN","08770"]
["08","ATLANTICO","08","08832","TUBARA","08832"]
["08","ATLANTICO","08","08849","USIACURI","08849"]
["11","BOGOTA","11","11001","BOGOTA, D.C.","11001"]
["13","BOLIVAR","13","13001","CARTAGENA","13001"]
["13","BOLIVAR","13","13006","ACHI","13006"]
["13","BOLIVAR","13","13030","ALTOS DEL ROSARIO","13030"]
["13","BOLIVAR","13","13042","ARENAL","13042"]
["13","BOLIVAR","13","13052","ARJONA","13052"]
["13","BOLIVAR","13","13062","ARROYOHONDO","13062"]
["13","BOLIVAR","13","13074","BARRANCO DE LOBA","13074"]
["13","BOLIVAR","13","13140","CALAMAR","13140"]
["13","BOLIVAR","13","13160","CANTAGALLO","13160"]
["13","BOLIVAR","13","13188","CICUCO","13188"]
["13","BOLIVAR","13","13212","CORDOBA","13212"]
["13","BOLIVAR","13","13222","CLEMENCIA","13222"]
["13","BOLIVAR","13","13244","EL CARMEN DE BOLIVAR","13244"]
["13","BOLIVAR","13","13248","EL GUAMO","13248"]
["13","BOLIVAR","13","13268","EL PEÑON","13268"]
["13","BOLIVAR","13","13300","HATILLO DE LOBA","13300"]
["13","BOLIVAR","13","13430","MAGANGUE","13430"]
["13","BOLIVAR","13","13433","MAHATES","13433"]
["13","BOLIVAR","13","13440","MARGARITA","13440"]
["13","BOLIVAR","13","13442","MARIA LA BAJA","13442"]
["13","BOLIVAR","13","13458","MONTECRISTO","13458"]
["13","BOLIVAR","13","13468","MOMPOS","13468"]
["13","BOLIVAR","13","13490","NOROSI","13490"]
["13","BOLIVAR","13","13473","MORALES","13473"]
["13","BOLIVAR","13","13549","PINILLOS","13549"]
["13","BOLIVAR","13","13580","REGIDOR","13580"]
["13","BOLIVAR","13","13600","RIO VIEJO","13600"]
["13","BOLIVAR","13","13620","SAN CRISTOBAL","13620"]
["13","BOLIVAR","13","13647","SAN ESTANISLAO","13647"]
["13","BOLIVAR","13","13650","SAN FERNANDO","13650"]
["13","BOLIVAR","13","13654","SAN JACINTO","13654"]
["13","BOLIVAR","13","13655","SAN JACINTO DEL CAUCA","13655"]
["13","BOLIVAR","13","13657","SAN JUAN NEPOMUCENO","13657"]
["13","BOLIVAR","13","13667","SAN MARTIN DE LOBA","13667"]
["13","BOLIVAR","13","13670","SAN PABLO","13670"]
["13","BOLIVAR","13","13673","SANTA CATALINA","13673"]
["13","BOLIVAR","13","13683","SANTA ROSA","13683"]
["13","BOLIVAR","13","13688","SANTA ROSA DEL SUR","13688"]
["13","BOLIVAR","13","13744","SIMITI","13744"]
["13","BOLIVAR","13","13760","SOPLAVIENTO","13760"]
["13","BOLIVAR","13","13780","TALAIGUA NUEVO","13780"]
["13","BOLIVAR","13","13810","TIQUISIO","13810"]
["13","BOLIVAR","13","13836","TURBACO","13836"]
["13","BOLIVAR","13","13838","TURBANA","13838"]
["13","BOLIVAR","13","13873","VILLANUEVA",{"$f":"D198","v":"13873"}]
["13","BOLIVAR","13","13894","ZAMBRANO","13894"]
["15","BOYACA","15","15001","TUNJA","15001"]
["15","BOYACA","15","15022","ALMEIDA","15022"]
["15","BOYACA","15","15047","AQUITANIA","15047"]
["15","BOYACA","15","15051","ARCABUCO","15051"]
["15","BOYACA","15","15087","BELEN","15087"]
["15","BOYACA","15","15090","BERBEO","15090"]
["15","BOYACA","15","15092","BETEITIVA","15092"]
["15","BOYACA","15","15097","BOAVITA","15097"]
["15","BOYACA","15","15104","BOYACA","15104"]
["15","BOYACA","15","15106","BRICEÑO","15106"]
["15","BOYACA","15","15109","BUENAVISTA","15109"]
["15","BOYACA","15","15114","BUSBANZA","15114"]
["15","BOYACA","15","15131","CALDAS","15131"]
["15","BOYACA","15","15135","CAMPOHERMOSO","15135"]
["15","BOYACA","15","15162","CERINZA","15162"]
["15","BOYACA","15","15172","CHINAVITA","15172"]
["15","BOYACA","15","15176","CHIQUINQUIRA","15176"]
["15","BOYACA","15","15180","CHISCAS","15180"]
["15","BOYACA","15","15183","CHITA","15183"]
["15","BOYACA","15","15185","CHITARAQUE","15185"]
["15","BOYACA","15","15187","CHIVATA","15187"]
["15","BOYACA","15","15189","CIENEGA","15189"]
["15","BOYACA","15","15204","COMBITA","15204"]
["15","BOYACA","15","15212","COPER","15212"]
["15","BOYACA","15","15215","CORRALES","15215"]
["15","BOYACA","15","15218","COVARACHIA","15218"]
["15","BOYACA","15","15223","CUBARA","15223"]
["15","BOYACA","15","15224","CUCAITA","15224"]
["15","BOYACA","15","15226","CUITIVA","15226"]
["15","BOYACA","15","15232","CHIQUIZA","15232"]
["15","BOYACA","15","15236","CHIVOR","15236"]
["15","BOYACA","15","15238","DUITAMA","15238"]
["15","BOYACA","15","15244","EL COCUY","15244"]
["15","BOYACA","15","15248","EL ESPINO","15248"]
["15","BOYACA","15","15272","FIRAVITOBA","15272"]
["15","BOYACA","15","15276","FLORESTA","15276"]
["15","BOYACA","15","15293","GACHANTIVA","15293"]
["15","BOYACA","15","15296","GAMEZA","15296"]
["15","BOYACA","15","15299","GARAGOA","15299"]
["15","BOYACA","15","15317","GUACAMAYAS","15317"]
["15","BOYACA","15","15322","GUATEQUE","15322"]
["15","BOYACA","15","15325","GUAYATA","15325"]
["15","BOYACA","15","15332","GsICAN","15332"]
["15","BOYACA","15","15362","IZA","15362"]
["15","BOYACA","15","15367","JENESANO","15367"]
["15","BOYACA","15","15368","JERICO","15368"]
["15","BOYACA","15","15377","LABRANZAGRANDE","15377"]
["15","BOYACA","15","15380","LA CAPILLA","15380"]
["15","BOYACA","15","15401","LA VICTORIA","15401"]
["15","BOYACA","15","15403","LA UVITA","15403"]
["15","BOYACA","15","15407","VILLA DE LEYVA","15407"]
["15","BOYACA","15","15425","MACANAL","15425"]
["15","BOYACA","15","15442","MARIPI","15442"]
["15","BOYACA","15","15455","MIRAFLORES","15455"]
["15","BOYACA","15","15464","MONGUA","15464"]
["15","BOYACA","15","15466","MONGUI","15466"]
["15","BOYACA","15","15469","MONIQUIRA","15469"]
["15","BOYACA","15","15476","MOTAVITA","15476"]
["15","BOYACA","15","15480","MUZO","15480"]
["15","BOYACA","15","15491","NOBSA","15491"]
["15","BOYACA","15","15494","NUEVO COLON","15494"]
["15","BOYACA","15","15500","OICATA","15500"]
["15","BOYACA","15","15507","OTANCHE",{"$f":"D262","v":"15507"}]
["15","BOYACA","15","15511","PACHAVITA","15511"]
["15","BOYACA","15","15514","PAEZ","15514"]
["15","BOYACA","15","15516","PAIPA","15516"]
["15","BOYACA","15","15518","PAJARITO","15518"]
["15","BOYACA","15","15522","PANQUEBA","15522"]
["15","BOYACA","15","15531","PAUNA","15531"]
["15","BOYACA","15","15533","PAYA","15533"]
["15","BOYACA","15","15537","PAZ DE RIO","15537"]
["15","BOYACA","15","15542","PESCA","15542"]
["15","BOYACA","15","15550","PISBA","15550"]
["15","BOYACA","15","15572","PUERTO BOYACA","15572"]
["15","BOYACA","15","15580","QUIPAMA","15580"]
["15","BOYACA","15","15599","RAMIRIQUI","15599"]
["15","BOYACA","15","15600","RAQUIRA","15600"]
["15","BOYACA","15","15621","RONDON","15621"]
["15","BOYACA","15","15632","SABOYA","15632"]
["15","BOYACA","15","15638","SACHICA","15638"]
["15","BOYACA","15","15646","SAMACA","15646"]
["15","BOYACA","15","15660","SAN EDUARDO","15660"]
["15","BOYACA","15","15664","SAN JOSE DE PARE","15664"]
["15","BOYACA","15","15667","SAN LUIS DE GACENO","15667"]
["15","BOYACA","15","15673","SAN MATEO","15673"]
["15","BOYACA","15","15676","SAN MIGUEL DE SEMA","15676"]
["15","BOYACA","15","15681","SAN PABLO DE BORBUR","15681"]
["15","BOYACA","15","15686","SANTANA","15686"]
["15","BOYACA","15","15690","SANTA MARIA","15690"]
["15","BOYACA","15","15693","SANTA ROSA DE VITERBO","15693"]
["15","BOYACA","15","15696","SANTA SOFIA","15696"]
["15","BOYACA","15","15720","SATIVANORTE","15720"]
["15","BOYACA","15","15723","SATIVASUR","15723"]
["15","BOYACA","15","15740","SIACHOQUE","15740"]
["15","BOYACA","15","15753","SOATA","15753"]
["15","BOYACA","15","15755","SOCOTA","15755"]
["15","BOYACA","15","15757","SOCHA","15757"]
["15","BOYACA","15","15759","SOGAMOSO","15759"]
["15","BOYACA","15","15761","SOMONDOCO","15761"]
["15","BOYACA","15","15762","SORA","15762"]
["15","BOYACA","15","15763","SOTAQUIRA","15763"]
["15","BOYACA","15","15764","SORACA","15764"]
["15","BOYACA","15","15774","SUSACON","15774"]
["15","BOYACA","15","15776","SUTAMARCHAN","15776"]
["15","BOYACA","15","15778","SUTATENZA","15778"]
["15","BOYACA","15","15790","TASCO","15790"]
["15","BOYACA","15","15798","TENZA","15798"]
["15","BOYACA","15","15804","TIBANA","15804"]
["15","BOYACA","15","15806","TIBASOSA","15806"]
["15","BOYACA","15","15808","TINJACA","15808"]
["15","BOYACA","15","15810","TIPACOQUE","15810"]
["15","BOYACA","15","15814","TOCA","15814"]
["15","BOYACA","15","15816","TOGsI","15816"]
["15","BOYACA","15","15820","TOPAGA","15820"]
["15","BOYACA","15","15822","TOTA","15822"]
["15","BOYACA","15","15832","TUNUNGUA","15832"]
["15","BOYACA","15","15835","TURMEQUE","15835"]
["15","BOYACA","15","15837","TUTA","15837"]
["15","BOYACA","15","15839","TUTAZA","15839"]
["15","BOYACA","15","15842","UMBITA","15842"]
["15","BOYACA","15","15861","VENTAQUEMADA","15861"]
["15","BOYACA","15","15879","VIRACACHA","15879"]
["15","BOYACA","15","15897","ZETAQUIRA","15897"]
["17","CALDAS","17","17001","MANIZALES","17001"]
["17","CALDAS","17","17013","AGUADAS","17013"]
["17","CALDAS","17","17042","ANSERMA","17042"]
["17","CALDAS","17","17050","ARANZAZU",{"$f":"D326","v":"17050"}]
["17","CALDAS","17","17088","BELALCAZAR","17088"]
["17","CALDAS","17","17174","CHINCHINA","17174"]
["17","CALDAS","17","17272","FILADELFIA","17272"]
["17","CALDAS","17","17380","LA DORADA","17380"]
["17","CALDAS","17","17388","LA MERCED","17388"]
["17","CALDAS","17","17433","MANZANARES","17433"]
["17","CALDAS","17","17442","MARMATO","17442"]
["17","CALDAS","17","17444","MARQUETALIA","17444"]
["17","CALDAS","17","17446","MARULANDA","17446"]
["17","CALDAS","17","17486","NEIRA","17486"]
["17","CALDAS","17","17495","NORCASIA","17495"]
["17","CALDAS","17","17513","PACORA","17513"]
["17","CALDAS","17","17524","PALESTINA","17524"]
["17","CALDAS","17","17541","PENSILVANIA","17541"]
["17","CALDAS","17","17614","RIOSUCIO","17614"]
["17","CALDAS","17","17616","RISARALDA","17616"]
["17","CALDAS","17","17653","SALAMINA","17653"]
["17","CALDAS","17","17662","SAMANA","17662"]
["17","CALDAS","17","17665","SAN JOSE","17665"]
["17","CALDAS","17","17777","SUPIA","17777"]
["17","CALDAS","17","17867","VICTORIA","17867"]
["17","CALDAS","17","17873","VILLAMARIA","17873"]
["17","CALDAS","17","17877","VITERBO","17877"]
["18","CAQUETA","18","18001","FLORENCIA","18001"]
["18","CAQUETA","18","18029","ALBANIA","18029"]
["18","CAQUETA","18","18094","BELEN DE LOS ANDAQUIES","18094"]
["18","CAQUETA","18","18150","CARTAGENA DEL CHAIRA","18150"]
["18","CAQUETA","18","18205","CURILLO","18205"]
["18","CAQUETA","18","18247","EL DONCELLO","18247"]
["18","CAQUETA","18","18256","EL PAUJIL","18256"]
["18","CAQUETA","18","18410","LA MONTAÑITA","18410"]
["18","CAQUETA","18","18460","MILAN","18460"]
["18","CAQUETA","18","18479","MORELIA","18479"]
["18","CAQUETA","18","18592","PUERTO RICO","18592"]
["18","CAQUETA","18","18610","SAN JOSE DEL FRAGUA","18610"]
["18","CAQUETA","18","18753","SAN VICENTE DEL CAGUAN","18753"]
["18","CAQUETA","18","18756","SOLANO","18756"]
["18","CAQUETA","18","18785","SOLITA","18785"]
["18","CAQUETA","18","18860","VALPARAISO","18860"]
["19","CAUCA","19","19001","POPAYAN","19001"]
["19","CAUCA","19","19022","ALMAGUER","19022"]
["19","CAUCA","19","19050","ARGELIA","19050"]
["19","CAUCA","19","19075","BALBOA","19075"]
["19","CAUCA","19","19100","BOLIVAR","19100"]
["19","CAUCA","19","19110","BUENOS AIRES","19110"]
["19","CAUCA","19","19130","CAJIBIO","19130"]
["19","CAUCA","19","19137","CALDONO","19137"]
["19","CAUCA","19","19142","CALOTO","19142"]
["19","CAUCA","19","19212","CORINTO","19212"]
["19","CAUCA","19","19256","EL TAMBO","19256"]
["19","CAUCA","19","19290","FLORENCIA","19290"]
["19","CAUCA","19","19300","GUACHENE","19300"]
["19","CAUCA","19","19318","GUAPI","19318"]
["19","CAUCA","19","19355","INZA","19355"]
["19","CAUCA","19","19364","JAMBALO","19364"]
["19","CAUCA","19","19392","LA SIERRA","19392"]
["19","CAUCA","19","19397","LA VEGA","19397"]
["19","CAUCA","19","19418","LOPEZ","19418"]
["19","CAUCA","19","19450","MERCADERES","19450"]
["19","CAUCA","19","19455","MIRANDA","19455"]
["19","CAUCA","19","19473","MORALES","19473"]
["19","CAUCA","19","19513","PADILLA","19513"]
["19","CAUCA","19","19517","PAEZ","19517"]
["19","CAUCA","19","19532","PATIA",{"$f":"D390","v":"19532"}]
["19","CAUCA","19","19533","PIAMONTE","19533"]
["19","CAUCA","19","19548","PIENDAMO","19548"]
["19","CAUCA","19","19573","PUERTO TEJADA","19573"]
["19","CAUCA","19","19585","PURACE","19585"]
["19","CAUCA","19","19622","ROSAS","19622"]
["19","CAUCA","19","19693","SAN SEBASTIAN","19693"]
["19","CAUCA","19","19698","SANTANDER DE QUILICHAO","19698"]
["19","CAUCA","19","19701","SANTA ROSA","19701"]
["19","CAUCA","19","19743","SILVIA","19743"]
["19","CAUCA","19","19760","SOTARA","19760"]
["19","CAUCA","19","19780","SUAREZ","19780"]
["19","CAUCA","19","19785","SUCRE","19785"]
["19","CAUCA","19","19807","TIMBIO","19807"]
["19","CAUCA","19","19809","TIMBIQUI","19809"]
["19","CAUCA","19","19821","TORIBIO","19821"]
["19","CAUCA","19","19824","TOTORO","19824"]
["19","CAUCA","19","19845","VILLA RICA","19845"]
["20","CESAR","20","20001","VALLEDUPAR","20001"]
["20","CESAR","20","20011","AGUACHICA","20011"]
["20","CESAR","20","20013","AGUSTIN CODAZZI","20013"]
["20","CESAR","20","20032","ASTREA","20032"]
["20","CESAR","20","20045","BECERRIL","20045"]
["20","CESAR","20","20060","BOSCONIA","20060"]
["20","CESAR","20","20175","CHIMICHAGUA","20175"]
["20","CESAR","20","20178","CHIRIGUANA","20178"]
["20","CESAR","20","20228","CURUMANI","20228"]
["20","CESAR","20","20238","EL COPEY","20238"]
["20","CESAR","20","20250","EL PASO","20250"]
["20","CESAR","20","20295","GAMARRA","20295"]
["20","CESAR","20","20310","GONZALEZ","20310"]
["20","CESAR","20","20383","LA GLORIA","20383"]
["20","CESAR","20","20400","LA JAGUA DE IBIRICO","20400"]
["20","CESAR","20","20443","MANAURE","20443"]
["20","CESAR","20","20517","PAILITAS","20517"]
["20","CESAR","20","20550","PELAYA","20550"]
["20","CESAR","20","20570","PUEBLO BELLO","20570"]
["20","CESAR","20","20614","RIO DE ORO","20614"]
["20","CESAR","20","20621","LA PAZ","20621"]
["20","CESAR","20","20710","SAN ALBERTO","20710"]
["20","CESAR","20","20750","SAN DIEGO","20750"]
["20","CESAR","20","20770","SAN MARTIN","20770"]
["20","CESAR","20","20787","TAMALAMEQUE","20787"]
["23","CORDOBA","23","23001","MONTERIA","23001"]
["23","CORDOBA","23","23068","AYAPEL","23068"]
["23","CORDOBA","23","23079","BUENAVISTA","23079"]
["23","CORDOBA","23","23090","CANALETE","23090"]
["23","CORDOBA","23","23162","CERETE","23162"]
["23","CORDOBA","23","23168","CHIMA","23168"]
["23","CORDOBA","23","23182","CHINU","23182"]
["23","CORDOBA","23","23189","CIENAGA DE ORO","23189"]
["23","CORDOBA","23","23300","COTORRA","23300"]
["23","CORDOBA","23","23350","LA APARTADA","23350"]
["23","CORDOBA","23","23417","LORICA","23417"]
["23","CORDOBA","23","23419","LOS CORDOBAS","23419"]
["23","CORDOBA","23","23464","MOMIL","23464"]
["23","CORDOBA","23","23466","MONTELIBANO","23466"]
["23","CORDOBA","23","23500","MOÑITOS","23500"]
["23","CORDOBA","23","23555","PLANETA RICA","23555"]
["23","CORDOBA","23","23570","PUEBLO NUEVO","23570"]
["23","CORDOBA","23","23574","PUERTO ESCONDIDO","23574"]
["23","CORDOBA","23","23580","PUERTO LIBERTADOR","23580"]
["23","CORDOBA","23","23586","PURISIMA","23586"]
["23","CORDOBA","23","23660","SAHAGUN","23660"]
["23","CORDOBA","23","23670","SAN ANDRES SOTAVENTO",{"$f":"D454","v":"23670"}]
["23","CORDOBA","23","23672","SAN ANTERO","23672"]
["23","CORDOBA","23","23675","SAN BERNARDO DEL VIENTO","23675"]
["23","CORDOBA","23","23678","SAN CARLOS","23678"]
["23","CORDOBA","23","23686","SAN PELAYO","23686"]
["23","CORDOBA","23","23807","TIERRALTA","23807"]
["23","CORDOBA","23","23855","VALENCIA","23855"]
["25","CUNDINAMARCA","25","25001","AGUA DE DIOS","25001"]
["25","CUNDINAMARCA","25","25019","ALBAN","25019"]
["25","CUNDINAMARCA","25","25035","ANAPOIMA","25035"]
["25","CUNDINAMARCA","25","25040","ANOLAIMA","25040"]
["25","CUNDINAMARCA","25","25053","ARBELAEZ","25053"]
["25","CUNDINAMARCA","25","25086","BELTRAN","25086"]
["25","CUNDINAMARCA","25","25095","BITUIMA","25095"]
["25","CUNDINAMARCA","25","25099","BOJACA","25099"]
["25","CUNDINAMARCA","25","25120","CABRERA","25120"]
["25","CUNDINAMARCA","25","25123","CACHIPAY","25123"]
["25","CUNDINAMARCA","25","25126","CAJICA","25126"]
["25","CUNDINAMARCA","25","25148","CAPARRAPI","25148"]
["25","CUNDINAMARCA","25","25151","CAQUEZA","25151"]
["25","CUNDINAMARCA","25","25154","CARMEN DE CARUPA","25154"]
["25","CUNDINAMARCA","25","25168","CHAGUANI","25168"]
["25","CUNDINAMARCA","25","25175","CHIA","25175"]
["25","CUNDINAMARCA","25","25178","CHIPAQUE","25178"]
["25","CUNDINAMARCA","25","25181","CHOACHI","25181"]
["25","CUNDINAMARCA","25","25183","CHOCONTA","25183"]
["25","CUNDINAMARCA","25","25200","COGUA","25200"]
["25","CUNDINAMARCA","25","25214","COTA","25214"]
["25","CUNDINAMARCA","25","25224","CUCUNUBA","25224"]
["25","CUNDINAMARCA","25","25245","EL COLEGIO","25245"]
["25","CUNDINAMARCA","25","25258","EL PEÑON","25258"]
["25","CUNDINAMARCA","25","25260","EL ROSAL","25260"]
["25","CUNDINAMARCA","25","25269","FACATATIVA","25269"]
["25","CUNDINAMARCA","25","25279","FOMEQUE","25279"]
["25","CUNDINAMARCA","25","25281","FOSCA","25281"]
["25","CUNDINAMARCA","25","25286","FUNZA","25286"]
["25","CUNDINAMARCA","25","25288","FUQUENE","25288"]
["25","CUNDINAMARCA","25","25290","FUSAGASUGA","25290"]
["25","CUNDINAMARCA","25","25293","GACHALA","25293"]
["25","CUNDINAMARCA","25","25295","GACHANCIPA","25295"]
["25","CUNDINAMARCA","25","25297","GACHETA","25297"]
["25","CUNDINAMARCA","25","25299","GAMA","25299"]
["25","CUNDINAMARCA","25","25307","GIRARDOT","25307"]
["25","CUNDINAMARCA","25","25312","GRANADA","25312"]
["25","CUNDINAMARCA","25","25317","GUACHETA","25317"]
["25","CUNDINAMARCA","25","25320","GUADUAS","25320"]
["25","CUNDINAMARCA","25","25322","GUASCA","25322"]
["25","CUNDINAMARCA","25","25324","GUATAQUI","25324"]
["25","CUNDINAMARCA","25","25326","GUATAVITA","25326"]
["25","CUNDINAMARCA","25","25328","GUAYABAL DE SIQUIMA","25328"]
["25","CUNDINAMARCA","25","25335","GUAYABETAL","25335"]
["25","CUNDINAMARCA","25","25339","GUTIERREZ","25339"]
["25","CUNDINAMARCA","25","25368","JERUSALEN","25368"]
["25","CUNDINAMARCA","25","25372","JUNIN","25372"]
["25","CUNDINAMARCA","25","25377","LA CALERA","25377"]
["25","CUNDINAMARCA","25","25386","LA MESA","25386"]
["25","CUNDINAMARCA","25","25394","LA PALMA","25394"]
["25","CUNDINAMARCA","25","25398","LA PEÑA","25398"]
["25","CUNDINAMARCA","25","25402","LA VEGA","25402"]
["25","CUNDINAMARCA","25","25407","LENGUAZAQUE","25407"]
["25","CUNDINAMARCA","25","25426","MACHETA","25426"]
["25","CUNDINAMARCA","25","25430","MADRID","25430"]
["25","CUNDINAMARCA","25","25436","MANTA","25436"]
["25","CUNDINAMARCA","25","25438","MEDINA","25438"]
["25","CUNDINAMARCA","25","25473","MOSQUERA",{"$f":"D518","v":"25473"}]
["25","CUNDINAMARCA","25","25483","NARIÑO","25483"]
["25","CUNDINAMARCA","25","25486","NEMOCON","25486"]
["25","CUNDINAMARCA","25","25488","NILO","25488"]
["25","CUNDINAMARCA","25","25489","NIMAIMA","25489"]
["25","CUNDINAMARCA","25","25491","NOCAIMA","25491"]
["25","CUNDINAMARCA","25","25506","VENECIA","25506"]
["25","CUNDINAMARCA","25","25513","PACHO","25513"]
["25","CUNDINAMARCA","25","25518","PAIME","25518"]
["25","CUNDINAMARCA","25","25524","PANDI","25524"]
["25","CUNDINAMARCA","25","25530","PARATEBUENO","25530"]
["25","CUNDINAMARCA","25","25535","PASCA","25535"]
["25","CUNDINAMARCA","25","25572","PUERTO SALGAR","25572"]
["25","CUNDINAMARCA","25","25580","PULI","25580"]
["25","CUNDINAMARCA","25","25592","QUEBRADANEGRA","25592"]
["25","CUNDINAMARCA","25","25594","QUETAME","25594"]
["25","CUNDINAMARCA","25","25596","QUIPILE","25596"]
["25","CUNDINAMARCA","25","25599","APULO","25599"]
["25","CUNDINAMARCA","25","25612","RICAURTE","25612"]
["25","CUNDINAMARCA","25","25645","SAN ANTONIO DEL TEQUENDAMA","25645"]
["25","CUNDINAMARCA","25","25649","SAN BERNARDO","25649"]
["25","CUNDINAMARCA","25","25653","SAN CAYETANO","25653"]
["25","CUNDINAMARCA","25","25658","SAN FRANCISCO","25658"]
["25","CUNDINAMARCA","25","25662","SAN JUAN DE RIO SECO","25662"]
["25","CUNDINAMARCA","25","25718","SASAIMA","25718"]
["25","CUNDINAMARCA","25","25736","SESQUILE","25736"]
["25","CUNDINAMARCA","25","25740","SIBATE","25740"]
["25","CUNDINAMARCA","25","25743","SILVANIA","25743"]
["25","CUNDINAMARCA","25","25745","SIMIJACA","25745"]
["25","CUNDINAMARCA","25","25754","SOACHA","25754"]
["25","CUNDINAMARCA","25","25758","SOPO","25758"]
["25","CUNDINAMARCA","25","25769","SUBACHOQUE","25769"]
["25","CUNDINAMARCA","25","25772","SUESCA","25772"]
["25","CUNDINAMARCA","25","25777","SUPATA","25777"]
["25","CUNDINAMARCA","25","25779","SUSA","25779"]
["25","CUNDINAMARCA","25","25781","SUTATAUSA","25781"]
["25","CUNDINAMARCA","25","25785","TABIO","25785"]
["25","CUNDINAMARCA","25","25793","TAUSA","25793"]
["25","CUNDINAMARCA","25","25797","TENA","25797"]
["25","CUNDINAMARCA","25","25799","TENJO","25799"]
["25","CUNDINAMARCA","25","25805","TIBACUY","25805"]
["25","CUNDINAMARCA","25","25807","TIBIRITA","25807"]
["25","CUNDINAMARCA","25","25815","TOCAIMA","25815"]
["25","CUNDINAMARCA","25","25817","TOCANCIPA","25817"]
["25","CUNDINAMARCA","25","25823","TOPAIPI","25823"]
["25","CUNDINAMARCA","25","25839","UBALA","25839"]
["25","CUNDINAMARCA","25","25841","UBAQUE","25841"]
["25","CUNDINAMARCA","25","25843","VILLA DE SAN DIEGO DE UBATE","25843"]
["25","CUNDINAMARCA","25","25845","UNE","25845"]
["25","CUNDINAMARCA","25","25851","UTICA","25851"]
["25","CUNDINAMARCA","25","25862","VERGARA","25862"]
["25","CUNDINAMARCA","25","25867","VIANI","25867"]
["25","CUNDINAMARCA","25","25871","VILLAGOMEZ","25871"]
["25","CUNDINAMARCA","25","25873","VILLAPINZON","25873"]
["25","CUNDINAMARCA","25","25875","VILLETA","25875"]
["25","CUNDINAMARCA","25","25878","VIOTA","25878"]
["25","CUNDINAMARCA","25","25885","YACOPI","25885"]
["25","CUNDINAMARCA","25","25898","ZIPACON","25898"]
["25","CUNDINAMARCA","25","25899","ZIPAQUIRA","25899"]
["27","CHOCO","27","27001","QUIBDO","27001"]
["27","CHOCO","27","27006","ACANDI","27006"]
["27","CHOCO","27","27025","ALTO BAUDO","27025"]
["27","CHOCO","27","27050","ATRATO","27050"]
["27","CHOCO","27","27073","BAGADO","27073"]
["27","CHOCO","27","27075","BAHIA SOLANO",{"$f":"D582","v":"27075"}]
["27","CHOCO","27","27077","BAJO BAUDO","27077"]
["27","CHOCO","27","27099","BOJAYA","27099"]
["27","CHOCO","27","27135","EL CANTON DEL SAN PABLO","27135"]
["27","CHOCO","27","27150","CARMEN DEL DARIEN","27150"]
["27","CHOCO","27","27160","CERTEGUI","27160"]
["27","CHOCO","27","27205","CONDOTO","27205"]
["27","CHOCO","27","27245","EL CARMEN DE ATRATO","27245"]
["27","CHOCO","27","27250","EL LITORAL DEL SAN JUAN","27250"]
["27","CHOCO","27","27361","ISTMINA","27361"]
["27","CHOCO","27","27372","JURADO","27372"]
["27","CHOCO","27","27413","LLORO","27413"]
["27","CHOCO","27","27425","MEDIO ATRATO","27425"]
["27","CHOCO","27","27430","MEDIO BAUDO","27430"]
["27","CHOCO","27","27450","MEDIO SAN JUAN","27450"]
["27","CHOCO","27","27491","NOVITA","27491"]
["27","CHOCO","27","27495","NUQUI","27495"]
["27","CHOCO","27","27580","RIO IRO","27580"]
["27","CHOCO","27","27600","RIO QUITO","27600"]
["27","CHOCO","27","27615","RIOSUCIO","27615"]
["27","CHOCO","27","27660","SAN JOSE DEL PALMAR","27660"]
["27","CHOCO","27","27745","SIPI","27745"]
["27","CHOCO","27","27787","TADO","27787"]
["27","CHOCO","27","27800","UNGUIA","27800"]
["27","CHOCO","27","27810","UNION PANAMERICANA","27810"]
["41","HUILA","41","41001","NEIVA","41001"]
["41","HUILA","41","41006","ACEVEDO","41006"]
["41","HUILA","41","41013","AGRADO","41013"]
["41","HUILA","41","41016","AIPE","41016"]
["41","HUILA","41","41020","ALGECIRAS","41020"]
["41","HUILA","41","41026","ALTAMIRA","41026"]
["41","HUILA","41","41078","BARAYA","41078"]
["41","HUILA","41","41132","CAMPOALEGRE","41132"]
["41","HUILA","41","41206","COLOMBIA","41206"]
["41","HUILA","41","41244","ELIAS","41244"]
["41","HUILA","41","41298","GARZON","41298"]
["41","HUILA","41","41306","GIGANTE","41306"]
["41","HUILA","41","41319","GUADALUPE","41319"]
["41","HUILA","41","41349","HOBO","41349"]
["41","HUILA","41","41357","IQUIRA","41357"]
["41","HUILA","41","41359","ISNOS","41359"]
["41","HUILA","41","41378","LA ARGENTINA","41378"]
["41","HUILA","41","41396","LA PLATA","41396"]
["41","HUILA","41","41483","NATAGA","41483"]
["41","HUILA","41","41503","OPORAPA","41503"]
["41","HUILA","41","41518","PAICOL","41518"]
["41","HUILA","41","41524","PALERMO","41524"]
["41","HUILA","41","41530","PALESTINA","41530"]
["41","HUILA","41","41548","PITAL","41548"]
["41","HUILA","41","41551","PITALITO","41551"]
["41","HUILA","41","41615","RIVERA","41615"]
["41","HUILA","41","41660","SALADOBLANCO","41660"]
["41","HUILA","41","41668","SAN AGUSTIN","41668"]
["41","HUILA","41","41676","SANTA MARIA","41676"]
["41","HUILA","41","41770","SUAZA","41770"]
["41","HUILA","41","41791","TARQUI","41791"]
["41","HUILA","41","41797","TESALIA","41797"]
["41","HUILA","41","41799","TELLO","41799"]
["41","HUILA","41","41801","TERUEL","41801"]
["41","HUILA","41","41807","TIMANA","41807"]
["41","HUILA","41","41872","VILLAVIEJA","41872"]
["41","HUILA","41","41885","YAGUARA","41885"]
["44","LA_GUAJIRA","44","44001","RIOHACHA","44001"]
["44","LA_GUAJIRA","44","44035","ALBANIA","44035"]
["44","LA_GUAJIRA","44","44078","BARRANCAS",{"$f":"D646","v":"44078"}]
["44","LA_GUAJIRA","44","44090","DIBULLA","44090"]
["44","LA_GUAJIRA","44","44098","DISTRACCION","44098"]
["44","LA_GUAJIRA","44","44110","EL MOLINO","44110"]
["44","LA_GUAJIRA","44","44279","FONSECA","44279"]
["44","LA_GUAJIRA","44","44378","HATONUEVO","44378"]
["44","LA_GUAJIRA","44","44420","LA JAGUA DEL PILAR","44420"]
["44","LA_GUAJIRA","44","44430","MAICAO","44430"]
["44","LA_GUAJIRA","44","44560","MANAURE","44560"]
["44","LA_GUAJIRA","44","44650","SAN JUAN DEL CESAR","44650"]
["44","LA_GUAJIRA","44","44847","URIBIA","44847"]
["44","LA_GUAJIRA","44","44855","URUMITA","44855"]
["44","LA_GUAJIRA","44","44874","VILLANUEVA","44874"]
["47","MAGDALENA","47","47001","SANTA MARTA","47001"]
["47","MAGDALENA","47","47030","ALGARROBO","47030"]
["47","MAGDALENA","47","47053","ARACATACA","47053"]
["47","MAGDALENA","47","47058","ARIGUANI","47058"]
["47","MAGDALENA","47","47161","CERRO SAN ANTONIO","47161"]
["47","MAGDALENA","47","47170","CHIBOLO","47170"]
["47","MAGDALENA","47","47189","CIENAGA","47189"]
["47","MAGDALENA","47","47205","CONCORDIA","47205"]
["47","MAGDALENA","47","47245","EL BANCO","47245"]
["47","MAGDALENA","47","47258","EL PIÑON","47258"]
["47","MAGDALENA","47","47268","EL RETEN","47268"]
["47","MAGDALENA","47","47288","FUNDACION","47288"]
["47","MAGDALENA","47","47318","GUAMAL","47318"]
["47","MAGDALENA","47","47460","NUEVA GRANADA","47460"]
["47","MAGDALENA","47","47541","PEDRAZA","47541"]
["47","MAGDALENA","47","47545","PIJIÑO DEL CARMEN","47545"]
["47","MAGDALENA","47","47551","PIVIJAY","47551"]
["47","MAGDALENA","47","47555","PLATO","47555"]
["47","MAGDALENA","47","47570","PUEBLOVIEJO","47570"]
["47","MAGDALENA","47","47605","REMOLINO","47605"]
["47","MAGDALENA","47","47660","SABANAS DE SAN ANGEL","47660"]
["47","MAGDALENA","47","47675","SALAMINA","47675"]
["47","MAGDALENA","47","47692","SAN SEBASTIAN DE BUENAVISTA","47692"]
["47","MAGDALENA","47","47703","SAN ZENON","47703"]
["47","MAGDALENA","47","47707","SANTA ANA","47707"]
["47","MAGDALENA","47","47720","SANTA BARBARA DE PINTO","47720"]
["47","MAGDALENA","47","47745","SITIONUEVO","47745"]
["47","MAGDALENA","47","47798","TENERIFE","47798"]
["47","MAGDALENA","47","47960","ZAPAYAN","47960"]
["47","MAGDALENA","47","47980","ZONA BANANERA","47980"]
["50","META","50","50001","VILLAVICENCIO","50001"]
["50","META","50","50006","ACACIAS","50006"]
["50","META","50","50110","BARRANCA DE UPIA","50110"]
["50","META","50","50124","CABUYARO","50124"]
["50","META","50","50150","CASTILLA LA NUEVA","50150"]
["50","META","50","50223","CUBARRAL","50223"]
["50","META","50","50226","CUMARAL","50226"]
["50","META","50","50245","EL CALVARIO","50245"]
["50","META","50","50251","EL CASTILLO","50251"]
["50","META","50","50270","EL DORADO","50270"]
["50","META","50","50287","FUENTE DE ORO","50287"]
["50","META","50","50313","GRANADA","50313"]
["50","META","50","50318","GUAMAL","50318"]
["50","META","50","50325","MAPIRIPAN","50325"]
["50","META","50","50330","MESETAS","50330"]
["50","META","50","50350","LA MACARENA","50350"]
["50","META","50","50370","URIBE","50370"]
["50","META","50","50400","LEJANIAS","50400"]
["50","META","50","50450","PUERTO CONCORDIA","50450"]
["50","META","50","50568","PUERTO GAITAN","50568"]
["50","META","50","50573","PUERTO LOPEZ","50573"]
["50","META","50","50577","PUERTO LLERAS",{"$f":"D710","v":"50577"}]
["50","META","50","50590","PUERTO RICO","50590"]
["50","META","50","50606","RESTREPO","50606"]
["50","META","50","50680","SAN CARLOS DE GUAROA","50680"]
["50","META","50","50683","SAN JUAN DE ARAMA","50683"]
["50","META","50","50686","SAN JUANITO","50686"]
["50","META","50","50689","SAN MARTIN","50689"]
["50","META","50","50711","VISTAHERMOSA","50711"]
["52","NARIÑO","52","52001","PASTO","52001"]
["52","NARIÑO","52","52019","ALBAN","52019"]
["52","NARIÑO","52","52022","ALDANA","52022"]
["52","NARIÑO","52","52036","ANCUYA","52036"]
["52","NARIÑO","52","52051","ARBOLEDA","52051"]
["52","NARIÑO","52","52079","BARBACOAS","52079"]
["52","NARIÑO","52","52083","BELEN","52083"]
["52","NARIÑO","52","52110","BUESACO","52110"]
["52","NARIÑO","52","52203","COLON","52203"]
["52","NARIÑO","52","52207","CONSACA","52207"]
["52","NARIÑO","52","52210","CONTADERO","52210"]
["52","NARIÑO","52","52215","CORDOBA","52215"]
["52","NARIÑO","52","52224","CUASPUD","52224"]
["52","NARIÑO","52","52227","CUMBAL","52227"]
["52","NARIÑO","52","52233","CUMBITARA","52233"]
["52","NARIÑO","52","52240","CHACHAGsI","52240"]
["52","NARIÑO","52","52250","EL CHARCO","52250"]
["52","NARIÑO","52","52254","EL PEÑOL","52254"]
["52","NARIÑO","52","52256","EL ROSARIO","52256"]
["52","NARIÑO","52","52258","EL TABLON DE GOMEZ","52258"]
["52","NARIÑO","52","52260","EL TAMBO","52260"]
["52","NARIÑO","52","52287","FUNES","52287"]
["52","NARIÑO","52","52317","GUACHUCAL","52317"]
["52","NARIÑO","52","52320","GUAITARILLA","52320"]
["52","NARIÑO","52","52323","GUALMATAN","52323"]
["52","NARIÑO","52","52352","ILES","52352"]
["52","NARIÑO","52","52354","IMUES","52354"]
["52","NARIÑO","52","52356","IPIALES","52356"]
["52","NARIÑO","52","52378","LA CRUZ","52378"]
["52","NARIÑO","52","52381","LA FLORIDA","52381"]
["52","NARIÑO","52","52385","LA LLANADA","52385"]
["52","NARIÑO","52","52390","LA TOLA","52390"]
["52","NARIÑO","52","52399","LA UNION","52399"]
["52","NARIÑO","52","52405","LEIVA","52405"]
["52","NARIÑO","52","52411","LINARES","52411"]
["52","NARIÑO","52","52418","LOS ANDES","52418"]
["52","NARIÑO","52","52427","MAGsI","52427"]
["52","NARIÑO","52","52435","MALLAMA","52435"]
["52","NARIÑO","52","52473","MOSQUERA","52473"]
["52","NARIÑO","52","52480","NARIÑO","52480"]
["52","NARIÑO","52","52490","OLAYA HERRERA","52490"]
["52","NARIÑO","52","52506","OSPINA","52506"]
["52","NARIÑO","52","52520","FRANCISCO PIZARRO","52520"]
["52","NARIÑO","52","52540","POLICARPA","52540"]
["52","NARIÑO","52","52560","POTOSI","52560"]
["52","NARIÑO","52","52565","PROVIDENCIA","52565"]
["52","NARIÑO","52","52573","PUERRES","52573"]
["52","NARIÑO","52","52585","PUPIALES","52585"]
["52","NARIÑO","52","52612","RICAURTE","52612"]
["52","NARIÑO","52","52621","ROBERTO PAYAN","52621"]
["52","NARIÑO","52","52678","SAMANIEGO","52678"]
["52","NARIÑO","52","52683","SANDONA","52683"]
["52","NARIÑO","52","52685","SAN BERNARDO","52685"]
["52","NARIÑO","52","52687","SAN LORENZO","52687"]
["52","NARIÑO","52","52693","SAN PABLO","52693"]
["52","NARIÑO","52","52694","SAN PEDRO DE CARTAGO","52694"]
["52","NARIÑO","52","52696","SANTA BARBARA",{"$f":"D774","v":"52696"}]
["52","NARIÑO","52","52699","SANTACRUZ","52699"]
["52","NARIÑO","52","52720","SAPUYES","52720"]
["52","NARIÑO","52","52786","TAMINANGO","52786"]
["52","NARIÑO","52","52788","TANGUA","52788"]
["52","NARIÑO","52","52835","SAN ANDRES DE TUMACO","52835"]
["52","NARIÑO","52","52838","TUQUERRES","52838"]
["52","NARIÑO","52","52885","YACUANQUER","52885"]
["54","N_DE_SANTANDER","54","54001","CUCUTA","54001"]
["54","N_DE_SANTANDER","54","54003","ABREGO","54003"]
["54","N_DE_SANTANDER","54","54051","ARBOLEDAS","54051"]
["54","N_DE_SANTANDER","54","54099","BOCHALEMA","54099"]
["54","N_DE_SANTANDER","54","54109","BUCARASICA","54109"]
["54","N_DE_SANTANDER","54","54125","CACOTA","54125"]
["54","N_DE_SANTANDER","54","54128","CACHIRA","54128"]
["54","N_DE_SANTANDER","54","54172","CHINACOTA","54172"]
["54","N_DE_SANTANDER","54","54174","CHITAGA","54174"]
["54","N_DE_SANTANDER","54","54206","CONVENCION","54206"]
["54","N_DE_SANTANDER","54","54223","CUCUTILLA","54223"]
["54","N_DE_SANTANDER","54","54239","DURANIA","54239"]
["54","N_DE_SANTANDER","54","54245","EL CARMEN","54245"]
["54","N_DE_SANTANDER","54","54250","EL TARRA","54250"]
["54","N_DE_SANTANDER","54","54261","EL ZULIA","54261"]
["54","N_DE_SANTANDER","54","54313","GRAMALOTE","54313"]
["54","N_DE_SANTANDER","54","54344","HACARI","54344"]
["54","N_DE_SANTANDER","54","54347","HERRAN","54347"]
["54","N_DE_SANTANDER","54","54377","LABATECA","54377"]
["54","N_DE_SANTANDER","54","54385","LA ESPERANZA","54385"]
["54","N_DE_SANTANDER","54","54398","LA PLAYA","54398"]
["54","N_DE_SANTANDER","54","54405","LOS PATIOS","54405"]
["54","N_DE_SANTANDER","54","54418","LOURDES","54418"]
["54","N_DE_SANTANDER","54","54480","MUTISCUA","54480"]
["54","N_DE_SANTANDER","54","54498","OCAÑA","54498"]
["54","N_DE_SANTANDER","54","54518","PAMPLONA","54518"]
["54","N_DE_SANTANDER","54","54520","PAMPLONITA","54520"]
["54","N_DE_SANTANDER","54","54553","PUERTO SANTANDER","54553"]
["54","N_DE_SANTANDER","54","54599","RAGONVALIA","54599"]
["54","N_DE_SANTANDER","54","54660","SALAZAR","54660"]
["54","N_DE_SANTANDER","54","54670","SAN CALIXTO","54670"]
["54","N_DE_SANTANDER","54","54673","SAN CAYETANO","54673"]
["54","N_DE_SANTANDER","54","54680","SANTIAGO","54680"]
["54","N_DE_SANTANDER","54","54720","SARDINATA","54720"]
["54","N_DE_SANTANDER","54","54743","SILOS","54743"]
["54","N_DE_SANTANDER","54","54800","TEORAMA","54800"]
["54","N_DE_SANTANDER","54","54810","TIBU","54810"]
["54","N_DE_SANTANDER","54","54820","TOLEDO","54820"]
["54","N_DE_SANTANDER","54","54871","VILLA CARO","54871"]
["54","N_DE_SANTANDER","54","54874","VILLA DEL ROSARIO","54874"]
["63","QUINDIO","63","63001","ARMENIA","63001"]
["63","QUINDIO","63","63111","BUENAVISTA","63111"]
["63","QUINDIO","63","63130","CALARCA","63130"]
["63","QUINDIO","63","63190","CIRCASIA","63190"]
["63","QUINDIO","63","63212","CORDOBA","63212"]
["63","QUINDIO","63","63272","FILANDIA","63272"]
["63","QUINDIO","63","63302","GENOVA","63302"]
["63","QUINDIO","63","63401","LA TEBAIDA","63401"]
["63","QUINDIO","63","63470","MONTENEGRO","63470"]
["63","QUINDIO","63","63548","PIJAO","63548"]
["63","QUINDIO","63","63594","QUIMBAYA","63594"]
["63","QUINDIO","63","63690","SALENTO","63690"]
["66","RISARALDA","66","66001","PEREIRA","66001"]
["66","RISARALDA","66","66045","APIA","66045"]
["66","RISARALDA","66","66075","BALBOA","66075"]
["66","RISARALDA","66","66088","BELEN DE UMBRIA","66088"]
["66","RISARALDA","66","66170","DOSQUEBRADAS",{"$f":"D838","v":"66170"}]
["66","RISARALDA","66","66318","GUATICA","66318"]
["66","RISARALDA","66","66383","LA CELIA","66383"]
["66","RISARALDA","66","66400","LA VIRGINIA","66400"]
["66","RISARALDA","66","66440","MARSELLA","66440"]
["66","RISARALDA","66","66456","MISTRATO","66456"]
["66","RISARALDA","66","66572","PUEBLO RICO","66572"]
["66","RISARALDA","66","66594","QUINCHIA","66594"]
["66","RISARALDA","66","66682","SANTA ROSA DE CABAL","66682"]
["66","RISARALDA","66","66687","SANTUARIO","66687"]
["68","SANTANDER","68","68001","BUCARAMANGA","68001"]
["68","SANTANDER","68","68013","AGUADA","68013"]
["68","SANTANDER","68","68020","ALBANIA","68020"]
["68","SANTANDER","68","68051","ARATOCA","68051"]
["68","SANTANDER","68","68077","BARBOSA","68077"]
["68","SANTANDER","68","68079","BARICHARA","68079"]
["68","SANTANDER","68","68081","BARRANCABERMEJA","68081"]
["68","SANTANDER","68","68092","BETULIA","68092"]
["68","SANTANDER","68","68101","BOLIVAR","68101"]
["68","SANTANDER","68","68121","CABRERA","68121"]
["68","SANTANDER","68","68132","CALIFORNIA","68132"]
["68","SANTANDER","68","68147","CAPITANEJO","68147"]
["68","SANTANDER","68","68152","CARCASI","68152"]
["68","SANTANDER","68","68160","CEPITA","68160"]
["68","SANTANDER","68","68162","CERRITO","68162"]
["68","SANTANDER","68","68167","CHARALA","68167"]
["68","SANTANDER","68","68169","CHARTA","68169"]
["68","SANTANDER","68","68176","CHIMA","68176"]
["68","SANTANDER","68","68179","CHIPATA","68179"]
["68","SANTANDER","68","68190","CIMITARRA","68190"]
["68","SANTANDER","68","68207","CONCEPCION","68207"]
["68","SANTANDER","68","68209","CONFINES","68209"]
["68","SANTANDER","68","68211","CONTRATACION","68211"]
["68","SANTANDER","68","68217","COROMORO","68217"]
["68","SANTANDER","68","68229","CURITI","68229"]
["68","SANTANDER","68","68235","EL CARMEN DE CHUCURI","68235"]
["68","SANTANDER","68","68245","EL GUACAMAYO","68245"]
["68","SANTANDER","68","68250","EL PEÑON","68250"]
["68","SANTANDER","68","68255","EL PLAYON","68255"]
["68","SANTANDER","68","68264","ENCINO","68264"]
["68","SANTANDER","68","68266","ENCISO","68266"]
["68","SANTANDER","68","68271","FLORIAN","68271"]
["68","SANTANDER","68","68276","FLORIDABLANCA","68276"]
["68","SANTANDER","68","68296","GALAN","68296"]
["68","SANTANDER","68","68298","GAMBITA","68298"]
["68","SANTANDER","68","68307","GIRON","68307"]
["68","SANTANDER","68","68318","GUACA","68318"]
["68","SANTANDER","68","68320","GUADALUPE","68320"]
["68","SANTANDER","68","68322","GUAPOTA","68322"]
["68","SANTANDER","68","68324","GUAVATA","68324"]
["68","SANTANDER","68","68327","GsEPSA","68327"]
["68","SANTANDER","68","68344","HATO","68344"]
["68","SANTANDER","68","68368","JESUS MARIA","68368"]
["68","SANTANDER","68","68370","JORDAN","68370"]
["68","SANTANDER","68","68377","LA BELLEZA","68377"]
["68","SANTANDER","68","68385","LANDAZURI","68385"]
["68","SANTANDER","68","68397","LA PAZ","68397"]
["68","SANTANDER","68","68406","LEBRIJA","68406"]
["68","SANTANDER","68","68418","LOS SANTOS","68418"]
["68","SANTANDER","68","68425","MACARAVITA","68425"]
["68","SANTANDER","68","68432","MALAGA","68432"]
["68","SANTANDER","68","68444","MATANZA","68444"]
["68","SANTANDER","68","68464","MOGOTES","68464"]
["68","SANTANDER","68","68468","MOLAGAVITA","68468"]
["68","SANTANDER","68","68498","OCAMONTE",{"$f":"D902","v":"68498"}]
["68","SANTANDER","68","68500","OIBA","68500"]
["68","SANTANDER","68","68502","ONZAGA","68502"]
["68","SANTANDER","68","68522","PALMAR","68522"]
["68","SANTANDER","68","68524","PALMAS DEL SOCORRO","68524"]
["68","SANTANDER","68","68533","PARAMO","68533"]
["68","SANTANDER","68","68547","PIEDECUESTA","68547"]
["68","SANTANDER","68","68549","PINCHOTE","68549"]
["68","SANTANDER","68","68572","PUENTE NACIONAL","68572"]
["68","SANTANDER","68","68573","PUERTO PARRA","68573"]
["68","SANTANDER","68","68575","PUERTO WILCHES","68575"]
["68","SANTANDER","68","68615","RIONEGRO","68615"]
["68","SANTANDER","68","68655","SABANA DE TORRES","68655"]
["68","SANTANDER","68","68669","SAN ANDRES","68669"]
["68","SANTANDER","68","68673","SAN BENITO","68673"]
["68","SANTANDER","68","68679","SAN GIL","68679"]
["68","SANTANDER","68","68682","SAN JOAQUIN","68682"]
["68","SANTANDER","68","68684","SAN JOSE DE MIRANDA","68684"]
["68","SANTANDER","68","68686","SAN MIGUEL","68686"]
["68","SANTANDER","68","68689","SAN VICENTE DE CHUCURI","68689"]
["68","SANTANDER","68","68705","SANTA BARBARA","68705"]
["68","SANTANDER","68","68720","SANTA HELENA DEL OPON","68720"]
["68","SANTANDER","68","68745","SIMACOTA","68745"]
["68","SANTANDER","68","68755","SOCORRO","68755"]
["68","SANTANDER","68","68770","SUAITA","68770"]
["68","SANTANDER","68","68773","SUCRE","68773"]
["68","SANTANDER","68","68780","SURATA","68780"]
["68","SANTANDER","68","68820","TONA","68820"]
["68","SANTANDER","68","68855","VALLE DE SAN JOSE","68855"]
["68","SANTANDER","68","68861","VELEZ","68861"]
["68","SANTANDER","68","68867","VETAS","68867"]
["68","SANTANDER","68","68872","VILLANUEVA","68872"]
["68","SANTANDER","68","68895","ZAPATOCA","68895"]
["70","SUCRE","70","70001","SINCELEJO","70001"]
["70","SUCRE","70","70110","BUENAVISTA","70110"]
["70","SUCRE","70","70124","CAIMITO","70124"]
["70","SUCRE","70","70204","COLOSO","70204"]
["70","SUCRE","70","70215","COROZAL","70215"]
["70","SUCRE","70","70221","COVEÑAS","70221"]
["70","SUCRE","70","70230","CHALAN","70230"]
["70","SUCRE","70","70233","EL ROBLE","70233"]
["70","SUCRE","70","70235","GALERAS","70235"]
["70","SUCRE","70","70265","GUARANDA","70265"]
["70","SUCRE","70","70400","LA UNION","70400"]
["70","SUCRE","70","70418","LOS PALMITOS","70418"]
["70","SUCRE","70","70429","MAJAGUAL","70429"]
["70","SUCRE","70","70473","MORROA","70473"]
["70","SUCRE","70","70508","OVEJAS","70508"]
["70","SUCRE","70","70523","PALMITO","70523"]
["70","SUCRE","70","70670","SAMPUES","70670"]
["70","SUCRE","70","70678","SAN BENITO ABAD","70678"]
["70","SUCRE","70","70702","SAN JUAN DE BETULIA","70702"]
["70","SUCRE","70","70708","SAN MARCOS","70708"]
["70","SUCRE","70","70713","SAN ONOFRE","70713"]
["70","SUCRE","70","70717","SAN PEDRO","70717"]
["70","SUCRE","70","70742","SAN LUIS DE SINCE","70742"]
["70","SUCRE","70","70771","SUCRE","70771"]
["70","SUCRE","70","70820","SANTIAGO DE TOLU","70820"]
["70","SUCRE","70","70823","TOLU VIEJO","70823"]
["73","TOLIMA","73","73001","IBAGUE","73001"]
["73","TOLIMA","73","73024","ALPUJARRA","73024"]
["73","TOLIMA","73","73026","ALVARADO","73026"]
["73","TOLIMA","73","73030","AMBALEMA","73030"]
["73","TOLIMA","73","73043","ANZOATEGUI","73043"]
["73","TOLIMA","73","73055","ARMERO",{"$f":"D966","v":"73055"}]
["73","TOLIMA","73","73067","ATACO","73067"]
["73","TOLIMA","73","73124","CAJAMARCA","73124"]
["73","TOLIMA","73","73148","CARMEN DE APICALA","73148"]
["73","TOLIMA","73","73152","CASABIANCA","73152"]
["73","TOLIMA","73","73168","CHAPARRAL","73168"]
["73","TOLIMA","73","73200","COELLO","73200"]
["73","TOLIMA","73","73217","COYAIMA","73217"]
["73","TOLIMA","73","73226","CUNDAY","73226"]
["73","TOLIMA","73","73236","DOLORES","73236"]
["73","TOLIMA","73","73268","ESPINAL","73268"]
["73","TOLIMA","73","73270","FALAN","73270"]
["73","TOLIMA","73","73275","FLANDES","73275"]
["73","TOLIMA","73","73283","FRESNO","73283"]
["73","TOLIMA","73","73319","GUAMO","73319"]
["73","TOLIMA","73","73347","HERVEO","73347"]
["73","TOLIMA","73","73349","HONDA","73349"]
["73","TOLIMA","73","73352","ICONONZO","73352"]
["73","TOLIMA","73","73408","LERIDA","73408"]
["73","TOLIMA","73","73411","LIBANO","73411"]
["73","TOLIMA","73","73443","MARIQUITA","73443"]
["73","TOLIMA","73","73449","MELGAR","73449"]
["73","TOLIMA","73","73461","MURILLO","73461"]
["73","TOLIMA","73","73483","NATAGAIMA","73483"]
["73","TOLIMA","73","73504","ORTEGA","73504"]
["73","TOLIMA","73","73520","PALOCABILDO","73520"]
["73","TOLIMA","73","73547","PIEDRAS","73547"]
["73","TOLIMA","73","73555","PLANADAS","73555"]
["73","TOLIMA","73","73563","PRADO","73563"]
["73","TOLIMA","73","73585","PURIFICACION","73585"]
["73","TOLIMA","73","73616","RIOBLANCO","73616"]
["73","TOLIMA","73","73622","RONCESVALLES","73622"]
["73","TOLIMA","73","73624","ROVIRA","73624"]
["73","TOLIMA","73","73671","SALDAÑA","73671"]
["73","TOLIMA","73","73675","SAN ANTONIO","73675"]
["73","TOLIMA","73","73678","SAN LUIS","73678"]
["73","TOLIMA","73","73686","SANTA ISABEL","73686"]
["73","TOLIMA","73","73770","SUAREZ","73770"]
["73","TOLIMA","73","73854","VALLE DE SAN JUAN","73854"]
["73","TOLIMA","73","73861","VENADILLO","73861"]
["73","TOLIMA","73","73870","VILLAHERMOSA","73870"]
["73","TOLIMA","73","73873","VILLARRICA","73873"]
["76","VALLE_DEL_CAUCA","76","76001","CALI","76001"]
["76","VALLE_DEL_CAUCA","76","76020","ALCALA","76020"]
["76","VALLE_DEL_CAUCA","76","76036","ANDALUCIA","76036"]
["76","VALLE_DEL_CAUCA","76","76041","ANSERMANUEVO","76041"]
["76","VALLE_DEL_CAUCA","76","76054","ARGELIA","76054"]
["76","VALLE_DEL_CAUCA","76","76100","BOLIVAR","76100"]
["76","VALLE_DEL_CAUCA","76","76109","BUENAVENTURA","76109"]
["76","VALLE_DEL_CAUCA","76","76111","GUADALAJARA DE BUGA","76111"]
["76","VALLE_DEL_CAUCA","76","76113","BUGALAGRANDE","76113"]
["76","VALLE_DEL_CAUCA","76","76122","CAICEDONIA","76122"]
["76","VALLE_DEL_CAUCA","76","76126","CALIMA","76126"]
["76","VALLE_DEL_CAUCA","76","76130","CANDELARIA","76130"]
["76","VALLE_DEL_CAUCA","76","76147","CARTAGO","76147"]
["76","VALLE_DEL_CAUCA","76","76233","DAGUA","76233"]
["76","VALLE_DEL_CAUCA","76","76243","EL AGUILA","76243"]
["76","VALLE_DEL_CAUCA","76","76246","EL CAIRO","76246"]
["76","VALLE_DEL_CAUCA","76","76248","EL CERRITO","76248"]
["76","VALLE_DEL_CAUCA","76","76250","EL DOVIO","76250"]
["76","VALLE_DEL_CAUCA","76","76275","FLORIDA","76275"]
["76","VALLE_DEL_CAUCA","76","76306","GINEBRA","76306"]
["76","VALLE_DEL_CAUCA","76","76318","GUACARI","76318"]
["76","VALLE_DEL_CAUCA","76","76364","JAMUNDI","76364"]
["76","VALLE_DEL_CAUCA","76","76377","LA CUMBRE",{"$f":"D1030","v":"76377"}]
["76","VALLE_DEL_CAUCA","76","76400","LA UNION","76400"]
["76","VALLE_DEL_CAUCA","76","76403","LA VICTORIA","76403"]
["76","VALLE_DEL_CAUCA","76","76497","OBANDO","76497"]
["76","VALLE_DEL_CAUCA","76","76520","PALMIRA","76520"]
["76","VALLE_DEL_CAUCA","76","76563","PRADERA","76563"]
["76","VALLE_DEL_CAUCA","76","76606","RESTREPO","76606"]
["76","VALLE_DEL_CAUCA","76","76616","RIOFRIO","76616"]
["76","VALLE_DEL_CAUCA","76","76622","ROLDANILLO","76622"]
["76","VALLE_DEL_CAUCA","76","76670","SAN PEDRO","76670"]
["76","VALLE_DEL_CAUCA","76","76736","SEVILLA","76736"]
["76","VALLE_DEL_CAUCA","76","76823","TORO","76823"]
["76","VALLE_DEL_CAUCA","76","76828","TRUJILLO","76828"]
["76","VALLE_DEL_CAUCA","76","76834","TULUA","76834"]
["76","VALLE_DEL_CAUCA","76","76845","ULLOA","76845"]
["76","VALLE_DEL_CAUCA","76","76863","VERSALLES","76863"]
["76","VALLE_DEL_CAUCA","76","76869","VIJES","76869"]
["76","VALLE_DEL_CAUCA","76","76890","YOTOCO","76890"]
["76","VALLE_DEL_CAUCA","76","76892","YUMBO","76892"]
["76","VALLE_DEL_CAUCA","76","76895","ZARZAL","76895"]
["81","ARAUCA","81","81001","ARAUCA","81001"]
["81","ARAUCA","81","81065","ARAUQUITA","81065"]
["81","ARAUCA","81","81220","CRAVO NORTE","81220"]
["81","ARAUCA","81","81300","FORTUL","81300"]
["81","ARAUCA","81","81591","PUERTO RONDON","81591"]
["81","ARAUCA","81","81736","SARAVENA","81736"]
["81","ARAUCA","81","81794","TAME","81794"]
["85","CASANARE","85","85001","YOPAL","85001"]
["85","CASANARE","85","85010","AGUAZUL","85010"]
["85","CASANARE","85","85015","CHAMEZA","85015"]
["85","CASANARE","85","85125","HATO COROZAL","85125"]
["85","CASANARE","85","85136","LA SALINA","85136"]
["85","CASANARE","85","85139","MANI","85139"]
["85","CASANARE","85","85162","MONTERREY","85162"]
["85","CASANARE","85","85225","NUNCHIA","85225"]
["85","CASANARE","85","85230","OROCUE","85230"]
["85","CASANARE","85","85250","PAZ DE ARIPORO","85250"]
["85","CASANARE","85","85263","PORE","85263"]
["85","CASANARE","85","85279","RECETOR","85279"]
["85","CASANARE","85","85300","SABANALARGA","85300"]
["85","CASANARE","85","85315","SACAMA","85315"]
["85","CASANARE","85","85325","SAN LUIS DE PALENQUE","85325"]
["85","CASANARE","85","85400","TAMARA","85400"]
["85","CASANARE","85","85410","TAURAMENA","85410"]
["85","CASANARE","85","85430","TRINIDAD","85430"]
["85","CASANARE","85","85440","VILLANUEVA","85440"]
["86","PUTUMAYO","86","86001","MOCOA","86001"]
["86","PUTUMAYO","86","86219","COLON","86219"]
["86","PUTUMAYO","86","86320","ORITO","86320"]
["86","PUTUMAYO","86","86568","PUERTO ASIS","86568"]
["86","PUTUMAYO","86","86569","PUERTO CAICEDO","86569"]
["86","PUTUMAYO","86","86571","PUERTO GUZMAN","86571"]
["86","PUTUMAYO","86","86573","LEGUIZAMO","86573"]
["86","PUTUMAYO","86","86749","SIBUNDOY","86749"]
["86","PUTUMAYO","86","86755","SAN FRANCISCO","86755"]
["86","PUTUMAYO","86","86757","SAN MIGUEL","86757"]
["86","PUTUMAYO","86","86760","SANTIAGO","86760"]
["86","PUTUMAYO","86","86865","VALLE DEL GUAMUEZ","86865"]
["86","PUTUMAYO","86","86885","VILLAGARZON","86885"]
["88","SAN_ANDRES","88","88001","SAN ANDRES","88001"]
["88","SAN_ANDRES","88","88564","PROVIDENCIA","88564"]
["91","AMAZONAS","91","91001","LETICIA","91001"]
["91","AMAZONAS","91","91263","EL ENCANTO","91263"]
["91","AMAZONAS","91","91405","LA CHORRERA","91405"]
["91","AMAZONAS","91","91407","LA PEDRERA",{"$f":"D1094","v":"91407"}]
["91","AMAZONAS","91","91430","LA VICTORIA","91430"]
["91","AMAZONAS","91","91460","MIRITI - PARANA","91460"]
["91","AMAZONAS","91","91530","PUERTO ALEGRIA","91530"]
["91","AMAZONAS","91","91536","PUERTO ARICA","91536"]
["91","AMAZONAS","91","91540","PUERTO NARIÑO","91540"]
["91","AMAZONAS","91","91669","PUERTO SANTANDER","91669"]
["91","AMAZONAS","91","91798","TARAPACA","91798"]
["94","GUAINIA","94","94001","INIRIDA","94001"]
["94","GUAINIA","94","94343","BARRANCO MINAS","94343"]
["94","GUAINIA","94","94663","MAPIRIPANA","94663"]
["94","GUAINIA","94","94883","SAN FELIPE","94883"]
["94","GUAINIA","94","94884","PUERTO COLOMBIA","94884"]
["94","GUAINIA","94","94885","LA GUADALUPE","94885"]
["94","GUAINIA","94","94886","CACAHUAL","94886"]
["94","GUAINIA","94","94887","PANA PANA","94887"]
["94","GUAINIA","94","94888","MORICHAL","94888"]
["95","GUAVIARE","95","95001","SAN JOSE DEL GUAVIARE","95001"]
["95","GUAVIARE","95","95015","CALAMAR","95015"]
["95","GUAVIARE","95","95025","EL RETORNO","95025"]
["95","GUAVIARE","95","95200","MIRAFLORES","95200"]
["97","VAUPES","97","97001","MITU","97001"]
["97","VAUPES","97","97161","CARURU","97161"]
[97,"VAUPES",97,"97511","PACOA","97511"]
["97","VAUPES","97","97666","TARAIRA","97666"]
["97","VAUPES","97","97777","PAPUNAUA","97777"]
["97","VAUPES","97","97889","YAVARATE","97889"]
["99","VICHADA","99","99001","PUERTO CARREÑO","99001"]
["99","VICHADA","99","99524","LA PRIMAVERA","99524"]
["99","VICHADA","99","99624","SANTA ROSALIA","99624"]
["99","VICHADA","99","99773","CUMARIBO","99773"]
[]
[]
[]
[null,"ANTIOQUIA","05"]
[null,"ATLANTICO","08"]
[null,"BOGOTA","11"]
[null,"BOLIVAR","13"]
[null,"BOYACA","15"]
[null,"CALDAS","17"]
[null,"CAQUETA","18"]
[null,"CAUCA","19"]
[null,"CESAR","20"]
[null,"CORDOBA","23"]
[null,"CUNDINAMARCA","25"]
[null,"CHOCO","27"]
[null,"HUILA","41"]
[null,"LA_GUAJIRA","44"]
[null,"MAGDALENA","47"]
[null,"META","50"]
[null,"NARIÑO","52"]
[null,"N_DE_SANTANDER","54"]
[null,"QUINDIO","63"]
[null,"RISARALDA","66"]
[null,"SANTANDER","68"]
[null,"SUCRE","70"]
[null,"TOLIMA","73"]
[null,"VALLE_DEL_CAUCA","76"]
[null,"ARAUCA","81"]
[null,"CASANARE","85"]
[null,"PUTUMAYO","86"]
[null,"SAN_ANDRES","88"]
[null,"AMAZONAS","91"]
[null,"GUAINIA","94"]
[null,"GUAVIARE","95"]
[null,"VAUPES","97"]
[null,"VICHADA","99"]

{"sheet":"Tipos de participación","index":15,"n_rows":4,"n_cols":3,"rows_kept":4,"cut":false,"hidden":true,"merged":[[0,0,0,1]]}
["Tipos de participación"]
["Id","Tipo de participación"]
[1,"Pública",1]
[2,"Privada",2]

{"sheet":"Tipos Obligado","index":16,"n_rows":4,"n_cols":3,"rows_kept":4,"cut":false,"hidden":true,"merged":[[0,0,0,1]]}
["Tipo Obligado"]
["Id","Tipo obligado"]
[1,"Obligado Fiscal",1]
[2,"Obligado solidario",2]