{
 "currentVersion": 11.5,
 "serviceDescription": "ServiciosImagen/CARTOANTIOQUIA_2010_RURAL",
 "serviceItemId": "bfe4342fbc234c7aa1fd5ab927661cf3",
 "name": "ServiciosImagen/CARTOANTIOQUIA_2010_RURAL",
 "description": "",
 "extent": {
  "xmin": 818028.9302978516,
  "ymin": 1153374.612878418,
  "xmax": 874210.2302978516,
  "ymax": 1212504.012878418,
  "spatialReference": {
   "wkt2": "PROJCRS[\"MAGNA_Medellin_Antioquia_2010_Rural\",BASEGEOGCRS[\"GCS_MAGNA\",DATUM[\"D_MAGNA\",ELLIPSOID[\"GRS_1980\",6378137.0,298.257222101,LENGTHUNIT[\"Meter\",1.0]]],PRIMEM[\"Greenwich\",0.0,ANGLEUNIT[\"Degree\",0.0174532925199433]],CS[ellipsoidal,2],AXIS[\"Latitude (lat)\",north,ORDER[1]],AXIS[\"Longitude (lon)\",east,ORDER[2]],ANGLEUNIT[\"Degree\",0.0174532925199433]],CONVERSION[\"IGAC_Plano_Cartesiano\",METHOD[\"IGAC_Plano_Cartesiano\"],PARAMETER[\"False_Easting\",835378.647,LENGTHUNIT[\"Meter\",1.0]],PARAMETER[\"False_Northing\",1180816.875,LENGTHUNIT[\"Meter\",1.0]],PARAMETER[\"Longitude_Of_Center\",-75.5648869444444,ANGLEUNIT[\"Degree\",0.0174532925199433]],PARAMETER[\"Latitude_Of_Center\",6.22920888888889,ANGLEUNIT[\"Degree\",0.0174532925199433]],PARAMETER[\"Height\",1600.0,LENGTHUNIT[\"Meter\",1.0]]],CS[Cartesian,2],AXIS[\"Easting (X)\",east,ORDER[1]],AXIS[\"Northing (Y)\",north,ORDER[2]],LENGTHUNIT[\"Meter\",1.0]]",
   "wkt": "PROJCS[\"MAGNA_Medellin_Antioquia_2010_Rural\",GEOGCS[\"GCS_MAGNA\",DATUM[\"D_MAGNA\",SPHEROID[\"GRS_1980\",6378137.0,298.257222101]],PRIMEM[\"Greenwich\",0.0],UNIT[\"Degree\",0.0174532925199433]],PROJECTION[\"IGAC_Plano_Cartesiano\"],PARAMETER[\"False_Easting\",835378.647],PARAMETER[\"False_Northing\",1180816.875],PARAMETER[\"Longitude_Of_Center\",-75.5648869444444],PARAMETER[\"Latitude_Of_Center\",6.22920888888889],PARAMETER[\"Height\",1600.0],UNIT[\"Meter\",1.0]]"
  }
 },
 "initialExtent": {
  "xmin": 818028.9302978516,
  "ymin": 1153374.612878418,
  "xmax": 874210.2302978516,
  "ymax": 1212504.012878418,
  "spatialReference": {
   "wkt2": "PROJCRS[\"MAGNA_Medellin_Antioquia_2010_Rural\",BASEGEOGCRS[\"GCS_MAGNA\",DATUM[\"D_MAGNA\",ELLIPSOID[\"GRS_1980\",6378137.0,298.257222101,LENGTHUNIT[\"Meter\",1.0]]],PRIMEM[\"Greenwich\",0.0,ANGLEUNIT[\"Degree\",0.0174532925199433]],CS[ellipsoidal,2],AXIS[\"Latitude (lat)\",north,ORDER[1]],AXIS[\"Longitude (lon)\",east,ORDER[2]],ANGLEUNIT[\"Degree\",0.0174532925199433]],CONVERSION[\"IGAC_Plano_Cartesiano\",METHOD[\"IGAC_Plano_Cartesiano\"],PARAMETER[\"False_Easting\",835378.647,LENGTHUNIT[\"Meter\",1.0]],PARAMETER[\"False_Northing\",1180816.875,LENGTHUNIT[\"Meter\",1.0]],PARAMETER[\"Longitude_Of_Center\",-75.5648869444444,ANGLEUNIT[\"Degree\",0.0174532925199433]],PARAMETER[\"Latitude_Of_Center\",6.22920888888889,ANGLEUNIT[\"Degree\",0.0174532925199433]],PARAMETER[\"Height\",1600.0,LENGTHUNIT[\"Meter\",1.0]]],CS[Cartesian,2],AXIS[\"Easting (X)\",east,ORDER[1]],AXIS[\"Northing (Y)\",north,ORDER[2]],LENGTHUNIT[\"Meter\",1.0]]",
   "wkt": "PROJCS[\"MAGNA_Medellin_Antioquia_2010_Rural\",GEOGCS[\"GCS_MAGNA\",DATUM[\"D_MAGNA\",SPHEROID[\"GRS_1980\",6378137.0,298.257222101]],PRIMEM[\"Greenwich\",0.0],UNIT[\"Degree\",0.0174532925199433]],PROJECTION[\"IGAC_Plano_Cartesiano\"],PARAMETER[\"False_Easting\",835378.647],PARAMETER[\"False_Northing\",1180816.875],PARAMETER[\"Longitude_Of_Center\",-75.5648869444444],PARAMETER[\"Latitude_Of_Center\",6.22920888888889],PARAMETER[\"Height\",1600.0],UNIT[\"Meter\",1.0]]"
  }
 },
 "fullExtent": {
  "xmin": 818028.9302978516,
  "ymin": 1153374.612878418,
  "xmax": 874210.2302978516,
  "ymax": 1212504.012878418,
  "spatialReference": {
   "wkt2": "PROJCRS[\"MAGNA_Medellin_Antioquia_2010_Rural\",BASEGEOGCRS[\"GCS_MAGNA\",DATUM[\"D_MAGNA\",ELLIPSOID[\"GRS_1980\",6378137.0,298.257222101,LENGTHUNIT[\"Meter\",1.0]]],PRIMEM[\"Greenwich\",0.0,ANGLEUNIT[\"Degree\",0.0174532925199433]],CS[ellipsoidal,2],AXIS[\"Latitude (lat)\",north,ORDER[1]],AXIS[\"Longitude (lon)\",east,ORDER[2]],ANGLEUNIT[\"Degree\",0.0174532925199433]],CONVERSION[\"IGAC_Plano_Cartesiano\",METHOD[\"IGAC_Plano_Cartesiano\"],PARAMETER[\"False_Easting\",835378.647,LENGTHUNIT[\"Meter\",1.0]],PARAMETER[\"False_Northing\",1180816.875,LENGTHUNIT[\"Meter\",1.0]],PARAMETER[\"Longitude_Of_Center\",-75.5648869444444,ANGLEUNIT[\"Degree\",0.0174532925199433]],PARAMETER[\"Latitude_Of_Center\",6.22920888888889,ANGLEUNIT[\"Degree\",0.0174532925199433]],PARAMETER[\"Height\",1600.0,LENGTHUNIT[\"Meter\",1.0]]],CS[Cartesian,2],AXIS[\"Easting (X)\",east,ORDER[1]],AXIS[\"Northing (Y)\",north,ORDER[2]],LENGTHUNIT[\"Meter\",1.0]]",
   "wkt": "PROJCS[\"MAGNA_Medellin_Antioquia_2010_Rural\",GEOGCS[\"GCS_MAGNA\",DATUM[\"D_MAGNA\",SPHEROID[\"GRS_1980\",6378137.0,298.257222101]],PRIMEM[\"Greenwich\",0.0],UNIT[\"Degree\",0.0174532925199433]],PROJECTION[\"IGAC_Plano_Cartesiano\"],PARAMETER[\"False_Easting\",835378.647],PARAMETER[\"False_Northing\",1180816.875],PARAMETER[\"Longitude_Of_Center\",-75.5648869444444],PARAMETER[\"Latitude_Of_Center\",6.22920888888889],PARAMETER[\"Height\",1600.0],UNIT[\"Meter\",1.0]]"
  }
 },
 "sortableFields": "",
 "bandCount": 4,
 "pixelType": "U8",
 "minValues": [
  1,
  1,
  1,
  1
 ],
 "maxValues": [
  255,
  255,
  255,
  247
 ],
 "meanValues": [
  86.440678096937,
  91.375184026039,
  79.651171108244,
  74.119127226014
 ],
 "stdvValues": [
  37.452127313478,
  33.473238967068,
  30.844854570857,
  37.880408925339
 ],
 "serviceProperties": "Center<\/MosaicMethod>First<\/MosaicOperator>true<\/SortAscending><\/LockImageID><\/TileOrderField>0<\/TileOrderBase>0.000000<\/AvgImageSpacingX>0.000000<\/AvgImageSpacingY>0.0<\/ViewPointX>0.0<\/ViewPointY>0.0<\/ViewPointDefShiftX>0.0<\/ViewPointDefShiftY>None<\/CompressionMethod>75<\/CompressionQuality>0.010000<\/CompressionTolerance>Bilinear<\/SamplingMethod><\/ImageServiceProperties><\/ImageServer>",
 "allowedFields": "",
 "hasMultidimensions": false,
 "pixelSizeX": 0.30000000000000027,
 "pixelSizeY": 0.29999999999999954,
 "meanPixelSize": 0.29999999999999993,
 "datasetFormat": "IMAGINE Image",
 "uncompressedSize": 147642958232,
 "blockWidth": 512,
 "blockHeight": 512,
 "compressionType": "None",
 "bandNames": [
  "Layer_1",
  "Layer_2",
  "Layer_3",
  "Layer_4"
 ],
 "allowCopy": true,
 "allowAnalysis": true,
 "itemAccess": false,
 "inspectionCapabilities": "",
 "noDataValue": 0,
 "noDataValues": [
  0,
  0,
  0,
  0
 ],
 "minPixelSize": 0,
 "maxPixelSize": 0,
 "copyrightText": "",
 "serviceDataType": "esriImageServiceDataTypeGeneric",
 "serviceSourceType": "esriImageServiceSourceTypeDataset",
 "objectIdField": "",
 "fields": [],
 "capabilities": "Mensuration,Image,Metadata",
 "defaultMosaicMethod": "Center",
 "allowedMosaicMethods": "",
 "sortField": "",
 "sortValue": null,
 "sortAscending": true,
 "mosaicOperator": "First",
 "defaultCompressionQuality": 75,
 "defaultResamplingMethod": "Bilinear",
 "maxImageHeight": 4100,
 "maxImageWidth": 15000,
 "allowRasterFunction": true,
 "rasterFunctionInfos": [
  {
   "name": "CARTOANTIOQUIA_AMVA_RURAL_5000",
   "description": "A raster function template.",
   "help": ""
  },
  {
   "name": "Ortofoto_Medellin_RGBI_NW",
   "description": "A raster function template.",
   "help": ""
  },
  {
   "name": "Antioquia_Origen_Santuario_5000",
   "description": "A raster function template.",
   "help": ""
  },
  {
   "name": "None",
   "description": "",
   "help": ""
  }
 ],
 "rasterTypeInfos": [
  {
   "name": "Raster Dataset",
   "description": "Supports all ArcGIS Raster Datasets",
   "help": ""
  }
 ],
 "mensurationCapabilities": "Basic",
 "hasHistograms": true,
 "hasColormap": false,
 "hasRasterAttributeTable": false,
 "minScale": 0,
 "maxScale": 0,
 "exportTilesAllowed": false,
 "supportsStatistics": false,
 "supportsAdvancedQueries": false,
 "editFieldsInfo": null,
 "ownershipBasedAccessControlForRasters": null,
 "allowComputeTiePoints": false,
 "useStandardizedQueries": true,
 "advancedQueryCapabilities": {
  "useStandardizedQueries": true,
  "supportsStatistics": false,
  "supportsOrderBy": false,
  "supportsDistinct": false,
  "supportsPagination": false
 },
 "spatialReference": {
  "wkt2": "PROJCRS[\"MAGNA_Medellin_Antioquia_2010_Rural\",BASEGEOGCRS[\"GCS_MAGNA\",DATUM[\"D_MAGNA\",ELLIPSOID[\"GRS_1980\",6378137.0,298.257222101,LENGTHUNIT[\"Meter\",1.0]]],PRIMEM[\"Greenwich\",0.0,ANGLEUNIT[\"Degree\",0.0174532925199433]],CS[ellipsoidal,2],AXIS[\"Latitude (lat)\",north,ORDER[1]],AXIS[\"Longitude (lon)\",east,ORDER[2]],ANGLEUNIT[\"Degree\",0.0174532925199433]],CONVERSION[\"IGAC_Plano_Cartesiano\",METHOD[\"IGAC_Plano_Cartesiano\"],PARAMETER[\"False_Easting\",835378.647,LENGTHUNIT[\"Meter\",1.0]],PARAMETER[\"False_Northing\",1180816.875,LENGTHUNIT[\"Meter\",1.0]],PARAMETER[\"Longitude_Of_Center\",-75.5648869444444,ANGLEUNIT[\"Degree\",0.0174532925199433]],PARAMETER[\"Latitude_Of_Center\",6.22920888888889,ANGLEUNIT[\"Degree\",0.0174532925199433]],PARAMETER[\"Height\",1600.0,LENGTHUNIT[\"Meter\",1.0]]],CS[Cartesian,2],AXIS[\"Easting (X)\",east,ORDER[1]],AXIS[\"Northing (Y)\",north,ORDER[2]],LENGTHUNIT[\"Meter\",1.0]]",
  "wkt": "PROJCS[\"MAGNA_Medellin_Antioquia_2010_Rural\",GEOGCS[\"GCS_MAGNA\",DATUM[\"D_MAGNA\",SPHEROID[\"GRS_1980\",6378137.0,298.257222101]],PRIMEM[\"Greenwich\",0.0],UNIT[\"Degree\",0.0174532925199433]],PROJECTION[\"IGAC_Plano_Cartesiano\"],PARAMETER[\"False_Easting\",835378.647],PARAMETER[\"False_Northing\",1180816.875],PARAMETER[\"Longitude_Of_Center\",-75.5648869444444],PARAMETER[\"Latitude_Of_Center\",6.22920888888889],PARAMETER[\"Height\",1600.0],UNIT[\"Meter\",1.0]]"
 }
}
