{
 "currentVersion": 11.5,
 "serviceDescription": "ServiciosImagen/CARTOANTIOQUIA_2010_URBANO_Z2",
 "serviceItemId": "130d5bf44f16458c96e37260f885ea0f",
 "name": "ServiciosImagen/CARTOANTIOQUIA_2010_URBANO_Z2",
 "description": "",
 "extent": {
  "xmin": 822723.0857131653,
  "ymin": 1174958.4535355722,
  "xmax": 841851.6857131653,
  "ymax": 1183941.0535355723,
  "spatialReference": {
   "wkid": 102768,
   "latestWkid": 6257
  }
 },
 "initialExtent": {
  "xmin": 822723.0857131653,
  "ymin": 1174958.4535355722,
  "xmax": 841851.6857131653,
  "ymax": 1183941.0535355723,
  "spatialReference": {
   "wkid": 102768,
   "latestWkid": 6257
  }
 },
 "fullExtent": {
  "xmin": 822723.0857131653,
  "ymin": 1174958.4535355722,
  "xmax": 841851.6857131653,
  "ymax": 1183941.0535355723,
  "spatialReference": {
   "wkid": 102768,
   "latestWkid": 6257
  }
 },
 "sortableFields": "",
 "bandCount": 4,
 "pixelType": "U8",
 "minValues": [
  1,
  1,
  1,
  1
 ],
 "maxValues": [
  255,
  255,
  255,
  255
 ],
 "meanValues": [
  77.87253420939,
  81.839570015079,
  67.109962494428,
  69.565135188839
 ],
 "stdvValues": [
  44.816549635389,
  40.685667088647,
  40.405673388724,
  38.958992085149
 ],
 "serviceProperties": "Center<\/MosaicMethod>First<\/MosaicOperator>true<\/SortAscending><\/LockImageID><\/TileOrderField>0<\/TileOrderBase>0.000000<\/AvgImageSpacingX>0.000000<\/AvgImageSpacingY>0.0<\/ViewPointX>0.0<\/ViewPointY>0.0<\/ViewPointDefShiftX>0.0<\/ViewPointDefShiftY>None<\/CompressionMethod>75<\/CompressionQuality>0.010000<\/CompressionTolerance>Bilinear<\/SamplingMethod><\/ImageServiceProperties><\/ImageServer>",
 "allowedFields": "",
 "hasMultidimensions": false,
 "pixelSizeX": 0.14999999999999983,
 "pixelSizeY": 0.15000000000000155,
 "meanPixelSize": 0.1500000000000007,
 "datasetFormat": "IMAGINE Image",
 "uncompressedSize": 30546349328,
 "blockWidth": 512,
 "blockHeight": 512,
 "compressionType": "None",
 "bandNames": [
  "Layer_1",
  "Layer_2",
  "Layer_3",
  "Layer_4"
 ],
 "allowCopy": true,
 "allowAnalysis": true,
 "itemAccess": false,
 "inspectionCapabilities": "",
 "noDataValue": 0,
 "noDataValues": [
  0,
  0,
  0,
  0
 ],
 "minPixelSize": 0,
 "maxPixelSize": 0,
 "copyrightText": "",
 "serviceDataType": "esriImageServiceDataTypeGeneric",
 "serviceSourceType": "esriImageServiceSourceTypeDataset",
 "objectIdField": "",
 "fields": [],
 "capabilities": "Mensuration,Image,Metadata",
 "defaultMosaicMethod": "Center",
 "allowedMosaicMethods": "",
 "sortField": "",
 "sortValue": null,
 "sortAscending": true,
 "mosaicOperator": "First",
 "defaultCompressionQuality": 75,
 "defaultResamplingMethod": "Bilinear",
 "maxImageHeight": 4100,
 "maxImageWidth": 15000,
 "allowRasterFunction": true,
 "rasterFunctionInfos": [
  {
   "name": "CARTOANTIOQUIA_AMVA_URBANO_Z2",
   "description": "A raster function template.",
   "help": ""
  },
  {
   "name": "Ortofoto_Medellin_RGBI_NW",
   "description": "A raster function template.",
   "help": ""
  },
  {
   "name": "Antioquia_Origen_Santuario_5000",
   "description": "A raster function template.",
   "help": ""
  },
  {
   "name": "CARTOANTIOQUIA_AMVA_RURAL_5000",
   "description": "A raster function template.",
   "help": ""
  },
  {
   "name": "None",
   "description": "",
   "help": ""
  }
 ],
 "rasterTypeInfos": [
  {
   "name": "Raster Dataset",
   "description": "Supports all ArcGIS Raster Datasets",
   "help": ""
  }
 ],
 "mensurationCapabilities": "Basic",
 "hasHistograms": true,
 "hasColormap": false,
 "hasRasterAttributeTable": false,
 "minScale": 0,
 "maxScale": 0,
 "exportTilesAllowed": false,
 "supportsStatistics": false,
 "supportsAdvancedQueries": false,
 "editFieldsInfo": null,
 "ownershipBasedAccessControlForRasters": null,
 "allowComputeTiePoints": false,
 "useStandardizedQueries": true,
 "advancedQueryCapabilities": {
  "useStandardizedQueries": true,
  "supportsStatistics": false,
  "supportsOrderBy": false,
  "supportsDistinct": false,
  "supportsPagination": false
 },
 "spatialReference": {
  "wkid": 102768,
  "latestWkid": 6257
 }
}
