<?xml version="1.0" encoding="UTF-8" standalone="no"?>
<metadata xml:lang="es">
<Esri>
<CreaDate>20140819</CreaDate>
<CreaTime>11310100</CreaTime>
<ArcGISFormat>1.0</ArcGISFormat>
<SyncOnce>FALSE</SyncOnce>
<DataProperties>
<itemProps>
<itemName Sync="TRUE">Valle_de_Aburra_Zona_3.img</itemName>
<itemLocation>
<protocol Sync="TRUE">Local Area Network</protocol>
<linkage Sync="TRUE">file://I:\ImagenesSatelitales\CARTOANTIOQUIA_URBANO\Valle_de_Aburra_Zona_3.img</linkage>
</itemLocation>
<imsContentType Sync="TRUE">002</imsContentType>
<nativeExtBox>
<westBL Sync="TRUE">824866.804432</westBL>
<eastBL Sync="TRUE">840367.654432</eastBL>
<southBL Sync="TRUE">1183116.479391</southBL>
<northBL Sync="TRUE">1198287.479391</northBL>
<exTypeCode Sync="TRUE">1</exTypeCode>
</nativeExtBox>
</itemProps>
<RasterProperties>
<General>
<PixelDepth Sync="TRUE">8</PixelDepth>
<HasColormap Sync="TRUE">FALSE</HasColormap>
<CompressionType Sync="TRUE">None</CompressionType>
<NumBands Sync="TRUE">4</NumBands>
<Format Sync="TRUE">IMAGINE Image</Format>
<HasPyramids Sync="TRUE">TRUE</HasPyramids>
<SourceType Sync="TRUE">continuous</SourceType>
<PixelType Sync="TRUE">unsigned integer</PixelType>
<NoDataValue Sync="TRUE">0</NoDataValue>
</General>
</RasterProperties>
<coordRef>
<type Sync="TRUE">Projected</type>
<geogcsn Sync="TRUE">GCS_MAG_Ant_Medellin</geogcsn>
<csUnits Sync="TRUE">Linear Unit: Meter (1.000000)</csUnits>
<projcsn Sync="TRUE">PCS_MAG_Ant_Medellin</projcsn>
<peXml Sync="TRUE">&lt;ProjectedCoordinateSystem xsi:type='typens:ProjectedCoordinateSystem' xmlns:xsi='http://www.w3.org/2001/XMLSchema-instance' xmlns:xs='http://www.w3.org/2001/XMLSchema' xmlns:typens='http://www.esri.com/schemas/ArcGIS/10.0'&gt;&lt;WKT&gt;PROJCS[&amp;quot;PCS_MAG_Ant_Medellin&amp;quot;,GEOGCS[&amp;quot;GCS_MAG_Ant_Medellin&amp;quot;,DATUM[&amp;quot;D_DAT_MAG_Ant_Medellin&amp;quot;,SPHEROID[&amp;quot;GRS1980_MAG_Ant_Medellin&amp;quot;,6379647.0,298.257222101]],PRIMEM[&amp;quot;Greenwich&amp;quot;,0.0],UNIT[&amp;quot;Degree&amp;quot;,0.0174532925199433]],PROJECTION[&amp;quot;Transverse_Mercator&amp;quot;],PARAMETER[&amp;quot;False_Easting&amp;quot;,835378.647],PARAMETER[&amp;quot;False_Northing&amp;quot;,1180816.875],PARAMETER[&amp;quot;Central_Meridian&amp;quot;,-75.56488694],PARAMETER[&amp;quot;Scale_Factor&amp;quot;,1.0],PARAMETER[&amp;quot;Latitude_Of_Origin&amp;quot;,6.229208889],UNIT[&amp;quot;Meter&amp;quot;,1.0]]&lt;/WKT&gt;&lt;XOrigin&gt;-4789100&lt;/XOrigin&gt;&lt;YOrigin&gt;-9512600&lt;/YOrigin&gt;&lt;XYScale&gt;450159641.69649458&lt;/XYScale&gt;&lt;ZOrigin&gt;-100000&lt;/ZOrigin&gt;&lt;ZScale&gt;10000&lt;/ZScale&gt;&lt;MOrigin&gt;-100000&lt;/MOrigin&gt;&lt;MScale&gt;10000&lt;/MScale&gt;&lt;XYTolerance&gt;0.001&lt;/XYTolerance&gt;&lt;ZTolerance&gt;0.001&lt;/ZTolerance&gt;&lt;MTolerance&gt;0.001&lt;/MTolerance&gt;&lt;HighPrecision&gt;true&lt;/HighPrecision&gt;&lt;/ProjectedCoordinateSystem&gt;</peXml>
</coordRef>
<lineage>
<Process Date="20141002" Time="183747" ToolSource="c:\program files (x86)\arcgis\desktop10.0\ArcToolbox\Toolboxes\Data Management Tools.tbx\BuildPyramids">BuildPyramids I:\ImagenesSatelitales\CARTOANTIOQUIA_URBANO\Valle_de_Aburra_Zona_3.img</Process>
<Process Date="20141002" Time="191159" ToolSource="c:\program files (x86)\arcgis\desktop10.0\ArcToolbox\Toolboxes\Data Management Tools.tbx\CalculateStatistics">CalculateStatistics I:\ImagenesSatelitales\CARTOANTIOQUIA_URBANO\Valle_de_Aburra_Zona_3.img 1 1 #</Process>
</lineage>
</DataProperties>
<SyncDate>20150119</SyncDate>
<SyncTime>08284300</SyncTime>
<ModDate>20150119</ModDate>
<ModTime>08284300</ModTime>
<Service Sync="TRUE">ServiciosImagen/CARTOANTIOQUIA_2010_URBANO_Z3</Service>
<ServiceType Sync="TRUE">image</ServiceType>
</Esri>
<dataIdInfo>
<dataLang>
<languageCode Sync="TRUE" country="COL" value="spa"/>
<countryCode Sync="TRUE" value="COL"/>
</dataLang>
<idCitation>
<resTitle Sync="TRUE">CARTOANTIOQUIA_2010_URBANO_Z3</resTitle>
<presForm>
<PresFormCd Sync="TRUE" value="005"/>
</presForm>
</idCitation>
<spatRpType>
<SpatRepTypCd Sync="TRUE" value="002"/>
</spatRpType>
<dataExt>
<geoEle>
<GeoBndBox esriExtentType="search">
<exTypeCode Sync="TRUE">1</exTypeCode>
<westBL Sync="TRUE">-75.659880</westBL>
<eastBL Sync="TRUE">-75.519803</eastBL>
<northBL Sync="TRUE">6.387151</northBL>
<southBL Sync="TRUE">6.249990</southBL>
</GeoBndBox>
</geoEle>
</dataExt>
<envirDesc Sync="TRUE">Microsoft Windows Server 2008 R2 Version 6.1 (Build 7601) Service Pack 1; ESRI ArcGIS 10.0.0.2414</envirDesc>
<descKeys>
<thesaName uuidref="723f6998-058e-11dc-8314-0800200c9a66"/>
<keyword Sync="TRUE">002</keyword>
</descKeys>
<idAbs/>
<idPurp/>
<idCredit/>
<resConst>
<Consts>
<useLimit/>
</Consts>
</resConst>
</dataIdInfo>
<mdLang>
<languageCode Sync="TRUE" value="spa"/>
<countryCode Sync="TRUE" value="COL"/>
</mdLang>
<mdChar>
<CharSetCd Sync="TRUE" value="004"/>
</mdChar>
<distInfo>
<distFormat>
<formatName Sync="TRUE">Raster Dataset</formatName>
</distFormat>
</distInfo>
<mdHrLv>
<ScopeCd Sync="TRUE" value="005"/>
</mdHrLv>
<mdHrLvName Sync="TRUE">dataset</mdHrLvName>
<spatRepInfo>
<Georect>
<cellGeo>
<CellGeoCd Sync="TRUE" value="002"/>
</cellGeo>
<numDims Sync="TRUE">2</numDims>
<tranParaAv Sync="TRUE">1</tranParaAv>
<chkPtAv Sync="TRUE">0</chkPtAv>
<cornerPts>
<pos Sync="TRUE">824866,804432 1183116,479391</pos>
</cornerPts>
<cornerPts>
<pos Sync="TRUE">824866,804432 1198287,479391</pos>
</cornerPts>
<cornerPts>
<pos Sync="TRUE">840367,654432 1198287,479391</pos>
</cornerPts>
<cornerPts>
<pos Sync="TRUE">840367,654432 1183116,479391</pos>
</cornerPts>
<centerPt>
<pos Sync="TRUE">832617,229432 1190701,979391</pos>
</centerPt>
<axisDimension type="002">
<dimSize Sync="TRUE">103339</dimSize>
<dimResol>
<value Sync="TRUE" uom="Meter">0,150000</value>
</dimResol>
</axisDimension>
<axisDimension type="001">
<dimSize Sync="TRUE">101140</dimSize>
<dimResol>
<value Sync="TRUE" uom="Meter">0,150000</value>
</dimResol>
</axisDimension>
<ptInPixel>
<PixOrientCd Sync="TRUE" value="001"/>
</ptInPixel>
</Georect>
</spatRepInfo>
<eainfo>
<detailed Name="Valle_de_Aburra_Zona_3.img.vat">
<enttyp>
<enttypl Sync="TRUE">Valle_de_Aburra_Zona_3.img.vat</enttypl>
<enttypt Sync="TRUE">Table</enttypt>
<enttypc Sync="TRUE">255</enttypc>
</enttyp>
<attr>
<attrlabl Sync="TRUE">OID</attrlabl>
<attalias Sync="TRUE">OID</attalias>
<attrtype Sync="TRUE">OID</attrtype>
<attwidth Sync="TRUE">4</attwidth>
<atprecis Sync="TRUE">0</atprecis>
<attscale Sync="TRUE">0</attscale>
<attrdef Sync="TRUE">Internal feature number.</attrdef>
<attrdefs Sync="TRUE">ESRI</attrdefs>
<attrdomv>
<udom Sync="TRUE">Sequential unique whole numbers that are automatically generated.</udom>
</attrdomv>
</attr>
<attr>
<attrlabl Sync="TRUE">Value</attrlabl>
<attalias Sync="TRUE">Value</attalias>
<attrtype Sync="TRUE">Integer</attrtype>
<attwidth Sync="TRUE">0</attwidth>
<atprecis Sync="TRUE">0</atprecis>
<attscale Sync="TRUE">0</attscale>
</attr>
<attr>
<attrlabl Sync="TRUE">Count</attrlabl>
<attalias Sync="TRUE">Count</attalias>
<attrtype Sync="TRUE">Double</attrtype>
<attwidth Sync="TRUE">0</attwidth>
<atprecis Sync="TRUE">0</atprecis>
<attscale Sync="TRUE">0</attscale>
</attr>
</detailed>
<detailed Name="Valle_de_Aburra_Zona_3.img(Layer_2).vat">
<enttyp>
<enttypl Sync="TRUE">Valle_de_Aburra_Zona_3.img(Layer_2).vat</enttypl>
<enttypt Sync="TRUE">Table</enttypt>
<enttypc Sync="TRUE">255</enttypc>
</enttyp>
<attr>
<attrlabl Sync="TRUE">OID</attrlabl>
<attalias Sync="TRUE">OID</attalias>
<attrtype Sync="TRUE">OID</attrtype>
<attwidth Sync="TRUE">4</attwidth>
<atprecis Sync="TRUE">0</atprecis>
<attscale Sync="TRUE">0</attscale>
<attrdef Sync="TRUE">Internal feature number.</attrdef>
<attrdefs Sync="TRUE">ESRI</attrdefs>
<attrdomv>
<udom Sync="TRUE">Sequential unique whole numbers that are automatically generated.</udom>
</attrdomv>
</attr>
<attr>
<attrlabl Sync="TRUE">Value</attrlabl>
<attalias Sync="TRUE">Value</attalias>
<attrtype Sync="TRUE">Integer</attrtype>
<attwidth Sync="TRUE">0</attwidth>
<atprecis Sync="TRUE">0</atprecis>
<attscale Sync="TRUE">0</attscale>
</attr>
<attr>
<attrlabl Sync="TRUE">Count</attrlabl>
<attalias Sync="TRUE">Count</attalias>
<attrtype Sync="TRUE">Double</attrtype>
<attwidth Sync="TRUE">0</attwidth>
<atprecis Sync="TRUE">0</atprecis>
<attscale Sync="TRUE">0</attscale>
</attr>
</detailed>
<detailed Name="Valle_de_Aburra_Zona_3.img(Layer_3).vat">
<enttyp>
<enttypl Sync="TRUE">Valle_de_Aburra_Zona_3.img(Layer_3).vat</enttypl>
<enttypt Sync="TRUE">Table</enttypt>
<enttypc Sync="TRUE">255</enttypc>
</enttyp>
<attr>
<attrlabl Sync="TRUE">OID</attrlabl>
<attalias Sync="TRUE">OID</attalias>
<attrtype Sync="TRUE">OID</attrtype>
<attwidth Sync="TRUE">4</attwidth>
<atprecis Sync="TRUE">0</atprecis>
<attscale Sync="TRUE">0</attscale>
<attrdef Sync="TRUE">Internal feature number.</attrdef>
<attrdefs Sync="TRUE">ESRI</attrdefs>
<attrdomv>
<udom Sync="TRUE">Sequential unique whole numbers that are automatically generated.</udom>
</attrdomv>
</attr>
<attr>
<attrlabl Sync="TRUE">Value</attrlabl>
<attalias Sync="TRUE">Value</attalias>
<attrtype Sync="TRUE">Integer</attrtype>
<attwidth Sync="TRUE">0</attwidth>
<atprecis Sync="TRUE">0</atprecis>
<attscale Sync="TRUE">0</attscale>
</attr>
<attr>
<attrlabl Sync="TRUE">Count</attrlabl>
<attalias Sync="TRUE">Count</attalias>
<attrtype Sync="TRUE">Double</attrtype>
<attwidth Sync="TRUE">0</attwidth>
<atprecis Sync="TRUE">0</atprecis>
<attscale Sync="TRUE">0</attscale>
</attr>
</detailed>
<detailed Name="Valle_de_Aburra_Zona_3.img(Layer_4).vat">
<enttyp>
<enttypl Sync="TRUE">Valle_de_Aburra_Zona_3.img(Layer_4).vat</enttypl>
<enttypt Sync="TRUE">Table</enttypt>
<enttypc Sync="TRUE">255</enttypc>
</enttyp>
<attr>
<attrlabl Sync="TRUE">OID</attrlabl>
<attalias Sync="TRUE">OID</attalias>
<attrtype Sync="TRUE">OID</attrtype>
<attwidth Sync="TRUE">4</attwidth>
<atprecis Sync="TRUE">0</atprecis>
<attscale Sync="TRUE">0</attscale>
<attrdef Sync="TRUE">Internal feature number.</attrdef>
<attrdefs Sync="TRUE">ESRI</attrdefs>
<attrdomv>
<udom Sync="TRUE">Sequential unique whole numbers that are automatically generated.</udom>
</attrdomv>
</attr>
<attr>
<attrlabl Sync="TRUE">Value</attrlabl>
<attalias Sync="TRUE">Value</attalias>
<attrtype Sync="TRUE">Integer</attrtype>
<attwidth Sync="TRUE">0</attwidth>
<atprecis Sync="TRUE">0</atprecis>
<attscale Sync="TRUE">0</attscale>
</attr>
<attr>
<attrlabl Sync="TRUE">Count</attrlabl>
<attalias Sync="TRUE">Count</attalias>
<attrtype Sync="TRUE">Double</attrtype>
<attwidth Sync="TRUE">0</attwidth>
<atprecis Sync="TRUE">0</atprecis>
<attscale Sync="TRUE">0</attscale>
</attr>
</detailed>
</eainfo>
<contInfo>
<ImgDesc>
<contentTyp>
<ContentTypCd Sync="TRUE" value="001"/>
</contentTyp>
<covDim>
<Band>
<dimDescrp Sync="TRUE">Layer_1</dimDescrp>
<maxVal Sync="TRUE">255,000000</maxVal>
<minVal Sync="TRUE">1,000000</minVal>
<bitsPerVal Sync="TRUE">8</bitsPerVal>
<valUnit>
<UOM type="length">
<unitSymbol Sync="TRUE">Meter</unitSymbol>
</UOM>
</valUnit>
</Band>
<Band>
<dimDescrp Sync="TRUE">Layer_2</dimDescrp>
<maxVal Sync="TRUE">255,000000</maxVal>
<minVal Sync="TRUE">1,000000</minVal>
<bitsPerVal Sync="TRUE">8</bitsPerVal>
<valUnit>
<UOM type="length">
<unitSymbol Sync="TRUE">Meter</unitSymbol>
</UOM>
</valUnit>
</Band>
<Band>
<dimDescrp Sync="TRUE">Layer_3</dimDescrp>
<maxVal Sync="TRUE">255,000000</maxVal>
<minVal Sync="TRUE">1,000000</minVal>
<bitsPerVal Sync="TRUE">8</bitsPerVal>
<valUnit>
<UOM type="length">
<unitSymbol Sync="TRUE">Meter</unitSymbol>
</UOM>
</valUnit>
</Band>
<Band>
<dimDescrp Sync="TRUE">Layer_4</dimDescrp>
<maxVal Sync="TRUE">255,000000</maxVal>
<minVal Sync="TRUE">1,000000</minVal>
<bitsPerVal Sync="TRUE">8</bitsPerVal>
<valUnit>
<UOM type="length">
<unitSymbol Sync="TRUE">Meter</unitSymbol>
</UOM>
</valUnit>
</Band>
</covDim>
</ImgDesc>
</contInfo>
<mdDateSt Sync="TRUE">20150119</mdDateSt>
<idinfo>
<citation>
<citeinfo>
<origin/>
</citeinfo>
</citation>
<descript>
<abstract>ServiciosImagen/CARTOANTIOQUIA_2010_URBANO_Z3</abstract>
</descript>
</idinfo>
<refSysInfo>
<RefSystem>
<refSysID>
<identCode Sync="TRUE" code="0" value="0"/>
</refSysID>
</RefSystem>
</refSysInfo>
</metadata>
