<?xml version="1.0" encoding="UTF-8" standalone="no"?>
<metadata xml:lang="es">
<Esri>
<CreaDate>20171006</CreaDate>
<CreaTime>16222100</CreaTime>
<ArcGISFormat>1.0</ArcGISFormat>
<ArcGISstyle>North American Profile of ISO19115 2003</ArcGISstyle>
<SyncOnce>FALSE</SyncOnce>
<DataProperties>
<itemProps>
<itemName Sync="TRUE">H_1959_Centro</itemName>
<nativeExtBox>
<westBL Sync="TRUE">833054.064339</westBL>
<eastBL Sync="TRUE">836719.994674</eastBL>
<southBL Sync="TRUE">1176540.387808</southBL>
<northBL Sync="TRUE">1186728.360925</northBL>
<exTypeCode Sync="TRUE">1</exTypeCode>
</nativeExtBox>
<itemLocation>
<linkage Sync="TRUE">file://\\E200492982\C$\Users\71339075\Desktop\ImagenesHistoricas.gdb</linkage>
<protocol Sync="TRUE">Local Area Network</protocol>
</itemLocation>
<imsContentType export="False"/>
</itemProps>
<coordRef>
<type Sync="TRUE">Projected</type>
<geogcsn Sync="TRUE">GCS_MAGNA</geogcsn>
<csUnits Sync="TRUE">Linear Unit: Meter (1.000000)</csUnits>
<projcsn Sync="TRUE">MAGNA_Medellin_Antioquia_2010</projcsn>
<peXml Sync="TRUE">&lt;ProjectedCoordinateSystem xsi:type='typens:ProjectedCoordinateSystem' xmlns:xsi='http://www.w3.org/2001/XMLSchema-instance' xmlns:xs='http://www.w3.org/2001/XMLSchema' xmlns:typens='http://www.esri.com/schemas/ArcGIS/10.8'&gt;&lt;WKT&gt;PROJCS[&amp;quot;MAGNA_Medellin_Antioquia_2010&amp;quot;,GEOGCS[&amp;quot;GCS_MAGNA&amp;quot;,DATUM[&amp;quot;D_MAGNA&amp;quot;,SPHEROID[&amp;quot;GRS_1980&amp;quot;,6378137.0,298.257222101]],PRIMEM[&amp;quot;Greenwich&amp;quot;,0.0],UNIT[&amp;quot;Degree&amp;quot;,0.0174532925199433]],PROJECTION[&amp;quot;IGAC_Plano_Cartesiano&amp;quot;],PARAMETER[&amp;quot;False_Easting&amp;quot;,835378.647],PARAMETER[&amp;quot;False_Northing&amp;quot;,1180816.875],PARAMETER[&amp;quot;Longitude_Of_Center&amp;quot;,-75.56488694444444],PARAMETER[&amp;quot;Latitude_Of_Center&amp;quot;,6.229208888888889],PARAMETER[&amp;quot;Height&amp;quot;,1510.0],UNIT[&amp;quot;Meter&amp;quot;,1.0],AUTHORITY[&amp;quot;EPSG&amp;quot;,6257]]&lt;/WKT&gt;&lt;XOrigin&gt;278500&lt;/XOrigin&gt;&lt;YOrigin&gt;627600&lt;/YOrigin&gt;&lt;XYScale&gt;8086909009.4639883&lt;/XYScale&gt;&lt;ZOrigin&gt;-100000&lt;/ZOrigin&gt;&lt;ZScale&gt;10000&lt;/ZScale&gt;&lt;MOrigin&gt;-100000&lt;/MOrigin&gt;&lt;MScale&gt;10000&lt;/MScale&gt;&lt;XYTolerance&gt;0.001&lt;/XYTolerance&gt;&lt;ZTolerance&gt;0.001&lt;/ZTolerance&gt;&lt;MTolerance&gt;0.001&lt;/MTolerance&gt;&lt;HighPrecision&gt;true&lt;/HighPrecision&gt;&lt;WKID&gt;102768&lt;/WKID&gt;&lt;LatestWKID&gt;6257&lt;/LatestWKID&gt;&lt;/ProjectedCoordinateSystem&gt;</peXml>
</coordRef>
<lineage>
<Process Date="20231009" Name="" Time="134531" ToolSource="c:\program files\arcgis\pro\Resources\ArcToolbox\Toolboxes\Data Management Tools.tbx\CopyMultiple" export="">CopyMultiple "X:\Trabajo\ProyectosGIS\2017\Imagenes_1959_Historicas_2017_10_10\Ortofoto_Historicas_2017_10_05.gdb\Ortofoto1959 RasterDataset" C:\Users\Federico\Documents\ArcGIS\Projects\OrtofotosHistoricas\OrtofotosHistoricas.gdb Ortofoto1959 "Ortofoto1959 RasterDataset Ortofoto1959 #"</Process>
<Process Date="20231009" Name="" Time="134548" ToolSource="c:\program files\arcgis\pro\Resources\ArcToolbox\Toolboxes\Data Management Tools.tbx\Rename" export="">Rename C:\Users\Federico\Documents\ArcGIS\Projects\OrtofotosHistoricas\OrtofotosHistoricas.gdb\Ortofoto1959 C:\Users\Federico\Documents\ArcGIS\Projects\OrtofotosHistoricas\OrtofotosHistoricas.gdb\Imagen1959 RasterDataset</Process>
<Process Date="20231009" Time="151753" ToolSource="c:\program files\arcgis\pro\Resources\ArcToolbox\toolboxes\Data Management Tools.tbx\ProjectRaster">ProjectRaster Imagen1959 C:\Users\Federico\Documents\ArcGIS\Projects\OrtofotosHistoricas\OrtofotosHistoricas.gdb\Imagen1959_ProjectRaster PROJCS["MAGNA_Medellin_Antioquia_2010",GEOGCS["GCS_MAGNA",DATUM["D_MAGNA",SPHEROID["GRS_1980",6378137.0,298.257222101]],PRIMEM["Greenwich",0.0],UNIT["Degree",0.0174532925199433]],PROJECTION["IGAC_Plano_Cartesiano"],PARAMETER["False_Easting",835378.647],PARAMETER["False_Northing",1180816.875],PARAMETER["Longitude_Of_Center",-75.56488694444444],PARAMETER["Latitude_Of_Center",6.229208888888889],PARAMETER["Height",1510.0],UNIT["Meter",1.0]] "Nearest neighbor" "0,374102557798134 0,374102557798132" # # PROJCS["PCS_MAG_Ant_Medellin",GEOGCS["GCS_MAG_Ant_Medellin",DATUM["D_DAT_MAG_Ant_Medellin",SPHEROID["GRS1980_MAG_Ant_Medellin",6379647.0,298.257222101]],PRIMEM["Greenwich",0.0],UNIT["Degree",0.0174532925199433]],PROJECTION["Transverse_Mercator"],PARAMETER["false_easting",835378.647],PARAMETER["false_northing",1180816.875],PARAMETER["central_meridian",-75.56488694],PARAMETER["scale_factor",1.0],PARAMETER["latitude_of_origin",6.229208889],UNIT["Meter",1.0]] NO_VERTICAL</Process>
<Process Date="20231012" Time="103717" ToolSource="c:\program files\arcgis\pro\Resources\ArcToolbox\Toolboxes\Data Management Tools.tbx\Rename">Rename C:\Users\Federico\Documents\ArcGIS\Projects\OrtofotosHistoricas\OrtofotosHistoricas.gdb\Imagen1959_ProjectRaster C:\Users\Federico\Documents\ArcGIS\Projects\OrtofotosHistoricas\OrtofotosHistoricas.gdb\Imagen1959 RasterDataset</Process>
<Process Date="20231012" Time="103959" ToolSource="c:\program files\arcgis\pro\Resources\ArcToolbox\toolboxes\Data Management Tools.tbx\Clip">Clip C:\Users\Federico\Documents\ArcGIS\Projects\OrtofotosHistoricas\OrtofotosHistoricas.gdb\Imagen1959 "833054,064339062 1176540,38780781 836719,994673918 1186728,36092466" C:\Users\Federico\Documents\ArcGIS\Projects\OrtofotosHistoricas\OrtofotosHistoricas.gdb\Imagen1959_Clip C:\Users\Federico\Documents\ArcGIS\Projects\OrtofotosHistoricas\OrtofotosHistoricas.gdb\H_1959_Centro 0 ClippingGeometry NO_MAINTAIN_EXTENT</Process>
<Process Date="20231012" Time="104203" ToolSource="c:\program files\arcgis\pro\Resources\ArcToolbox\toolboxes\Data Management Tools.tbx\Rename">Rename C:\Users\Federico\Documents\ArcGIS\Projects\OrtofotosHistoricas\OrtofotosHistoricas.gdb\Imagen1959_Clip C:\Users\Federico\Documents\ArcGIS\Projects\OrtofotosHistoricas\OrtofotosHistoricas.gdb\H_1959_Centro RasterDataset</Process>
</lineage>
</DataProperties>
<SyncDate>20231017</SyncDate>
<SyncTime>10090600</SyncTime>
<ModDate>20231017</ModDate>
<ModTime>10090600</ModTime>
<ArcGISProfile>ISO19139</ArcGISProfile>
<locales>
<locale country="CO" language="spa"/>
</locales>
<scaleRange>
<minScale>150000000</minScale>
<maxScale>5000</maxScale>
</scaleRange>
</Esri>
<mdLang>
<languageCode value="spa"/>
<countryCode Sync="TRUE" value="COL"/>
</mdLang>
<mdChar>
<CharSetCd value="004"/>
</mdChar>
<mdHrLv>
<ScopeCd value="016"/>
</mdHrLv>
<mdHrLvName>dataset</mdHrLvName>
<mdContact>
<rpIndName>Unidad de Planeación de la Información</rpIndName>
<rpOrgName>Alcaldía de Medellín - Departamento Administrativo de Planeación - Subdirección de Prospectiva, Información y Evaluación Estratégica</rpOrgName>
<rpPosName>Unidad Administrativa</rpPosName>
<rpCntInfo>
<cntPhone>
<voiceNum tddtty="">+57 4 3855555 Ext. 5853</voiceNum>
</cntPhone>
<cntAddress addressType="">
<delPoint>Calle 44 # 52 - 165 Centro Administrativo Municipal Piso 8</delPoint>
<city>Medellín</city>
<adminArea>Antioquia</adminArea>
<postCode>050019</postCode>
<country>CO</country>
<eMailAdd>sistemas.informacion.territorial@medellin.gov.co</eMailAdd>
</cntAddress>
<cntHours>Atención de lunes a viernes de 7:30 am. a 12:00 pm. y de 1:30 am. a 5:00 pm.</cntHours>
</rpCntInfo>
<role>
<RoleCd value="011"/>
</role>
<displayName>Unidad de Planeación de la Información</displayName>
</mdContact>
<mdDateSt Sync="TRUE">20231017</mdDateSt>
<mdStanName>ArcGIS Metadata</mdStanName>
<mdStanVer>1.0</mdStanVer>
<distInfo>
<distFormat>
<formatName>TIFF</formatName>
<formatVer>TIF</formatVer>
</distFormat>
<distTranOps>
<onLineSrc>
<linkage>https://www.medellin.gov.co/servicios/metadatos_gis/BancoImagenes/Terminos/Abierta.pdf</linkage>
<protocol>WWW:LINK-1.0-http--link</protocol>
<orName>Licencia Abierta</orName>
</onLineSrc>
</distTranOps>
</distInfo>
<dataIdInfo>
<idCitation>
<resTitle>Imagen1959</resTitle>
<date>
<createDate>1959-01-01T00:00:00</createDate>
</date>
<citRespParty>
<rpIndName>Subdirección de Prospectiva, Información y Evaluación Estratégica</rpIndName>
<rpOrgName>Alcaldía de Medellín - Municipio de Medellín - Departamento Administrativo de Planeación</rpOrgName>
<rpPosName>Subdirección Administrativa</rpPosName>
<rpCntInfo>
<cntPhone>
<voiceNum>+57 4 3855862</voiceNum>
</cntPhone>
<cntAddress>
<delPoint>Calle 44 # 52 - 165 Centro Administrativo Municipal Piso 8</delPoint>
<city>Medellín</city>
<adminArea>Antioquia</adminArea>
<postCode>050019</postCode>
<country>CO</country>
<eMailAdd>UPI171@medellin.gov.co</eMailAdd>
</cntAddress>
<cntHours>Atención de lunes a viernes de 7:30 am. a 12:00 pm. y de 1:30 am. a 5:00 pm.</cntHours>
</rpCntInfo>
<role>
<RoleCd value="002"/>
</role>
</citRespParty>
<citRespParty>
<rpIndName>Unidad de Planeación de la Información</rpIndName>
<rpOrgName>Alcaldía de Medellín - Departamento Administrativo de Planeación - Subdirección de Prospectiva, Información y Evaluación Estratégica</rpOrgName>
<rpPosName>Unidad Administrativa</rpPosName>
<rpCntInfo>
<cntPhone>
<voiceNum>+57 4 3855555 Ext. 5853</voiceNum>
</cntPhone>
<cntAddress>
<delPoint>Calle 44 # 52 - 165 Centro Administrativo Municipal Piso 8</delPoint>
<city>Medellín</city>
<adminArea>Antioquia</adminArea>
<postCode>050019</postCode>
<country>CO</country>
<eMailAdd>sistemas.informacion.territorial@medellin.gov.co</eMailAdd>
</cntAddress>
<cntHours>Atención de lunes a viernes de 7:30 am. a 12:00 pm. y de 1:30 am. a 5:00 pm.</cntHours>
</rpCntInfo>
<role>
<RoleCd value="006"/>
</role>
</citRespParty>
<presForm>
<PresFormCd value="005"/>
</presForm>
</idCitation>
<idAbs>&lt;DIV STYLE="text-align:Left;"&gt;&lt;DIV&gt;&lt;DIV&gt;&lt;P&gt;&lt;SPAN&gt;Aerografía de Medellín tomada en &lt;/SPAN&gt;&lt;SPAN&gt;el año &lt;/SPAN&gt;&lt;SPAN&gt;1959. La información corresponde a la zona del centro. Escala aproximada 1:10.000. Resolución de imagen aproximada de 75 cm&lt;/SPAN&gt;&lt;/P&gt;&lt;/DIV&gt;&lt;/DIV&gt;&lt;/DIV&gt;</idAbs>
<idPurp>Aerografía de Medellín tomada en el año 1959</idPurp>
<idCredit>Departamento Administrativo de Planeación, Subdirección de Prospectiva e Información y Evaluación Estratégica, Centro de Documentación.</idCredit>
<idStatus>
<ProgCd value="001"/>
</idStatus>
<idPoC>
<rpIndName>Unidad de Planeación de la Información</rpIndName>
<rpOrgName>Alcaldía de Medellín - Departamento Administrativo de Planeación - Subdirección de Prospectiva, Información y Evaluación Estratégica</rpOrgName>
<rpPosName>Unidad Administrativa</rpPosName>
<rpCntInfo>
<cntPhone>
<voiceNum tddtty="">+57 4 3855555 Ext. 5853</voiceNum>
</cntPhone>
<cntAddress addressType="">
<delPoint>Calle 44 # 52 - 165 Centro Administrativo Municipal Piso 8</delPoint>
<city>Medellín</city>
<adminArea>Antioquia</adminArea>
<postCode>050019</postCode>
<country>CO</country>
<eMailAdd>sistemas.informacion.territorial@medellin.gov.co</eMailAdd>
</cntAddress>
<cntHours>Atención de lunes a viernes de 7:30 am. a 12:00 pm. y de 1:30 am. a 5:00 pm.</cntHours>
</rpCntInfo>
<role>
<RoleCd value="007"/>
</role>
</idPoC>
<resMaint>
<maintFreq>
<MaintFreqCd value="011"/>
</maintFreq>
</resMaint>
<graphOver>
<bgFileName>https://www.medellin.gov.co/servicios/metadatos_gis/BancoImagenes/Miniaturas/H1959centro.jpg</bgFileName>
</graphOver>
<discKeys>
<thesaName>
<resTitle>Temáticas MinTIC</resTitle>
<date>
<createDate>2022-08-25</createDate>
</date>
</thesaName>
<keyword>Mapas Nacionales</keyword>
</discKeys>
<themeKeys>
<keyword>Banco Imágenes</keyword>
</themeKeys>
<searchKeys>
<keyword>Mapas Nacionales</keyword>
<keyword>Fotografía Aérea</keyword>
<keyword>Suelo Urbano</keyword>
<keyword>Históricas</keyword>
<keyword>Banco Imágenes</keyword>
</searchKeys>
<resConst>
<Consts>
<useLimit>&lt;DIV STYLE="text-align:Left;"&gt;&lt;DIV&gt;&lt;DIV&gt;&lt;P&gt;&lt;SPAN&gt;El usuario es libre de compartir y/o adaptar este dato para cualquier propósito, siempre y cuando se otorguen los créditos a la Alcaldía de Medellín, así mismo se debe compartir mediante el mismo licenciamiento e indicar los cambios realizados con respecto al dato original.&lt;/SPAN&gt;&lt;/P&gt;&lt;/DIV&gt;&lt;/DIV&gt;&lt;/DIV&gt;</useLimit>
</Consts>
</resConst>
<spatRpType>
<SpatRepTypCd value="002"/>
</spatRpType>
<dataScale>
<equScale>
<rfDenom>10000</rfDenom>
</equScale>
</dataScale>
<dataLang>
<languageCode value="spa"/>
<countryCode Sync="TRUE" value="COL"/>
</dataLang>
<dataChar>
<CharSetCd value="004"/>
</dataChar>
<envirDesc> Version 6.2 (Build 9200) ; Esri ArcGIS 10.8.1.14362</envirDesc>
<stratKeys>
<thesaName>
<resTitle>Sensor</resTitle>
<date>
<createDate>2023-09-18T00:00:00</createDate>
</date>
</thesaName>
<keyword>Aerofotografía</keyword>
</stratKeys>
<tempKeys>
<thesaName>
<resTitle>Licencia</resTitle>
<date>
<createDate>2023-09-18T00:00:00</createDate>
</date>
</thesaName>
<keyword>Abierta</keyword>
</tempKeys>
<placeKeys>
<thesaName>
<resTitle>Grupo</resTitle>
<date>
<createDate>2023-09-18T00:00:00</createDate>
</date>
</thesaName>
<keyword>Centro Documentación</keyword>
</placeKeys>
<dataExt>
<geoEle>
<GeoBndBox esriExtentType="search">
<exTypeCode Sync="TRUE">1</exTypeCode>
<westBL Sync="TRUE">-75.585889</westBL>
<eastBL Sync="TRUE">-75.552768</eastBL>
<northBL Sync="TRUE">6.282652</northBL>
<southBL Sync="TRUE">6.190547</southBL>
</GeoBndBox>
</geoEle>
</dataExt>
<tpCat>
<TopicCatCd value="015"/>
</tpCat>
</dataIdInfo>
<mdMaint>
<maintFreq>
<MaintFreqCd value="011"/>
</maintFreq>
</mdMaint>
<dqInfo>
<dqScope>
<scpLvl>
<ScopeCd value="016"/>
</scpLvl>
<scpLvlDesc>
<attribSet>1</attribSet>
</scpLvlDesc>
</dqScope>
<dataLineage>
<statement>foto aérea guardada en el Centro de Documentación de la Alcaldía de Medellín. Las fotografías originales fueron escaneadas en el año 2005 y georreferenciadas en año 2017. </statement>
</dataLineage>
</dqInfo>
<refSysInfo>
<RefSystem dimension="">
<refSysID>
<identCode code="0"/>
<idCodeSpace Sync="TRUE">EPSG</idCodeSpace>
<idVersion Sync="TRUE">8.2.1(10.2.1)</idVersion>
</refSysID>
</RefSystem>
</refSysInfo>
<spdoinfo>
<rastinfo>
<rasttype Sync="TRUE">Pixel</rasttype>
<rowcount Sync="TRUE">27234</rowcount>
<colcount Sync="TRUE">9800</colcount>
<rastxsz Sync="TRUE">0,374075</rastxsz>
<rastysz Sync="TRUE">0,374090</rastysz>
<rastbpp Sync="TRUE">8</rastbpp>
<vrtcount Sync="TRUE">1</vrtcount>
<rastorig Sync="TRUE">Upper Left</rastorig>
<rastcmap Sync="TRUE">FALSE</rastcmap>
<rastcomp Sync="TRUE">LZ77</rastcomp>
<rastband Sync="TRUE">3</rastband>
<rastdtyp Sync="TRUE">pixel codes</rastdtyp>
<rastifor Sync="TRUE">FGDBR</rastifor>
<rastplyr Sync="TRUE">TRUE</rastplyr>
</rastinfo>
</spdoinfo>
<spref>
<horizsys>
<planar>
<planci>
<plance Sync="TRUE">row and column</plance>
<coordrep>
<absres Sync="TRUE">0,374075</absres>
<ordres Sync="TRUE">0,374090</ordres>
</coordrep>
</planci>
</planar>
</horizsys>
</spref>
</metadata>
