Aerografía de Medellín tomada en <\/span>el año <\/span>1959. La información corresponde a la zona del centro. Escala aproximada 1:10.000. Resolución de imagen aproximada de 75 cm<\/span><\/p><\/div><\/div><\/div>",
"serviceItemId": "ca8c649c9a6e40628074c5deae4a029d",
"name": "ServiciosImagen/Imagen1959",
"description": "Aerografía de Medellín tomada en <\/span>el año <\/span>1959. La información corresponde a la zona del centro. Escala aproximada 1:10.000. Resolución de imagen aproximada de 75 cm<\/span><\/p><\/div><\/div><\/div>",
"extent": {
"xmin": 833054.0643390624,
"ymin": 1176540.387807805,
"xmax": 836719.9946739181,
"ymax": 1186728.360924655,
"spatialReference": {
"wkid": 102768,
"latestWkid": 6257
}
},
"initialExtent": {
"xmin": 833054.0643390624,
"ymin": 1176540.387807805,
"xmax": 836719.9946739181,
"ymax": 1186728.360924655,
"spatialReference": {
"wkid": 102768,
"latestWkid": 6257
}
},
"fullExtent": {
"xmin": 833054.0643390624,
"ymin": 1176540.387807805,
"xmax": 836719.9946739181,
"ymax": 1186728.360924655,
"spatialReference": {
"wkid": 102768,
"latestWkid": 6257
}
},
"sortableFields": "",
"bandCount": 3,
"pixelType": "U8",
"minValues": [
1,
1,
1
],
"maxValues": [
255,
255,
255
],
"meanValues": [
145.67890360161766,
145.67890360161766,
145.67890360161766
],
"stdvValues": [
37.76446088416927,
37.76446088416927,
37.76446088416927
],
"serviceProperties": "Center<\/MosaicMethod>First<\/MosaicOperator>true<\/SortAscending><\/LockImageID><\/TileOrderField>0<\/TileOrderBase>0.000000<\/AvgImageSpacingX>0.000000<\/AvgImageSpacingY>0.0<\/ViewPointX>0.0<\/ViewPointY>0.0<\/ViewPointDefShiftX>0.0<\/ViewPointDefShiftY>None<\/CompressionMethod>75<\/CompressionQuality>0.010000<\/CompressionTolerance>Bilinear<\/SamplingMethod><\/ImageServiceProperties><\/ImageServer>",
"allowedFields": "",
"hasMultidimensions": false,
"pixelSizeX": 0.3740745239648659,
"pixelSizeY": 0.374090222400309,
"meanPixelSize": 0.3740823731825874,
"datasetFormat": "FGDBR",
"uncompressedSize": 800679600,
"blockWidth": 128,
"blockHeight": 128,
"compressionType": "LZ77",
"bandNames": [
"Band_1",
"Band_2",
"Band_3"
],
"allowCopy": true,
"allowAnalysis": true,
"itemAccess": false,
"inspectionCapabilities": "",
"minPixelSize": 0,
"maxPixelSize": 0,
"copyrightText": "Departamento Administrativo de Planeación, Subdirección de Prospectiva e Información y Evaluación Estratégica, Centro de Documentación.",
"serviceDataType": "esriImageServiceDataTypeRGB",
"serviceSourceType": "esriImageServiceSourceTypeDataset",
"objectIdField": "",
"fields": [],
"capabilities": "Mensuration,Image,Metadata",
"defaultMosaicMethod": "Center",
"allowedMosaicMethods": "",
"sortField": "",
"sortValue": null,
"sortAscending": true,
"mosaicOperator": "First",
"defaultCompressionQuality": 75,
"defaultResamplingMethod": "Bilinear",
"maxImageHeight": 4100,
"maxImageWidth": 15000,
"allowRasterFunction": true,
"rasterFunctionInfos": [
{
"name": "None",
"description": "",
"help": ""
}
],
"rasterTypeInfos": [
{
"name": "Raster Dataset",
"description": "Supports all ArcGIS Raster Datasets",
"help": ""
}
],
"mensurationCapabilities": "Basic",
"hasHistograms": true,
"hasColormap": false,
"hasRasterAttributeTable": false,
"minScale": 0,
"maxScale": 0,
"exportTilesAllowed": false,
"supportsStatistics": false,
"supportsAdvancedQueries": false,
"editFieldsInfo": null,
"ownershipBasedAccessControlForRasters": null,
"allowComputeTiePoints": false,
"useStandardizedQueries": true,
"advancedQueryCapabilities": {
"useStandardizedQueries": true,
"supportsStatistics": false,
"supportsOrderBy": false,
"supportsDistinct": false,
"supportsPagination": false
},
"spatialReference": {
"wkid": 102768,
"latestWkid": 6257
},
"resampling": false
}