<?xml version="1.0" encoding="UTF-8" standalone="no"?>
<metadata xml:lang="es">
<Esri>
<CreaDate>20180627</CreaDate>
<CreaTime>09552700</CreaTime>
<ArcGISFormat>1.0</ArcGISFormat>
<ArcGISstyle>ISO 19139 Metadata Implementation Specification</ArcGISstyle>
<SyncOnce>FALSE</SyncOnce>
<DataProperties>
<itemProps>
<itemName Sync="TRUE">H_1994_Centro</itemName>
<nativeExtBox>
<westBL Sync="TRUE">833524.655869</westBL>
<eastBL Sync="TRUE">836327.986766</eastBL>
<southBL Sync="TRUE">1180545.158404</southBL>
<northBL Sync="TRUE">1186888.272186</northBL>
<exTypeCode Sync="TRUE">1</exTypeCode>
</nativeExtBox>
<itemLocation>
<linkage Sync="TRUE">file://\\E200492982\C$\Users\71339075\Desktop\ImagenesHistoricas.gdb</linkage>
<protocol Sync="TRUE">Local Area Network</protocol>
</itemLocation>
<imsContentType export="False"/>
</itemProps>
<coordRef>
<type Sync="TRUE">Projected</type>
<geogcsn Sync="TRUE">GCS_MAG_Ant_Medellin</geogcsn>
<csUnits Sync="TRUE">Linear Unit: Meter (1.000000)</csUnits>
<projcsn Sync="TRUE">PCS_MAG_Ant_Medellin</projcsn>
<peXml Sync="TRUE">&lt;ProjectedCoordinateSystem xsi:type='typens:ProjectedCoordinateSystem' xmlns:xsi='http://www.w3.org/2001/XMLSchema-instance' xmlns:xs='http://www.w3.org/2001/XMLSchema' xmlns:typens='http://www.esri.com/schemas/ArcGIS/10.8'&gt;&lt;WKT&gt;PROJCS[&amp;quot;PCS_MAG_Ant_Medellin&amp;quot;,GEOGCS[&amp;quot;GCS_MAG_Ant_Medellin&amp;quot;,DATUM[&amp;quot;D_DAT_MAG_Ant_Medellin&amp;quot;,SPHEROID[&amp;quot;GRS1980_MAG_Ant_Medellin&amp;quot;,6379647.0,298.257222101]],PRIMEM[&amp;quot;Greenwich&amp;quot;,0.0],UNIT[&amp;quot;Degree&amp;quot;,0.0174532925199433]],PROJECTION[&amp;quot;Transverse_Mercator&amp;quot;],PARAMETER[&amp;quot;false_easting&amp;quot;,835378.647],PARAMETER[&amp;quot;false_northing&amp;quot;,1180816.875],PARAMETER[&amp;quot;central_meridian&amp;quot;,-75.56488694],PARAMETER[&amp;quot;scale_factor&amp;quot;,1.0],PARAMETER[&amp;quot;latitude_of_origin&amp;quot;,6.229208889],UNIT[&amp;quot;Meter&amp;quot;,1.0]]&lt;/WKT&gt;&lt;XOrigin&gt;-4789100&lt;/XOrigin&gt;&lt;YOrigin&gt;-9512600&lt;/YOrigin&gt;&lt;XYScale&gt;450159641.69649458&lt;/XYScale&gt;&lt;ZOrigin&gt;0&lt;/ZOrigin&gt;&lt;ZScale&gt;1&lt;/ZScale&gt;&lt;MOrigin&gt;-100000&lt;/MOrigin&gt;&lt;MScale&gt;10000&lt;/MScale&gt;&lt;XYTolerance&gt;0.001&lt;/XYTolerance&gt;&lt;ZTolerance&gt;0.001&lt;/ZTolerance&gt;&lt;MTolerance&gt;0.001&lt;/MTolerance&gt;&lt;HighPrecision&gt;true&lt;/HighPrecision&gt;&lt;/ProjectedCoordinateSystem&gt;</peXml>
</coordRef>
<lineage>
<Process Date="20230928" Time="142339" ToolSource="c:\program files\arcgis\pro\Resources\ArcToolbox\toolboxes\Data Management Tools.tbx\CopyMultiple">CopyMultiple "X:\Trabajo\ProyectosGIS\2018\012_Imagenes_1994_Historicas_2018_02_10\Ortofoto_Historicas_2018_02_06.gdb\Ortofoto1994 RasterDataset" C:\Users\Federico\Documents\ArcGIS\Projects\OrtofotosHistoricas\OrtofotosHistoricas.gdb Ortofoto1994 "Ortofoto1994 RasterDataset Ortofoto1994 #"</Process>
<Process Date="20230928" Time="142726" ToolSource="c:\program files\arcgis\pro\Resources\ArcToolbox\toolboxes\Data Management Tools.tbx\Rename">Rename C:\Users\Federico\Documents\ArcGIS\Projects\OrtofotosHistoricas\OrtofotosHistoricas.gdb\Ortofoto1994 C:\Users\Federico\Documents\ArcGIS\Projects\OrtofotosHistoricas\OrtofotosHistoricas.gdb\Imagen1994 RasterDataset</Process>
<Process Date="20231012" Time="104316" ToolSource="c:\program files\arcgis\pro\Resources\ArcToolbox\toolboxes\Data Management Tools.tbx\Rename">Rename C:\Users\Federico\Documents\ArcGIS\Projects\OrtofotosHistoricas\OrtofotosHistoricas.gdb\Imagen1994 C:\Users\Federico\Documents\ArcGIS\Projects\OrtofotosHistoricas\OrtofotosHistoricas.gdb\H_1994_Centro RasterDataset</Process>
</lineage>
</DataProperties>
<SyncDate>20231017</SyncDate>
<SyncTime>10071600</SyncTime>
<ModDate>20231017</ModDate>
<ModTime>10071600</ModTime>
<locales>
<locale country="CO" language="spa"/>
</locales>
<scaleRange>
<minScale>150000000</minScale>
<maxScale>5000</maxScale>
</scaleRange>
</Esri>
<mdLang>
<languageCode value="spa"/>
<countryCode Sync="TRUE" value="COL"/>
</mdLang>
<mdChar>
<CharSetCd value="004"/>
</mdChar>
<mdHrLv>
<ScopeCd value="016"/>
</mdHrLv>
<mdHrLvName>dataset</mdHrLvName>
<mdContact>
<rpIndName>Unidad de Planeación de la Información</rpIndName>
<rpOrgName>Alcaldía de Medellín - Departamento Administrativo de Planeación - Subdirección de Prospectiva, Información y Evaluación Estratégica</rpOrgName>
<rpPosName>Unidad Administrativa</rpPosName>
<rpCntInfo>
<cntPhone>
<voiceNum tddtty="">+57 4 3855555 Ext. 5853</voiceNum>
</cntPhone>
<cntAddress addressType="">
<delPoint>Calle 44 # 52 - 165 Centro Administrativo Municipal Piso 8</delPoint>
<city>Medellín</city>
<adminArea>Antioquia</adminArea>
<postCode>050019</postCode>
<country>CO</country>
<eMailAdd>sistemas.informacion.territorial@medellin.gov.co</eMailAdd>
</cntAddress>
<cntHours>Atención de lunes a viernes de 7:30 am. a 12:00 pm. y de 1:30 am. a 5:00 pm.</cntHours>
</rpCntInfo>
<role>
<RoleCd value="011"/>
</role>
<displayName>Unidad de Planeación de la Información</displayName>
</mdContact>
<mdDateSt Sync="TRUE">20231017</mdDateSt>
<mdStanName>ArcGIS Metadata</mdStanName>
<mdStanVer>1.0</mdStanVer>
<distInfo>
<distFormat>
<formatName>TIFF</formatName>
<formatVer>TIF</formatVer>
</distFormat>
<distTranOps>
<onLineSrc>
<linkage>https://www.medellin.gov.co/servicios/metadatos_gis/BancoImagenes/Terminos/Abierta.pdf</linkage>
<protocol>WWW:LINK-1.0-http--link</protocol>
<orName>Licencia Abierta</orName>
</onLineSrc>
</distTranOps>
</distInfo>
<dataIdInfo>
<idCitation>
<resTitle>Imagen1994</resTitle>
<date>
<createDate>1975-01-01T00:00:00</createDate>
</date>
<citRespParty>
<rpIndName>Subdirección de Prospectiva, Información y Evaluación Estratégica</rpIndName>
<rpOrgName>Alcaldía de Medellín - Municipio de Medellín - Departamento Administrativo de Planeación</rpOrgName>
<rpPosName>Subdirección Administrativa</rpPosName>
<rpCntInfo>
<cntPhone>
<voiceNum>+57 4 3855862</voiceNum>
</cntPhone>
<cntAddress>
<delPoint>Calle 44 # 52 - 165 Centro Administrativo Municipal Piso 8</delPoint>
<city>Medellín</city>
<adminArea>Antioquia</adminArea>
<postCode>050019</postCode>
<country>CO</country>
<eMailAdd>UPI171@medellin.gov.co</eMailAdd>
</cntAddress>
<cntHours>Atención de lunes a viernes de 7:30 am. a 12:00 pm. y de 1:30 am. a 5:00 pm.</cntHours>
</rpCntInfo>
<role>
<RoleCd value="002"/>
</role>
</citRespParty>
<citRespParty>
<rpIndName>Unidad de Planeación de la Información</rpIndName>
<rpOrgName>Alcaldía de Medellín - Departamento Administrativo de Planeación - Subdirección de Prospectiva, Información y Evaluación Estratégica</rpOrgName>
<rpPosName>Unidad Administrativa</rpPosName>
<rpCntInfo>
<cntPhone>
<voiceNum>+57 4 3855555 Ext. 5853</voiceNum>
</cntPhone>
<cntAddress>
<delPoint>Calle 44 # 52 - 165 Centro Administrativo Municipal Piso 8</delPoint>
<city>Medellín</city>
<adminArea>Antioquia</adminArea>
<postCode>050019</postCode>
<country>CO</country>
<eMailAdd>sistemas.informacion.territorial@medellin.gov.co</eMailAdd>
</cntAddress>
<cntHours>Atención de lunes a viernes de 7:30 am. a 12:00 pm. y de 1:30 am. a 5:00 pm.</cntHours>
</rpCntInfo>
<role>
<RoleCd value="006"/>
</role>
</citRespParty>
<presForm>
<PresFormCd value="005"/>
</presForm>
</idCitation>
<idAbs>&lt;DIV STYLE="text-align:Left;"&gt;&lt;DIV&gt;&lt;DIV&gt;&lt;P&gt;&lt;SPAN&gt;Aerografía de Medellín tomada en &lt;/SPAN&gt;&lt;SPAN&gt;el año &lt;/SPAN&gt;&lt;SPAN&gt;1994. La información corresponde a la zona del centro. Escala aproximada 1:10.000. Resolución de imagen aproximada de 75 cm&lt;/SPAN&gt;&lt;/P&gt;&lt;/DIV&gt;&lt;/DIV&gt;&lt;/DIV&gt;</idAbs>
<idPurp>Aerografía de Medellín tomada en el año 1994</idPurp>
<idCredit>Departamento Administrativo de Planeación, Subdirección de Prospectiva e Información y Evaluación Estratégica, Centro de Documentación.</idCredit>
<idStatus>
<ProgCd value="001"/>
</idStatus>
<idPoC>
<rpIndName>Unidad de Planeación de la Información</rpIndName>
<rpOrgName>Alcaldía de Medellín - Departamento Administrativo de Planeación - Subdirección de Prospectiva, Información y Evaluación Estratégica</rpOrgName>
<rpPosName>Unidad Administrativa</rpPosName>
<rpCntInfo>
<cntPhone>
<voiceNum tddtty="">+57 4 3855555 Ext. 5853</voiceNum>
</cntPhone>
<cntAddress addressType="">
<delPoint>Calle 44 # 52 - 165 Centro Administrativo Municipal Piso 8</delPoint>
<city>Medellín</city>
<adminArea>Antioquia</adminArea>
<postCode>050019</postCode>
<country>CO</country>
<eMailAdd>sistemas.informacion.territorial@medellin.gov.co</eMailAdd>
</cntAddress>
<cntHours>Atención de lunes a viernes de 7:30 am. a 12:00 pm. y de 1:30 am. a 5:00 pm.</cntHours>
</rpCntInfo>
<role>
<RoleCd value="007"/>
</role>
</idPoC>
<resMaint>
<maintFreq>
<MaintFreqCd value="011"/>
</maintFreq>
</resMaint>
<graphOver>
<bgFileName>https://www.medellin.gov.co/servicios/metadatos_gis/BancoImagenes/Miniaturas/H1994centro.jpg</bgFileName>
</graphOver>
<discKeys>
<thesaName>
<resTitle>Temáticas MinTIC</resTitle>
<date>
<createDate>2022-08-25</createDate>
</date>
</thesaName>
<keyword>Mapas Nacionales</keyword>
</discKeys>
<themeKeys>
<keyword>Banco Imágenes</keyword>
</themeKeys>
<searchKeys>
<keyword>Mapas Nacionales</keyword>
<keyword>Fotografía Aérea</keyword>
<keyword>Suelo Urbano</keyword>
<keyword>Históricas</keyword>
<keyword>Banco Imágenes</keyword>
</searchKeys>
<resConst>
<Consts>
<useLimit>&lt;DIV STYLE="text-align:Left;"&gt;&lt;DIV&gt;&lt;DIV&gt;&lt;P&gt;&lt;SPAN&gt;El usuario es libre de compartir y/o adaptar este dato para cualquier propósito, siempre y cuando se otorguen los créditos a la Alcaldía de Medellín, así mismo se debe compartir mediante el mismo licenciamiento e indicar los cambios realizados con respecto al dato original.&lt;/SPAN&gt;&lt;/P&gt;&lt;/DIV&gt;&lt;/DIV&gt;&lt;/DIV&gt;</useLimit>
</Consts>
</resConst>
<spatRpType>
<SpatRepTypCd value="002"/>
</spatRpType>
<dataScale>
<equScale>
<rfDenom>10000</rfDenom>
</equScale>
</dataScale>
<dataLang>
<languageCode value="spa"/>
<countryCode Sync="TRUE" value="COL"/>
</dataLang>
<dataChar>
<CharSetCd value="004"/>
</dataChar>
<envirDesc> Version 6.2 (Build 9200) ; Esri ArcGIS 10.8.1.14362</envirDesc>
<stratKeys>
<thesaName>
<resTitle>Sensor</resTitle>
<date>
<createDate>2023-09-18T00:00:00</createDate>
</date>
</thesaName>
<keyword>Aerofotografía</keyword>
</stratKeys>
<tempKeys>
<thesaName>
<resTitle>Licencia</resTitle>
<date>
<createDate>2023-09-18T00:00:00</createDate>
</date>
</thesaName>
<keyword>Abierta</keyword>
</tempKeys>
<placeKeys>
<thesaName>
<resTitle>Grupo</resTitle>
<date>
<createDate>2023-09-18T00:00:00</createDate>
</date>
</thesaName>
<keyword>Centro Documentación</keyword>
</placeKeys>
<tpCat>
<TopicCatCd value="015"/>
</tpCat>
<dataExt>
<geoEle>
<GeoBndBox esriExtentType="search">
<exTypeCode Sync="TRUE">1</exTypeCode>
<westBL Sync="TRUE">-75.581638</westBL>
<eastBL Sync="TRUE">-75.556310</eastBL>
<northBL Sync="TRUE">6.284097</northBL>
<southBL Sync="TRUE">6.226752</southBL>
</GeoBndBox>
</geoEle>
</dataExt>
</dataIdInfo>
<mdMaint>
<maintFreq>
<MaintFreqCd value="011"/>
</maintFreq>
</mdMaint>
<dqInfo>
<dqScope>
<scpLvl>
<ScopeCd value="016"/>
</scpLvl>
<scpLvlDesc>
<attribSet>1</attribSet>
</scpLvlDesc>
</dqScope>
<dataLineage>
<statement>foto aérea guardada en el Centro de Documentación de la Alcaldía de Medellín. Las fotografías originales fueron escaneadas en el año 2005 y georreferenciadas en año 2018. </statement>
</dataLineage>
</dqInfo>
<refSysInfo>
<RefSystem dimension="">
<refSysID>
<identCode code="0"/>
<idCodeSpace Sync="TRUE">EPSG</idCodeSpace>
<idVersion Sync="TRUE">8.2.4(10.2.1)</idVersion>
</refSysID>
</RefSystem>
</refSysInfo>
<spdoinfo>
<rastinfo>
<rasttype Sync="TRUE">Pixel</rasttype>
<rowcount Sync="TRUE">13987</rowcount>
<colcount Sync="TRUE">6182</colcount>
<rastxsz Sync="TRUE">0,453467</rastxsz>
<rastysz Sync="TRUE">0,453501</rastysz>
<rastbpp Sync="TRUE">8</rastbpp>
<vrtcount Sync="TRUE">1</vrtcount>
<rastorig Sync="TRUE">Upper Left</rastorig>
<rastcmap Sync="TRUE">FALSE</rastcmap>
<rastcomp Sync="TRUE">NONE</rastcomp>
<rastband Sync="TRUE">3</rastband>
<rastdtyp Sync="TRUE">pixel codes</rastdtyp>
<rastifor Sync="TRUE">FGDBR</rastifor>
<rastplyr Sync="TRUE">TRUE</rastplyr>
</rastinfo>
</spdoinfo>
<spref>
<horizsys>
<planar>
<planci>
<plance Sync="TRUE">row and column</plance>
<coordrep>
<absres Sync="TRUE">0,453467</absres>
<ordres Sync="TRUE">0,453501</ordres>
</coordrep>
</planci>
</planar>
</horizsys>
</spref>
</metadata>
