{
 "currentVersion": 11.5,
 "serviceDescription": "ServiciosImagen/Ortofoto_Medellin_2021_MAGNA_Medellin",
 "name": "ServiciosImagen/Ortofoto_Medellin_2021_MAGNA_Medellin",
 "description": "",
 "extent": {
  "xmin": 818106.6932,
  "ymin": 1173303.11,
  "xmax": 845820.5332,
  "ymax": 1197044.31,
  "spatialReference": {
   "wkid": 102768,
   "latestWkid": 6257
  }
 },
 "initialExtent": {
  "xmin": 818106.6932,
  "ymin": 1173303.11,
  "xmax": 845820.5332,
  "ymax": 1197044.31,
  "spatialReference": {
   "wkid": 102768,
   "latestWkid": 6257
  }
 },
 "fullExtent": {
  "xmin": 818106.6932,
  "ymin": 1173303.11,
  "xmax": 845820.5332,
  "ymax": 1197044.31,
  "spatialReference": {
   "wkid": 102768,
   "latestWkid": 6257
  }
 },
 "sortableFields": "",
 "bandCount": 5,
 "pixelType": "U8",
 "minValues": [],
 "maxValues": [],
 "meanValues": [],
 "stdvValues": [],
 "serviceProperties": "Center<\/MosaicMethod>First<\/MosaicOperator>true<\/SortAscending><\/LockImageID><\/TileOrderField>0<\/TileOrderBase>0.000000<\/AvgImageSpacingX>0.000000<\/AvgImageSpacingY>0.0<\/ViewPointX>0.0<\/ViewPointY>0.0<\/ViewPointDefShiftX>0.0<\/ViewPointDefShiftY>None<\/CompressionMethod>75<\/CompressionQuality>0.010000<\/CompressionTolerance>Bilinear<\/SamplingMethod><\/ImageServiceProperties><\/ImageServer>",
 "allowedFields": "",
 "hasMultidimensions": false,
 "pixelSizeX": 0.0799999999999999,
 "pixelSizeY": 0.07999999999999985,
 "meanPixelSize": 0.07999999999999988,
 "datasetFormat": "ECW",
 "uncompressedSize": 514031107975,
 "blockWidth": 256,
 "blockHeight": 256,
 "compressionType": "ECW",
 "bandNames": [
  "Band #0",
  "Band #1",
  "Band #2",
  "Band #3",
  "AllOpacity"
 ],
 "allowCopy": true,
 "allowAnalysis": true,
 "itemAccess": false,
 "inspectionCapabilities": "",
 "minPixelSize": 0,
 "maxPixelSize": 0,
 "copyrightText": "",
 "serviceDataType": "esriImageServiceDataTypeGeneric",
 "serviceSourceType": "esriImageServiceSourceTypeDataset",
 "objectIdField": "",
 "fields": [],
 "capabilities": "Mensuration,Image,Metadata",
 "defaultMosaicMethod": "Center",
 "allowedMosaicMethods": "",
 "sortField": "",
 "sortValue": null,
 "sortAscending": true,
 "mosaicOperator": "First",
 "defaultCompressionQuality": 75,
 "defaultResamplingMethod": "Bilinear",
 "maxImageHeight": 4100,
 "maxImageWidth": 15000,
 "allowRasterFunction": true,
 "rasterFunctionInfos": [
  {
   "name": "Ortofoto_Medellin_2021_EPSG6257",
   "description": "A raster function template.",
   "help": ""
  },
  {
   "name": "None",
   "description": "",
   "help": ""
  }
 ],
 "rasterTypeInfos": [
  {
   "name": "Raster Dataset",
   "description": "Supports all ArcGIS Raster Datasets",
   "help": ""
  }
 ],
 "mensurationCapabilities": "Basic",
 "hasHistograms": false,
 "hasColormap": false,
 "hasRasterAttributeTable": false,
 "minScale": 0,
 "maxScale": 0,
 "exportTilesAllowed": false,
 "supportsStatistics": false,
 "supportsAdvancedQueries": false,
 "editFieldsInfo": null,
 "ownershipBasedAccessControlForRasters": null,
 "allowComputeTiePoints": false,
 "useStandardizedQueries": true,
 "advancedQueryCapabilities": {
  "useStandardizedQueries": true,
  "supportsStatistics": false,
  "supportsOrderBy": false,
  "supportsDistinct": false,
  "supportsPagination": false
 },
 "spatialReference": {
  "wkid": 102768,
  "latestWkid": 6257
 },
 "resampling": false
}
