{
 "currentVersion": 11.5,
 "serviceDescription": "ServiciosImagen/Ortofoto_Medellin_2024",
 "name": "ServiciosImagen/Ortofoto_Medellin_2024",
 "description": "",
 "extent": {
  "xmin": 4698992.40388204,
  "ymin": 2239577.44875008,
  "xmax": 4726810.32388204,
  "ymax": 2263324.24875008,
  "spatialReference": {
   "wkid": 9377,
   "latestWkid": 9377
  }
 },
 "initialExtent": {
  "xmin": 4698992.40388204,
  "ymin": 2239577.44875008,
  "xmax": 4726810.32388204,
  "ymax": 2263324.24875008,
  "spatialReference": {
   "wkid": 9377,
   "latestWkid": 9377
  }
 },
 "fullExtent": {
  "xmin": 4698992.40388204,
  "ymin": 2239577.44875008,
  "xmax": 4726810.32388204,
  "ymax": 2263324.24875008,
  "spatialReference": {
   "wkid": 9377,
   "latestWkid": 9377
  }
 },
 "sortableFields": "",
 "bandCount": 5,
 "pixelType": "U8",
 "minValues": [
  1,
  1,
  1,
  1,
  0
 ],
 "maxValues": [
  255,
  255,
  255,
  255,
  255
 ],
 "meanValues": [
  66.90673065185547,
  70.49453735351562,
  64.83847045898438,
  133.98983764648438,
  152.87247768312
 ],
 "stdvValues": [
  45.44434356689453,
  39.30649185180664,
  41.29017639160156,
  53.6839485168457,
  124.94993948126
 ],
 "serviceProperties": "Center<\/MosaicMethod>First<\/MosaicOperator>true<\/SortAscending><\/LockImageID><\/TileOrderField>0<\/TileOrderBase>0.000000<\/AvgImageSpacingX>0.000000<\/AvgImageSpacingY>0.0<\/ViewPointX>0.0<\/ViewPointY>0.0<\/ViewPointDefShiftX>0.0<\/ViewPointDefShiftY>None<\/CompressionMethod>75<\/CompressionQuality>0.010000<\/CompressionTolerance>Bilinear<\/SamplingMethod><\/ImageServiceProperties><\/ImageServer>",
 "allowedFields": "",
 "hasMultidimensions": false,
 "pixelSizeX": 0.07999999999999978,
 "pixelSizeY": 0.07999999999999938,
 "meanPixelSize": 0.07999999999999957,
 "datasetFormat": "ECW",
 "uncompressedSize": 516083267700,
 "blockWidth": 256,
 "blockHeight": 256,
 "compressionType": "ECW",
 "bandNames": [
  "Band #1",
  "Band #2",
  "Band #3",
  "Band #4",
  "AllOpacity"
 ],
 "allowCopy": true,
 "allowAnalysis": true,
 "itemAccess": false,
 "inspectionCapabilities": "",
 "minPixelSize": 0,
 "maxPixelSize": 0,
 "copyrightText": "",
 "serviceDataType": "esriImageServiceDataTypeGeneric",
 "serviceSourceType": "esriImageServiceSourceTypeDataset",
 "objectIdField": "",
 "fields": [],
 "capabilities": "Mensuration,Image,Metadata",
 "defaultMosaicMethod": "Center",
 "allowedMosaicMethods": "",
 "sortField": "",
 "sortValue": null,
 "sortAscending": true,
 "mosaicOperator": "First",
 "defaultCompressionQuality": 75,
 "defaultResamplingMethod": "Bilinear",
 "maxImageHeight": 8200,
 "maxImageWidth": 8200,
 "allowRasterFunction": true,
 "rasterFunctionInfos": [
  {
   "name": "Ortofoto_2024_3",
   "description": "orotofoto 2024, ulitma versión, sin sombreado negro",
   "help": ""
  },
  {
   "name": "None",
   "description": "",
   "help": ""
  }
 ],
 "rasterTypeInfos": [
  {
   "name": "Raster Dataset",
   "description": "Supports all ArcGIS Raster Datasets",
   "help": ""
  }
 ],
 "mensurationCapabilities": "Basic",
 "hasHistograms": true,
 "hasColormap": false,
 "hasRasterAttributeTable": false,
 "minScale": 0,
 "maxScale": 0,
 "exportTilesAllowed": false,
 "supportsStatistics": false,
 "supportsAdvancedQueries": false,
 "editFieldsInfo": null,
 "ownershipBasedAccessControlForRasters": null,
 "allowComputeTiePoints": false,
 "useStandardizedQueries": true,
 "advancedQueryCapabilities": {
  "useStandardizedQueries": true,
  "supportsStatistics": false,
  "supportsOrderBy": false,
  "supportsDistinct": false,
  "supportsPagination": false
 },
 "spatialReference": {
  "wkid": 9377,
  "latestWkid": 9377
 },
 "resampling": false
}
