<?xml version="1.0" encoding="UTF-8" standalone="no"?>
<metadata xml:lang="es">
<Esri>
<CreaDate>20230316</CreaDate>
<CreaTime>16183500</CreaTime>
<ArcGISFormat>1.0</ArcGISFormat>
<SyncOnce>FALSE</SyncOnce>
<DataProperties>
<itemProps>
<itemName Sync="TRUE">PlanRegulador_Basica_1958</itemName>
<imsContentType Sync="TRUE" export="False">002</imsContentType>
<nativeExtBox>
<westBL Sync="TRUE">-8419314.125002</westBL>
<eastBL Sync="TRUE">-8408233.651338</eastBL>
<southBL Sync="TRUE">686412.157221</southBL>
<northBL Sync="TRUE">704566.335803</northBL>
<exTypeCode Sync="TRUE">1</exTypeCode>
</nativeExtBox>
<itemLocation>
<linkage Sync="TRUE">file://\\E200492982\C$\Users\71339075\Desktop\ImagenesHistoricas.gdb</linkage>
<protocol Sync="TRUE">Local Area Network</protocol>
</itemLocation>
</itemProps>
<coordRef>
<type Sync="TRUE">Projected</type>
<geogcsn Sync="TRUE">GCS_WGS_1984</geogcsn>
<csUnits Sync="TRUE">Linear Unit: Meter (1.000000)</csUnits>
<projcsn Sync="TRUE">WGS_1984_Web_Mercator_Auxiliary_Sphere</projcsn>
<peXml Sync="TRUE">&lt;ProjectedCoordinateSystem xsi:type='typens:ProjectedCoordinateSystem' xmlns:xsi='http://www.w3.org/2001/XMLSchema-instance' xmlns:xs='http://www.w3.org/2001/XMLSchema' xmlns:typens='http://www.esri.com/schemas/ArcGIS/10.8'&gt;&lt;WKT&gt;PROJCS[&amp;quot;WGS_1984_Web_Mercator_Auxiliary_Sphere&amp;quot;,GEOGCS[&amp;quot;GCS_WGS_1984&amp;quot;,DATUM[&amp;quot;D_WGS_1984&amp;quot;,SPHEROID[&amp;quot;WGS_1984&amp;quot;,6378137.0,298.257223563]],PRIMEM[&amp;quot;Greenwich&amp;quot;,0.0],UNIT[&amp;quot;Degree&amp;quot;,0.0174532925199433]],PROJECTION[&amp;quot;Mercator_Auxiliary_Sphere&amp;quot;],PARAMETER[&amp;quot;False_Easting&amp;quot;,0.0],PARAMETER[&amp;quot;False_Northing&amp;quot;,0.0],PARAMETER[&amp;quot;Central_Meridian&amp;quot;,0.0],PARAMETER[&amp;quot;Standard_Parallel_1&amp;quot;,0.0],PARAMETER[&amp;quot;Auxiliary_Sphere_Type&amp;quot;,0.0],UNIT[&amp;quot;Meter&amp;quot;,1.0],AUTHORITY[&amp;quot;EPSG&amp;quot;,3857]]&lt;/WKT&gt;&lt;XOrigin&gt;-20037700&lt;/XOrigin&gt;&lt;YOrigin&gt;-30241100&lt;/YOrigin&gt;&lt;XYScale&gt;148923141.92838538&lt;/XYScale&gt;&lt;ZOrigin&gt;-100000&lt;/ZOrigin&gt;&lt;ZScale&gt;10000&lt;/ZScale&gt;&lt;MOrigin&gt;-100000&lt;/MOrigin&gt;&lt;MScale&gt;10000&lt;/MScale&gt;&lt;XYTolerance&gt;0.001&lt;/XYTolerance&gt;&lt;ZTolerance&gt;0.001&lt;/ZTolerance&gt;&lt;MTolerance&gt;0.001&lt;/MTolerance&gt;&lt;HighPrecision&gt;true&lt;/HighPrecision&gt;&lt;WKID&gt;102100&lt;/WKID&gt;&lt;LatestWKID&gt;3857&lt;/LatestWKID&gt;&lt;/ProjectedCoordinateSystem&gt;</peXml>
</coordRef>
</DataProperties>
<SyncDate>20231017</SyncDate>
<SyncTime>10070700</SyncTime>
<ModDate>20231017</ModDate>
<ModTime>10070700</ModTime>
<scaleRange>
<minScale>150000000</minScale>
<maxScale>5000</maxScale>
</scaleRange>
<ArcGISProfile>ISO19139</ArcGISProfile>
</Esri>
<mdFileID>493711dd-395e-4a24-9473-9f6a75f8f2d1</mdFileID>
<mdLang>
<languageCode value="spa"/>
<countryCode Sync="TRUE" value="COL"/>
</mdLang>
<mdChar>
<CharSetCd value="004"/>
</mdChar>
<mdHrLv>
<ScopeCd value="016"/>
</mdHrLv>
<mdHrLvName>dataset</mdHrLvName>
<mdDateSt Sync="TRUE">20231017</mdDateSt>
<mdStanName>ArcGIS Metadata</mdStanName>
<mdStanVer>1.0</mdStanVer>
<distInfo>
<distFormat>
<formatName>TIFF</formatName>
<formatVer>TIF</formatVer>
</distFormat>
<distTranOps>
<onLineSrc>
<linkage>https://www.medellin.gov.co/servicios/metadatos_gis/BancoImagenes/Terminos/Abierta.pdf</linkage>
<protocol>WWW:DOWNLOAD-1.0-http--download</protocol>
<orName>Licencia Abierta</orName>
<orFunct>
<OnFunctCd value="001"/>
</orFunct>
</onLineSrc>
<onLineSrc>
<linkage>https://ahmedellin.janium.net/janium-bin/detalle.pl?Id=20230316154934</linkage>
<protocol>WWW:LINK-1.0-http--link</protocol>
<orName>Bibliografía Archivo Histórico de Medellín</orName>
<orFunct>
<OnFunctCd value="002"/>
</orFunct>
</onLineSrc>
</distTranOps>
</distInfo>
<dataIdInfo>
<idCitation>
<resTitle>Plan_Regulador_Basica_1958</resTitle>
<date>
<createDate>1958-01-01T00:00:00</createDate>
</date>
<citRespParty>
<rpIndName>Unidad de Planeación de la Información</rpIndName>
<rpOrgName>Alcaldía de Medellín - Departamento Administrativo de Planeación - Subdirección de Prospectiva, Información y Evaluación Estratégica</rpOrgName>
<rpPosName>Unidad Administrativa</rpPosName>
<rpCntInfo>
<cntPhone>
<voiceNum>+57 4 3855555 Ext. 5853</voiceNum>
</cntPhone>
<cntAddress>
<delPoint>Calle 44 # 52 - 165 Centro Administrativo Municipal Piso 8</delPoint>
<city>Medellín</city>
<adminArea>Antioquia</adminArea>
<postCode>050019</postCode>
<country>CO</country>
<eMailAdd>sistemas.informacion.territorial@medellin.gov.co</eMailAdd>
</cntAddress>
<cntHours>Atención de lunes a viernes de 7:30 am. a 12:00 pm. y de 1:30 am. a 5:00 pm.</cntHours>
</rpCntInfo>
<role>
<RoleCd value="006"/>
</role>
</citRespParty>
<presForm>
<PresFormCd value="011"/>
</presForm>
</idCitation>
<idAbs>&lt;DIV STYLE="text-align:Left;"&gt;&lt;DIV&gt;&lt;DIV&gt;&lt;P&gt;&lt;SPAN&gt;Contiene Usos Generales De La Tierra 1957: Habitación, Comercio Central, Industria, Comercio Industrial, Cultura, Social, Religiosa, Vivienda Flotante (Ranchos) Y Zonas Verdes. Plano Localización General&lt;/SPAN&gt;&lt;SPAN&gt;. &lt;/SPAN&gt;&lt;SPAN&gt;&lt;SPAN&gt;Plano Trazado Sobre Plano De Medellín De 1956. Plano En Color. El Conjunto De Planos Del Atlas De Medellín Informacion Básica Va Entre Los Planos E-9-1 Y E-9-55. Tienen Pasta, Están Almacenados Sueltos Protegidos En Maylar / Plano Transferido Desde El Centro De Documentación De Planeación En Junio De 2017, Conserva La Foliación De Origen&lt;/SPAN&gt;&lt;/SPAN&gt;&lt;SPAN&gt; &lt;/SPAN&gt;&lt;/P&gt;&lt;/DIV&gt;&lt;/DIV&gt;&lt;/DIV&gt;</idAbs>
<idPurp>Contiene Usos Generales De La Tierra 1957: Habitación, Comercio Central, Industria, Comercio Industrial, Cultura, Social, Religiosa, Vivienda Flotante (Ranchos) Y Zonas Verdes. Plano Localización General</idPurp>
<idCredit>Departamento Administrativo de Planeación, Subdirección de Prospectiva e Información y Evaluación Estratégica.</idCredit>
<idStatus>
<ProgCd value="001"/>
</idStatus>
<idPoC>
<rpIndName>Unidad de Planeación de la Información</rpIndName>
<rpOrgName>Alcaldía de Medellín - Departamento Administrativo de Planeación - Subdirección de Prospectiva, Información y Evaluación Estratégica</rpOrgName>
<rpPosName>Unidad Administrativa</rpPosName>
<rpCntInfo>
<cntPhone>
<voiceNum tddtty="">+57 4 3855555 Ext. 5853</voiceNum>
</cntPhone>
<cntAddress addressType="">
<delPoint>Calle 44 # 52 - 165 Centro Administrativo Municipal Piso 8</delPoint>
<city>Medellín</city>
<adminArea>Antioquia</adminArea>
<postCode>050019</postCode>
<country>CO</country>
<eMailAdd>sistemas.informacion.territorial@medellin.gov.co</eMailAdd>
</cntAddress>
<cntHours>Atención de lunes a viernes de 7:30 am. a 12:00 pm. y de 1:30 am. a 5:00 pm.</cntHours>
</rpCntInfo>
<role>
<RoleCd value="007"/>
</role>
</idPoC>
<resMaint>
<maintFreq>
<MaintFreqCd value="011"/>
</maintFreq>
</resMaint>
<graphOver>
<bgFileName>https://ahmedellin.janium.net/janium/Documentos/PORTADAS/PLANOS/AHM-F1-Planeacion-Planos-505665.JPG</bgFileName>
</graphOver>
<discKeys>
<thesaName>
<resTitle>Temáticas MinTIC</resTitle>
<date>
<createDate>2022-08-25</createDate>
</date>
</thesaName>
<keyword>Mapas Nacionales</keyword>
</discKeys>
<themeKeys>
<keyword>Plan Regulador</keyword>
<keyword>Planos</keyword>
<keyword>Banco Imágenes</keyword>
</themeKeys>
<searchKeys>
<keyword>Mapas Nacionales</keyword>
<keyword>Fotografía Aérea</keyword>
<keyword>Suelo Urbano</keyword>
<keyword>Históricas</keyword>
<keyword>Banco Imágenes</keyword>
</searchKeys>
<resConst>
<Consts>
<useLimit>&lt;DIV STYLE="text-align:Left;"&gt;&lt;DIV&gt;&lt;DIV&gt;&lt;P&gt;&lt;SPAN&gt;El usuario es libre de compartir y/o adaptar este dato para cualquier propósito, siempre y cuando se otorguen los créditos a la Alcaldía de Medellín, así mismo se debe compartir mediante el mismo licenciamiento e indicar los cambios realizados con respecto al dato original.&lt;/SPAN&gt;&lt;/P&gt;&lt;/DIV&gt;&lt;/DIV&gt;&lt;/DIV&gt;</useLimit>
</Consts>
</resConst>
<spatRpType>
<SpatRepTypCd value="002"/>
</spatRpType>
<dataScale>
<equScale>
<rfDenom>20000</rfDenom>
</equScale>
</dataScale>
<dataLang>
<languageCode value="spa"/>
<countryCode Sync="TRUE" value="COL"/>
</dataLang>
<dataChar>
<CharSetCd value="004"/>
</dataChar>
<envirDesc>Version 6.2 (Build 9200) ; Esri ArcGIS 10.8.1.14362</envirDesc>
<dataExt>
<geoEle>
<GeoBndBox esriExtentType="search">
<exTypeCode Sync="TRUE">1</exTypeCode>
<westBL Sync="TRUE">-75.631986</westBL>
<eastBL Sync="TRUE">-75.532448</eastBL>
<northBL Sync="TRUE">6.316394</northBL>
<southBL Sync="TRUE">6.154277</southBL>
</GeoBndBox>
</geoEle>
<exDesc>Medellín</exDesc>
</dataExt>
<tpCat>
<TopicCatCd value="010"/>
</tpCat>
</dataIdInfo>
<mdMaint>
<maintFreq>
<MaintFreqCd value="011"/>
</maintFreq>
</mdMaint>
<dqInfo>
<dqScope>
<scpLvl>
<ScopeCd value="016"/>
</scpLvl>
<scpLvlDesc>
<attribSet>1</attribSet>
</scpLvlDesc>
</dqScope>
<dataLineage>
<statement>Disponible para consulta en el Centro de Documentación del DAP Calle 44 52 165 piso 3 del CAD</statement>
</dataLineage>
</dqInfo>
<refSysInfo>
<RefSystem dimension="">
<refSysID>
<identCode code="6257"/>
<idCodeSpace Sync="TRUE">EPSG</idCodeSpace>
<idVersion Sync="TRUE">8.8(9.3.1.2)</idVersion>
</refSysID>
</RefSystem>
</refSysInfo>
<spdoinfo>
<rastinfo>
<rasttype Sync="TRUE">Pixel</rasttype>
<rowcount Sync="TRUE">3078</rowcount>
<colcount Sync="TRUE">4971</colcount>
<rastxsz Sync="TRUE">2,229023</rastxsz>
<rastysz Sync="TRUE">5,898044</rastysz>
<rastbpp Sync="TRUE">8</rastbpp>
<vrtcount Sync="TRUE">1</vrtcount>
<rastorig Sync="TRUE">Upper Left</rastorig>
<rastcmap Sync="TRUE">FALSE</rastcmap>
<rastcomp Sync="TRUE">NONE</rastcomp>
<rastband Sync="TRUE">3</rastband>
<rastdtyp Sync="TRUE">pixel codes</rastdtyp>
<rastifor Sync="TRUE">FGDBR</rastifor>
<rastplyr Sync="TRUE">TRUE</rastplyr>
</rastinfo>
</spdoinfo>
<spref>
<horizsys>
<planar>
<planci>
<plance Sync="TRUE">row and column</plance>
<coordrep>
<absres Sync="TRUE">2,229023</absres>
<ordres Sync="TRUE">5,898044</ordres>
</coordrep>
</planci>
</planar>
</horizsys>
</spref>
<mdContact>
<rpIndName>Unidad de Planeación de la Información</rpIndName>
<rpOrgName>Alcaldía de Medellín - Departamento Administrativo de Planeación - Subdirección de Prospectiva, Información y Evaluación Estratégica</rpOrgName>
<rpPosName>Unidad Administrativa</rpPosName>
<rpCntInfo>
<cntPhone>
<voiceNum tddtty="">+57 4 3855555 Ext. 5853</voiceNum>
</cntPhone>
<cntAddress addressType="">
<delPoint>Calle 44 # 52 - 165 Centro Administrativo Municipal Piso 8</delPoint>
<city>Medellín</city>
<adminArea>Antioquia</adminArea>
<postCode>050019</postCode>
<country>CO</country>
<eMailAdd>sistemas.informacion.territorial@medellin.gov.co</eMailAdd>
</cntAddress>
<cntHours>Atención de lunes a viernes de 7:30 am. a 12:00 pm. y de 1:30 am. a 5:00 pm.</cntHours>
</rpCntInfo>
<role>
<RoleCd value="002"/>
</role>
<displayName>Unidad de Planeación de la Información</displayName>
</mdContact>
</metadata>
