<?xml version="1.0" encoding="UTF-8" standalone="no"?>
<metadata xml:lang="es">
<Esri>
<MetaID>{A1193A1D-B988-4001-9E04-C49304AE5B25}</MetaID>
<CreaDate>20090527</CreaDate>
<CreaTime>07204800</CreaTime>
<SyncOnce>FALSE</SyncOnce>
<SyncDate>20121106</SyncDate>
<SyncTime>00042300</SyncTime>
<ModDate>20121106</ModDate>
<ModTime>00042300</ModTime>
<DataProperties>
<lineage>
<Process Date="20090527" Time="072939" ToolSource="C:\Program Files\ArcGIS\ArcToolbox\Toolboxes\Data Management Tools.tbx\ProjectRaster">ProjectRaster 10.tif D:\Indicadores\Imagenes_Satelitales.gdb\Quickbird_MedioAmbiente_Sigame_2006_10 PROJCS['sigame',GEOGCS['GCS_Bogota',DATUM['D_Bogota',SPHEROID['International_1924',6378388.0,297.0]],PRIMEM['Greenwich',0.0],UNIT['Degree',0.0174532925199433]],PROJECTION['Azimuthal_Equidistant'],PARAMETER['False_Easting',835376.44],PARAMETER['False_Northing',1180809.75],PARAMETER['Central_Meridian',-75.56826444],PARAMETER['Latitude_Of_Origin',6.231971667],UNIT['Meter',1.0]] NEAREST 0,599973 Bogota_To_WGS_1984_Region_5_CF # PROJCS['WGS_1984_UTM_Zone_18N',GEOGCS['GCS_WGS_1984',DATUM['D_WGS_1984',SPHEROID['WGS_1984',6378137.0,298.257223563]],PRIMEM['Greenwich',0.0],UNIT['Degree',0.0174532925199433]],PROJECTION['Transverse_Mercator'],PARAMETER['False_Easting',500000.0],PARAMETER['False_Northing',0.0],PARAMETER['Central_Meridian',-75.0],PARAMETER['Scale_Factor',0.9996],PARAMETER['Latitude_Of_Origin',0.0],UNIT['Meter',1.0]]</Process>
<Process Date="20121101" Time="115332" ToolSource="c:\program files\arcgis\desktop10.0\ArcToolbox\Toolboxes\Data Management Tools.tbx\CopyRaster">CopyRaster I:\ImagenesSatelitales\QB2006\Imagenes_Satelitales.gdb\Quickbird_MedioAmbiente_Sigame_2006_10 I:\ImagenesSatelitales\QB2006\Quickbird_MedioAmbiente_Sigame_2006_10.tif # # # NONE NONE #</Process>
<Process Date="20121105" Name="Project Raster" Time="233452" ToolSource="C:\Program Files\ArcGIS\Desktop10.0\ArcToolbox\Toolboxes\Data Management Tools.tbx\ProjectRaster">ProjectRaster I:\ImagenesSatelitales\QB2006\Quickbird_MedioAmbiente_Sigame_2006_10.tif I:\ImagenesSatelitales\QB2006\Quickbird_MedioAmbiente_gcs_bog_10.tif GEOGCS['GCS_Bogota',DATUM['D_Bogota',SPHEROID['International_1924',6378388.0,297.0]],PRIMEM['Greenwich',0.0],UNIT['Degree',0.0174532925199433]] NEAREST 5,42277026650211E-06 D_BOGOTA_MODIFICADO_1600_TO_D_BOGOTA_NULL # PROJCS['PCS_BOG_Ant_Medellin',GEOGCS['GCS_BOG_Ant_Medellin',DATUM['D_DAT_BOG_Ant_Medellin',SPHEROID['International_1924_BOG_Ant_Medellin',6379988.0,297.0]],PRIMEM['Greenwich',0.0],UNIT['Degree',0.0174532925199433]],PROJECTION['Azimuthal_Equidistant'],PARAMETER['False_Easting',835376.44],PARAMETER['False_Northing',1180809.75],PARAMETER['Central_Meridian',-75.56826449999979],PARAMETER['Latitude_Of_Origin',6.231971667],UNIT['Meter',1.0]]</Process>
<Process Date="20121105" Name="Project Raster (2)" Time="235309" ToolSource="C:\Program Files\ArcGIS\Desktop10.0\ArcToolbox\Toolboxes\Data Management Tools.tbx\ProjectRaster">ProjectRaster I:\ImagenesSatelitales\QB2006\Quickbird_MedioAmbiente_gcs_bog_10.tif I:\ImagenesSatelitales\QB2006\Quickbird_MedioAmbiente_gcs_magna.tif GEOGCS['GCS_MAGNA',DATUM['D_MAGNA',SPHEROID['GRS_1980',6378137.0,298.257222101]],PRIMEM['Greenwich',0.0],UNIT['Degree',0.0174532925199433]] NEAREST 5,4227702665021E-06 D_BOGOTA_TO_MAGNA_7P_MB_IGAC_1998 # GEOGCS['GCS_Bogota',DATUM['D_Bogota',SPHEROID['International_1924',6378388.0,297.0]],PRIMEM['Greenwich',0.0],UNIT['Degree',0.0174532925199433]]</Process>
<Process Date="20121106" Name="Project Raster (3)" Time="000556" ToolSource="C:\Program Files\ArcGIS\Desktop10.0\ArcToolbox\Toolboxes\Data Management Tools.tbx\ProjectRaster">ProjectRaster I:\ImagenesSatelitales\QB2006\Quickbird_MedioAmbiente_gcs_magna.tif I:\ImagenesSatelitales\QB2006\QuickBird_SMA_2006_10.tif PROJCS['PCS_MAG_Ant_Medellin',GEOGCS['GCS_MAG_Ant_Medellin',DATUM['D_DAT_MAG_Ant_Medellin',SPHEROID['GRS1980_MAG_Ant_Medellin',6379647.0,298.257222101]],PRIMEM['Greenwich',0.0],UNIT['Degree',0.0174532925199433]],PROJECTION['Transverse_Mercator'],PARAMETER['False_Easting',835378.647],PARAMETER['False_Northing',1180816.875],PARAMETER['Central_Meridian',-75.56488694],PARAMETER['Scale_Factor',1.0],PARAMETER['Latitude_Of_Origin',6.229208889],UNIT['Meter',1.0]] NEAREST 0,6 D_MAGNA_TO_D_MAGNA_MOD_1510_NULL # GEOGCS['GCS_MAGNA',DATUM['D_MAGNA',SPHEROID['GRS_1980',6378137.0,298.257222101]],PRIMEM['Greenwich',0.0],UNIT['Degree',0.0174532925199433]]</Process>
</lineage>
<itemProps>
<itemName Sync="TRUE">QuickBird_SMA_2006_10.tif</itemName>
<itemLocation>
<linkage Sync="TRUE">file://I:\ImagenesSatelitales\QB2006\QuickBird_SMA_2006_10.tif</linkage>
<protocol Sync="TRUE">Local Area Network</protocol>
</itemLocation>
<imsContentType Sync="TRUE">002</imsContentType>
<nativeExtBox>
<westBL Sync="TRUE">833995.021787</westBL>
<eastBL Sync="TRUE">846842.821787</eastBL>
<southBL Sync="TRUE">1181085.926907</southBL>
<northBL Sync="TRUE">1194684.926907</northBL>
<exTypeCode Sync="TRUE">1</exTypeCode>
</nativeExtBox>
</itemProps>
<coordRef>
<type Sync="TRUE">Projected</type>
<geogcsn Sync="TRUE">GCS_MAG_Ant_Medellin</geogcsn>
<csUnits Sync="TRUE">Linear Unit: Meter (1.000000)</csUnits>
<peXml Sync="TRUE">&lt;ProjectedCoordinateSystem xsi:type='typens:ProjectedCoordinateSystem' xmlns:xsi='http://www.w3.org/2001/XMLSchema-instance' xmlns:xs='http://www.w3.org/2001/XMLSchema' xmlns:typens='http://www.esri.com/schemas/ArcGIS/10.0'&gt;&lt;WKT&gt;PROJCS[&amp;quot;PCS_MAG_Ant_Medellin&amp;quot;,GEOGCS[&amp;quot;GCS_MAG_Ant_Medellin&amp;quot;,DATUM[&amp;quot;D_DAT_MAG_Ant_Medellin&amp;quot;,SPHEROID[&amp;quot;GRS1980_MAG_Ant_Medellin&amp;quot;,6379647.0,298.257222101]],PRIMEM[&amp;quot;Greenwich&amp;quot;,0.0],UNIT[&amp;quot;Degree&amp;quot;,0.0174532925199433]],PROJECTION[&amp;quot;Transverse_Mercator&amp;quot;],PARAMETER[&amp;quot;False_Easting&amp;quot;,835378.647],PARAMETER[&amp;quot;False_Northing&amp;quot;,1180816.875],PARAMETER[&amp;quot;Central_Meridian&amp;quot;,-75.56488694],PARAMETER[&amp;quot;Scale_Factor&amp;quot;,1.0],PARAMETER[&amp;quot;Latitude_Of_Origin&amp;quot;,6.229208889],UNIT[&amp;quot;Meter&amp;quot;,1.0]]&lt;/WKT&gt;&lt;XOrigin&gt;-4789100&lt;/XOrigin&gt;&lt;YOrigin&gt;-9512600&lt;/YOrigin&gt;&lt;XYScale&gt;450159641.69649458&lt;/XYScale&gt;&lt;ZOrigin&gt;-100000&lt;/ZOrigin&gt;&lt;ZScale&gt;10000&lt;/ZScale&gt;&lt;MOrigin&gt;-100000&lt;/MOrigin&gt;&lt;MScale&gt;10000&lt;/MScale&gt;&lt;XYTolerance&gt;0.001&lt;/XYTolerance&gt;&lt;ZTolerance&gt;0.001&lt;/ZTolerance&gt;&lt;MTolerance&gt;0.001&lt;/MTolerance&gt;&lt;HighPrecision&gt;true&lt;/HighPrecision&gt;&lt;/ProjectedCoordinateSystem&gt;</peXml>
<projcsn Sync="TRUE">PCS_MAG_Ant_Medellin</projcsn>
</coordRef>
<RasterProperties>
<General>
<PixelDepth Sync="TRUE">16</PixelDepth>
<HasColormap Sync="TRUE">FALSE</HasColormap>
<CompressionType Sync="TRUE">LZW</CompressionType>
<NumBands Sync="TRUE">3</NumBands>
<Format Sync="TRUE">TIFF</Format>
<HasPyramids Sync="TRUE">TRUE</HasPyramids>
<SourceType Sync="TRUE">continuous</SourceType>
<PixelType Sync="TRUE">unsigned integer</PixelType>
<NoDataValue Sync="TRUE">65536</NoDataValue>
</General>
</RasterProperties>
</DataProperties>
</Esri>
<idinfo>
<native Sync="TRUE">Microsoft Windows XP Version 5.1 (Build 2600) Service Pack 2; ESRI ArcCatalog 9.3.1.1850</native>
<descript>
<langdata Sync="TRUE">es</langdata>
<abstract>REQUIRED: A brief narrative summary of the data set.</abstract>
<purpose>REQUIRED: A summary of the intentions with which the data set was developed.</purpose>
</descript>
<citation>
<citeinfo>
<origin>REQUIRED: The name of an organization or individual that developed the data set.</origin>
<pubdate>REQUIRED: The date when the data set is published or otherwise made available for release.</pubdate>
<title Sync="TRUE">Quickbird_MedioAmbiente_Sigame_2006_10</title>
<ftname Sync="TRUE">Quickbird_MedioAmbiente_Sigame_2006_10</ftname>
<geoform Sync="TRUE">Fgdb raster digital data</geoform>
<onlink Sync="TRUE">\\FEDERICOH\Indicadores\Imagenes_Satelitales.gdb</onlink>
</citeinfo>
</citation>
<timeperd>
<current>REQUIRED: The basis on which the time period of content information is determined.</current>
<timeinfo>
<sngdate>
<caldate>REQUIRED: The year (and optionally month, or month and day) for which the data set corresponds to the ground.</caldate>
</sngdate>
</timeinfo>
</timeperd>
<status>
<progress>REQUIRED: The state of the data set.</progress>
<update>REQUIRED: The frequency with which changes and additions are made to the data set after the initial data set is completed.</update>
</status>
<spdom>
<bounding>
<westbc Sync="TRUE">-75.580776</westbc>
<eastbc Sync="TRUE">-75.464689</eastbc>
<northbc Sync="TRUE">6.357366</northbc>
<southbc Sync="TRUE">6.234414</southbc>
</bounding>
<lboundng>
<leftbc Sync="TRUE">833992.160543</leftbc>
<rightbc Sync="TRUE">846836.384364</rightbc>
<bottombc Sync="TRUE">1181081.013491</bottombc>
<topbc Sync="TRUE">1194677.003588</topbc>
</lboundng>
</spdom>
<keywords>
<theme>
<themekt>REQUIRED: Reference to a formally registered thesaurus or a similar authoritative source of theme keywords.</themekt>
<themekey>REQUIRED: Common-use word or phrase used to describe the subject of the data set.</themekey>
</theme>
</keywords>
<accconst>REQUIRED: Restrictions and legal prerequisites for accessing the data set.</accconst>
<useconst>REQUIRED: Restrictions and legal prerequisites for using the data set after access is granted.</useconst>
<natvform Sync="TRUE">File Geodatabase Raster Dataset</natvform>
</idinfo>
<dataIdInfo>
<envirDesc Sync="TRUE">Microsoft Windows Server 2008 Version 6.0 (Build 6001) Service Pack 1; ESRI ArcGIS 10.0.5.4400</envirDesc>
<dataLang>
<languageCode Sync="TRUE" value="spa"/>
<countryCode Sync="TRUE" value="COL"/>
</dataLang>
<idCitation>
<resTitle Sync="TRUE">QuickBird_2006_1</resTitle>
<presForm>
<PresFormCd Sync="TRUE" value="005"/>
</presForm>
</idCitation>
<dataExt>
<geoEle>
<GeoBndBox esriExtentType="native">
<westBL Sync="TRUE">833992.160543</westBL>
<eastBL Sync="TRUE">846836.384364</eastBL>
<northBL Sync="TRUE">1194677.003588</northBL>
<southBL Sync="TRUE">1181081.013491</southBL>
<exTypeCode Sync="TRUE">1</exTypeCode>
</GeoBndBox>
</geoEle>
</dataExt>
<geoBox esriExtentType="decdegrees">
<westBL Sync="TRUE">-75.580776</westBL>
<eastBL Sync="TRUE">-75.464689</eastBL>
<northBL Sync="TRUE">6.357366</northBL>
<southBL Sync="TRUE">6.234414</southBL>
<exTypeCode Sync="TRUE">1</exTypeCode>
</geoBox>
<spatRpType>
<SpatRepTypCd Sync="TRUE" value="002"/>
</spatRpType>
<dataExt>
<geoEle>
<GeoBndBox esriExtentType="search">
<exTypeCode Sync="TRUE">1</exTypeCode>
<westBL Sync="TRUE">-75.577390</westBL>
<eastBL Sync="TRUE">-75.461295</eastBL>
<northBL Sync="TRUE">6.354583</northBL>
<southBL Sync="TRUE">6.231631</southBL>
</GeoBndBox>
</geoEle>
</dataExt>
<idAbs/>
<idPurp/>
<idCredit/>
<resConst>
<Consts>
<useLimit/>
</Consts>
</resConst>
</dataIdInfo>
<metainfo>
<langmeta Sync="TRUE">es</langmeta>
<metstdn Sync="TRUE">FGDC Content Standards for Digital Geospatial Metadata</metstdn>
<metstdv Sync="TRUE">FGDC-STD-001-1998</metstdv>
<mettc Sync="TRUE">local time</mettc>
<metc>
<cntinfo>
<cntorgp>
<cntper>REQUIRED: The person responsible for the metadata information.</cntper>
<cntorg>REQUIRED: The organization responsible for the metadata information.</cntorg>
</cntorgp>
<cntaddr>
<addrtype>REQUIRED: The mailing and/or physical address for the organization or individual.</addrtype>
<city>REQUIRED: The city of the address.</city>
<state>REQUIRED: The state or province of the address.</state>
<postal>REQUIRED: The ZIP or other postal code of the address.</postal>
</cntaddr>
<cntvoice>REQUIRED: The telephone number by which individuals can speak to the organization or individual.</cntvoice>
</cntinfo>
</metc>
<metd Sync="TRUE">20090527</metd>
</metainfo>
<mdLang>
<languageCode Sync="TRUE" value="spa"/>
<countryCode Sync="TRUE" value="COL"/>
</mdLang>
<mdStanName Sync="TRUE">ISO 19115 Geographic Information - Metadata</mdStanName>
<mdStanVer Sync="TRUE">DIS_ESRI1.0</mdStanVer>
<mdChar>
<CharSetCd Sync="TRUE" value="004"/>
</mdChar>
<mdHrLv>
<ScopeCd Sync="TRUE" value="005"/>
</mdHrLv>
<mdHrLvName Sync="TRUE">dataset</mdHrLvName>
<distinfo>
<resdesc Sync="TRUE">Downloadable Data</resdesc>
</distinfo>
<distInfo>
<distributor>
<distorTran>
<onLineSrc>
<orDesc Sync="TRUE">002</orDesc>
<linkage Sync="TRUE">file://\\FEDERICOH\Indicadores\Imagenes_Satelitales.gdb</linkage>
<protocol Sync="TRUE">Local Area Network</protocol>
</onLineSrc>
</distorTran>
<distorFormat>
<formatName Sync="TRUE">File Geodatabase Raster Dataset</formatName>
</distorFormat>
</distributor>
<distFormat>
<formatName Sync="TRUE">Raster Dataset</formatName>
</distFormat>
</distInfo>
<spdoinfo>
<direct Sync="TRUE">Raster</direct>
<rastinfo>
<rasttype Sync="TRUE">Pixel</rasttype>
<rowcount Sync="TRUE">22661</rowcount>
<colcount Sync="TRUE">21408</colcount>
<rastxsz Sync="TRUE">0,599973</rastxsz>
<rastysz Sync="TRUE">0,599973</rastysz>
<rastbpp Sync="TRUE">16</rastbpp>
<vrtcount Sync="TRUE">1</vrtcount>
<rastorig Sync="TRUE">Upper Left</rastorig>
<rastcmap Sync="TRUE">FALSE</rastcmap>
<rastcomp Sync="TRUE">LZ77</rastcomp>
<rastband Sync="TRUE">3</rastband>
<rastdtyp Sync="TRUE">pixel codes</rastdtyp>
<rastifor Sync="TRUE">FGDBR</rastifor>
<rastplyr Sync="TRUE">TRUE</rastplyr>
</rastinfo>
</spdoinfo>
<spref>
<horizsys>
<cordsysn>
<geogcsn Sync="TRUE">GCS_Bogota</geogcsn>
<projcsn Sync="TRUE">sigame</projcsn>
</cordsysn>
<geodetic>
<horizdn Sync="TRUE">D_Bogota</horizdn>
<ellips Sync="TRUE">International_1924</ellips>
<semiaxis Sync="TRUE">6378388.000000</semiaxis>
<denflat Sync="TRUE">297.000000</denflat>
</geodetic>
</horizsys>
</spref>
<refSysInfo>
<RefSystem>
<refSysID>
<identCode Sync="TRUE" value="0">sigame</identCode>
<idCodeSpace Sync="TRUE">EPSG</idCodeSpace>
<idVersion Sync="TRUE">7.4.1</idVersion>
</refSysID>
</RefSystem>
</refSysInfo>
<mdDateSt Sync="TRUE">20121106</mdDateSt>
<spatRepInfo>
<Georect>
<cellGeo>
<CellGeoCd Sync="TRUE" value="002"/>
</cellGeo>
<numDims Sync="TRUE">2</numDims>
<tranParaAv Sync="TRUE">1</tranParaAv>
<chkPtAv Sync="TRUE">0</chkPtAv>
<cornerPts>
<pos Sync="TRUE">833995.021787 1181085.926907</pos>
</cornerPts>
<cornerPts>
<pos Sync="TRUE">833995.021787 1194684.926907</pos>
</cornerPts>
<cornerPts>
<pos Sync="TRUE">846842.821787 1194684.926907</pos>
</cornerPts>
<cornerPts>
<pos Sync="TRUE">846842.821787 1181085.926907</pos>
</cornerPts>
<centerPt>
<pos Sync="TRUE">840418.921787 1187885.426907</pos>
</centerPt>
<axisDimension type="002">
<dimSize Sync="TRUE">21413</dimSize>
<dimResol>
<value Sync="TRUE" uom="Meter">0.600000</value>
</dimResol>
</axisDimension>
<axisDimension type="001">
<dimSize Sync="TRUE">22665</dimSize>
<dimResol>
<value Sync="TRUE" uom="Meter">0.600000</value>
</dimResol>
</axisDimension>
<ptInPixel>
<PixOrientCd Sync="TRUE" value="001"/>
</ptInPixel>
</Georect>
</spatRepInfo>
<contInfo>
<ImgDesc>
<contentTyp>
<ContentTypCd Sync="TRUE" value="001"/>
</contentTyp>
<covDim>
<Band>
<dimDescrp Sync="TRUE">Band_1</dimDescrp>
<bitsPerVal Sync="TRUE">16</bitsPerVal>
<valUnit>
<UOM type="length">
<unitSymbol Sync="TRUE">Meter</unitSymbol>
</UOM>
</valUnit>
</Band>
<Band>
<dimDescrp Sync="TRUE">Band_2</dimDescrp>
<bitsPerVal Sync="TRUE">16</bitsPerVal>
<valUnit>
<UOM type="length">
<unitSymbol Sync="TRUE">Meter</unitSymbol>
</UOM>
</valUnit>
</Band>
<Band>
<dimDescrp Sync="TRUE">Band_3</dimDescrp>
<bitsPerVal Sync="TRUE">16</bitsPerVal>
<valUnit>
<UOM type="length">
<unitSymbol Sync="TRUE">Meter</unitSymbol>
</UOM>
</valUnit>
</Band>
</covDim>
</ImgDesc>
</contInfo>
</metadata>
