{
 "currentVersion": 11.5,
 "serviceDescription": "ServiciosImagen/QuickBird_2006_3",
 "serviceItemId": "b0497da264804027a275b8e617c817df",
 "name": "ServiciosImagen/QuickBird_2006_3",
 "description": "",
 "extent": {
  "xmin": 817554.3552396108,
  "ymin": 1176897.6474887198,
  "xmax": 833501.7552396108,
  "ymax": 1192671.6474887198,
  "spatialReference": {
   "wkt2": "PROJCRS[\"PCS_MAG_Ant_Medellin\",BASEGEOGCRS[\"GCS_MAG_Ant_Medellin\",DATUM[\"D_DAT_MAG_Ant_Medellin\",ELLIPSOID[\"GRS1980_MAG_Ant_Medellin\",6379647.0,298.257222101,LENGTHUNIT[\"Meter\",1.0]]],PRIMEM[\"Greenwich\",0.0,ANGLEUNIT[\"Degree\",0.0174532925199433]],CS[ellipsoidal,2],ANGLEUNIT[\"Degree\",0.0174532925199433]],CONVERSION[\"Transverse_Mercator\",METHOD[\"Transverse_Mercator\"],PARAMETER[\"False_Easting\",835378.647,LENGTHUNIT[\"Meter\",1.0]],PARAMETER[\"False_Northing\",1180816.875,LENGTHUNIT[\"Meter\",1.0]],PARAMETER[\"Central_Meridian\",-75.56488694,ANGLEUNIT[\"Degree\",0.0174532925199433]],PARAMETER[\"Scale_Factor\",1.0,SCALEUNIT[\"Unity\",1.0]],PARAMETER[\"Latitude_Of_Origin\",6.229208889,ANGLEUNIT[\"Degree\",0.0174532925199433]]],CS[Cartesian,2],AXIS[\"Easting (X)\",east,ORDER[1]],AXIS[\"Northing (Y)\",north,ORDER[2]],LENGTHUNIT[\"Meter\",1.0]]",
   "wkt": "PROJCS[\"PCS_MAG_Ant_Medellin\",GEOGCS[\"GCS_MAG_Ant_Medellin\",DATUM[\"D_DAT_MAG_Ant_Medellin\",SPHEROID[\"GRS1980_MAG_Ant_Medellin\",6379647.0,298.257222101]],PRIMEM[\"Greenwich\",0.0],UNIT[\"Degree\",0.0174532925199433]],PROJECTION[\"Transverse_Mercator\"],PARAMETER[\"False_Easting\",835378.647],PARAMETER[\"False_Northing\",1180816.875],PARAMETER[\"Central_Meridian\",-75.56488694],PARAMETER[\"Scale_Factor\",1.0],PARAMETER[\"Latitude_Of_Origin\",6.229208889],UNIT[\"Meter\",1.0]]"
  }
 },
 "initialExtent": {
  "xmin": 817554.3552396108,
  "ymin": 1176897.6474887198,
  "xmax": 833501.7552396108,
  "ymax": 1192671.6474887198,
  "spatialReference": {
   "wkt2": "PROJCRS[\"PCS_MAG_Ant_Medellin\",BASEGEOGCRS[\"GCS_MAG_Ant_Medellin\",DATUM[\"D_DAT_MAG_Ant_Medellin\",ELLIPSOID[\"GRS1980_MAG_Ant_Medellin\",6379647.0,298.257222101,LENGTHUNIT[\"Meter\",1.0]]],PRIMEM[\"Greenwich\",0.0,ANGLEUNIT[\"Degree\",0.0174532925199433]],CS[ellipsoidal,2],ANGLEUNIT[\"Degree\",0.0174532925199433]],CONVERSION[\"Transverse_Mercator\",METHOD[\"Transverse_Mercator\"],PARAMETER[\"False_Easting\",835378.647,LENGTHUNIT[\"Meter\",1.0]],PARAMETER[\"False_Northing\",1180816.875,LENGTHUNIT[\"Meter\",1.0]],PARAMETER[\"Central_Meridian\",-75.56488694,ANGLEUNIT[\"Degree\",0.0174532925199433]],PARAMETER[\"Scale_Factor\",1.0,SCALEUNIT[\"Unity\",1.0]],PARAMETER[\"Latitude_Of_Origin\",6.229208889,ANGLEUNIT[\"Degree\",0.0174532925199433]]],CS[Cartesian,2],AXIS[\"Easting (X)\",east,ORDER[1]],AXIS[\"Northing (Y)\",north,ORDER[2]],LENGTHUNIT[\"Meter\",1.0]]",
   "wkt": "PROJCS[\"PCS_MAG_Ant_Medellin\",GEOGCS[\"GCS_MAG_Ant_Medellin\",DATUM[\"D_DAT_MAG_Ant_Medellin\",SPHEROID[\"GRS1980_MAG_Ant_Medellin\",6379647.0,298.257222101]],PRIMEM[\"Greenwich\",0.0],UNIT[\"Degree\",0.0174532925199433]],PROJECTION[\"Transverse_Mercator\"],PARAMETER[\"False_Easting\",835378.647],PARAMETER[\"False_Northing\",1180816.875],PARAMETER[\"Central_Meridian\",-75.56488694],PARAMETER[\"Scale_Factor\",1.0],PARAMETER[\"Latitude_Of_Origin\",6.229208889],UNIT[\"Meter\",1.0]]"
  }
 },
 "fullExtent": {
  "xmin": 817554.3552396108,
  "ymin": 1176897.6474887198,
  "xmax": 833501.7552396108,
  "ymax": 1192671.6474887198,
  "spatialReference": {
   "wkt2": "PROJCRS[\"PCS_MAG_Ant_Medellin\",BASEGEOGCRS[\"GCS_MAG_Ant_Medellin\",DATUM[\"D_DAT_MAG_Ant_Medellin\",ELLIPSOID[\"GRS1980_MAG_Ant_Medellin\",6379647.0,298.257222101,LENGTHUNIT[\"Meter\",1.0]]],PRIMEM[\"Greenwich\",0.0,ANGLEUNIT[\"Degree\",0.0174532925199433]],CS[ellipsoidal,2],ANGLEUNIT[\"Degree\",0.0174532925199433]],CONVERSION[\"Transverse_Mercator\",METHOD[\"Transverse_Mercator\"],PARAMETER[\"False_Easting\",835378.647,LENGTHUNIT[\"Meter\",1.0]],PARAMETER[\"False_Northing\",1180816.875,LENGTHUNIT[\"Meter\",1.0]],PARAMETER[\"Central_Meridian\",-75.56488694,ANGLEUNIT[\"Degree\",0.0174532925199433]],PARAMETER[\"Scale_Factor\",1.0,SCALEUNIT[\"Unity\",1.0]],PARAMETER[\"Latitude_Of_Origin\",6.229208889,ANGLEUNIT[\"Degree\",0.0174532925199433]]],CS[Cartesian,2],AXIS[\"Easting (X)\",east,ORDER[1]],AXIS[\"Northing (Y)\",north,ORDER[2]],LENGTHUNIT[\"Meter\",1.0]]",
   "wkt": "PROJCS[\"PCS_MAG_Ant_Medellin\",GEOGCS[\"GCS_MAG_Ant_Medellin\",DATUM[\"D_DAT_MAG_Ant_Medellin\",SPHEROID[\"GRS1980_MAG_Ant_Medellin\",6379647.0,298.257222101]],PRIMEM[\"Greenwich\",0.0],UNIT[\"Degree\",0.0174532925199433]],PROJECTION[\"Transverse_Mercator\"],PARAMETER[\"False_Easting\",835378.647],PARAMETER[\"False_Northing\",1180816.875],PARAMETER[\"Central_Meridian\",-75.56488694],PARAMETER[\"Scale_Factor\",1.0],PARAMETER[\"Latitude_Of_Origin\",6.229208889],UNIT[\"Meter\",1.0]]"
  }
 },
 "sortableFields": "",
 "bandCount": 4,
 "pixelType": "U16",
 "minValues": [
  0,
  0,
  0,
  0
 ],
 "maxValues": [
  2000,
  2047,
  1996,
  2047
 ],
 "meanValues": [
  222.04768056118,
  329.78523149466,
  209.1737772026,
  562.0601902027
 ],
 "stdvValues": [
  178.55420786594,
  271.39680335669,
  209.30525461276,
  303.96482912299
 ],
 "serviceProperties": "Center<\/MosaicMethod>First<\/MosaicOperator>true<\/SortAscending><\/LockImageID><\/TileOrderField>0<\/TileOrderBase>0.000000<\/AvgImageSpacingX>0.000000<\/AvgImageSpacingY>0.0<\/ViewPointX>0.0<\/ViewPointY>0.0<\/ViewPointDefShiftX>0.0<\/ViewPointDefShiftY>None<\/CompressionMethod>75<\/CompressionQuality>0.010000<\/CompressionTolerance>Bilinear<\/SamplingMethod><\/ImageServiceProperties><\/ImageServer>",
 "allowedFields": "",
 "hasMultidimensions": false,
 "pixelSizeX": 0.6000000000000009,
 "pixelSizeY": 0.6,
 "meanPixelSize": 0.6000000000000004,
 "datasetFormat": "TIFF",
 "uncompressedSize": 5590095280,
 "blockWidth": 128,
 "blockHeight": 128,
 "compressionType": "LZW",
 "bandNames": [
  "Band_1",
  "Band_2",
  "Band_3",
  "Band_4"
 ],
 "allowCopy": true,
 "allowAnalysis": true,
 "itemAccess": false,
 "inspectionCapabilities": "",
 "noDataValue": 65536,
 "noDataValues": [
  65536,
  65536,
  65536,
  65536
 ],
 "minPixelSize": 0,
 "maxPixelSize": 0,
 "copyrightText": "",
 "serviceDataType": "esriImageServiceDataTypeGeneric",
 "serviceSourceType": "esriImageServiceSourceTypeDataset",
 "objectIdField": "",
 "fields": [],
 "capabilities": "Mensuration,Image,Metadata",
 "defaultMosaicMethod": "Center",
 "allowedMosaicMethods": "",
 "sortField": "",
 "sortValue": null,
 "sortAscending": true,
 "mosaicOperator": "First",
 "defaultCompressionQuality": 75,
 "defaultResamplingMethod": "Bilinear",
 "maxImageHeight": 4100,
 "maxImageWidth": 15000,
 "allowRasterFunction": true,
 "rasterFunctionInfos": [
  {
   "name": "QuickBird_SMA_2006_30",
   "description": "A raster function template.",
   "help": ""
  },
  {
   "name": "QuickBird_SMA_2006_10",
   "description": "A raster function template.",
   "help": ""
  },
  {
   "name": "QuickBird_SMA_2006_20",
   "description": "A raster function template.",
   "help": ""
  },
  {
   "name": "None",
   "description": "",
   "help": ""
  }
 ],
 "rasterTypeInfos": [
  {
   "name": "Raster Dataset",
   "description": "Supports all ArcGIS Raster Datasets",
   "help": ""
  }
 ],
 "mensurationCapabilities": "Basic",
 "hasHistograms": true,
 "hasColormap": false,
 "hasRasterAttributeTable": false,
 "minScale": 0,
 "maxScale": 0,
 "exportTilesAllowed": false,
 "supportsStatistics": false,
 "supportsAdvancedQueries": false,
 "editFieldsInfo": null,
 "ownershipBasedAccessControlForRasters": null,
 "allowComputeTiePoints": false,
 "useStandardizedQueries": true,
 "advancedQueryCapabilities": {
  "useStandardizedQueries": true,
  "supportsStatistics": false,
  "supportsOrderBy": false,
  "supportsDistinct": false,
  "supportsPagination": false
 },
 "spatialReference": {
  "wkt2": "PROJCRS[\"PCS_MAG_Ant_Medellin\",BASEGEOGCRS[\"GCS_MAG_Ant_Medellin\",DATUM[\"D_DAT_MAG_Ant_Medellin\",ELLIPSOID[\"GRS1980_MAG_Ant_Medellin\",6379647.0,298.257222101,LENGTHUNIT[\"Meter\",1.0]]],PRIMEM[\"Greenwich\",0.0,ANGLEUNIT[\"Degree\",0.0174532925199433]],CS[ellipsoidal,2],ANGLEUNIT[\"Degree\",0.0174532925199433]],CONVERSION[\"Transverse_Mercator\",METHOD[\"Transverse_Mercator\"],PARAMETER[\"False_Easting\",835378.647,LENGTHUNIT[\"Meter\",1.0]],PARAMETER[\"False_Northing\",1180816.875,LENGTHUNIT[\"Meter\",1.0]],PARAMETER[\"Central_Meridian\",-75.56488694,ANGLEUNIT[\"Degree\",0.0174532925199433]],PARAMETER[\"Scale_Factor\",1.0,SCALEUNIT[\"Unity\",1.0]],PARAMETER[\"Latitude_Of_Origin\",6.229208889,ANGLEUNIT[\"Degree\",0.0174532925199433]]],CS[Cartesian,2],AXIS[\"Easting (X)\",east,ORDER[1]],AXIS[\"Northing (Y)\",north,ORDER[2]],LENGTHUNIT[\"Meter\",1.0]]",
  "wkt": "PROJCS[\"PCS_MAG_Ant_Medellin\",GEOGCS[\"GCS_MAG_Ant_Medellin\",DATUM[\"D_DAT_MAG_Ant_Medellin\",SPHEROID[\"GRS1980_MAG_Ant_Medellin\",6379647.0,298.257222101]],PRIMEM[\"Greenwich\",0.0],UNIT[\"Degree\",0.0174532925199433]],PROJECTION[\"Transverse_Mercator\"],PARAMETER[\"False_Easting\",835378.647],PARAMETER[\"False_Northing\",1180816.875],PARAMETER[\"Central_Meridian\",-75.56488694],PARAMETER[\"Scale_Factor\",1.0],PARAMETER[\"Latitude_Of_Origin\",6.229208889],UNIT[\"Meter\",1.0]]"
 }
}
