View In:
ArcGIS JavaScript
ArcGIS Online Map Viewer
ArcGIS Earth
Service Description: ServiciosImagen/Antioquia_Oriente_5000
Name: ServiciosImagen/Antioquia_Oriente_5000
Description:
Single Fused Map Cache: false
Extent:
XMin: 841735.3218994141
YMin: 1138401.0627075215
XMax: 885321.1218994141
YMax: 1194738.9627075214
Spatial Reference: 0
(0)
LatestVCSWkid(0)
Initial Extent:
XMin: 841735.3218994141
YMin: 1138401.0627075215
XMax: 885321.1218994141
YMax: 1194738.9627075214
Spatial Reference: 0
(0)
LatestVCSWkid(0)
Full Extent:
XMin: 841735.3218994141
YMin: 1138401.0627075215
XMax: 885321.1218994141
YMax: 1194738.9627075214
Spatial Reference: 0
(0)
LatestVCSWkid(0)
Pixel Size X: 0.3000000000000003
Pixel Size Y: 0.2999999999999995
Band Count: 4
Pixel Type: U8
RasterFunction Infos: {"rasterFunctionInfos": [
{
"name": "Antioquia_Origen_Santuario_5000",
"description": "A raster function template.",
"help": ""
},
{
"name": "Ortofoto_Medellin_RGBI_NW",
"description": "A raster function template.",
"help": ""
},
{
"name": "None",
"description": "",
"help": ""
}
]}
Mensuration Capabilities: Basic
Inspection Capabilities:
Has Histograms: true
Has Colormap: false
Has Multi Dimensions : false
Rendering Rule:
Min Scale: 0
Max Scale: 0
Copyright Text:
Service Data Type: esriImageServiceDataTypeGeneric
Min Values: 1, 1, 1, 1
Max Values: 255, 255, 255, 255
Mean Values: 91.404273171799, 94.431120924433, 81.482117545755, 66.471313090141
Standard Deviation Values: 38.070006543296, 34.863242876451, 34.534084335369, 33.230312940742
Object ID Field:
Fields:
None
Default Mosaic Method: Center
Allowed Mosaic Methods:
SortField:
SortValue: null
Mosaic Operator: First
Default Compression Quality: 75
Default Resampling Method: Bilinear
Max Record Count: null
Max Image Height: 4100
Max Image Width: 15000
Max Download Image Count: null
Max Mosaic Image Count: null
Allow Raster Function: true
Allow Copy: true
Allow Analysis: true
Allow Compute TiePoints: false
Supports Statistics: false
Supports Advanced Queries: false
Use StandardizedQueries: true
Raster Type Infos:
Name: Raster Dataset
Description: Supports all ArcGIS Raster Datasets
Help:
Has Raster Attribute Table: false
Edit Fields Info: null
Ownership Based AccessControl For Rasters: null
Child Resources:
Info
Histograms
Statistics
Key Properties
Legend
Raster Function Infos
Supported Operations:
Export Image
Identify
Measure
Compute Histograms
Compute Statistics Histograms
Get Samples
Compute Class Statistics
Query Boundary
Compute Pixel Location
Compute Angles
Validate
Project