View In:
ArcGIS JavaScript
ArcGIS Online Map Viewer
ArcGIS Earth
Service Description: ServiciosImagen/Cinturon_Occidental
Name: ServiciosImagen/Cinturon_Occidental
Description:
Single Fused Map Cache: false
Extent:
XMin: 825757.8619770138
YMin: 1176549.2404970217
XMax: 835043.4946681517
YMax: 1190761.5123410225
Spatial Reference: 102768
(6257)
LatestVCSWkid(0)
Initial Extent:
XMin: 825757.8619770138
YMin: 1176549.2404970217
XMax: 835043.4946681517
YMax: 1190761.5123410225
Spatial Reference: 102768
(6257)
LatestVCSWkid(0)
Full Extent:
XMin: 825757.8619770138
YMin: 1176549.2404970217
XMax: 835043.4946681517
YMax: 1190761.5123410225
Spatial Reference: 102768
(6257)
LatestVCSWkid(0)
Pixel Size X: 0.10014919099999955
Pixel Size Y: 0.10014919099999851
Band Count: 4
Pixel Type: U16
RasterFunction Infos: {"rasterFunctionInfos": [
{
"name": "Cinturon_w_m_med",
"description": "A raster function template.",
"help": ""
},
{
"name": "None",
"description": "",
"help": ""
}
]}
Mensuration Capabilities: Basic
Inspection Capabilities:
Has Histograms: true
Has Colormap: false
Has Multi Dimensions : false
Rendering Rule:
Min Scale: 0
Max Scale: 0
Copyright Text:
Service Data Type: esriImageServiceDataTypeGeneric
Min Values: 0, 0, 0, 245
Max Values: 255, 255, 255, 255
Mean Values: 71.37268313737, 75.583355891197, 61.575985604564, 254.52061818229
Standard Deviation Values: 37.97264119174, 32.51497977532, 32.00552315449, 0.98120966597621
Object ID Field:
Fields:
None
Default Mosaic Method: Center
Allowed Mosaic Methods:
SortField:
SortValue: null
Mosaic Operator: First
Default Compression Quality: 75
Default Resampling Method: Bilinear
Max Record Count: null
Max Image Height: 4100
Max Image Width: 15000
Max Download Image Count: null
Max Mosaic Image Count: null
Allow Raster Function: true
Allow Copy: true
Allow Analysis: true
Allow Compute TiePoints: false
Supports Statistics: false
Supports Advanced Queries: false
Use StandardizedQueries: true
Raster Type Infos:
Name: Raster Dataset
Description: Supports all ArcGIS Raster Datasets
Help:
Has Raster Attribute Table: false
Edit Fields Info: null
Ownership Based AccessControl For Rasters: null
Child Resources:
Info
Histograms
Statistics
Key Properties
Legend
Raster Function Infos
Supported Operations:
Export Image
Identify
Measure
Compute Histograms
Compute Statistics Histograms
Get Samples
Compute Class Statistics
Query Boundary
Compute Pixel Location
Compute Angles
Validate
Project