View In:
ArcGIS JavaScript
ArcGIS Online Map Viewer
ArcGIS Earth
Service Description: ServiciosImagen/Cinturon_Oriental
Name: ServiciosImagen/Cinturon_Oriental
Description:
Single Fused Map Cache: false
Extent:
XMin: 833904.9083980445
YMin: 1174220.52674515
XMax: 842058.8634484964
YMax: 1189919.9387148179
Spatial Reference: 102768
(6257)
LatestVCSWkid(0)
Initial Extent:
XMin: 833904.9083980445
YMin: 1174220.52674515
XMax: 842058.8634484964
YMax: 1189919.9387148179
Spatial Reference: 102768
(6257)
LatestVCSWkid(0)
Full Extent:
XMin: 833904.9083980445
YMin: 1174220.52674515
XMax: 842058.8634484964
YMax: 1189919.9387148179
Spatial Reference: 102768
(6257)
LatestVCSWkid(0)
Pixel Size X: 0.10011486199999894
Pixel Size Y: 0.10011486199999851
Band Count: 4
Pixel Type: U16
RasterFunction Infos: {"rasterFunctionInfos": [
{
"name": "cinturon_e_m_med",
"description": "A raster function template.",
"help": ""
},
{
"name": "Cinturon_w_m_med",
"description": "A raster function template.",
"help": ""
},
{
"name": "None",
"description": "",
"help": ""
}
]}
Mensuration Capabilities: Basic
Inspection Capabilities:
Has Histograms: true
Has Colormap: false
Has Multi Dimensions : false
Rendering Rule:
Min Scale: 0
Max Scale: 0
Copyright Text:
Service Data Type: esriImageServiceDataTypeGeneric
Min Values: 0, 0, 0, 244
Max Values: 255, 255, 255, 255
Mean Values: 73.209990495941, 82.142369137524, 70.300377175305, 254.57508679339
Standard Deviation Values: 40.43585098353, 35.984269096699, 35.468668993979, 0.88060909912844
Object ID Field:
Fields:
None
Default Mosaic Method: Center
Allowed Mosaic Methods:
SortField:
SortValue: null
Mosaic Operator: First
Default Compression Quality: 75
Default Resampling Method: Bilinear
Max Record Count: null
Max Image Height: 4100
Max Image Width: 15000
Max Download Image Count: null
Max Mosaic Image Count: null
Allow Raster Function: true
Allow Copy: true
Allow Analysis: true
Allow Compute TiePoints: false
Supports Statistics: false
Supports Advanced Queries: false
Use StandardizedQueries: true
Raster Type Infos:
Name: Raster Dataset
Description: Supports all ArcGIS Raster Datasets
Help:
Has Raster Attribute Table: false
Edit Fields Info: null
Ownership Based AccessControl For Rasters: null
Child Resources:
Info
Histograms
Statistics
Key Properties
Legend
Raster Function Infos
Supported Operations:
Export Image
Identify
Measure
Compute Histograms
Compute Statistics Histograms
Get Samples
Compute Class Statistics
Query Boundary
Compute Pixel Location
Compute Angles
Validate
Project