View In:
ArcGIS JavaScript
ArcGIS Online Map Viewer
ArcGIS Earth
Service Description: Aerografía de Medellín tomada en el año 1994. La información corresponde a la zona del centro. Escala aproximada 1:10.000. Resolución de imagen aproximada de 75 cm
Name: ServiciosImagen/Imagen1994
Description: Aerografía de Medellín tomada en el año 1994. La información corresponde a la zona del centro. Escala aproximada 1:10.000. Resolución de imagen aproximada de 75 cm
Single Fused Map Cache: false
Extent:
XMin: 833524.6558688232
YMin: 1180545.158403947
XMax: 836327.9867657038
YMax: 1186888.2721856923
Spatial Reference: 0
(0)
LatestVCSWkid(0)
Initial Extent:
XMin: 833524.6558688232
YMin: 1180545.158403947
XMax: 836327.9867657038
YMax: 1186888.2721856923
Spatial Reference: 0
(0)
LatestVCSWkid(0)
Full Extent:
XMin: 833524.6558688232
YMin: 1180545.158403947
XMax: 836327.9867657038
YMax: 1186888.2721856923
Spatial Reference: 0
(0)
LatestVCSWkid(0)
Pixel Size X: 0.45346666077007347
Pixel Size Y: 0.4535006635980062
Band Count: 3
Pixel Type: U8
RasterFunction Infos: {"rasterFunctionInfos": [{
"name": "None",
"description": "",
"help": ""
}]}
Mensuration Capabilities: Basic
Inspection Capabilities:
Has Histograms: true
Has Colormap: false
Has Multi Dimensions : false
Rendering Rule:
Min Scale: 0
Max Scale: 0
Resampling: false
Copyright Text: Departamento Administrativo de Planeación, Subdirección de Prospectiva e Información y Evaluación Estratégica, Centro de Documentación.
Service Data Type: esriImageServiceDataTypeRGB
Min Values: 1, 1, 1
Max Values: 255, 255, 255
Mean Values: 150.50850688028086, 150.50850688028086, 150.50850688028086
Standard Deviation Values: 46.18647389663674, 46.18647389663674, 46.18647389663674
Object ID Field:
Fields:
None
Default Mosaic Method: Center
Allowed Mosaic Methods:
SortField:
SortValue: null
Mosaic Operator: First
Default Compression Quality: 75
Default Resampling Method: Bilinear
Max Record Count: null
Max Image Height: 4100
Max Image Width: 15000
Max Download Image Count: null
Max Mosaic Image Count: null
Allow Raster Function: true
Allow Copy: true
Allow Analysis: true
Allow Compute TiePoints: false
Supports Statistics: false
Supports Advanced Queries: false
Use StandardizedQueries: true
Raster Type Infos:
Name: Raster Dataset
Description: Supports all ArcGIS Raster Datasets
Help:
Has Raster Attribute Table: false
Edit Fields Info: null
Ownership Based AccessControl For Rasters: null
Child Resources:
Info
Histograms
Statistics
Key Properties
Legend
Raster Function Infos
Supported Operations:
Export Image
Identify
Measure
Compute Histograms
Compute Statistics Histograms
Get Samples
Compute Class Statistics
Query Boundary
Compute Pixel Location
Compute Angles
Validate
Project