View In:
ArcGIS JavaScript
ArcGIS Online Map Viewer
ArcGIS Earth
Service Description: ServiciosImagen/Modelo_digital_de_iluminacion_Medellin
Name: ServiciosImagen/Modelo_digital_de_iluminacion_Medellin
Description:
Single Fused Map Cache: false
Extent:
XMin: 816242.7021446824
YMin: 1172489.9238103342
XMax: 846271.8527181724
YMax: 1197512.548780216
Spatial Reference: 0
(0)
LatestVCSWkid(0)
Initial Extent:
XMin: 816242.7021446824
YMin: 1172489.9238103342
XMax: 846271.8527181724
YMax: 1197512.548780216
Spatial Reference: 0
(0)
LatestVCSWkid(0)
Full Extent:
XMin: 816242.7021446824
YMin: 1172489.9238103342
XMax: 846271.8527181724
YMax: 1197512.548780216
Spatial Reference: 0
(0)
LatestVCSWkid(0)
Pixel Size X: 5.00152407952864
Pixel Size Y: 5.001524079528628
Band Count: 1
Pixel Type: U8
RasterFunction Infos: {"rasterFunctionInfos": [{
"name": "None",
"description": "",
"help": ""
}]}
Mensuration Capabilities: Basic
Inspection Capabilities:
Has Histograms: true
Has Colormap: false
Has Multi Dimensions : false
Rendering Rule:
Min Scale: 0
Max Scale: 0
Resampling: false
Copyright Text:
Service Data Type: esriImageServiceDataTypeGeneric
Min Values: 0
Max Values: 254
Mean Values: 164.83091170336
Standard Deviation Values: 52.80081382663
Object ID Field:
Fields:
None
Default Mosaic Method: Center
Allowed Mosaic Methods:
SortField:
SortValue: null
Mosaic Operator: First
Default Compression Quality: 75
Default Resampling Method: Bilinear
Max Record Count: null
Max Image Height: 4100
Max Image Width: 15000
Max Download Image Count: null
Max Mosaic Image Count: null
Allow Raster Function: true
Allow Copy: true
Allow Analysis: true
Allow Compute TiePoints: false
Supports Statistics: false
Supports Advanced Queries: false
Use StandardizedQueries: true
Raster Type Infos:
Name: Raster Dataset
Description: Supports all ArcGIS Raster Datasets
Help:
Has Raster Attribute Table: true
Edit Fields Info: null
Ownership Based AccessControl For Rasters: null
Child Resources:
Info
Raster Attribute Table
Histograms
Statistics
Key Properties
Legend
Raster Function Infos
Supported Operations:
Export Image
Identify
Measure
Compute Histograms
Compute Statistics Histograms
Get Samples
Compute Class Statistics
Query Boundary
Compute Pixel Location
Compute Angles
Validate
Project