View In:
ArcGIS JavaScript
ArcGIS Online Map Viewer
ArcGIS Earth
Service Description: ServiciosImagen/Mosaico_Rio
Name: ServiciosImagen/Mosaico_Rio
Description:
Single Fused Map Cache: false
Extent:
XMin: 831966.3267630567
YMin: 1175748.1430445886
XMax: 836592.6267630567
YMax: 1190052.743044589
Spatial Reference: 102768
(6257)
LatestVCSWkid(0)
Initial Extent:
XMin: 831966.3267630567
YMin: 1175748.1430445886
XMax: 836592.6267630567
YMax: 1190052.743044589
Spatial Reference: 102768
(6257)
LatestVCSWkid(0)
Full Extent:
XMin: 831966.3267630567
YMin: 1175748.1430445886
XMax: 836592.6267630567
YMax: 1190052.743044589
Spatial Reference: 102768
(6257)
LatestVCSWkid(0)
Pixel Size X: 0.15000000000000152
Pixel Size Y: 0.1500000000000034
Band Count: 3
Pixel Type: U16
RasterFunction Infos: {"rasterFunctionInfos": [
{
"name": "Mosaico_rio",
"description": "A raster function template.",
"help": ""
},
{
"name": "Cinturon_w_m_med",
"description": "A raster function template.",
"help": ""
},
{
"name": "cinturon_e_m_med",
"description": "A raster function template.",
"help": ""
},
{
"name": "None",
"description": "",
"help": ""
}
]}
Mensuration Capabilities: Basic
Inspection Capabilities:
Has Histograms: true
Has Colormap: false
Has Multi Dimensions : false
Rendering Rule:
Min Scale: 0
Max Scale: 0
Copyright Text:
Service Data Type: esriImageServiceDataTypeGeneric
Min Values: 0, 0, 0
Max Values: 255, 255, 255
Mean Values: 68.690117356429, 76.732972478217, 71.124999763881
Standard Deviation Values: 39.626705972044, 39.049988093091, 39.427659403699
Object ID Field:
Fields:
None
Default Mosaic Method: Center
Allowed Mosaic Methods:
SortField:
SortValue: null
Mosaic Operator: First
Default Compression Quality: 75
Default Resampling Method: Bilinear
Max Record Count: null
Max Image Height: 4100
Max Image Width: 15000
Max Download Image Count: null
Max Mosaic Image Count: null
Allow Raster Function: true
Allow Copy: true
Allow Analysis: true
Allow Compute TiePoints: false
Supports Statistics: false
Supports Advanced Queries: false
Use StandardizedQueries: true
Raster Type Infos:
Name: Raster Dataset
Description: Supports all ArcGIS Raster Datasets
Help:
Has Raster Attribute Table: false
Edit Fields Info: null
Ownership Based AccessControl For Rasters: null
Child Resources:
Info
Histograms
Statistics
Key Properties
Legend
Raster Function Infos
Supported Operations:
Export Image
Identify
Measure
Compute Histograms
Compute Statistics Histograms
Get Samples
Compute Class Statistics
Query Boundary
Compute Pixel Location
Compute Angles
Validate
Project