View In:
ArcGIS JavaScript
ArcGIS Online Map Viewer
ArcGIS Earth
Service Description: ServiciosImagen/Ortofoto_Medellin_2016_Centro
Name: ServiciosImagen/Ortofoto_Medellin_2016_Centro
Description:
Single Fused Map Cache: false
Extent:
XMin: 820803.9693722607
YMin: 1173606.268834141
XMax: 845387.2693722608
YMax: 1190750.038834141
Spatial Reference: 102768
(6257)
LatestVCSWkid(0)
Initial Extent:
XMin: 820803.9693722607
YMin: 1173606.268834141
XMax: 845387.2693722608
YMax: 1190750.038834141
Spatial Reference: 102768
(6257)
LatestVCSWkid(0)
Full Extent:
XMin: 820803.9693722607
YMin: 1173606.268834141
XMax: 845387.2693722608
YMax: 1190750.038834141
Spatial Reference: 102768
(6257)
LatestVCSWkid(0)
Pixel Size X: 0.07000000000000013
Pixel Size Y: 0.07000000000000008
Band Count: 5
Pixel Type: U8
RasterFunction Infos: {"rasterFunctionInfos": [
{
"name": "Mosaico_Urbano_Medellin_2019",
"description": "A raster function template.",
"help": ""
},
{
"name": "Ortofoto_Medellin_2021_EPSG6257",
"description": "A raster function template.",
"help": ""
},
{
"name": "Ortofoto_Medellin_2019_RGB",
"description": "A raster function template.",
"help": ""
},
{
"name": "Ortofoto_Medellin_2019_RGI",
"description": "A raster function template.",
"help": ""
},
{
"name": "Ortofoto_Medellin_2019_RIB",
"description": "A raster function template.",
"help": ""
},
{
"name": "Ortofoto_Medellin_2019_IGB",
"description": "A raster function template.",
"help": ""
},
{
"name": "None",
"description": "",
"help": ""
}
]}
Mensuration Capabilities: Basic
Inspection Capabilities:
Has Histograms: true
Has Colormap: false
Has Multi Dimensions : false
Rendering Rule:
Min Scale: 0
Max Scale: 0
Resampling: false
Copyright Text:
Service Data Type: esriImageServiceDataTypeGeneric
Min Values: 0, 0, 0, 0, 0
Max Values: 255, 255, 255, 255, 255
Mean Values: 31.013989198941, 31.543443018961, 27.97030985593, 36.624470069604, 90.963805236246
Standard Deviation Values: 50.519096507921, 48.754270943884, 44.71823059509, 54.854754629994, 122.15300435257
Object ID Field:
Fields:
None
Default Mosaic Method: Center
Allowed Mosaic Methods:
SortField:
SortValue: null
Mosaic Operator: First
Default Compression Quality: 75
Default Resampling Method: Bilinear
Max Record Count: null
Max Image Height: 4100
Max Image Width: 15000
Max Download Image Count: null
Max Mosaic Image Count: null
Allow Raster Function: true
Allow Copy: true
Allow Analysis: true
Allow Compute TiePoints: false
Supports Statistics: false
Supports Advanced Queries: false
Use StandardizedQueries: true
Raster Type Infos:
Name: Raster Dataset
Description: Supports all ArcGIS Raster Datasets
Help:
Has Raster Attribute Table: false
Edit Fields Info: null
Ownership Based AccessControl For Rasters: null
Child Resources:
Info
Histograms
Statistics
Key Properties
Legend
Raster Function Infos
Supported Operations:
Export Image
Identify
Measure
Compute Histograms
Compute Statistics Histograms
Get Samples
Compute Class Statistics
Query Boundary
Compute Pixel Location
Compute Angles
Validate
Project