View In:
ArcGIS JavaScript
ArcGIS Online Map Viewer
ArcGIS Earth
Service Description: ServiciosImagen/Ortofotos_2004_SIGMA
Name: ServiciosImagen/Ortofotos_2004_SIGMA
Description:
Single Fused Map Cache: false
Extent:
XMin: 816245.2899911215
YMin: 1172503.8532802584
XMax: 845845.8999656743
YMax: 1197510.003258761
Spatial Reference: 102768
(6257)
LatestVCSWkid(0)
Initial Extent:
XMin: 816245.2899911215
YMin: 1172503.8532802584
XMax: 845845.8999656743
YMax: 1197510.003258761
Spatial Reference: 102768
(6257)
LatestVCSWkid(0)
Full Extent:
XMin: 816245.2899911215
YMin: 1172503.8532802584
XMax: 845845.8999656743
YMax: 1197510.003258761
Spatial Reference: 102768
(6257)
LatestVCSWkid(0)
Pixel Size X: 0.1299999998882408
Pixel Size Y: 0.1299999998882413
Band Count: 1
Pixel Type: U16
RasterFunction Infos: {"rasterFunctionInfos": [
{
"name": "Ortofotos_2004_magna_med",
"description": "A raster function template.",
"help": ""
},
{
"name": "None",
"description": "",
"help": ""
}
]}
Mensuration Capabilities: Basic
Inspection Capabilities:
Has Histograms: false
Has Colormap: false
Has Multi Dimensions : false
Rendering Rule:
Min Scale: 0
Max Scale: 0
Copyright Text:
Service Data Type: esriImageServiceDataTypeGeneric
Min Values: N/A
Max Values: N/A
Mean Values: N/A
Standard Deviation Values: N/A
Object ID Field:
Fields:
None
Default Mosaic Method: Center
Allowed Mosaic Methods:
SortField:
SortValue: null
Mosaic Operator: First
Default Compression Quality: 75
Default Resampling Method: Bilinear
Max Record Count: null
Max Image Height: 4100
Max Image Width: 15000
Max Download Image Count: null
Max Mosaic Image Count: null
Allow Raster Function: true
Allow Copy: true
Allow Analysis: true
Allow Compute TiePoints: false
Supports Statistics: false
Supports Advanced Queries: false
Use StandardizedQueries: true
Raster Type Infos:
Name: Raster Dataset
Description: Supports all ArcGIS Raster Datasets
Help:
Has Raster Attribute Table: true
Edit Fields Info: null
Ownership Based AccessControl For Rasters: null
Child Resources:
Info
Raster Attribute Table
Statistics
Key Properties
Legend
Raster Function Infos
Supported Operations:
Export Image
Identify
Measure
Compute Histograms
Compute Statistics Histograms
Get Samples
Compute Class Statistics
Query Boundary
Compute Pixel Location
Compute Angles
Validate
Project