View In:
ArcGIS JavaScript
ArcGIS Online Map Viewer
ArcGIS Earth
Service Description: ServiciosImagen/QuickBird_2006_1
Name: ServiciosImagen/QuickBird_2006_1
Description:
Single Fused Map Cache: false
Extent:
XMin: 833995.02178688
YMin: 1181085.9269065957
XMax: 846842.82178688
YMax: 1194684.9269065957
Spatial Reference: 0
(0)
LatestVCSWkid(0)
Initial Extent:
XMin: 833995.02178688
YMin: 1181085.9269065957
XMax: 846842.82178688
YMax: 1194684.9269065957
Spatial Reference: 0
(0)
LatestVCSWkid(0)
Full Extent:
XMin: 833995.02178688
YMin: 1181085.9269065957
XMax: 846842.82178688
YMax: 1194684.9269065957
Spatial Reference: 0
(0)
LatestVCSWkid(0)
Pixel Size X: 0.6000000000000022
Pixel Size Y: 0.6
Band Count: 3
Pixel Type: U16
RasterFunction Infos: {"rasterFunctionInfos": [
{
"name": "QuickBird_SMA_2006_10",
"description": "A raster function template.",
"help": ""
},
{
"name": "None",
"description": "",
"help": ""
}
]}
Mensuration Capabilities: Basic
Inspection Capabilities:
Has Histograms: true
Has Colormap: false
Has Multi Dimensions : false
Rendering Rule:
Min Scale: 0
Max Scale: 0
Copyright Text:
Service Data Type: esriImageServiceDataTypeGeneric
Min Values: 0, 0, 0
Max Values: 2047, 2047, 2047
Mean Values: 189.32112323263, 286.64394157659, 192.09943423657
Standard Deviation Values: 197.43190885837, 262.56961534126, 174.29774200932
Object ID Field:
Fields:
None
Default Mosaic Method: Center
Allowed Mosaic Methods:
SortField:
SortValue: null
Mosaic Operator: First
Default Compression Quality: 75
Default Resampling Method: Bilinear
Max Record Count: null
Max Image Height: 4100
Max Image Width: 15000
Max Download Image Count: null
Max Mosaic Image Count: null
Allow Raster Function: true
Allow Copy: true
Allow Analysis: true
Allow Compute TiePoints: false
Supports Statistics: false
Supports Advanced Queries: false
Use StandardizedQueries: true
Raster Type Infos:
Name: Raster Dataset
Description: Supports all ArcGIS Raster Datasets
Help:
Has Raster Attribute Table: false
Edit Fields Info: null
Ownership Based AccessControl For Rasters: null
Child Resources:
Info
Histograms
Statistics
Key Properties
Legend
Raster Function Infos
Supported Operations:
Export Image
Identify
Measure
Compute Histograms
Compute Statistics Histograms
Get Samples
Compute Class Statistics
Query Boundary
Compute Pixel Location
Compute Angles
Validate
Project