View In:
ArcGIS JavaScript
ArcGIS Online Map Viewer
ArcGIS Earth
Service Description: ServiciosImagen/QuickBird_2006_2
Name: ServiciosImagen/QuickBird_2006_2
Description:
Single Fused Map Cache: false
Extent:
XMin: 833588.4811579621
YMin: 1172277.3983150176
XMax: 846517.8811579621
YMax: 1182611.1983150176
Spatial Reference: 0
(0)
LatestVCSWkid(0)
Initial Extent:
XMin: 833588.4811579621
YMin: 1172277.3983150176
XMax: 846517.8811579621
YMax: 1182611.1983150176
Spatial Reference: 0
(0)
LatestVCSWkid(0)
Full Extent:
XMin: 833588.4811579621
YMin: 1172277.3983150176
XMax: 846517.8811579621
YMax: 1182611.1983150176
Spatial Reference: 0
(0)
LatestVCSWkid(0)
Pixel Size X: 0.6000000000000011
Pixel Size Y: 0.6000000000000028
Band Count: 4
Pixel Type: U16
RasterFunction Infos: {"rasterFunctionInfos": [
{
"name": "QuickBird_SMA_2006_20",
"description": "A raster function template.",
"help": ""
},
{
"name": "QuickBird_SMA_2006_10",
"description": "A raster function template.",
"help": ""
},
{
"name": "None",
"description": "",
"help": ""
}
]}
Mensuration Capabilities: Basic
Inspection Capabilities:
Has Histograms: true
Has Colormap: false
Has Multi Dimensions : false
Rendering Rule:
Min Scale: 0
Max Scale: 0
Copyright Text:
Service Data Type: esriImageServiceDataTypeGeneric
Min Values: 0, 0, 0, 0
Max Values: 2047, 2047, 2047, 2047
Mean Values: 242.62654992877, 373.32573045852, 252.44634929705, 624.60012662068
Standard Deviation Values: 112.49499018249, 173.06496532853, 152.77854850647, 227.01005866097
Object ID Field:
Fields:
None
Default Mosaic Method: Center
Allowed Mosaic Methods:
SortField:
SortValue: null
Mosaic Operator: First
Default Compression Quality: 75
Default Resampling Method: Bilinear
Max Record Count: null
Max Image Height: 4100
Max Image Width: 15000
Max Download Image Count: null
Max Mosaic Image Count: null
Allow Raster Function: true
Allow Copy: true
Allow Analysis: true
Allow Compute TiePoints: false
Supports Statistics: false
Supports Advanced Queries: false
Use StandardizedQueries: true
Raster Type Infos:
Name: Raster Dataset
Description: Supports all ArcGIS Raster Datasets
Help:
Has Raster Attribute Table: false
Edit Fields Info: null
Ownership Based AccessControl For Rasters: null
Child Resources:
Info
Histograms
Statistics
Key Properties
Legend
Raster Function Infos
Supported Operations:
Export Image
Identify
Measure
Compute Histograms
Compute Statistics Histograms
Get Samples
Compute Class Statistics
Query Boundary
Compute Pixel Location
Compute Angles
Validate
Project