View In:
ArcGIS JavaScript
ArcGIS Online Map Viewer
ArcGIS Earth
Service Description: ServiciosImagen/QuickBird_2006_5
Name: ServiciosImagen/QuickBird_2006_5
Description:
Single Fused Map Cache: false
Extent:
XMin: 825300.4680819683
YMin: 1175003.419571957
XMax: 836492.8680819683
YMax: 1183973.419571957
Spatial Reference: 0
(0)
LatestVCSWkid(0)
Initial Extent:
XMin: 825300.4680819683
YMin: 1175003.419571957
XMax: 836492.8680819683
YMax: 1183973.419571957
Spatial Reference: 0
(0)
LatestVCSWkid(0)
Full Extent:
XMin: 825300.4680819683
YMin: 1175003.419571957
XMax: 836492.8680819683
YMax: 1183973.419571957
Spatial Reference: 0
(0)
LatestVCSWkid(0)
Pixel Size X: 0.6000000000000012
Pixel Size Y: 0.6
Band Count: 4
Pixel Type: U16
RasterFunction Infos: {"rasterFunctionInfos": [
{
"name": "QuickBird_SMA_2006_50",
"description": "A raster function template.",
"help": ""
},
{
"name": "QuickBird_SMA_2006_10",
"description": "A raster function template.",
"help": ""
},
{
"name": "QuickBird_SMA_2006_20",
"description": "A raster function template.",
"help": ""
},
{
"name": "QuickBird_SMA_2006_30",
"description": "A raster function template.",
"help": ""
},
{
"name": "QuickBird_SMA_2006_40",
"description": "A raster function template.",
"help": ""
},
{
"name": "None",
"description": "",
"help": ""
}
]}
Mensuration Capabilities: Basic
Inspection Capabilities:
Has Histograms: true
Has Colormap: false
Has Multi Dimensions : false
Rendering Rule:
Min Scale: 0
Max Scale: 0
Copyright Text:
Service Data Type: esriImageServiceDataTypeGeneric
Min Values: 0, 0, 0, 0
Max Values: 2047, 2047, 2047, 2047
Mean Values: 302.46125669963, 425.28090187692, 286.549618775, 464.93217033082
Standard Deviation Values: 254.34349244667, 348.40515327057, 279.47981082374, 325.53804503902
Object ID Field:
Fields:
None
Default Mosaic Method: Center
Allowed Mosaic Methods:
SortField:
SortValue: null
Mosaic Operator: First
Default Compression Quality: 75
Default Resampling Method: Bilinear
Max Record Count: null
Max Image Height: 4100
Max Image Width: 15000
Max Download Image Count: null
Max Mosaic Image Count: null
Allow Raster Function: true
Allow Copy: true
Allow Analysis: true
Allow Compute TiePoints: false
Supports Statistics: false
Supports Advanced Queries: false
Use StandardizedQueries: true
Raster Type Infos:
Name: Raster Dataset
Description: Supports all ArcGIS Raster Datasets
Help:
Has Raster Attribute Table: false
Edit Fields Info: null
Ownership Based AccessControl For Rasters: null
Child Resources:
Info
Histograms
Statistics
Key Properties
Legend
Raster Function Infos
Supported Operations:
Export Image
Identify
Measure
Compute Histograms
Compute Statistics Histograms
Get Samples
Compute Class Statistics
Query Boundary
Compute Pixel Location
Compute Angles
Validate
Project