View In:
ArcGIS JavaScript
ArcGIS Online Map Viewer
ArcGIS Earth
Service Description: ServiciosImagen/QuickBird_2008
Name: ServiciosImagen/QuickBird_2008
Description:
Single Fused Map Cache: false
Extent:
XMin: 824941.8753634419
YMin: 1172498.2959374394
XMax: 843357.6753634419
YMax: 1196600.2959374394
Spatial Reference: 102768
(6257)
LatestVCSWkid(0)
Initial Extent:
XMin: 824941.8753634419
YMin: 1172498.2959374394
XMax: 843357.6753634419
YMax: 1196600.2959374394
Spatial Reference: 102768
(6257)
LatestVCSWkid(0)
Full Extent:
XMin: 824941.8753634419
YMin: 1172498.2959374394
XMax: 843357.6753634419
YMax: 1196600.2959374394
Spatial Reference: 102768
(6257)
LatestVCSWkid(0)
Pixel Size X: 0.6000000000000015
Pixel Size Y: 0.6
Band Count: 3
Pixel Type: U8
RasterFunction Infos: {"rasterFunctionInfos": [
{
"name": "QB2008_MAGNA_Medellin_2010",
"description": "A raster function template.",
"help": ""
},
{
"name": "None",
"description": "",
"help": ""
}
]}
Mensuration Capabilities: Basic
Inspection Capabilities:
Has Histograms: true
Has Colormap: false
Has Multi Dimensions : false
Rendering Rule:
Min Scale: 0
Max Scale: 0
Resampling: false
Copyright Text:
Service Data Type: esriImageServiceDataTypeRGB
Min Values: 0, 0, 0
Max Values: 255, 255, 255
Mean Values: 58.744394433838, 71.511563406543, 73.489462029746
Standard Deviation Values: 51.876915739213, 56.464958718112, 57.147073861272
Object ID Field:
Fields:
None
Default Mosaic Method: Center
Allowed Mosaic Methods:
SortField:
SortValue: null
Mosaic Operator: First
Default Compression Quality: 75
Default Resampling Method: Bilinear
Max Record Count: null
Max Image Height: 4100
Max Image Width: 15000
Max Download Image Count: null
Max Mosaic Image Count: null
Allow Raster Function: true
Allow Copy: true
Allow Analysis: true
Allow Compute TiePoints: false
Supports Statistics: false
Supports Advanced Queries: false
Use StandardizedQueries: true
Raster Type Infos:
Name: Raster Dataset
Description: Supports all ArcGIS Raster Datasets
Help:
Has Raster Attribute Table: false
Edit Fields Info: null
Ownership Based AccessControl For Rasters: null
Child Resources:
Info
Histograms
Statistics
Key Properties
Legend
Raster Function Infos
Supported Operations:
Export Image
Identify
Measure
Compute Histograms
Compute Statistics Histograms
Get Samples
Compute Class Statistics
Query Boundary
Compute Pixel Location
Compute Angles
Validate
Project