View In:
ArcGIS JavaScript
ArcGIS Online Map Viewer
ArcGIS Earth
Service Description: ServiciosImagen/mosaico_rio_medellin_m_bog
Name: ServiciosImagen/mosaico_rio_medellin_m_bog
Description:
Single Fused Map Cache: false
Extent:
XMin: 831980.6775172111
YMin: 1175754.2289438262
XMax: 836616.4775172111
YMax: 1190051.7289438262
Spatial Reference: 3116
(3116)
LatestVCSWkid(0)
Initial Extent:
XMin: 831980.6775172111
YMin: 1175754.2289438262
XMax: 836616.4775172111
YMax: 1190051.7289438262
Spatial Reference: 3116
(3116)
LatestVCSWkid(0)
Full Extent:
XMin: 831980.6775172111
YMin: 1175754.2289438262
XMax: 836616.4775172111
YMax: 1190051.7289438262
Spatial Reference: 3116
(3116)
LatestVCSWkid(0)
Pixel Size X: 0.100000000000001
Pixel Size Y: 0.1
Band Count: 4
Pixel Type: U16
RasterFunction Infos: {"rasterFunctionInfos": [
{
"name": "None",
"description": "Make a Raster or Raster Dataset into a Function Raster Dataset.",
"help": ""
},
{
"name": "Mosaico_rio",
"description": "A raster function template.",
"help": ""
}
]}
Mensuration Capabilities: Basic
Inspection Capabilities:
Has Histograms: true
Has Colormap: false
Has Multi Dimensions : false
Rendering Rule:
Min Scale: 0
Max Scale: 0
Copyright Text:
Service Data Type: esriImageServiceDataTypeGeneric
Min Values: 0, 0, 0, 0
Max Values: 255, 255, 255, 255
Mean Values: 72.956969218862, 83.289769492287, 75.83234989854, 254.92595834756
Standard Deviation Values: 44.453471092316, 42.128710333308, 43.204122181095, 4.3445528207612
Object ID Field:
Fields:
None
Default Mosaic Method: Center
Allowed Mosaic Methods:
SortField:
SortValue: null
Mosaic Operator: First
Default Compression Quality: 75
Default Resampling Method: Bilinear
Max Record Count: null
Max Image Height: 4100
Max Image Width: 15000
Max Download Image Count: null
Max Mosaic Image Count: null
Allow Raster Function: true
Allow Copy: true
Allow Analysis: true
Allow Compute TiePoints: false
Supports Statistics: false
Supports Advanced Queries: false
Use StandardizedQueries: true
Raster Type Infos:
Name: Raster Dataset
Description: Supports all ArcGIS Raster Datasets
Help:
Has Raster Attribute Table: false
Edit Fields Info: null
Ownership Based AccessControl For Rasters: null
Child Resources:
Info
Histograms
Statistics
Key Properties
Legend
Raster Function Infos
Supported Operations:
Export Image
Identify
Measure
Compute Histograms
Compute Statistics Histograms
Get Samples
Compute Class Statistics
Query Boundary
Compute Pixel Location
Compute Angles
Validate
Project