View In:
ArcGIS JavaScript
ArcGIS Online Map Viewer
ArcGIS Earth
Service Description: ServiciosImagen/ortofoto_bello_2021_jp2
Name: ServiciosImagen/ortofoto_bello_2021_jp2
Description:
Single Fused Map Cache: false
Extent:
XMin: 823916.96914
YMin: 1187281.0436099998
XMax: 840914.72914
YMax: 1203222.38361
Spatial Reference: 3116
(3116)
LatestVCSWkid(0)
Initial Extent:
XMin: 823916.96914
YMin: 1187281.0436099998
XMax: 840914.72914
YMax: 1203222.38361
Spatial Reference: 3116
(3116)
LatestVCSWkid(0)
Full Extent:
XMin: 823916.96914
YMin: 1187281.0436099998
XMax: 840914.72914
YMax: 1203222.38361
Spatial Reference: 3116
(3116)
LatestVCSWkid(0)
Pixel Size X: 0.09000000000000005
Pixel Size Y: 0.09000000000000047
Band Count: 5
Pixel Type: U8
RasterFunction Infos: {"rasterFunctionInfos": [
{
"name": "bello",
"description": "rgb",
"help": ""
},
{
"name": "None",
"description": "",
"help": ""
}
]}
Mensuration Capabilities: Basic
Inspection Capabilities:
Has Histograms: true
Has Colormap: false
Has Multi Dimensions : false
Rendering Rule:
Min Scale: 0
Max Scale: 0
Resampling: false
Copyright Text:
Service Data Type: esriImageServiceDataTypeGeneric
Min Values: 0, 0, 0, 0, 255
Max Values: 255, 255, 255, 255, 255
Mean Values: 178.64114079919, 183.54819520325, 170.42556114524, 132.06059887874, 255
Standard Deviation Values: 78.560422206064, 72.995654235057, 84.60272198451, 126.94922596232, 0
Object ID Field:
Fields:
None
Default Mosaic Method: Center
Allowed Mosaic Methods:
SortField:
SortValue: null
Mosaic Operator: First
Default Compression Quality: 75
Default Resampling Method: Bilinear
Max Record Count: null
Max Image Height: 4100
Max Image Width: 15000
Max Download Image Count: null
Max Mosaic Image Count: null
Allow Raster Function: true
Allow Copy: true
Allow Analysis: true
Allow Compute TiePoints: false
Supports Statistics: false
Supports Advanced Queries: false
Use StandardizedQueries: true
Raster Type Infos:
Name: Raster Dataset
Description: Supports all ArcGIS Raster Datasets
Help:
Has Raster Attribute Table: false
Edit Fields Info: null
Ownership Based AccessControl For Rasters: null
Child Resources:
Info
Histograms
Statistics
Key Properties
Legend
Raster Function Infos
Supported Operations:
Export Image
Identify
Measure
Compute Histograms
Compute Statistics Histograms
Get Samples
Compute Class Statistics
Query Boundary
Compute Pixel Location
Compute Angles
Validate
Project