View In:
ArcGIS JavaScript
ArcGIS Online Map Viewer
ArcGIS Earth
Service Description: vivienda_ciudad_terri/san_cristobal_tif
Name: vivienda_ciudad_terri/san_cristobal_tif
Description:
Single Fused Map Cache: false
Extent:
XMin: 4706783.308087367
YMin: 2251001.81692944
XMax: 4710263.1839106055
YMax: 2253671.3047973164
Spatial Reference: 9377
(9377)
LatestVCSWkid(0)
Initial Extent:
XMin: 4706783.308087367
YMin: 2251001.81692944
XMax: 4710263.1839106055
YMax: 2253671.3047973164
Spatial Reference: 9377
(9377)
LatestVCSWkid(0)
Full Extent:
XMin: 4706783.308087367
YMin: 2251001.81692944
XMax: 4710263.1839106055
YMax: 2253671.3047973164
Spatial Reference: 9377
(9377)
LatestVCSWkid(0)
Pixel Size X: 0.4317463800544497
Pixel Size Y: 0.43174638005441074
Band Count: 1
Pixel Type: U16
RasterFunction Infos: {"rasterFunctionInfos": [{
"name": "None",
"description": "",
"help": ""
}]}
Mensuration Capabilities: Basic
Inspection Capabilities:
Has Histograms: true
Has Colormap: false
Has Multi Dimensions : false
Rendering Rule:
Min Scale: 0
Max Scale: 0
Copyright Text:
Service Data Type: esriImageServiceDataTypeGeneric
Min Values: 69
Max Values: 235
Mean Values: 193.80352107846
Standard Deviation Values: 15.06448306615
Object ID Field:
Fields:
None
Default Mosaic Method: Center
Allowed Mosaic Methods:
SortField:
SortValue: null
Mosaic Operator: First
Default Compression Quality: 75
Default Resampling Method: Bilinear
Max Record Count: null
Max Image Height: 4100
Max Image Width: 15000
Max Download Image Count: null
Max Mosaic Image Count: null
Allow Raster Function: true
Allow Copy: true
Allow Analysis: true
Allow Compute TiePoints: false
Supports Statistics: false
Supports Advanced Queries: false
Use StandardizedQueries: true
Raster Type Infos:
Name: Raster Dataset
Description: Supports all ArcGIS Raster Datasets
Help:
Has Raster Attribute Table: false
Edit Fields Info: null
Ownership Based AccessControl For Rasters: null
Child Resources:
Info
Histograms
Statistics
Key Properties
Legend
Raster Function Infos
Supported Operations:
Export Image
Identify
Measure
Compute Histograms
Compute Statistics Histograms
Get Samples
Compute Class Statistics
Query Boundary
Compute Pixel Location
Compute Angles
Validate
Project