View In:
ArcGIS JavaScript
ArcGIS Online Map Viewer
ArcGIS Earth
Service Description: ServiciosImagen/Ortofoto_Medellin_2024
Name: ServiciosImagen/Ortofoto_Medellin_2024
Description:
Single Fused Map Cache: false
Extent:
XMin: 4698992.40388204
YMin: 2239577.44875008
XMax: 4726810.32388204
YMax: 2263324.24875008
Spatial Reference: 9377
(9377)
LatestVCSWkid(0)
Initial Extent:
XMin: 4698992.40388204
YMin: 2239577.44875008
XMax: 4726810.32388204
YMax: 2263324.24875008
Spatial Reference: 9377
(9377)
LatestVCSWkid(0)
Full Extent:
XMin: 4698992.40388204
YMin: 2239577.44875008
XMax: 4726810.32388204
YMax: 2263324.24875008
Spatial Reference: 9377
(9377)
LatestVCSWkid(0)
Pixel Size X: 0.07999999999999978
Pixel Size Y: 0.07999999999999938
Band Count: 5
Pixel Type: U8
RasterFunction Infos: {"rasterFunctionInfos": [
{
"name": "Ortofoto_2024_3",
"description": "orotofoto 2024, ulitma versión, sin sombreado negro",
"help": ""
},
{
"name": "None",
"description": "",
"help": ""
}
]}
Mensuration Capabilities: Basic
Inspection Capabilities:
Has Histograms: true
Has Colormap: false
Has Multi Dimensions : false
Rendering Rule:
Min Scale: 0
Max Scale: 0
Resampling: false
Copyright Text:
Service Data Type: esriImageServiceDataTypeGeneric
Min Values: 1, 1, 1, 1, 0
Max Values: 255, 255, 255, 255, 255
Mean Values: 66.90673065185547, 70.49453735351562, 64.83847045898438, 133.98983764648438, 152.87247768312
Standard Deviation Values: 45.44434356689453, 39.30649185180664, 41.29017639160156, 53.6839485168457, 124.94993948126
Object ID Field:
Fields:
None
Default Mosaic Method: Center
Allowed Mosaic Methods:
SortField:
SortValue: null
Mosaic Operator: First
Default Compression Quality: 75
Default Resampling Method: Bilinear
Max Record Count: null
Max Image Height: 8200
Max Image Width: 8200
Max Download Image Count: null
Max Mosaic Image Count: null
Allow Raster Function: true
Allow Copy: true
Allow Analysis: true
Allow Compute TiePoints: false
Supports Statistics: false
Supports Advanced Queries: false
Use StandardizedQueries: true
Raster Type Infos:
Name: Raster Dataset
Description: Supports all ArcGIS Raster Datasets
Help:
Has Raster Attribute Table: false
Edit Fields Info: null
Ownership Based AccessControl For Rasters: null
Child Resources:
Info
Histograms
Statistics
Key Properties
Legend
Raster Function Infos
Supported Operations:
Export Image
Identify
Measure
Compute Histograms
Compute Statistics Histograms
Get Samples
Compute Class Statistics
Query Boundary
Compute Pixel Location
Compute Angles
Validate
Project