View In:
ArcGIS JavaScript
ArcGIS Online Map Viewer
ArcGIS Earth
Service Description: ServiciosImagen/QuickBird_2006_3
Name: ServiciosImagen/QuickBird_2006_3
Description:
Single Fused Map Cache: false
Extent:
XMin: 817554.3552396108
YMin: 1176897.6474887198
XMax: 833501.7552396108
YMax: 1192671.6474887198
Spatial Reference: 0
(0)
LatestVCSWkid(0)
Initial Extent:
XMin: 817554.3552396108
YMin: 1176897.6474887198
XMax: 833501.7552396108
YMax: 1192671.6474887198
Spatial Reference: 0
(0)
LatestVCSWkid(0)
Full Extent:
XMin: 817554.3552396108
YMin: 1176897.6474887198
XMax: 833501.7552396108
YMax: 1192671.6474887198
Spatial Reference: 0
(0)
LatestVCSWkid(0)
Pixel Size X: 0.6000000000000009
Pixel Size Y: 0.6
Band Count: 4
Pixel Type: U16
RasterFunction Infos: {"rasterFunctionInfos": [
{
"name": "QuickBird_SMA_2006_30",
"description": "A raster function template.",
"help": ""
},
{
"name": "QuickBird_SMA_2006_10",
"description": "A raster function template.",
"help": ""
},
{
"name": "QuickBird_SMA_2006_20",
"description": "A raster function template.",
"help": ""
},
{
"name": "None",
"description": "",
"help": ""
}
]}
Mensuration Capabilities: Basic
Inspection Capabilities:
Has Histograms: true
Has Colormap: false
Has Multi Dimensions : false
Rendering Rule:
Min Scale: 0
Max Scale: 0
Copyright Text:
Service Data Type: esriImageServiceDataTypeGeneric
Min Values: 0, 0, 0, 0
Max Values: 2000, 2047, 1996, 2047
Mean Values: 222.04768056118, 329.78523149466, 209.1737772026, 562.0601902027
Standard Deviation Values: 178.55420786594, 271.39680335669, 209.30525461276, 303.96482912299
Object ID Field:
Fields:
None
Default Mosaic Method: Center
Allowed Mosaic Methods:
SortField:
SortValue: null
Mosaic Operator: First
Default Compression Quality: 75
Default Resampling Method: Bilinear
Max Record Count: null
Max Image Height: 4100
Max Image Width: 15000
Max Download Image Count: null
Max Mosaic Image Count: null
Allow Raster Function: true
Allow Copy: true
Allow Analysis: true
Allow Compute TiePoints: false
Supports Statistics: false
Supports Advanced Queries: false
Use StandardizedQueries: true
Raster Type Infos:
Name: Raster Dataset
Description: Supports all ArcGIS Raster Datasets
Help:
Has Raster Attribute Table: false
Edit Fields Info: null
Ownership Based AccessControl For Rasters: null
Child Resources:
Info
Histograms
Statistics
Key Properties
Legend
Raster Function Infos
Supported Operations:
Export Image
Identify
Measure
Compute Histograms
Compute Statistics Histograms
Get Samples
Compute Class Statistics
Query Boundary
Compute Pixel Location
Compute Angles
Validate
Project